{"text_format":"1","workbook":"xlsx","n_sheets":14,"sheets":["Introduction","Settings & Instructions","Total Projections (excl QB)","QB Projections","Total Rankings (excl QB)","QB Rankings","Positional Ranks","Tiered Rankings","Top 12 Export","To Hide","Team Output","Prop Checker","Arizona Cardinals","INPUTS"],"not_rendered":{"charts":0,"images":40,"macros":1,"external_links":0,"defined_names":37,"comments":1,"pivot_tables":0},"unopened":[],"bounds":{"document_bytes":16777216,"sheet_cells":100000,"rows_first":2000,"rows_last":500,"rows_between":2000,"halvings":0,"cell_chars":16384,"cell_head_chars":4096},"cells_cut":0,"cells_raw":0,"read":"whole","date_system":"1900"}

{"sheet":"Introduction","index":0,"n_rows":16,"n_cols":2,"rows_kept":16,"cut":false,"hidden":false,"merged":[]}
["Welcome to the Yards Per Fantasy 2024 Projections Template!"]
[]
["This document is set up to help you project the stats of every key player in the NFL for 2024"]
["All the hard work is done for you, just follow the instructions on the next page and have fun!"]
[]
["Key Notes:"]
["1. the projections are a data point, a guide to help you understand the range of outcomes for players. It is not an absolute prediction and guarantee of what can happen - even Vegas can't get that right!"]
["2. there is no better way to truly understand how a team operates, functions and approaches games then go through this process. Whether you use the output or not, the process is vital to truly understand fantasy football"]
["3. Yards Per Fantasy has a 3 part system that will give you everything you need to get from last season to the coming season"]
[]
[null,"- 2023 Compendium - start here to truly understand what happened in 2023. Not just the high level stats but full, nuanced and explained detail"]
[null,"- 2024 Projections - this document to look at how 2024 might play out"]
[null,"- 2024 Draft File - this will be released closer to the season and will give you everything you need to prepare for your fantasy drafts"]
[]
[]
["NOW LETS GO!"]

{"sheet":"Settings & Instructions","index":1,"n_rows":55,"n_cols":28,"rows_kept":55,"cut":false,"hidden":false,"merged":[]}
[null,"Welcome to the Yards Per Fantasy Projections Template! Instructions are below - have fun and hit us up with any questions or issues (admin@yardsperfantasy.com)",null,null,null,null,null,null,null,null,null,null,null,null,null,null,null,null,null,null,null,null,null,null,null,null,1,"Week 1"]
[null,"Not sure where to start? Check out our article on how to go about your projections",null,null,null,null,null,null,null,null,null,null,null,null,null,null,null,null,null,null,null,null,null,null,null,null,2,"Week 2"]
[null,"When you've finished, export your rankings and don't forget to tag us on Twitter",null,null,null,null,null,null,null,null,null,null,null,null,null,null,null,null,null,null,null,null,null,null,null,null,3,"Week 3"]
[null,null,null,null,null,null,null,null,null,null,null,null,null,null,null,null,null,null,null,null,null,null,null,null,null,null,4,"Week 4"]
["League Settings",null,null,"{Manual Entry - update to match your individual settings}",null,"Use #SFB14 Settings?","No",null,null,null,null,null,null,null,null,null,null,null,null,null,null,null,null,null,null,null,5,"Week 5"]
[null,null,"Value","Value","#SFB14 Settings - Coming Soon when available",null,null,null,null,null,null,null,null,null,null,null,null,null,null,null,null,null,null,null,null,null,6,"Week 6"]
[null,"QB Passing TDs",{"$f":"IF($G$5=\"YES\",E7,D7)","v":4},4,null,null,null,null,null,null,null,null,null,null,null,null,null,null,null,null,null,null,null,null,null,null,7,"Week 7"]
[null,"QB Passing Yards",{"$f":"IF($G$5=\"YES\",E8,D8)","v":0.04},{"$f":"1/25","v":0.04},null,null,null,null,null,null,null,null,null,null,null,null,null,null,null,null,null,null,null,null,null,null,8,"Week 8"]
[null,"Interceptions",-2,-2,null,null,null,null,null,null,null,null,null,null,null,null,null,null,null,null,null,null,null,null,null,null,9,"Week 9"]
[null,"QB Completions",0,0]
[null,"QB Incompletions",0,0]
[null,"Rushing TD",6,6,null,null,null,null,null,null,null,null,null,null,null,null,null,null,null,null,null,null,null,null,null,null,10,"Week 10"]
[null,"Receptions",1,1,null,null,null,null,null,null,null,null,null,null,null,null,null,null,null,null,null,null,null,null,null,null,11,"Week 11"]
[null,"Premium - Tight End",1,1,null,null,null,null,null,null,null,null,null,null,null,null,null,null,null,null,null,null,null,null,null,null,12,"Week 12"]
[null,"Premium - Wide Receiver",0,0,null,null,null,null,null,null,null,null,null,null,null,null,null,null,null,null,null,null,null,null,null,null,13,"Week 13"]
[null,"Premium - Running Back",0,0,null,"WAIT!",null,null,null,null,null,null,null,null,null,null,null,null,null,null,null,null,null,null,null,null,14,"Week 14"]
[null,"Rushing Yards",0.1,0.1,null,"Before diving in to 2024 Projections, check out the Yards Per Fantasy 2023 Compendium to help you prep",null,null,null,null,null,null,null,null,null,null,null,null,null,null,null,null,null,null,null,null,15,"Week 15"]
[null,"Receiving Yards",0.1,0.1,null,"This has full and detailed analysis of all things 2023:",null,null,null,null,null,null,null,null,null,null,null,null,null,null,null,null,null,null,null,null,16,"Week 16"]
[null,"Receiving TDs",6,6,null,"- Draft Review",null,null,null,null,null,null,null,null,null,null,null,null,null,null,null,null,null,null,null,null,17,"Week 17"]
[null,"Rush Attempts / Carries",0,0,null,"- PPR Finishes - by Position and Totals, including ordered by 'Value Over Replacement Player'"]
[null,"First Downs - Passing",0,0,null,"- Key Stats including # of weeks a player finished in the top 5/top 12, high/low metric scorers, and key takeaways"]
[null,"First Downs - Rushing",0,0,null,"- Player Breakdown - select a player and see how their season split over weeks 1-6, 7-12, 13-17. And get their 'Real Story'"]
[null,"First Downs - Receiving",0,0,null,"- Stats by Player - see a player's week-by-week stats and choose which weeks you want to review full-season paces for"]
[null,"First Downs - Receiving (Tight End Premium)",0,0,null,"- Compare Players - compare two players side by side across metrics\n"]
[null,null,null,null,null,"- Individual Team Breakdowns - each and every stat, week by week for each and every team\n",null,null,null,null,null,null,null,null,null,null,null,null,null,null,null,null,null,null,null,null,18,"Week 18"]
["Instructions",null,null,"*If this file runs slow, go to the Formulas menu / Calculation Options and set to 'Manual'. When you've finished updating, put it back to 'Automatic' and 'Calculate Now' or Press F9",null,"- Team Totals - key team-level stats including totals, pass breakdowns, redzone breakdowns, and much more"]
[]
[1,"Update the above league settings with the settings that you want to project. Note: Receptions is used for PPR scoring and should be 0 if non-PPR"]
[2,"For the \"Premium\" settings, add the additional reception premium for that position. For example, if it's 1 point PPR scoring and 2 point PPR for Tight Ends, add an additional 1 to the Tight End position above"]
[3,"For each team, populate the Manual Entry cells. Refer to the 'Steps' guidance for help on how to get going"]
[4,"Start with the 2024 Projection line to project total play volume and passing %. Note: If you want to do weekly projections, just overwrite the Full Season plays with the weekly numbers you want"]
[5,"Insert the players against their positions and all other Manual Entry Cells (target share, catch %, yards per reception, etc)"]
[6,"Note: 2023 Data is shown underneath to help with the process"]
[7,"As well as detailed 2023 data at the bottom of each team page, you can see a single player's 2023 stats right there where you're projecting to help guide you"]
[8,"*NEW* If you select a player to view last season's stats, it will also give you the \"Real Story\". This is a summary of how that player's season actually played out in reality, not just overall stats"]
[9,"The Need-to-Know section on each team page helps to summarise that team's 2023 season and all the changes/expectations for the upcoming season"]
[10,"The Top Projected Players for each team will be nicely summarised at the top of the page so you can quickly see what you're projecting"]
[11,"Volume-Based Tiers. Next to each player, you will see a comment that appears automatically based on the projected volume only (e.g. Top Tier WR, not a top RB, etc). This is a high-level guide on how players with that volume have historically performed in terms of consistency "]
[12,"It is just to help you think about whether the volume you have projected is going to give you a week-in / week-out performer. Check out this article for more"]
[13,"Range of Outcomes. Next to each player, there is a theoretical calculation on the low and high range of each player along with an updated volume-based tier (see item 10 above). This is purely a guide based on data, it is not designed to pick up individual player nuances"]
[14,"Note: Target Share % and Rush Share % should each add up to 100%. If they don't, you will see an Error comment at the top"]
[15,"Once the skill position players have been completed, most of the Quarterback stats will auto-populate. Now update the Manual Entry elements for the Quarterbacks"]
[16,"If Calculations are turned to Manual (recommended if running slow), press F9 at any time to calculate"]
[17,"When each team is completed, you will see the players and their projections listed under Total Projections and QB Projections"]
[18,"On these tabs, you can sort by position, fantasy points or whatever other stat you want to sort by"]
[19,"The Total Rankings (excl QB), QB Rankings and Positional Rankings tabs will automatically rank each player"]
[20,"Manually add your Tiers to each position if you want to use it for drafting"]
[21,"*NEW* The Tiered Rankings will automatically show the player tiers based on the projected volume (see item 10 above). This will display it in a 'big board' way to see each category aligned at each position"]
[22,"Go to the Top 12 Export page, select the rankings you want to see and click 'run' to see your top 12 projected players - take the image and post it wherever you want to plant your flag!"]
[23,"Note: You'll to Enable Content for the top 12 export to work"]
[24,"Go to the Team Output page to see a summary of your projected outcomes for each individual team - just select the team you want, and you'll see a summary"]
[25,"*WILL BE ACTIVE IN THE NEXT REVISION WHEN #SFB14 SCORING SETTINGS ARE AVAILABLE* #SFB14 - If you want to see your projections using #SFB14 settings, simply select \"Yes\" in cell G5 above. Switch back anytime by selecting \"No\""]
[26,"Prop Checker. Select your player/position and the prop you want to check, then put in the over/under from your preferred betting site and select your risk appetite. "]
[null,"It will give you a recommendation of \"over\", \"under\" or \"no bet\" depending on those thresholds."]
[null,"Note: This is a tool to give you a recommendation based on your own projections. Please ensure you've given full consideration before making any bets"]

{"sheet":"Total Projections (excl QB)","index":2,"n_rows":515,"n_cols":24,"rows_kept":515,"cut":false,"hidden":false,"merged":[]}
["Total Projections (Excl QB)",null,null,"Want to use #SFB14 settings? Go to 'Settings & Instructions' and select 'Yes' in cell G5",null,null,null,null,null,null,null,null,null,null,null,null,null,null,null,null,"Range of Outcomes"]
[null,null,null,null,null,null,null,null,null,null,null,null,null,null,null,null,null,null,null,null,"Low",null,"High"]
["Rank","Team","Position","Player","Targets","Catch %","Receptions","Premium","1st Downs Rush (Calculated)","1st Downs Rec (Calculated)","Yards per Reception","Receiving Yards","Receiving TDs","Rush Att","Yards per Carry","Rushing Yards","Rushing TDs","Fantasy Points (Excl 1st downs)","Fantasy Points (incl 1st downs)","Tier (Volume based)","Fantasy Points","Tier","Fantasy Points","Tier"]
[{"$f":"RANK(S4,$S:$S,0)+COUNTIF($S$4:S4,S4)-1","v":3},"Arizona Cardinals","Running Back",{"$f":"'Arizona Cardinals'!$B$142","v":"James Conner"},{"$f":"'Arizona Cardinals'!$D$142","v":28.985000000000003},{"$f":"'Arizona Cardinals'!$E$142","v":0.8},{"$f":"'Arizona Cardinals'!$F$142","v":23.188000000000002},{"$f":"'Arizona Cardinals'!$O$142","v":0},{"$f":"IF(((0.0572*P4)-2.646)<0,0,(0.0572*P4)-2.646)","v":52.292168999999994},{"$f":"IF(G4=0,0,(0.0461*L4)+2.0516)","v":8.9998842000000003},{"$f":"'Arizona Cardinals'!$G$142","v":6.5},{"$f":"'Arizona Cardinals'!$H$142","v":150.72200000000001},{"$f":"'Arizona Cardinals'!$I$142","v":2},{"$f":"'Arizona Cardinals'!$K$142","v":213.43499999999997},{"$f":"'Arizona Cardinals'!$L$142","v":4.5},{"$f":"'Arizona Cardinals'!$M$142","v":960.45749999999987},{"$f":"'Arizona Cardinals'!$N$142","v":6},{"$f":"'Arizona Cardinals'!$P$142","v":182.30595},{"$f":"IF(R4=0,0,(R4+(I4*'Settings & Instructions'!$C$22)+(J4*'Settings & Instructions'!$C$23)+IF(C4=\"Tight End\",J4*'Settings & Instructions'!$C$24,0)))","v":182.30595},{"$f":"'Arizona Cardinals'!$R$142","v":"Consistent RB2"},{"$f":"'Arizona Cardinals'!$T$142","v":175.44880714285713},{"$f":"'Arizona Cardinals'!$U$142","v":"Not a top RB"},{"$f":"'Arizona Cardinals'!$V$142","v":251.32274285714288},{"$f":"'Arizona Cardinals'!$W$142","v":"Elite RB"}]
[{"$f":"RANK(S5,$S:$S,0)+COUNTIF($S$4:S5,S5)-1","v":4},"Arizona Cardinals","Running Back",{"$f":"'Arizona Cardinals'!$B$143","v":"Trey Benson"},{"$f":"'Arizona Cardinals'!$D$143","v":23.188000000000002},{"$f":"'Arizona Cardinals'!$E$143","v":0.8},{"$f":"'Arizona Cardinals'!$F$143","v":18.550400000000003},{"$f":"'Arizona Cardinals'!$O$143","v":0},{"$f":"IF(((0.0572*P5)-2.646)<0,0,(0.0572*P5)-2.646)","v":33.979445999999996},{"$f":"IF(G5=0,0,(0.0461*L5)+2.0516)","v":7.6102273600000014},{"$f":"'Arizona Cardinals'!$G$143","v":6.5},{"$f":"'Arizona Cardinals'!$H$143","v":120.57760000000002},{"$f":"'Arizona Cardinals'!$I$143","v":1},{"$f":"'Arizona Cardinals'!$K$143","v":142.29},{"$f":"'Arizona Cardinals'!$L$143","v":4.5},{"$f":"'Arizona Cardinals'!$M$143","v":640.30499999999995},{"$f":"'Arizona Cardinals'!$N$143","v":3},{"$f":"'Arizona Cardinals'!$P$143","v":118.63866000000002},{"$f":"IF(R5=0,0,(R5+(I5*'Settings & Instructions'!$C$22)+(J5*'Settings & Instructions'!$C$23)+IF(C5=\"Tight End\",J5*'Settings & Instructions'!$C$24,0)))","v":118.63866000000002},{"$f":"'Arizona Cardinals'!$R$143","v":"Not a top RB"},{"$f":"'Arizona Cardinals'!$T$143","v":115.21008857142859},{"$f":"'Arizona Cardinals'!$U$143","v":"Not a top RB"},{"$f":"'Arizona Cardinals'!$V$143","v":122.06723142857145},{"$f":"'Arizona Cardinals'!$W$143","v":"Not a top RB"}]
[{"$f":"RANK(S6,$S:$S,0)+COUNTIF($S$4:S6,S6)-1","v":10},"Arizona Cardinals","Running Back",{"$f":"'Arizona Cardinals'!$B$144","v":"Emari Demercado"},{"$f":"'Arizona Cardinals'!$D$144","v":5.7970000000000006},{"$f":"'Arizona Cardinals'!$E$144","v":0.8},{"$f":"'Arizona Cardinals'!$F$144","v":4.6376000000000008},{"$f":"'Arizona Cardinals'!$O$144","v":0},{"$f":"IF(((0.0572*P6)-2.646)<0,0,(0.0572*P6)-2.646)","v":3.4582410000000001},3.4412568400000003,{"$f":"'Arizona Cardinals'!$G$144","v":6.5},{"$f":"'Arizona Cardinals'!$H$144","v":30.144400000000005},{"$f":"'Arizona Cardinals'!$I$144","v":0},{"$f":"'Arizona Cardinals'!$K$144","v":23.715},{"$f":"'Arizona Cardinals'!$L$144","v":4.5},{"$f":"'Arizona Cardinals'!$M$144","v":106.7175},{"$f":"'Arizona Cardinals'!$N$144","v":0},{"$f":"'Arizona Cardinals'!$P$144","v":18.323790000000002},{"$f":"IF(R6=0,0,(R6+(I6*'Settings & Instructions'!$C$22)+(J6*'Settings & Instructions'!$C$23)+IF(C6=\"Tight End\",J6*'Settings & Instructions'!$C$24,0)))","v":18.323790000000002},{"$f":"'Arizona Cardinals'!$R$144","v":"Not a top RB"},{"$f":"'Arizona Cardinals'!$T$144","v":18.323790000000002},{"$f":"'Arizona Cardinals'!$U$144","v":"Not a top RB"},{"$f":"'Arizona Cardinals'!$V$144","v":18.323790000000002},{"$f":"'Arizona Cardinals'!$W$144","v":"Not a top RB"}]
[{"$f":"RANK(S7,$S:$S,0)+COUNTIF($S$4:S7,S7)-1","v":11},"Arizona Cardinals","Running Back",{"$f":"'Arizona Cardinals'!$B$145","v":"Michael Carter"},{"$f":"'Arizona Cardinals'!$D$145","v":5.7970000000000006},{"$f":"'Arizona Cardinals'!$E$145","v":0.8},{"$f":"'Arizona Cardinals'!$F$145","v":4.6376000000000008},{"$f":"'Arizona Cardinals'!$O$145","v":0},{"$f":"IF(((0.0572*P7)-2.646)<0,0,(0.0572*P7)-2.646)","v":3.4582410000000001},3.4412568400000003,{"$f":"'Arizona Cardinals'!$G$145","v":6.5},{"$f":"'Arizona Cardinals'!$H$145","v":30.144400000000005},{"$f":"'Arizona Cardinals'!$I$145","v":0},{"$f":"'Arizona Cardinals'!$K$145","v":23.715},{"$f":"'Arizona Cardinals'!$L$145","v":4.5},{"$f":"'Arizona Cardinals'!$M$145","v":106.7175},{"$f":"'Arizona Cardinals'!$N$145","v":0},{"$f":"'Arizona Cardinals'!$P$145","v":18.323790000000002},{"$f":"IF(R7=0,0,(R7+(I7*'Settings & Instructions'!$C$22)+(J7*'Settings & Instructions'!$C$23)+IF(C7=\"Tight End\",J7*'Settings & Instructions'!$C$24,0)))","v":18.323790000000002},{"$f":"'Arizona Cardinals'!$R$145","v":"Not a top RB"},{"$f":"'Arizona Cardinals'!$T$145","v":18.323790000000002},{"$f":"'Arizona Cardinals'!$U$145","v":"Not a top RB"},{"$f":"'Arizona Cardinals'!$V$145","v":18.323790000000002},{"$f":"'Arizona Cardinals'!$W$145","v":"Not a top RB"}]
[{"$f":"RANK(S8,$S:$S,0)+COUNTIF($S$4:S8,S8)-1","v":2},"Arizona Cardinals","Wide Receiver",{"$f":"'Arizona Cardinals'!$B$118","v":"Marvin Harrison"},{"$f":"'Arizona Cardinals'!$D$118","v":144.92500000000001},{"$f":"'Arizona Cardinals'!$E$118","v":0.7},{"$f":"'Arizona Cardinals'!$F$118","v":101.44750000000001},{"$f":"'Arizona Cardinals'!$O$118","v":0},{"$f":"IF(((0.0572*P8)-2.646)<0,0,(0.0572*P8)-2.646)","v":0},{"$f":"IF(G8=0,0,(0.0461*L8)+2.0516)","v":72.202546249999997},{"$f":"'Arizona Cardinals'!$G$118","v":15},{"$f":"'Arizona Cardinals'!$H$118","v":1521.7125000000001},{"$f":"'Arizona Cardinals'!$I$118","v":7},{"$f":"'Arizona Cardinals'!$K$118","v":0},{"$f":"'Arizona Cardinals'!$L$118","v":0},{"$f":"'Arizona Cardinals'!$M$118","v":0},{"$f":"'Arizona Cardinals'!$N$118","v":0},{"$f":"'Arizona Cardinals'!$P$118","v":295.61875000000003},{"$f":"IF(R8=0,0,(R8+(I8*'Settings & Instructions'!$C$22)+(J8*'Settings & Instructions'!$C$23)+IF(C8=\"Tight End\",J8*'Settings & Instructions'!$C$24,0)))","v":295.61875000000003},{"$f":"'Arizona Cardinals'!$R$118","v":"2nd Tier WR1"},{"$f":"'Arizona Cardinals'!$T$118","v":271.35820000000001},{"$f":"'Arizona Cardinals'!$U$118","v":"Consistent WR2"},{"$f":"'Arizona Cardinals'!$V$118","v":332.05300000000005},{"$f":"'Arizona Cardinals'!$W$118","v":"Elite WR"}]
[{"$f":"RANK(S9,$S:$S,0)+COUNTIF($S$4:S9,S9)-1","v":5},"Arizona Cardinals","Wide Receiver",{"$f":"'Arizona Cardinals'!$B$119","v":"Michael Wilson"},{"$f":"'Arizona Cardinals'!$D$119","v":63.767000000000003},{"$f":"'Arizona Cardinals'!$E$119","v":0.62},{"$f":"'Arizona Cardinals'!$F$119","v":39.535540000000005},{"$f":"'Arizona Cardinals'!$O$119","v":0},{"$f":"IF(((0.0572*P9)-2.646)<0,0,(0.0572*P9)-2.646)","v":0},{"$f":"IF(G9=0,0,(0.0461*L9)+2.0516)","v":27.567837516000004},{"$f":"'Arizona Cardinals'!$G$119","v":14},{"$f":"'Arizona Cardinals'!$H$119","v":553.49756000000002},{"$f":"'Arizona Cardinals'!$I$119","v":3},{"$f":"'Arizona Cardinals'!$K$119","v":0},{"$f":"'Arizona Cardinals'!$L$119","v":0},{"$f":"'Arizona Cardinals'!$M$119","v":0},{"$f":"'Arizona Cardinals'!$N$119","v":0},{"$f":"'Arizona Cardinals'!$P$119","v":112.88529600000001},{"$f":"IF(R9=0,0,(R9+(I9*'Settings & Instructions'!$C$22)+(J9*'Settings & Instructions'!$C$23)+IF(C9=\"Tight End\",J9*'Settings & Instructions'!$C$24,0)))","v":112.88529600000001},{"$f":"'Arizona Cardinals'!$R$119","v":"Not a top WR"},{"$f":"'Arizona Cardinals'!$T$119","v":95.218479428571442},{"$f":"'Arizona Cardinals'!$U$119","v":"Not a top WR"},{"$f":"'Arizona Cardinals'!$V$119","v":115.45672457142858},{"$f":"'Arizona Cardinals'!$W$119","v":"Not a top WR"}]
[{"$f":"RANK(S10,$S:$S,0)+COUNTIF($S$4:S10,S10)-1","v":6},"Arizona Cardinals","Wide Receiver",{"$f":"'Arizona Cardinals'!$B$120","v":"Greg Dortch"},{"$f":"'Arizona Cardinals'!$D$120","v":69.564000000000007},{"$f":"'Arizona Cardinals'!$E$120","v":0.68},{"$f":"'Arizona Cardinals'!$F$120","v":47.303520000000006},{"$f":"'Arizona Cardinals'!$O$120","v":0},0,23.858522720000003,{"$f":"'Arizona Cardinals'!$G$120","v":10},{"$f":"'Arizona Cardinals'!$H$120","v":473.03520000000003},{"$f":"'Arizona Cardinals'!$I$120","v":3},{"$f":"'Arizona Cardinals'!$K$120","v":0},{"$f":"'Arizona Cardinals'!$L$120","v":0},{"$f":"'Arizona Cardinals'!$M$120","v":0},{"$f":"'Arizona Cardinals'!$N$120","v":0},{"$f":"'Arizona Cardinals'!$P$120","v":112.60704000000001},{"$f":"IF(R10=0,0,(R10+(I10*'Settings & Instructions'!$C$22)+(J10*'Settings & Instructions'!$C$23)+IF(C10=\"Tight End\",J10*'Settings & Instructions'!$C$24,0)))","v":112.60704000000001},{"$f":"'Arizona Cardinals'!$R$120","v":"Not a top WR"},{"$f":"'Arizona Cardinals'!$T$120","v":98.209731428571445},{"$f":"'Arizona Cardinals'!$U$120","v":"Not a top WR"},{"$f":"'Arizona Cardinals'!$V$120","v":115.17846857142858},{"$f":"'Arizona Cardinals'!$W$120","v":"Not a top WR"}]
[{"$f":"RANK(S11,$S:$S,0)+COUNTIF($S$4:S11,S11)-1","v":7},"Arizona Cardinals","Wide Receiver",{"$f":"'Arizona Cardinals'!$B$121","v":"Zach Pascal"},{"$f":"'Arizona Cardinals'!$D$121","v":34.782000000000004},{"$f":"'Arizona Cardinals'!$E$121","v":0.64},{"$f":"'Arizona Cardinals'!$F$121","v":22.260480000000001},{"$f":"'Arizona Cardinals'!$O$121","v":0},0,12.313681280000001,{"$f":"'Arizona Cardinals'!$G$121","v":10},{"$f":"'Arizona Cardinals'!$H$121","v":222.60480000000001},{"$f":"'Arizona Cardinals'!$I$121","v":1},{"$f":"'Arizona Cardinals'!$K$121","v":0},{"$f":"'Arizona Cardinals'!$L$121","v":0},{"$f":"'Arizona Cardinals'!$M$121","v":0},{"$f":"'Arizona Cardinals'!$N$121","v":0},{"$f":"'Arizona Cardinals'!$P$121","v":50.520960000000002},{"$f":"IF(R11=0,0,(R11+(I11*'Settings & Instructions'!$C$22)+(J11*'Settings & Instructions'!$C$23)+IF(C11=\"Tight End\",J11*'Settings & Instructions'!$C$24,0)))","v":50.520960000000002},{"$f":"'Arizona Cardinals'!$R$121","v":"Not a top WR"},{"$f":"'Arizona Cardinals'!$T$121","v":42.243657142857138},{"$f":"'Arizona Cardinals'!$U$121","v":"Not a top WR"},{"$f":"'Arizona Cardinals'!$V$121","v":51.378102857142856},{"$f":"'Arizona Cardinals'!$W$121","v":"Not a top WR"}]
[{"$f":"RANK(S12,$S:$S,0)+COUNTIF($S$4:S12,S12)-1","v":8},"Arizona Cardinals","Wide Receiver",{"$f":"'Arizona Cardinals'!$B$122","v":"Chris Moore"},{"$f":"'Arizona Cardinals'!$D$122","v":23.188000000000002},{"$f":"'Arizona Cardinals'!$E$122","v":0.57999999999999996},{"$f":"'Arizona Cardinals'!$F$122","v":13.44904},{"$f":"'Arizona Cardinals'!$O$122","v":0},0,10.731610416000001,{"$f":"'Arizona Cardinals'!$G$122","v":14},{"$f":"'Arizona Cardinals'!$H$122","v":188.28656000000001},{"$f":"'Arizona Cardinals'!$I$122","v":0},{"$f":"'Arizona Cardinals'!$K$122","v":0},{"$f":"'Arizona Cardinals'!$L$122","v":0},{"$f":"'Arizona Cardinals'!$M$122","v":0},{"$f":"'Arizona Cardinals'!$N$122","v":0},{"$f":"'Arizona Cardinals'!$P$122","v":32.277696000000006},{"$f":"IF(R12=0,0,(R12+(I12*'Settings & Instructions'!$C$22)+(J12*'Settings & Instructions'!$C$23)+IF(C12=\"Tight End\",J12*'Settings & Instructions'!$C$24,0)))","v":32.277696000000006},{"$f":"'Arizona Cardinals'!$R$122","v":"Not a top WR"},{"$f":"'Arizona Cardinals'!$T$122","v":32.277696000000006},{"$f":"'Arizona Cardinals'!$U$122","v":"Not a top WR"},{"$f":"'Arizona Cardinals'!$V$122","v":32.277696000000006},{"$f":"'Arizona Cardinals'!$W$122","v":"Not a top WR"}]
[{"$f":"RANK(S13,$S:$S,0)+COUNTIF($S$4:S13,S13)-1","v":12},"Arizona Cardinals","Wide Receiver",{"$f":"'Arizona Cardinals'!$B$123","v":"Tejhaun Palmer"},{"$f":"'Arizona Cardinals'!$D$123","v":11.594000000000001},{"$f":"'Arizona Cardinals'!$E$123","v":0.6},{"$f":"'Arizona Cardinals'!$F$123","v":6.9564000000000004},{"$f":"'Arizona Cardinals'!$O$123","v":0},0,5.8998804800000002,{"$f":"'Arizona Cardinals'!$G$123","v":12},{"$f":"'Arizona Cardinals'!$H$123","v":83.476799999999997},{"$f":"'Arizona Cardinals'!$I$123","v":0},{"$f":"'Arizona Cardinals'!$K$123","v":0},{"$f":"'Arizona Cardinals'!$L$123","v":0},{"$f":"'Arizona Cardinals'!$M$123","v":0},{"$f":"'Arizona Cardinals'!$N$123","v":0},{"$f":"'Arizona Cardinals'!$P$123","v":15.304080000000001},{"$f":"IF(R13=0,0,(R13+(I13*'Settings & Instructions'!$C$22)+(J13*'Settings & Instructions'!$C$23)+IF(C13=\"Tight End\",J13*'Settings & Instructions'!$C$24,0)))","v":15.304080000000001},{"$f":"'Arizona Cardinals'!$R$123","v":"Not a top WR"},{"$f":"'Arizona Cardinals'!$T$123","v":15.304080000000001},{"$f":"'Arizona Cardinals'!$U$123","v":"Not a top WR"},{"$f":"'Arizona Cardinals'!$V$123","v":15.304080000000001},{"$f":"'Arizona Cardinals'!$W$123","v":"Not a top WR"}]
[{"$f":"RANK(S14,$S:$S,0)+COUNTIF($S$4:S14,S14)-1","v":13},"Arizona Cardinals","Wide Receiver",{"$f":"'Arizona Cardinals'!$B$124","v":0},{"$f":"'Arizona Cardinals'!$D$124","v":0},{"$f":"'Arizona Cardinals'!$E$124","v":0},{"$f":"'Arizona Cardinals'!$F$124","v":0},{"$f":"'Arizona Cardinals'!$O$124","v":0},0,0,{"$f":"'Arizona Cardinals'!$G$124","v":0},{"$f":"'Arizona Cardinals'!$H$124","v":0},{"$f":"'Arizona Cardinals'!$I$124","v":0},{"$f":"'Arizona Cardinals'!$K$124","v":0},{"$f":"'Arizona Cardinals'!$L$124","v":0},{"$f":"'Arizona Cardinals'!$M$124","v":0},{"$f":"'Arizona Cardinals'!$N$124","v":0},{"$f":"'Arizona Cardinals'!$P$124","v":0},{"$f":"IF(R14=0,0,(R14+(I14*'Settings & Instructions'!$C$22)+(J14*'Settings & Instructions'!$C$23)+IF(C14=\"Tight End\",J14*'Settings & Instructions'!$C$24,0)))","v":0},{"$f":"'Arizona Cardinals'!$R$124","v":"Not a top WR"},{"$f":"'Arizona Cardinals'!$T$124","v":0},{"$f":"'Arizona Cardinals'!$U$124","v":"Not a top WR"},{"$f":"'Arizona Cardinals'!$V$124","v":0},{"$f":"'Arizona Cardinals'!$W$124","v":"Not a top WR"}]
[{"$f":"RANK(S15,$S:$S,0)+COUNTIF($S$4:S15,S15)-1","v":14},"Arizona Cardinals","Wide Receiver",{"$f":"'Arizona Cardinals'!$B$125","v":0},{"$f":"'Arizona Cardinals'!$D$125","v":0},{"$f":"'Arizona Cardinals'!$E$125","v":0},{"$f":"'Arizona Cardinals'!$F$125","v":0},{"$f":"'Arizona Cardinals'!$O$125","v":0},0,0,{"$f":"'Arizona Cardinals'!$G$125","v":0},{"$f":"'Arizona Cardinals'!$H$125","v":0},{"$f":"'Arizona Cardinals'!$I$125","v":0},{"$f":"'Arizona Cardinals'!$K$125","v":0},{"$f":"'Arizona Cardinals'!$L$125","v":0},{"$f":"'Arizona Cardinals'!$M$125","v":0},{"$f":"'Arizona Cardinals'!$N$125","v":0},{"$f":"'Arizona Cardinals'!$P$125","v":0},{"$f":"IF(R15=0,0,(R15+(I15*'Settings & Instructions'!$C$22)+(J15*'Settings & Instructions'!$C$23)+IF(C15=\"Tight End\",J15*'Settings & Instructions'!$C$24,0)))","v":0},{"$f":"'Arizona Cardinals'!$R$125","v":"Not a top WR"},{"$f":"'Arizona Cardinals'!$T$125","v":0},{"$f":"'Arizona Cardinals'!$U$125","v":"Not a top WR"},{"$f":"'Arizona Cardinals'!$V$125","v":0},{"$f":"'Arizona Cardinals'!$W$125","v":"Not a top WR"}]
[{"$f":"RANK(S16,$S:$S,0)+COUNTIF($S$4:S16,S16)-1","v":1},"Arizona Cardinals","Tight End",{"$f":"'Arizona Cardinals'!$B$162","v":"Trey McBride"},{"$f":"'Arizona Cardinals'!$D$162","v":127.53400000000001},{"$f":"'Arizona Cardinals'!$E$162","v":0.75},{"$f":"'Arizona Cardinals'!$F$162","v":95.650500000000008},{"$f":"'Arizona Cardinals'!$O$162","v":1},0,46.14648050000001,{"$f":"'Arizona Cardinals'!$G$162","v":10},{"$f":"'Arizona Cardinals'!$H$162","v":956.50500000000011},{"$f":"'Arizona Cardinals'!$I$162","v":5},{"$f":"'Arizona Cardinals'!$K$162","v":0},{"$f":"'Arizona Cardinals'!$L$162","v":0},{"$f":"'Arizona Cardinals'!$M$162","v":0},{"$f":"'Arizona Cardinals'!$N$162","v":0},{"$f":"'Arizona Cardinals'!$P$162","v":316.95150000000007},{"$f":"IF(R16=0,0,(R16+(I16*'Settings & Instructions'!$C$22)+(J16*'Settings & Instructions'!$C$23)+IF(C16=\"Tight End\",J16*'Settings & Instructions'!$C$24,0)))","v":316.95150000000007},{"$f":"'Arizona Cardinals'!$R$162","v":"Top TE"},{"$f":"'Arizona Cardinals'!$T$162","v":292.37628571428581},{"$f":"'Arizona Cardinals'!$U$162","v":"Top TE"},{"$f":"'Arizona Cardinals'!$V$162","v":334.28046428571434},{"$f":"'Arizona Cardinals'!$W$162","v":"Top TE"}]
[{"$f":"RANK(S17,$S:$S,0)+COUNTIF($S$4:S17,S17)-1","v":9},"Arizona Cardinals","Tight End",{"$f":"'Arizona Cardinals'!$B$163","v":"Tip Reiman"},{"$f":"'Arizona Cardinals'!$D$163","v":11.594000000000001},{"$f":"'Arizona Cardinals'!$E$163","v":0.75},{"$f":"'Arizona Cardinals'!$F$163","v":8.6955000000000009},{"$f":"'Arizona Cardinals'!$O$163","v":1},0,{"$f":"IF(G17=0,0,(0.0461*L17)+2.0516)","v":6.0602255000000014},{"$f":"'Arizona Cardinals'!$G$163","v":10},{"$f":"'Arizona Cardinals'!$H$163","v":86.955000000000013},{"$f":"'Arizona Cardinals'!$I$163","v":0},{"$f":"'Arizona Cardinals'!$K$163","v":0},{"$f":"'Arizona Cardinals'!$L$163","v":0},{"$f":"'Arizona Cardinals'!$M$163","v":0},{"$f":"'Arizona Cardinals'!$N$163","v":0},{"$f":"'Arizona Cardinals'!$P$163","v":26.086500000000001},{"$f":"IF(R17=0,0,(R17+(I17*'Settings & Instructions'!$C$22)+(J17*'Settings & Instructions'!$C$23)+IF(C17=\"Tight End\",J17*'Settings & Instructions'!$C$24,0)))","v":26.086500000000001},{"$f":"'Arizona Cardinals'!$R$163","v":"Not a top TE"},{"$f":"'Arizona Cardinals'!$T$163","v":26.086500000000001},{"$f":"'Arizona Cardinals'!$U$163","v":"Not a top TE"},{"$f":"'Arizona Cardinals'!$V$163","v":26.086500000000001},{"$f":"'Arizona Cardinals'!$W$163","v":"Not a top TE"}]
[{"$f":"RANK(S18,$S:$S,0)+COUNTIF($S$4:S18,S18)-1","v":15},"Arizona Cardinals","Tight End",{"$f":"'Arizona Cardinals'!$B$164","v":0},{"$f":"'Arizona Cardinals'!$D$164","v":0},{"$f":"'Arizona Cardinals'!$E$164","v":0},{"$f":"'Arizona Cardinals'!$F$164","v":0},{"$f":"'Arizona Cardinals'!$O$164","v":1},0,0,{"$f":"'Arizona Cardinals'!$G$164","v":0},{"$f":"'Arizona Cardinals'!$H$164","v":0},{"$f":"'Arizona Cardinals'!$I$164","v":0},{"$f":"'Arizona Cardinals'!$K$164","v":0},{"$f":"'Arizona Cardinals'!$L$164","v":0},{"$f":"'Arizona Cardinals'!$M$164","v":0},{"$f":"'Arizona Cardinals'!$N$164","v":0},{"$f":"'Arizona Cardinals'!$P$164","v":0},{"$f":"IF(R18=0,0,(R18+(I18*'Settings & Instructions'!$C$22)+(J18*'Settings & Instructions'!$C$23)+IF(C18=\"Tight End\",J18*'Settings & Instructions'!$C$24,0)))","v":0},{"$f":"'Arizona Cardinals'!$R$164","v":"Not a top TE"},{"$f":"'Arizona Cardinals'!$T$164","v":0},{"$f":"'Arizona Cardinals'!$U$164","v":"Not a top TE"},{"$f":"'Arizona Cardinals'!$V$164","v":0},{"$f":"'Arizona Cardinals'!$W$164","v":"Not a top TE"}]
[{"$f":"RANK(S19,$S:$S,0)+COUNTIF($S$4:S19,S19)-1","v":16},"Arizona Cardinals","Tight End",{"$f":"'Arizona Cardinals'!$B$165","v":0},{"$f":"'Arizona Cardinals'!$D$165","v":0},{"$f":"'Arizona Cardinals'!$E$165","v":0},{"$f":"'Arizona Cardinals'!$F$165","v":0},{"$f":"'Arizona Cardinals'!$O$165","v":1},0,0,{"$f":"'Arizona Cardinals'!$G$165","v":0},{"$f":"'Arizona Cardinals'!$H$165","v":0},{"$f":"'Arizona Cardinals'!$I$165","v":0},{"$f":"'Arizona Cardinals'!$K$165","v":0},{"$f":"'Arizona Cardinals'!$L$165","v":0},{"$f":"'Arizona Cardinals'!$M$165","v":0},{"$f":"'Arizona Cardinals'!$N$165","v":0},{"$f":"'Arizona Cardinals'!$P$165","v":0},{"$f":"IF(R19=0,0,(R19+(I19*'Settings & Instructions'!$C$22)+(J19*'Settings & Instructions'!$C$23)+IF(C19=\"Tight End\",J19*'Settings & Instructions'!$C$24,0)))","v":0},{"$f":"'Arizona Cardinals'!$R$165","v":"Not a top TE"},{"$f":"'Arizona Cardinals'!$T$165","v":0},{"$f":"'Arizona Cardinals'!$U$165","v":"Not a top TE"},{"$f":"'Arizona Cardinals'!$V$165","v":0},{"$f":"'Arizona Cardinals'!$W$165","v":"Not a top TE"}]
[{"$f":"RANK(S20,$S:$S,0)+COUNTIF($S$4:S20,S20)-1","v":16},"Atlanta Falcons","Running Back"]
[{"$f":"RANK(S21,$S:$S,0)+COUNTIF($S$4:S21,S21)-1","v":16},"Atlanta Falcons","Running Back"]
[{"$f":"RANK(S22,$S:$S,0)+COUNTIF($S$4:S22,S22)-1","v":16},"Atlanta Falcons","Running Back"]
[{"$f":"RANK(S23,$S:$S,0)+COUNTIF($S$4:S23,S23)-1","v":16},"Atlanta Falcons","Running Back"]
[{"$f":"RANK(S24,$S:$S,0)+COUNTIF($S$4:S24,S24)-1","v":16},"Atlanta Falcons","Wide Receiver"]
[{"$f":"RANK(S25,$S:$S,0)+COUNTIF($S$4:S25,S25)-1","v":16},"Atlanta Falcons","Wide Receiver"]
[{"$f":"RANK(S26,$S:$S,0)+COUNTIF($S$4:S26,S26)-1","v":16},"Atlanta Falcons","Wide Receiver"]
[{"$f":"RANK(S27,$S:$S,0)+COUNTIF($S$4:S27,S27)-1","v":16},"Atlanta Falcons","Wide Receiver"]
[{"$f":"RANK(S28,$S:$S,0)+COUNTIF($S$4:S28,S28)-1","v":16},"Atlanta Falcons","Wide Receiver"]
[{"$f":"RANK(S29,$S:$S,0)+COUNTIF($S$4:S29,S29)-1","v":16},"Atlanta Falcons","Wide Receiver"]
[{"$f":"RANK(S30,$S:$S,0)+COUNTIF($S$4:S30,S30)-1","v":16},"Atlanta Falcons","Wide Receiver"]
[{"$f":"RANK(S31,$S:$S,0)+COUNTIF($S$4:S31,S31)-1","v":16},"Atlanta Falcons","Wide Receiver"]
[{"$f":"RANK(S32,$S:$S,0)+COUNTIF($S$4:S32,S32)-1","v":16},"Atlanta Falcons","Tight End"]
[{"$f":"RANK(S33,$S:$S,0)+COUNTIF($S$4:S33,S33)-1","v":16},"Atlanta Falcons","Tight End"]
[{"$f":"RANK(S34,$S:$S,0)+COUNTIF($S$4:S34,S34)-1","v":16},"Atlanta Falcons","Tight End"]
[{"$f":"RANK(S35,$S:$S,0)+COUNTIF($S$4:S35,S35)-1","v":16},"Atlanta Falcons","Tight End"]
[{"$f":"RANK(S36,$S:$S,0)+COUNTIF($S$4:S36,S36)-1","v":16},"Baltimore Ravens","Running Back"]
[{"$f":"RANK(S37,$S:$S,0)+COUNTIF($S$4:S37,S37)-1","v":16},"Baltimore Ravens","Running Back"]
[{"$f":"RANK(S38,$S:$S,0)+COUNTIF($S$4:S38,S38)-1","v":16},"Baltimore Ravens","Running Back"]
[{"$f":"RANK(S39,$S:$S,0)+COUNTIF($S$4:S39,S39)-1","v":16},"Baltimore Ravens","Running Back"]
[{"$f":"RANK(S40,$S:$S,0)+COUNTIF($S$4:S40,S40)-1","v":16},"Baltimore Ravens","Wide Receiver"]
[{"$f":"RANK(S41,$S:$S,0)+COUNTIF($S$4:S41,S41)-1","v":16},"Baltimore Ravens","Wide Receiver"]
[{"$f":"RANK(S42,$S:$S,0)+COUNTIF($S$4:S42,S42)-1","v":16},"Baltimore Ravens","Wide Receiver"]
[{"$f":"RANK(S43,$S:$S,0)+COUNTIF($S$4:S43,S43)-1","v":16},"Baltimore Ravens","Wide Receiver"]
[{"$f":"RANK(S44,$S:$S,0)+COUNTIF($S$4:S44,S44)-1","v":16},"Baltimore Ravens","Wide Receiver"]
[{"$f":"RANK(S45,$S:$S,0)+COUNTIF($S$4:S45,S45)-1","v":16},"Baltimore Ravens","Wide Receiver"]
[{"$f":"RANK(S46,$S:$S,0)+COUNTIF($S$4:S46,S46)-1","v":16},"Baltimore Ravens","Wide Receiver"]
[{"$f":"RANK(S47,$S:$S,0)+COUNTIF($S$4:S47,S47)-1","v":16},"Baltimore Ravens","Wide Receiver"]
[{"$f":"RANK(S48,$S:$S,0)+COUNTIF($S$4:S48,S48)-1","v":16},"Baltimore Ravens","Tight End"]
[{"$f":"RANK(S49,$S:$S,0)+COUNTIF($S$4:S49,S49)-1","v":16},"Baltimore Ravens","Tight End"]
[{"$f":"RANK(S50,$S:$S,0)+COUNTIF($S$4:S50,S50)-1","v":16},"Baltimore Ravens","Tight End"]
[{"$f":"RANK(S51,$S:$S,0)+COUNTIF($S$4:S51,S51)-1","v":16},"Baltimore Ravens","Tight End"]
[{"$f":"RANK(S52,$S:$S,0)+COUNTIF($S$4:S52,S52)-1","v":16},"Buffalo Bills","Running Back"]
[{"$f":"RANK(S53,$S:$S,0)+COUNTIF($S$4:S53,S53)-1","v":16},"Buffalo Bills","Running Back"]
[{"$f":"RANK(S54,$S:$S,0)+COUNTIF($S$4:S54,S54)-1","v":16},"Buffalo Bills","Running Back"]
[{"$f":"RANK(S55,$S:$S,0)+COUNTIF($S$4:S55,S55)-1","v":16},"Buffalo Bills","Running Back"]
[{"$f":"RANK(S56,$S:$S,0)+COUNTIF($S$4:S56,S56)-1","v":16},"Buffalo Bills","Wide Receiver"]
[{"$f":"RANK(S57,$S:$S,0)+COUNTIF($S$4:S57,S57)-1","v":16},"Buffalo Bills","Wide Receiver"]
[{"$f":"RANK(S58,$S:$S,0)+COUNTIF($S$4:S58,S58)-1","v":16},"Buffalo Bills","Wide Receiver"]
[{"$f":"RANK(S59,$S:$S,0)+COUNTIF($S$4:S59,S59)-1","v":16},"Buffalo Bills","Wide Receiver"]
[{"$f":"RANK(S60,$S:$S,0)+COUNTIF($S$4:S60,S60)-1","v":16},"Buffalo Bills","Wide Receiver"]
[{"$f":"RANK(S61,$S:$S,0)+COUNTIF($S$4:S61,S61)-1","v":16},"Buffalo Bills","Wide Receiver"]
[{"$f":"RANK(S62,$S:$S,0)+COUNTIF($S$4:S62,S62)-1","v":16},"Buffalo Bills","Wide Receiver"]
[{"$f":"RANK(S63,$S:$S,0)+COUNTIF($S$4:S63,S63)-1","v":16},"Buffalo Bills","Wide Receiver"]
[{"$f":"RANK(S64,$S:$S,0)+COUNTIF($S$4:S64,S64)-1","v":16},"Buffalo Bills","Tight End"]
[{"$f":"RANK(S65,$S:$S,0)+COUNTIF($S$4:S65,S65)-1","v":16},"Buffalo Bills","Tight End"]
[{"$f":"RANK(S66,$S:$S,0)+COUNTIF($S$4:S66,S66)-1","v":16},"Buffalo Bills","Tight End"]
[{"$f":"RANK(S67,$S:$S,0)+COUNTIF($S$4:S67,S67)-1","v":16},"Buffalo Bills","Tight End"]
[{"$f":"RANK(S68,$S:$S,0)+COUNTIF($S$4:S68,S68)-1","v":16},"Carolina Panthers","Running Back"]
[{"$f":"RANK(S69,$S:$S,0)+COUNTIF($S$4:S69,S69)-1","v":16},"Carolina Panthers","Running Back"]
[{"$f":"RANK(S70,$S:$S,0)+COUNTIF($S$4:S70,S70)-1","v":16},"Carolina Panthers","Running Back"]
[{"$f":"RANK(S71,$S:$S,0)+COUNTIF($S$4:S71,S71)-1","v":16},"Carolina Panthers","Running Back"]
[{"$f":"RANK(S72,$S:$S,0)+COUNTIF($S$4:S72,S72)-1","v":16},"Carolina Panthers","Wide Receiver"]
[{"$f":"RANK(S73,$S:$S,0)+COUNTIF($S$4:S73,S73)-1","v":16},"Carolina Panthers","Wide Receiver"]
[{"$f":"RANK(S74,$S:$S,0)+COUNTIF($S$4:S74,S74)-1","v":16},"Carolina Panthers","Wide Receiver"]
[{"$f":"RANK(S75,$S:$S,0)+COUNTIF($S$4:S75,S75)-1","v":16},"Carolina Panthers","Wide Receiver"]
[{"$f":"RANK(S76,$S:$S,0)+COUNTIF($S$4:S76,S76)-1","v":16},"Carolina Panthers","Wide Receiver"]
[{"$f":"RANK(S77,$S:$S,0)+COUNTIF($S$4:S77,S77)-1","v":16},"Carolina Panthers","Wide Receiver"]
[{"$f":"RANK(S78,$S:$S,0)+COUNTIF($S$4:S78,S78)-1","v":16},"Carolina Panthers","Wide Receiver"]
[{"$f":"RANK(S79,$S:$S,0)+COUNTIF($S$4:S79,S79)-1","v":16},"Carolina Panthers","Wide Receiver"]
[{"$f":"RANK(S80,$S:$S,0)+COUNTIF($S$4:S80,S80)-1","v":16},"Carolina Panthers","Tight End"]
[{"$f":"RANK(S81,$S:$S,0)+COUNTIF($S$4:S81,S81)-1","v":16},"Carolina Panthers","Tight End"]
[{"$f":"RANK(S82,$S:$S,0)+COUNTIF($S$4:S82,S82)-1","v":16},"Carolina Panthers","Tight End"]
[{"$f":"RANK(S83,$S:$S,0)+COUNTIF($S$4:S83,S83)-1","v":16},"Carolina Panthers","Tight End"]
[{"$f":"RANK(S84,$S:$S,0)+COUNTIF($S$4:S84,S84)-1","v":16},"Chicago Bears","Running Back"]
[{"$f":"RANK(S85,$S:$S,0)+COUNTIF($S$4:S85,S85)-1","v":16},"Chicago Bears","Running Back"]
[{"$f":"RANK(S86,$S:$S,0)+COUNTIF($S$4:S86,S86)-1","v":16},"Chicago Bears","Running Back"]
[{"$f":"RANK(S87,$S:$S,0)+COUNTIF($S$4:S87,S87)-1","v":16},"Chicago Bears","Running Back"]
[{"$f":"RANK(S88,$S:$S,0)+COUNTIF($S$4:S88,S88)-1","v":16},"Chicago Bears","Wide Receiver"]
[{"$f":"RANK(S89,$S:$S,0)+COUNTIF($S$4:S89,S89)-1","v":16},"Chicago Bears","Wide Receiver"]
[{"$f":"RANK(S90,$S:$S,0)+COUNTIF($S$4:S90,S90)-1","v":16},"Chicago Bears","Wide Receiver"]
[{"$f":"RANK(S91,$S:$S,0)+COUNTIF($S$4:S91,S91)-1","v":16},"Chicago Bears","Wide Receiver"]
[{"$f":"RANK(S92,$S:$S,0)+COUNTIF($S$4:S92,S92)-1","v":16},"Chicago Bears","Wide Receiver"]
[{"$f":"RANK(S93,$S:$S,0)+COUNTIF($S$4:S93,S93)-1","v":16},"Chicago Bears","Wide Receiver"]
[{"$f":"RANK(S94,$S:$S,0)+COUNTIF($S$4:S94,S94)-1","v":16},"Chicago Bears","Wide Receiver"]
[{"$f":"RANK(S95,$S:$S,0)+COUNTIF($S$4:S95,S95)-1","v":16},"Chicago Bears","Wide Receiver"]
[{"$f":"RANK(S96,$S:$S,0)+COUNTIF($S$4:S96,S96)-1","v":16},"Chicago Bears","Tight End"]
[{"$f":"RANK(S97,$S:$S,0)+COUNTIF($S$4:S97,S97)-1","v":16},"Chicago Bears","Tight End"]
[{"$f":"RANK(S98,$S:$S,0)+COUNTIF($S$4:S98,S98)-1","v":16},"Chicago Bears","Tight End"]
[{"$f":"RANK(S99,$S:$S,0)+COUNTIF($S$4:S99,S99)-1","v":16},"Chicago Bears","Tight End"]
[{"$f":"RANK(S100,$S:$S,0)+COUNTIF($S$4:S100,S100)-1","v":16},"Cincinnati Bengals","Running Back"]
[{"$f":"RANK(S101,$S:$S,0)+COUNTIF($S$4:S101,S101)-1","v":16},"Cincinnati Bengals","Running Back"]
[{"$f":"RANK(S102,$S:$S,0)+COUNTIF($S$4:S102,S102)-1","v":16},"Cincinnati Bengals","Running Back"]
[{"$f":"RANK(S103,$S:$S,0)+COUNTIF($S$4:S103,S103)-1","v":16},"Cincinnati Bengals","Running Back"]
[{"$f":"RANK(S104,$S:$S,0)+COUNTIF($S$4:S104,S104)-1","v":16},"Cincinnati Bengals","Wide Receiver"]
[{"$f":"RANK(S105,$S:$S,0)+COUNTIF($S$4:S105,S105)-1","v":16},"Cincinnati Bengals","Wide Receiver"]
[{"$f":"RANK(S106,$S:$S,0)+COUNTIF($S$4:S106,S106)-1","v":16},"Cincinnati Bengals","Wide Receiver"]
[{"$f":"RANK(S107,$S:$S,0)+COUNTIF($S$4:S107,S107)-1","v":16},"Cincinnati Bengals","Wide Receiver"]
[{"$f":"RANK(S108,$S:$S,0)+COUNTIF($S$4:S108,S108)-1","v":16},"Cincinnati Bengals","Wide Receiver"]
[{"$f":"RANK(S109,$S:$S,0)+COUNTIF($S$4:S109,S109)-1","v":16},"Cincinnati Bengals","Wide Receiver"]
[{"$f":"RANK(S110,$S:$S,0)+COUNTIF($S$4:S110,S110)-1","v":16},"Cincinnati Bengals","Wide Receiver"]
[{"$f":"RANK(S111,$S:$S,0)+COUNTIF($S$4:S111,S111)-1","v":16},"Cincinnati Bengals","Wide Receiver"]
[{"$f":"RANK(S112,$S:$S,0)+COUNTIF($S$4:S112,S112)-1","v":16},"Cincinnati Bengals","Tight End"]
[{"$f":"RANK(S113,$S:$S,0)+COUNTIF($S$4:S113,S113)-1","v":16},"Cincinnati Bengals","Tight End"]
[{"$f":"RANK(S114,$S:$S,0)+COUNTIF($S$4:S114,S114)-1","v":16},"Cincinnati Bengals","Tight End"]
[{"$f":"RANK(S115,$S:$S,0)+COUNTIF($S$4:S115,S115)-1","v":16},"Cincinnati Bengals","Tight End"]
[{"$f":"RANK(S116,$S:$S,0)+COUNTIF($S$4:S116,S116)-1","v":16},"Cleveland Browns","Running Back"]
[{"$f":"RANK(S117,$S:$S,0)+COUNTIF($S$4:S117,S117)-1","v":16},"Cleveland Browns","Running Back"]
[{"$f":"RANK(S118,$S:$S,0)+COUNTIF($S$4:S118,S118)-1","v":16},"Cleveland Browns","Running Back"]
[{"$f":"RANK(S119,$S:$S,0)+COUNTIF($S$4:S119,S119)-1","v":16},"Cleveland Browns","Running Back"]
[{"$f":"RANK(S120,$S:$S,0)+COUNTIF($S$4:S120,S120)-1","v":16},"Cleveland Browns","Wide Receiver"]
[{"$f":"RANK(S121,$S:$S,0)+COUNTIF($S$4:S121,S121)-1","v":16},"Cleveland Browns","Wide Receiver"]
[{"$f":"RANK(S122,$S:$S,0)+COUNTIF($S$4:S122,S122)-1","v":16},"Cleveland Browns","Wide Receiver"]
[{"$f":"RANK(S123,$S:$S,0)+COUNTIF($S$4:S123,S123)-1","v":16},"Cleveland Browns","Wide Receiver"]
[{"$f":"RANK(S124,$S:$S,0)+COUNTIF($S$4:S124,S124)-1","v":16},"Cleveland Browns","Wide Receiver"]
[{"$f":"RANK(S125,$S:$S,0)+COUNTIF($S$4:S125,S125)-1","v":16},"Cleveland Browns","Wide Receiver"]
[{"$f":"RANK(S126,$S:$S,0)+COUNTIF($S$4:S126,S126)-1","v":16},"Cleveland Browns","Wide Receiver"]
[{"$f":"RANK(S127,$S:$S,0)+COUNTIF($S$4:S127,S127)-1","v":16},"Cleveland Browns","Wide Receiver"]
[{"$f":"RANK(S128,$S:$S,0)+COUNTIF($S$4:S128,S128)-1","v":16},"Cleveland Browns","Tight End"]
[{"$f":"RANK(S129,$S:$S,0)+COUNTIF($S$4:S129,S129)-1","v":16},"Cleveland Browns","Tight End"]
[{"$f":"RANK(S130,$S:$S,0)+COUNTIF($S$4:S130,S130)-1","v":16},"Cleveland Browns","Tight End"]
[{"$f":"RANK(S131,$S:$S,0)+COUNTIF($S$4:S131,S131)-1","v":16},"Cleveland Browns","Tight End"]
[{"$f":"RANK(S132,$S:$S,0)+COUNTIF($S$4:S132,S132)-1","v":16},"Dallas Cowboys","Running Back"]
[{"$f":"RANK(S133,$S:$S,0)+COUNTIF($S$4:S133,S133)-1","v":16},"Dallas Cowboys","Running Back"]
[{"$f":"RANK(S134,$S:$S,0)+COUNTIF($S$4:S134,S134)-1","v":16},"Dallas Cowboys","Running Back"]
[{"$f":"RANK(S135,$S:$S,0)+COUNTIF($S$4:S135,S135)-1","v":16},"Dallas Cowboys","Running Back"]
[{"$f":"RANK(S136,$S:$S,0)+COUNTIF($S$4:S136,S136)-1","v":16},"Dallas Cowboys","Wide Receiver"]
[{"$f":"RANK(S137,$S:$S,0)+COUNTIF($S$4:S137,S137)-1","v":16},"Dallas Cowboys","Wide Receiver"]
[{"$f":"RANK(S138,$S:$S,0)+COUNTIF($S$4:S138,S138)-1","v":16},"Dallas Cowboys","Wide Receiver"]
[{"$f":"RANK(S139,$S:$S,0)+COUNTIF($S$4:S139,S139)-1","v":16},"Dallas Cowboys","Wide Receiver"]
[{"$f":"RANK(S140,$S:$S,0)+COUNTIF($S$4:S140,S140)-1","v":16},"Dallas Cowboys","Wide Receiver"]
[{"$f":"RANK(S141,$S:$S,0)+COUNTIF($S$4:S141,S141)-1","v":16},"Dallas Cowboys","Wide Receiver"]
[{"$f":"RANK(S142,$S:$S,0)+COUNTIF($S$4:S142,S142)-1","v":16},"Dallas Cowboys","Wide Receiver"]
[{"$f":"RANK(S143,$S:$S,0)+COUNTIF($S$4:S143,S143)-1","v":16},"Dallas Cowboys","Wide Receiver"]
[{"$f":"RANK(S144,$S:$S,0)+COUNTIF($S$4:S144,S144)-1","v":16},"Dallas Cowboys","Tight End"]
[{"$f":"RANK(S145,$S:$S,0)+COUNTIF($S$4:S145,S145)-1","v":16},"Dallas Cowboys","Tight End"]
[{"$f":"RANK(S146,$S:$S,0)+COUNTIF($S$4:S146,S146)-1","v":16},"Dallas Cowboys","Tight End"]
[{"$f":"RANK(S147,$S:$S,0)+COUNTIF($S$4:S147,S147)-1","v":16},"Dallas Cowboys","Tight End"]
[{"$f":"RANK(S148,$S:$S,0)+COUNTIF($S$4:S148,S148)-1","v":16},"Denver Broncos","Running Back"]
[{"$f":"RANK(S149,$S:$S,0)+COUNTIF($S$4:S149,S149)-1","v":16},"Denver Broncos","Running Back"]
[{"$f":"RANK(S150,$S:$S,0)+COUNTIF($S$4:S150,S150)-1","v":16},"Denver Broncos","Running Back"]
[{"$f":"RANK(S151,$S:$S,0)+COUNTIF($S$4:S151,S151)-1","v":16},"Denver Broncos","Running Back"]
[{"$f":"RANK(S152,$S:$S,0)+COUNTIF($S$4:S152,S152)-1","v":16},"Denver Broncos","Wide Receiver"]
[{"$f":"RANK(S153,$S:$S,0)+COUNTIF($S$4:S153,S153)-1","v":16},"Denver Broncos","Wide Receiver"]
[{"$f":"RANK(S154,$S:$S,0)+COUNTIF($S$4:S154,S154)-1","v":16},"Denver Broncos","Wide Receiver"]
[{"$f":"RANK(S155,$S:$S,0)+COUNTIF($S$4:S155,S155)-1","v":16},"Denver Broncos","Wide Receiver"]
[{"$f":"RANK(S156,$S:$S,0)+COUNTIF($S$4:S156,S156)-1","v":16},"Denver Broncos","Wide Receiver"]
[{"$f":"RANK(S157,$S:$S,0)+COUNTIF($S$4:S157,S157)-1","v":16},"Denver Broncos","Wide Receiver"]
[{"$f":"RANK(S158,$S:$S,0)+COUNTIF($S$4:S158,S158)-1","v":16},"Denver Broncos","Wide Receiver"]
[{"$f":"RANK(S159,$S:$S,0)+COUNTIF($S$4:S159,S159)-1","v":16},"Denver Broncos","Wide Receiver"]
[{"$f":"RANK(S160,$S:$S,0)+COUNTIF($S$4:S160,S160)-1","v":16},"Denver Broncos","Tight End"]
[{"$f":"RANK(S161,$S:$S,0)+COUNTIF($S$4:S161,S161)-1","v":16},"Denver Broncos","Tight End"]
[{"$f":"RANK(S162,$S:$S,0)+COUNTIF($S$4:S162,S162)-1","v":16},"Denver Broncos","Tight End"]
[{"$f":"RANK(S163,$S:$S,0)+COUNTIF($S$4:S163,S163)-1","v":16},"Denver Broncos","Tight End"]
[{"$f":"RANK(S164,$S:$S,0)+COUNTIF($S$4:S164,S164)-1","v":16},"Detroit Lions","Running Back"]
[{"$f":"RANK(S165,$S:$S,0)+COUNTIF($S$4:S165,S165)-1","v":16},"Detroit Lions","Running Back"]
[{"$f":"RANK(S166,$S:$S,0)+COUNTIF($S$4:S166,S166)-1","v":16},"Detroit Lions","Running Back"]
[{"$f":"RANK(S167,$S:$S,0)+COUNTIF($S$4:S167,S167)-1","v":16},"Detroit Lions","Running Back"]
[{"$f":"RANK(S168,$S:$S,0)+COUNTIF($S$4:S168,S168)-1","v":16},"Detroit Lions","Wide Receiver"]
[{"$f":"RANK(S169,$S:$S,0)+COUNTIF($S$4:S169,S169)-1","v":16},"Detroit Lions","Wide Receiver"]
[{"$f":"RANK(S170,$S:$S,0)+COUNTIF($S$4:S170,S170)-1","v":16},"Detroit Lions","Wide Receiver"]
[{"$f":"RANK(S171,$S:$S,0)+COUNTIF($S$4:S171,S171)-1","v":16},"Detroit Lions","Wide Receiver"]
[{"$f":"RANK(S172,$S:$S,0)+COUNTIF($S$4:S172,S172)-1","v":16},"Detroit Lions","Wide Receiver"]
[{"$f":"RANK(S173,$S:$S,0)+COUNTIF($S$4:S173,S173)-1","v":16},"Detroit Lions","Wide Receiver"]
[{"$f":"RANK(S174,$S:$S,0)+COUNTIF($S$4:S174,S174)-1","v":16},"Detroit Lions","Wide Receiver"]
[{"$f":"RANK(S175,$S:$S,0)+COUNTIF($S$4:S175,S175)-1","v":16},"Detroit Lions","Wide Receiver"]
[{"$f":"RANK(S176,$S:$S,0)+COUNTIF($S$4:S176,S176)-1","v":16},"Detroit Lions","Tight End"]
[{"$f":"RANK(S177,$S:$S,0)+COUNTIF($S$4:S177,S177)-1","v":16},"Detroit Lions","Tight End"]
[{"$f":"RANK(S178,$S:$S,0)+COUNTIF($S$4:S178,S178)-1","v":16},"Detroit Lions","Tight End"]
[{"$f":"RANK(S179,$S:$S,0)+COUNTIF($S$4:S179,S179)-1","v":16},"Detroit Lions","Tight End"]
[{"$f":"RANK(S180,$S:$S,0)+COUNTIF($S$4:S180,S180)-1","v":16},"Green Bay Packers","Running Back"]
[{"$f":"RANK(S181,$S:$S,0)+COUNTIF($S$4:S181,S181)-1","v":16},"Green Bay Packers","Running Back"]
[{"$f":"RANK(S182,$S:$S,0)+COUNTIF($S$4:S182,S182)-1","v":16},"Green Bay Packers","Running Back"]
[{"$f":"RANK(S183,$S:$S,0)+COUNTIF($S$4:S183,S183)-1","v":16},"Green Bay Packers","Running Back"]
[{"$f":"RANK(S184,$S:$S,0)+COUNTIF($S$4:S184,S184)-1","v":16},"Green Bay Packers","Wide Receiver"]
[{"$f":"RANK(S185,$S:$S,0)+COUNTIF($S$4:S185,S185)-1","v":16},"Green Bay Packers","Wide Receiver"]
[{"$f":"RANK(S186,$S:$S,0)+COUNTIF($S$4:S186,S186)-1","v":16},"Green Bay Packers","Wide Receiver"]
[{"$f":"RANK(S187,$S:$S,0)+COUNTIF($S$4:S187,S187)-1","v":16},"Green Bay Packers","Wide Receiver"]
[{"$f":"RANK(S188,$S:$S,0)+COUNTIF($S$4:S188,S188)-1","v":16},"Green Bay Packers","Wide Receiver"]
[{"$f":"RANK(S189,$S:$S,0)+COUNTIF($S$4:S189,S189)-1","v":16},"Green Bay Packers","Wide Receiver"]
[{"$f":"RANK(S190,$S:$S,0)+COUNTIF($S$4:S190,S190)-1","v":16},"Green Bay Packers","Wide Receiver"]
[{"$f":"RANK(S191,$S:$S,0)+COUNTIF($S$4:S191,S191)-1","v":16},"Green Bay Packers","Wide Receiver"]
[{"$f":"RANK(S192,$S:$S,0)+COUNTIF($S$4:S192,S192)-1","v":16},"Green Bay Packers","Tight End"]
[{"$f":"RANK(S193,$S:$S,0)+COUNTIF($S$4:S193,S193)-1","v":16},"Green Bay Packers","Tight End"]
[{"$f":"RANK(S194,$S:$S,0)+COUNTIF($S$4:S194,S194)-1","v":16},"Green Bay Packers","Tight End"]
[{"$f":"RANK(S195,$S:$S,0)+COUNTIF($S$4:S195,S195)-1","v":16},"Green Bay Packers","Tight End"]
[{"$f":"RANK(S196,$S:$S,0)+COUNTIF($S$4:S196,S196)-1","v":16},"Houston Texans","Running Back"]
[{"$f":"RANK(S197,$S:$S,0)+COUNTIF($S$4:S197,S197)-1","v":16},"Houston Texans","Running Back"]
[{"$f":"RANK(S198,$S:$S,0)+COUNTIF($S$4:S198,S198)-1","v":16},"Houston Texans","Running Back"]
[{"$f":"RANK(S199,$S:$S,0)+COUNTIF($S$4:S199,S199)-1","v":16},"Houston Texans","Running Back"]
[{"$f":"RANK(S200,$S:$S,0)+COUNTIF($S$4:S200,S200)-1","v":16},"Houston Texans","Wide Receiver"]
[{"$f":"RANK(S201,$S:$S,0)+COUNTIF($S$4:S201,S201)-1","v":16},"Houston Texans","Wide Receiver"]
[{"$f":"RANK(S202,$S:$S,0)+COUNTIF($S$4:S202,S202)-1","v":16},"Houston Texans","Wide Receiver"]
[{"$f":"RANK(S203,$S:$S,0)+COUNTIF($S$4:S203,S203)-1","v":16},"Houston Texans","Wide Receiver"]
[{"$f":"RANK(S204,$S:$S,0)+COUNTIF($S$4:S204,S204)-1","v":16},"Houston Texans","Wide Receiver"]
[{"$f":"RANK(S205,$S:$S,0)+COUNTIF($S$4:S205,S205)-1","v":16},"Houston Texans","Wide Receiver"]
[{"$f":"RANK(S206,$S:$S,0)+COUNTIF($S$4:S206,S206)-1","v":16},"Houston Texans","Wide Receiver"]
[{"$f":"RANK(S207,$S:$S,0)+COUNTIF($S$4:S207,S207)-1","v":16},"Houston Texans","Wide Receiver"]
[{"$f":"RANK(S208,$S:$S,0)+COUNTIF($S$4:S208,S208)-1","v":16},"Houston Texans","Tight End"]
[{"$f":"RANK(S209,$S:$S,0)+COUNTIF($S$4:S209,S209)-1","v":16},"Houston Texans","Tight End"]
[{"$f":"RANK(S210,$S:$S,0)+COUNTIF($S$4:S210,S210)-1","v":16},"Houston Texans","Tight End"]
[{"$f":"RANK(S211,$S:$S,0)+COUNTIF($S$4:S211,S211)-1","v":16},"Houston Texans","Tight End"]
[{"$f":"RANK(S212,$S:$S,0)+COUNTIF($S$4:S212,S212)-1","v":16},"Indianapolis Colts","Running Back"]
[{"$f":"RANK(S213,$S:$S,0)+COUNTIF($S$4:S213,S213)-1","v":16},"Indianapolis Colts","Running Back"]
[{"$f":"RANK(S214,$S:$S,0)+COUNTIF($S$4:S214,S214)-1","v":16},"Indianapolis Colts","Running Back"]
[{"$f":"RANK(S215,$S:$S,0)+COUNTIF($S$4:S215,S215)-1","v":16},"Indianapolis Colts","Running Back"]
[{"$f":"RANK(S216,$S:$S,0)+COUNTIF($S$4:S216,S216)-1","v":16},"Indianapolis Colts","Wide Receiver"]
[{"$f":"RANK(S217,$S:$S,0)+COUNTIF($S$4:S217,S217)-1","v":16},"Indianapolis Colts","Wide Receiver"]
[{"$f":"RANK(S218,$S:$S,0)+COUNTIF($S$4:S218,S218)-1","v":16},"Indianapolis Colts","Wide Receiver"]
[{"$f":"RANK(S219,$S:$S,0)+COUNTIF($S$4:S219,S219)-1","v":16},"Indianapolis Colts","Wide Receiver"]
[{"$f":"RANK(S220,$S:$S,0)+COUNTIF($S$4:S220,S220)-1","v":16},"Indianapolis Colts","Wide Receiver"]
[{"$f":"RANK(S221,$S:$S,0)+COUNTIF($S$4:S221,S221)-1","v":16},"Indianapolis Colts","Wide Receiver"]
[{"$f":"RANK(S222,$S:$S,0)+COUNTIF($S$4:S222,S222)-1","v":16},"Indianapolis Colts","Wide Receiver"]
[{"$f":"RANK(S223,$S:$S,0)+COUNTIF($S$4:S223,S223)-1","v":16},"Indianapolis Colts","Wide Receiver"]
[{"$f":"RANK(S224,$S:$S,0)+COUNTIF($S$4:S224,S224)-1","v":16},"Indianapolis Colts","Tight End"]
[{"$f":"RANK(S225,$S:$S,0)+COUNTIF($S$4:S225,S225)-1","v":16},"Indianapolis Colts","Tight End"]
[{"$f":"RANK(S226,$S:$S,0)+COUNTIF($S$4:S226,S226)-1","v":16},"Indianapolis Colts","Tight End"]
[{"$f":"RANK(S227,$S:$S,0)+COUNTIF($S$4:S227,S227)-1","v":16},"Indianapolis Colts","Tight End"]
[{"$f":"RANK(S228,$S:$S,0)+COUNTIF($S$4:S228,S228)-1","v":16},"Jacksonville Jaguars","Running Back"]
[{"$f":"RANK(S229,$S:$S,0)+COUNTIF($S$4:S229,S229)-1","v":16},"Jacksonville Jaguars","Running Back"]
[{"$f":"RANK(S230,$S:$S,0)+COUNTIF($S$4:S230,S230)-1","v":16},"Jacksonville Jaguars","Running Back"]
[{"$f":"RANK(S231,$S:$S,0)+COUNTIF($S$4:S231,S231)-1","v":16},"Jacksonville Jaguars","Running Back"]
[{"$f":"RANK(S232,$S:$S,0)+COUNTIF($S$4:S232,S232)-1","v":16},"Jacksonville Jaguars","Wide Receiver"]
[{"$f":"RANK(S233,$S:$S,0)+COUNTIF($S$4:S233,S233)-1","v":16},"Jacksonville Jaguars","Wide Receiver"]
[{"$f":"RANK(S234,$S:$S,0)+COUNTIF($S$4:S234,S234)-1","v":16},"Jacksonville Jaguars","Wide Receiver"]
[{"$f":"RANK(S235,$S:$S,0)+COUNTIF($S$4:S235,S235)-1","v":16},"Jacksonville Jaguars","Wide Receiver"]
[{"$f":"RANK(S236,$S:$S,0)+COUNTIF($S$4:S236,S236)-1","v":16},"Jacksonville Jaguars","Wide Receiver"]
[{"$f":"RANK(S237,$S:$S,0)+COUNTIF($S$4:S237,S237)-1","v":16},"Jacksonville Jaguars","Wide Receiver"]
[{"$f":"RANK(S238,$S:$S,0)+COUNTIF($S$4:S238,S238)-1","v":16},"Jacksonville Jaguars","Wide Receiver"]
[{"$f":"RANK(S239,$S:$S,0)+COUNTIF($S$4:S239,S239)-1","v":16},"Jacksonville Jaguars","Wide Receiver"]
[{"$f":"RANK(S240,$S:$S,0)+COUNTIF($S$4:S240,S240)-1","v":16},"Jacksonville Jaguars","Tight End"]
[{"$f":"RANK(S241,$S:$S,0)+COUNTIF($S$4:S241,S241)-1","v":16},"Jacksonville Jaguars","Tight End"]
[{"$f":"RANK(S242,$S:$S,0)+COUNTIF($S$4:S242,S242)-1","v":16},"Jacksonville Jaguars","Tight End"]
[{"$f":"RANK(S243,$S:$S,0)+COUNTIF($S$4:S243,S243)-1","v":16},"Jacksonville Jaguars","Tight End"]
[{"$f":"RANK(S244,$S:$S,0)+COUNTIF($S$4:S244,S244)-1","v":16},"Kansas City Chiefs","Running Back"]
[{"$f":"RANK(S245,$S:$S,0)+COUNTIF($S$4:S245,S245)-1","v":16},"Kansas City Chiefs","Running Back"]
[{"$f":"RANK(S246,$S:$S,0)+COUNTIF($S$4:S246,S246)-1","v":16},"Kansas City Chiefs","Running Back"]
[{"$f":"RANK(S247,$S:$S,0)+COUNTIF($S$4:S247,S247)-1","v":16},"Kansas City Chiefs","Running Back"]
[{"$f":"RANK(S248,$S:$S,0)+COUNTIF($S$4:S248,S248)-1","v":16},"Kansas City Chiefs","Wide Receiver"]
[{"$f":"RANK(S249,$S:$S,0)+COUNTIF($S$4:S249,S249)-1","v":16},"Kansas City Chiefs","Wide Receiver"]
[{"$f":"RANK(S250,$S:$S,0)+COUNTIF($S$4:S250,S250)-1","v":16},"Kansas City Chiefs","Wide Receiver"]
[{"$f":"RANK(S251,$S:$S,0)+COUNTIF($S$4:S251,S251)-1","v":16},"Kansas City Chiefs","Wide Receiver"]
[{"$f":"RANK(S252,$S:$S,0)+COUNTIF($S$4:S252,S252)-1","v":16},"Kansas City Chiefs","Wide Receiver"]
[{"$f":"RANK(S253,$S:$S,0)+COUNTIF($S$4:S253,S253)-1","v":16},"Kansas City Chiefs","Wide Receiver"]
[{"$f":"RANK(S254,$S:$S,0)+COUNTIF($S$4:S254,S254)-1","v":16},"Kansas City Chiefs","Wide Receiver"]
[{"$f":"RANK(S255,$S:$S,0)+COUNTIF($S$4:S255,S255)-1","v":16},"Kansas City Chiefs","Wide Receiver"]
[{"$f":"RANK(S256,$S:$S,0)+COUNTIF($S$4:S256,S256)-1","v":16},"Kansas City Chiefs","Tight End"]
[{"$f":"RANK(S257,$S:$S,0)+COUNTIF($S$4:S257,S257)-1","v":16},"Kansas City Chiefs","Tight End"]
[{"$f":"RANK(S258,$S:$S,0)+COUNTIF($S$4:S258,S258)-1","v":16},"Kansas City Chiefs","Tight End"]
[{"$f":"RANK(S259,$S:$S,0)+COUNTIF($S$4:S259,S259)-1","v":16},"Kansas City Chiefs","Tight End"]
[{"$f":"RANK(S260,$S:$S,0)+COUNTIF($S$4:S260,S260)-1","v":16},"Las Vegas Raiders","Running Back"]
[{"$f":"RANK(S261,$S:$S,0)+COUNTIF($S$4:S261,S261)-1","v":16},"Las Vegas Raiders","Running Back"]
[{"$f":"RANK(S262,$S:$S,0)+COUNTIF($S$4:S262,S262)-1","v":16},"Las Vegas Raiders","Running Back"]
[{"$f":"RANK(S263,$S:$S,0)+COUNTIF($S$4:S263,S263)-1","v":16},"Las Vegas Raiders","Running Back"]
[{"$f":"RANK(S264,$S:$S,0)+COUNTIF($S$4:S264,S264)-1","v":16},"Las Vegas Raiders","Wide Receiver"]
[{"$f":"RANK(S265,$S:$S,0)+COUNTIF($S$4:S265,S265)-1","v":16},"Las Vegas Raiders","Wide Receiver"]
[{"$f":"RANK(S266,$S:$S,0)+COUNTIF($S$4:S266,S266)-1","v":16},"Las Vegas Raiders","Wide Receiver"]
[{"$f":"RANK(S267,$S:$S,0)+COUNTIF($S$4:S267,S267)-1","v":16},"Las Vegas Raiders","Wide Receiver"]
[{"$f":"RANK(S268,$S:$S,0)+COUNTIF($S$4:S268,S268)-1","v":16},"Las Vegas Raiders","Wide Receiver"]
[{"$f":"RANK(S269,$S:$S,0)+COUNTIF($S$4:S269,S269)-1","v":16},"Las Vegas Raiders","Wide Receiver"]
[{"$f":"RANK(S270,$S:$S,0)+COUNTIF($S$4:S270,S270)-1","v":16},"Las Vegas Raiders","Wide Receiver"]
[{"$f":"RANK(S271,$S:$S,0)+COUNTIF($S$4:S271,S271)-1","v":16},"Las Vegas Raiders","Wide Receiver"]
[{"$f":"RANK(S272,$S:$S,0)+COUNTIF($S$4:S272,S272)-1","v":16},"Las Vegas Raiders","Tight End"]
[{"$f":"RANK(S273,$S:$S,0)+COUNTIF($S$4:S273,S273)-1","v":16},"Las Vegas Raiders","Tight End"]
[{"$f":"RANK(S274,$S:$S,0)+COUNTIF($S$4:S274,S274)-1","v":16},"Las Vegas Raiders","Tight End"]
[{"$f":"RANK(S275,$S:$S,0)+COUNTIF($S$4:S275,S275)-1","v":16},"Las Vegas Raiders","Tight End"]
[{"$f":"RANK(S276,$S:$S,0)+COUNTIF($S$4:S276,S276)-1","v":16},"Los Angeles Chargers","Running Back"]
[{"$f":"RANK(S277,$S:$S,0)+COUNTIF($S$4:S277,S277)-1","v":16},"Los Angeles Chargers","Running Back"]
[{"$f":"RANK(S278,$S:$S,0)+COUNTIF($S$4:S278,S278)-1","v":16},"Los Angeles Chargers","Running Back"]
[{"$f":"RANK(S279,$S:$S,0)+COUNTIF($S$4:S279,S279)-1","v":16},"Los Angeles Chargers","Running Back"]
[{"$f":"RANK(S280,$S:$S,0)+COUNTIF($S$4:S280,S280)-1","v":16},"Los Angeles Chargers","Wide Receiver"]
[{"$f":"RANK(S281,$S:$S,0)+COUNTIF($S$4:S281,S281)-1","v":16},"Los Angeles Chargers","Wide Receiver"]
[{"$f":"RANK(S282,$S:$S,0)+COUNTIF($S$4:S282,S282)-1","v":16},"Los Angeles Chargers","Wide Receiver"]
[{"$f":"RANK(S283,$S:$S,0)+COUNTIF($S$4:S283,S283)-1","v":16},"Los Angeles Chargers","Wide Receiver"]
[{"$f":"RANK(S284,$S:$S,0)+COUNTIF($S$4:S284,S284)-1","v":16},"Los Angeles Chargers","Wide Receiver"]
[{"$f":"RANK(S285,$S:$S,0)+COUNTIF($S$4:S285,S285)-1","v":16},"Los Angeles Chargers","Wide Receiver"]
[{"$f":"RANK(S286,$S:$S,0)+COUNTIF($S$4:S286,S286)-1","v":16},"Los Angeles Chargers","Wide Receiver"]
[{"$f":"RANK(S287,$S:$S,0)+COUNTIF($S$4:S287,S287)-1","v":16},"Los Angeles Chargers","Wide Receiver"]
[{"$f":"RANK(S288,$S:$S,0)+COUNTIF($S$4:S288,S288)-1","v":16},"Los Angeles Chargers","Tight End"]
[{"$f":"RANK(S289,$S:$S,0)+COUNTIF($S$4:S289,S289)-1","v":16},"Los Angeles Chargers","Tight End"]
[{"$f":"RANK(S290,$S:$S,0)+COUNTIF($S$4:S290,S290)-1","v":16},"Los Angeles Chargers","Tight End"]
[{"$f":"RANK(S291,$S:$S,0)+COUNTIF($S$4:S291,S291)-1","v":16},"Los Angeles Chargers","Tight End"]
[{"$f":"RANK(S292,$S:$S,0)+COUNTIF($S$4:S292,S292)-1","v":16},"Los Angeles Rams","Running Back"]
[{"$f":"RANK(S293,$S:$S,0)+COUNTIF($S$4:S293,S293)-1","v":16},"Los Angeles Rams","Running Back"]
[{"$f":"RANK(S294,$S:$S,0)+COUNTIF($S$4:S294,S294)-1","v":16},"Los Angeles Rams","Running Back"]
[{"$f":"RANK(S295,$S:$S,0)+COUNTIF($S$4:S295,S295)-1","v":16},"Los Angeles Rams","Running Back"]
[{"$f":"RANK(S296,$S:$S,0)+COUNTIF($S$4:S296,S296)-1","v":16},"Los Angeles Rams","Wide Receiver"]
[{"$f":"RANK(S297,$S:$S,0)+COUNTIF($S$4:S297,S297)-1","v":16},"Los Angeles Rams","Wide Receiver"]
[{"$f":"RANK(S298,$S:$S,0)+COUNTIF($S$4:S298,S298)-1","v":16},"Los Angeles Rams","Wide Receiver"]
[{"$f":"RANK(S299,$S:$S,0)+COUNTIF($S$4:S299,S299)-1","v":16},"Los Angeles Rams","Wide Receiver"]
[{"$f":"RANK(S300,$S:$S,0)+COUNTIF($S$4:S300,S300)-1","v":16},"Los Angeles Rams","Wide Receiver"]
[{"$f":"RANK(S301,$S:$S,0)+COUNTIF($S$4:S301,S301)-1","v":16},"Los Angeles Rams","Wide Receiver"]
[{"$f":"RANK(S302,$S:$S,0)+COUNTIF($S$4:S302,S302)-1","v":16},"Los Angeles Rams","Wide Receiver"]
[{"$f":"RANK(S303,$S:$S,0)+COUNTIF($S$4:S303,S303)-1","v":16},"Los Angeles Rams","Wide Receiver"]
[{"$f":"RANK(S304,$S:$S,0)+COUNTIF($S$4:S304,S304)-1","v":16},"Los Angeles Rams","Tight End"]
[{"$f":"RANK(S305,$S:$S,0)+COUNTIF($S$4:S305,S305)-1","v":16},"Los Angeles Rams","Tight End"]
[{"$f":"RANK(S306,$S:$S,0)+COUNTIF($S$4:S306,S306)-1","v":16},"Los Angeles Rams","Tight End"]
[{"$f":"RANK(S307,$S:$S,0)+COUNTIF($S$4:S307,S307)-1","v":16},"Los Angeles Rams","Tight End"]
[{"$f":"RANK(S308,$S:$S,0)+COUNTIF($S$4:S308,S308)-1","v":16},"Miami Dolphins","Running Back"]
[{"$f":"RANK(S309,$S:$S,0)+COUNTIF($S$4:S309,S309)-1","v":16},"Miami Dolphins","Running Back"]
[{"$f":"RANK(S310,$S:$S,0)+COUNTIF($S$4:S310,S310)-1","v":16},"Miami Dolphins","Running Back"]
[{"$f":"RANK(S311,$S:$S,0)+COUNTIF($S$4:S311,S311)-1","v":16},"Miami Dolphins","Running Back"]
[{"$f":"RANK(S312,$S:$S,0)+COUNTIF($S$4:S312,S312)-1","v":16},"Miami Dolphins","Wide Receiver"]
[{"$f":"RANK(S313,$S:$S,0)+COUNTIF($S$4:S313,S313)-1","v":16},"Miami Dolphins","Wide Receiver"]
[{"$f":"RANK(S314,$S:$S,0)+COUNTIF($S$4:S314,S314)-1","v":16},"Miami Dolphins","Wide Receiver"]
[{"$f":"RANK(S315,$S:$S,0)+COUNTIF($S$4:S315,S315)-1","v":16},"Miami Dolphins","Wide Receiver"]
[{"$f":"RANK(S316,$S:$S,0)+COUNTIF($S$4:S316,S316)-1","v":16},"Miami Dolphins","Wide Receiver"]
[{"$f":"RANK(S317,$S:$S,0)+COUNTIF($S$4:S317,S317)-1","v":16},"Miami Dolphins","Wide Receiver"]
[{"$f":"RANK(S318,$S:$S,0)+COUNTIF($S$4:S318,S318)-1","v":16},"Miami Dolphins","Wide Receiver"]
[{"$f":"RANK(S319,$S:$S,0)+COUNTIF($S$4:S319,S319)-1","v":16},"Miami Dolphins","Wide Receiver"]
[{"$f":"RANK(S320,$S:$S,0)+COUNTIF($S$4:S320,S320)-1","v":16},"Miami Dolphins","Tight End"]
[{"$f":"RANK(S321,$S:$S,0)+COUNTIF($S$4:S321,S321)-1","v":16},"Miami Dolphins","Tight End"]
[{"$f":"RANK(S322,$S:$S,0)+COUNTIF($S$4:S322,S322)-1","v":16},"Miami Dolphins","Tight End"]
[{"$f":"RANK(S323,$S:$S,0)+COUNTIF($S$4:S323,S323)-1","v":16},"Miami Dolphins","Tight End"]
[{"$f":"RANK(S324,$S:$S,0)+COUNTIF($S$4:S324,S324)-1","v":16},"Minnesota Vikings","Running Back"]
[{"$f":"RANK(S325,$S:$S,0)+COUNTIF($S$4:S325,S325)-1","v":16},"Minnesota Vikings","Running Back"]
[{"$f":"RANK(S326,$S:$S,0)+COUNTIF($S$4:S326,S326)-1","v":16},"Minnesota Vikings","Running Back"]
[{"$f":"RANK(S327,$S:$S,0)+COUNTIF($S$4:S327,S327)-1","v":16},"Minnesota Vikings","Running Back"]
[{"$f":"RANK(S328,$S:$S,0)+COUNTIF($S$4:S328,S328)-1","v":16},"Minnesota Vikings","Wide Receiver"]
[{"$f":"RANK(S329,$S:$S,0)+COUNTIF($S$4:S329,S329)-1","v":16},"Minnesota Vikings","Wide Receiver"]
[{"$f":"RANK(S330,$S:$S,0)+COUNTIF($S$4:S330,S330)-1","v":16},"Minnesota Vikings","Wide Receiver"]
[{"$f":"RANK(S331,$S:$S,0)+COUNTIF($S$4:S331,S331)-1","v":16},"Minnesota Vikings","Wide Receiver"]
[{"$f":"RANK(S332,$S:$S,0)+COUNTIF($S$4:S332,S332)-1","v":16},"Minnesota Vikings","Wide Receiver"]
[{"$f":"RANK(S333,$S:$S,0)+COUNTIF($S$4:S333,S333)-1","v":16},"Minnesota Vikings","Wide Receiver"]
[{"$f":"RANK(S334,$S:$S,0)+COUNTIF($S$4:S334,S334)-1","v":16},"Minnesota Vikings","Wide Receiver"]
[{"$f":"RANK(S335,$S:$S,0)+COUNTIF($S$4:S335,S335)-1","v":16},"Minnesota Vikings","Wide Receiver"]
[{"$f":"RANK(S336,$S:$S,0)+COUNTIF($S$4:S336,S336)-1","v":16},"Minnesota Vikings","Tight End"]
[{"$f":"RANK(S337,$S:$S,0)+COUNTIF($S$4:S337,S337)-1","v":16},"Minnesota Vikings","Tight End"]
[{"$f":"RANK(S338,$S:$S,0)+COUNTIF($S$4:S338,S338)-1","v":16},"Minnesota Vikings","Tight End"]
[{"$f":"RANK(S339,$S:$S,0)+COUNTIF($S$4:S339,S339)-1","v":16},"Minnesota Vikings","Tight End"]
[{"$f":"RANK(S340,$S:$S,0)+COUNTIF($S$4:S340,S340)-1","v":16},"New England Patriots","Running Back"]
[{"$f":"RANK(S341,$S:$S,0)+COUNTIF($S$4:S341,S341)-1","v":16},"New England Patriots","Running Back"]
[{"$f":"RANK(S342,$S:$S,0)+COUNTIF($S$4:S342,S342)-1","v":16},"New England Patriots","Running Back"]
[{"$f":"RANK(S343,$S:$S,0)+COUNTIF($S$4:S343,S343)-1","v":16},"New England Patriots","Running Back"]
[{"$f":"RANK(S344,$S:$S,0)+COUNTIF($S$4:S344,S344)-1","v":16},"New England Patriots","Wide Receiver"]
[{"$f":"RANK(S345,$S:$S,0)+COUNTIF($S$4:S345,S345)-1","v":16},"New England Patriots","Wide Receiver"]
[{"$f":"RANK(S346,$S:$S,0)+COUNTIF($S$4:S346,S346)-1","v":16},"New England Patriots","Wide Receiver"]
[{"$f":"RANK(S347,$S:$S,0)+COUNTIF($S$4:S347,S347)-1","v":16},"New England Patriots","Wide Receiver"]
[{"$f":"RANK(S348,$S:$S,0)+COUNTIF($S$4:S348,S348)-1","v":16},"New England Patriots","Wide Receiver"]
[{"$f":"RANK(S349,$S:$S,0)+COUNTIF($S$4:S349,S349)-1","v":16},"New England Patriots","Wide Receiver"]
[{"$f":"RANK(S350,$S:$S,0)+COUNTIF($S$4:S350,S350)-1","v":16},"New England Patriots","Wide Receiver"]
[{"$f":"RANK(S351,$S:$S,0)+COUNTIF($S$4:S351,S351)-1","v":16},"New England Patriots","Wide Receiver"]
[{"$f":"RANK(S352,$S:$S,0)+COUNTIF($S$4:S352,S352)-1","v":16},"New England Patriots","Tight End"]
[{"$f":"RANK(S353,$S:$S,0)+COUNTIF($S$4:S353,S353)-1","v":16},"New England Patriots","Tight End"]
[{"$f":"RANK(S354,$S:$S,0)+COUNTIF($S$4:S354,S354)-1","v":16},"New England Patriots","Tight End"]
[{"$f":"RANK(S355,$S:$S,0)+COUNTIF($S$4:S355,S355)-1","v":16},"New England Patriots","Tight End"]
[{"$f":"RANK(S356,$S:$S,0)+COUNTIF($S$4:S356,S356)-1","v":16},"New Orleans Saints","Running Back"]
[{"$f":"RANK(S357,$S:$S,0)+COUNTIF($S$4:S357,S357)-1","v":16},"New Orleans Saints","Running Back"]
[{"$f":"RANK(S358,$S:$S,0)+COUNTIF($S$4:S358,S358)-1","v":16},"New Orleans Saints","Running Back"]
[{"$f":"RANK(S359,$S:$S,0)+COUNTIF($S$4:S359,S359)-1","v":16},"New Orleans Saints","Running Back"]
[{"$f":"RANK(S360,$S:$S,0)+COUNTIF($S$4:S360,S360)-1","v":16},"New Orleans Saints","Wide Receiver"]
[{"$f":"RANK(S361,$S:$S,0)+COUNTIF($S$4:S361,S361)-1","v":16},"New Orleans Saints","Wide Receiver"]
[{"$f":"RANK(S362,$S:$S,0)+COUNTIF($S$4:S362,S362)-1","v":16},"New Orleans Saints","Wide Receiver"]
[{"$f":"RANK(S363,$S:$S,0)+COUNTIF($S$4:S363,S363)-1","v":16},"New Orleans Saints","Wide Receiver"]
[{"$f":"RANK(S364,$S:$S,0)+COUNTIF($S$4:S364,S364)-1","v":16},"New Orleans Saints","Wide Receiver"]
[{"$f":"RANK(S365,$S:$S,0)+COUNTIF($S$4:S365,S365)-1","v":16},"New Orleans Saints","Wide Receiver"]
[{"$f":"RANK(S366,$S:$S,0)+COUNTIF($S$4:S366,S366)-1","v":16},"New Orleans Saints","Wide Receiver"]
[{"$f":"RANK(S367,$S:$S,0)+COUNTIF($S$4:S367,S367)-1","v":16},"New Orleans Saints","Wide Receiver"]
[{"$f":"RANK(S368,$S:$S,0)+COUNTIF($S$4:S368,S368)-1","v":16},"New Orleans Saints","Tight End"]
[{"$f":"RANK(S369,$S:$S,0)+COUNTIF($S$4:S369,S369)-1","v":16},"New Orleans Saints","Tight End"]
[{"$f":"RANK(S370,$S:$S,0)+COUNTIF($S$4:S370,S370)-1","v":16},"New Orleans Saints","Tight End"]
[{"$f":"RANK(S371,$S:$S,0)+COUNTIF($S$4:S371,S371)-1","v":16},"New Orleans Saints","Tight End"]
[{"$f":"RANK(S372,$S:$S,0)+COUNTIF($S$4:S372,S372)-1","v":16},"New York Giants","Running Back"]
[{"$f":"RANK(S373,$S:$S,0)+COUNTIF($S$4:S373,S373)-1","v":16},"New York Giants","Running Back"]
[{"$f":"RANK(S374,$S:$S,0)+COUNTIF($S$4:S374,S374)-1","v":16},"New York Giants","Running Back"]
[{"$f":"RANK(S375,$S:$S,0)+COUNTIF($S$4:S375,S375)-1","v":16},"New York Giants","Running Back"]
[{"$f":"RANK(S376,$S:$S,0)+COUNTIF($S$4:S376,S376)-1","v":16},"New York Giants","Wide Receiver"]
[{"$f":"RANK(S377,$S:$S,0)+COUNTIF($S$4:S377,S377)-1","v":16},"New York Giants","Wide Receiver"]
[{"$f":"RANK(S378,$S:$S,0)+COUNTIF($S$4:S378,S378)-1","v":16},"New York Giants","Wide Receiver"]
[{"$f":"RANK(S379,$S:$S,0)+COUNTIF($S$4:S379,S379)-1","v":16},"New York Giants","Wide Receiver"]
[{"$f":"RANK(S380,$S:$S,0)+COUNTIF($S$4:S380,S380)-1","v":16},"New York Giants","Wide Receiver"]
[{"$f":"RANK(S381,$S:$S,0)+COUNTIF($S$4:S381,S381)-1","v":16},"New York Giants","Wide Receiver"]
[{"$f":"RANK(S382,$S:$S,0)+COUNTIF($S$4:S382,S382)-1","v":16},"New York Giants","Wide Receiver"]
[{"$f":"RANK(S383,$S:$S,0)+COUNTIF($S$4:S383,S383)-1","v":16},"New York Giants","Wide Receiver"]
[{"$f":"RANK(S384,$S:$S,0)+COUNTIF($S$4:S384,S384)-1","v":16},"New York Giants","Tight End"]
[{"$f":"RANK(S385,$S:$S,0)+COUNTIF($S$4:S385,S385)-1","v":16},"New York Giants","Tight End"]
[{"$f":"RANK(S386,$S:$S,0)+COUNTIF($S$4:S386,S386)-1","v":16},"New York Giants","Tight End"]
[{"$f":"RANK(S387,$S:$S,0)+COUNTIF($S$4:S387,S387)-1","v":16},"New York Giants","Tight End"]
[{"$f":"RANK(S388,$S:$S,0)+COUNTIF($S$4:S388,S388)-1","v":16},"New York Jets","Running Back"]
[{"$f":"RANK(S389,$S:$S,0)+COUNTIF($S$4:S389,S389)-1","v":16},"New York Jets","Running Back"]
[{"$f":"RANK(S390,$S:$S,0)+COUNTIF($S$4:S390,S390)-1","v":16},"New York Jets","Running Back"]
[{"$f":"RANK(S391,$S:$S,0)+COUNTIF($S$4:S391,S391)-1","v":16},"New York Jets","Running Back"]
[{"$f":"RANK(S392,$S:$S,0)+COUNTIF($S$4:S392,S392)-1","v":16},"New York Jets","Wide Receiver"]
[{"$f":"RANK(S393,$S:$S,0)+COUNTIF($S$4:S393,S393)-1","v":16},"New York Jets","Wide Receiver"]
[{"$f":"RANK(S394,$S:$S,0)+COUNTIF($S$4:S394,S394)-1","v":16},"New York Jets","Wide Receiver"]
[{"$f":"RANK(S395,$S:$S,0)+COUNTIF($S$4:S395,S395)-1","v":16},"New York Jets","Wide Receiver"]
[{"$f":"RANK(S396,$S:$S,0)+COUNTIF($S$4:S396,S396)-1","v":16},"New York Jets","Wide Receiver"]
[{"$f":"RANK(S397,$S:$S,0)+COUNTIF($S$4:S397,S397)-1","v":16},"New York Jets","Wide Receiver"]
[{"$f":"RANK(S398,$S:$S,0)+COUNTIF($S$4:S398,S398)-1","v":16},"New York Jets","Wide Receiver"]
[{"$f":"RANK(S399,$S:$S,0)+COUNTIF($S$4:S399,S399)-1","v":16},"New York Jets","Wide Receiver"]
[{"$f":"RANK(S400,$S:$S,0)+COUNTIF($S$4:S400,S400)-1","v":16},"New York Jets","Tight End"]
[{"$f":"RANK(S401,$S:$S,0)+COUNTIF($S$4:S401,S401)-1","v":16},"New York Jets","Tight End"]
[{"$f":"RANK(S402,$S:$S,0)+COUNTIF($S$4:S402,S402)-1","v":16},"New York Jets","Tight End"]
[{"$f":"RANK(S403,$S:$S,0)+COUNTIF($S$4:S403,S403)-1","v":16},"New York Jets","Tight End"]
[{"$f":"RANK(S404,$S:$S,0)+COUNTIF($S$4:S404,S404)-1","v":16},"Philadelphia Eagles","Running Back"]
[{"$f":"RANK(S405,$S:$S,0)+COUNTIF($S$4:S405,S405)-1","v":16},"Philadelphia Eagles","Running Back"]
[{"$f":"RANK(S406,$S:$S,0)+COUNTIF($S$4:S406,S406)-1","v":16},"Philadelphia Eagles","Running Back"]
[{"$f":"RANK(S407,$S:$S,0)+COUNTIF($S$4:S407,S407)-1","v":16},"Philadelphia Eagles","Running Back"]
[{"$f":"RANK(S408,$S:$S,0)+COUNTIF($S$4:S408,S408)-1","v":16},"Philadelphia Eagles","Wide Receiver"]
[{"$f":"RANK(S409,$S:$S,0)+COUNTIF($S$4:S409,S409)-1","v":16},"Philadelphia Eagles","Wide Receiver"]
[{"$f":"RANK(S410,$S:$S,0)+COUNTIF($S$4:S410,S410)-1","v":16},"Philadelphia Eagles","Wide Receiver"]
[{"$f":"RANK(S411,$S:$S,0)+COUNTIF($S$4:S411,S411)-1","v":16},"Philadelphia Eagles","Wide Receiver"]
[{"$f":"RANK(S412,$S:$S,0)+COUNTIF($S$4:S412,S412)-1","v":16},"Philadelphia Eagles","Wide Receiver"]
[{"$f":"RANK(S413,$S:$S,0)+COUNTIF($S$4:S413,S413)-1","v":16},"Philadelphia Eagles","Wide Receiver"]
[{"$f":"RANK(S414,$S:$S,0)+COUNTIF($S$4:S414,S414)-1","v":16},"Philadelphia Eagles","Wide Receiver"]
[{"$f":"RANK(S415,$S:$S,0)+COUNTIF($S$4:S415,S415)-1","v":16},"Philadelphia Eagles","Wide Receiver"]
[{"$f":"RANK(S416,$S:$S,0)+COUNTIF($S$4:S416,S416)-1","v":16},"Philadelphia Eagles","Tight End"]
[{"$f":"RANK(S417,$S:$S,0)+COUNTIF($S$4:S417,S417)-1","v":16},"Philadelphia Eagles","Tight End"]
[{"$f":"RANK(S418,$S:$S,0)+COUNTIF($S$4:S418,S418)-1","v":16},"Philadelphia Eagles","Tight End"]
[{"$f":"RANK(S419,$S:$S,0)+COUNTIF($S$4:S419,S419)-1","v":16},"Philadelphia Eagles","Tight End"]
[{"$f":"RANK(S420,$S:$S,0)+COUNTIF($S$4:S420,S420)-1","v":16},"Pittsburgh Steelers","Running Back"]
[{"$f":"RANK(S421,$S:$S,0)+COUNTIF($S$4:S421,S421)-1","v":16},"Pittsburgh Steelers","Running Back"]
[{"$f":"RANK(S422,$S:$S,0)+COUNTIF($S$4:S422,S422)-1","v":16},"Pittsburgh Steelers","Running Back"]
[{"$f":"RANK(S423,$S:$S,0)+COUNTIF($S$4:S423,S423)-1","v":16},"Pittsburgh Steelers","Running Back"]
[{"$f":"RANK(S424,$S:$S,0)+COUNTIF($S$4:S424,S424)-1","v":16},"Pittsburgh Steelers","Wide Receiver"]
[{"$f":"RANK(S425,$S:$S,0)+COUNTIF($S$4:S425,S425)-1","v":16},"Pittsburgh Steelers","Wide Receiver"]
[{"$f":"RANK(S426,$S:$S,0)+COUNTIF($S$4:S426,S426)-1","v":16},"Pittsburgh Steelers","Wide Receiver"]
[{"$f":"RANK(S427,$S:$S,0)+COUNTIF($S$4:S427,S427)-1","v":16},"Pittsburgh Steelers","Wide Receiver"]
[{"$f":"RANK(S428,$S:$S,0)+COUNTIF($S$4:S428,S428)-1","v":16},"Pittsburgh Steelers","Wide Receiver"]
[{"$f":"RANK(S429,$S:$S,0)+COUNTIF($S$4:S429,S429)-1","v":16},"Pittsburgh Steelers","Wide Receiver"]
[{"$f":"RANK(S430,$S:$S,0)+COUNTIF($S$4:S430,S430)-1","v":16},"Pittsburgh Steelers","Wide Receiver"]
[{"$f":"RANK(S431,$S:$S,0)+COUNTIF($S$4:S431,S431)-1","v":16},"Pittsburgh Steelers","Wide Receiver"]
[{"$f":"RANK(S432,$S:$S,0)+COUNTIF($S$4:S432,S432)-1","v":16},"Pittsburgh Steelers","Tight End"]
[{"$f":"RANK(S433,$S:$S,0)+COUNTIF($S$4:S433,S433)-1","v":16},"Pittsburgh Steelers","Tight End"]
[{"$f":"RANK(S434,$S:$S,0)+COUNTIF($S$4:S434,S434)-1","v":16},"Pittsburgh Steelers","Tight End"]
[{"$f":"RANK(S435,$S:$S,0)+COUNTIF($S$4:S435,S435)-1","v":16},"Pittsburgh Steelers","Tight End"]
[{"$f":"RANK(S436,$S:$S,0)+COUNTIF($S$4:S436,S436)-1","v":16},"San Francisco 49ers","Running Back"]
[{"$f":"RANK(S437,$S:$S,0)+COUNTIF($S$4:S437,S437)-1","v":16},"San Francisco 49ers","Running Back"]
[{"$f":"RANK(S438,$S:$S,0)+COUNTIF($S$4:S438,S438)-1","v":16},"San Francisco 49ers","Running Back"]
[{"$f":"RANK(S439,$S:$S,0)+COUNTIF($S$4:S439,S439)-1","v":16},"San Francisco 49ers","Running Back"]
[{"$f":"RANK(S440,$S:$S,0)+COUNTIF($S$4:S440,S440)-1","v":16},"San Francisco 49ers","Wide Receiver"]
[{"$f":"RANK(S441,$S:$S,0)+COUNTIF($S$4:S441,S441)-1","v":16},"San Francisco 49ers","Wide Receiver"]
[{"$f":"RANK(S442,$S:$S,0)+COUNTIF($S$4:S442,S442)-1","v":16},"San Francisco 49ers","Wide Receiver"]
[{"$f":"RANK(S443,$S:$S,0)+COUNTIF($S$4:S443,S443)-1","v":16},"San Francisco 49ers","Wide Receiver"]
[{"$f":"RANK(S444,$S:$S,0)+COUNTIF($S$4:S444,S444)-1","v":16},"San Francisco 49ers","Wide Receiver"]
[{"$f":"RANK(S445,$S:$S,0)+COUNTIF($S$4:S445,S445)-1","v":16},"San Francisco 49ers","Wide Receiver"]
[{"$f":"RANK(S446,$S:$S,0)+COUNTIF($S$4:S446,S446)-1","v":16},"San Francisco 49ers","Wide Receiver"]
[{"$f":"RANK(S447,$S:$S,0)+COUNTIF($S$4:S447,S447)-1","v":16},"San Francisco 49ers","Wide Receiver"]
[{"$f":"RANK(S448,$S:$S,0)+COUNTIF($S$4:S448,S448)-1","v":16},"San Francisco 49ers","Tight End"]
[{"$f":"RANK(S449,$S:$S,0)+COUNTIF($S$4:S449,S449)-1","v":16},"San Francisco 49ers","Tight End"]
[{"$f":"RANK(S450,$S:$S,0)+COUNTIF($S$4:S450,S450)-1","v":16},"San Francisco 49ers","Tight End"]
[{"$f":"RANK(S451,$S:$S,0)+COUNTIF($S$4:S451,S451)-1","v":16},"San Francisco 49ers","Tight End"]
[{"$f":"RANK(S452,$S:$S,0)+COUNTIF($S$4:S452,S452)-1","v":16},"Seattle Seahawks","Running Back"]
[{"$f":"RANK(S453,$S:$S,0)+COUNTIF($S$4:S453,S453)-1","v":16},"Seattle Seahawks","Running Back"]
[{"$f":"RANK(S454,$S:$S,0)+COUNTIF($S$4:S454,S454)-1","v":16},"Seattle Seahawks","Running Back"]
[{"$f":"RANK(S455,$S:$S,0)+COUNTIF($S$4:S455,S455)-1","v":16},"Seattle Seahawks","Running Back"]
[{"$f":"RANK(S456,$S:$S,0)+COUNTIF($S$4:S456,S456)-1","v":16},"Seattle Seahawks","Wide Receiver"]
[{"$f":"RANK(S457,$S:$S,0)+COUNTIF($S$4:S457,S457)-1","v":16},"Seattle Seahawks","Wide Receiver"]
[{"$f":"RANK(S458,$S:$S,0)+COUNTIF($S$4:S458,S458)-1","v":16},"Seattle Seahawks","Wide Receiver"]
[{"$f":"RANK(S459,$S:$S,0)+COUNTIF($S$4:S459,S459)-1","v":16},"Seattle Seahawks","Wide Receiver"]
[{"$f":"RANK(S460,$S:$S,0)+COUNTIF($S$4:S460,S460)-1","v":16},"Seattle Seahawks","Wide Receiver"]
[{"$f":"RANK(S461,$S:$S,0)+COUNTIF($S$4:S461,S461)-1","v":16},"Seattle Seahawks","Wide Receiver"]
[{"$f":"RANK(S462,$S:$S,0)+COUNTIF($S$4:S462,S462)-1","v":16},"Seattle Seahawks","Wide Receiver"]
[{"$f":"RANK(S463,$S:$S,0)+COUNTIF($S$4:S463,S463)-1","v":16},"Seattle Seahawks","Wide Receiver"]
[{"$f":"RANK(S464,$S:$S,0)+COUNTIF($S$4:S464,S464)-1","v":16},"Seattle Seahawks","Tight End"]
[{"$f":"RANK(S465,$S:$S,0)+COUNTIF($S$4:S465,S465)-1","v":16},"Seattle Seahawks","Tight End"]
[{"$f":"RANK(S466,$S:$S,0)+COUNTIF($S$4:S466,S466)-1","v":16},"Seattle Seahawks","Tight End"]
[{"$f":"RANK(S467,$S:$S,0)+COUNTIF($S$4:S467,S467)-1","v":16},"Seattle Seahawks","Tight End"]
[{"$f":"RANK(S468,$S:$S,0)+COUNTIF($S$4:S468,S468)-1","v":16},"Tampa Bay Buccaneers","Running Back"]
[{"$f":"RANK(S469,$S:$S,0)+COUNTIF($S$4:S469,S469)-1","v":16},"Tampa Bay Buccaneers","Running Back"]
[{"$f":"RANK(S470,$S:$S,0)+COUNTIF($S$4:S470,S470)-1","v":16},"Tampa Bay Buccaneers","Running Back"]
[{"$f":"RANK(S471,$S:$S,0)+COUNTIF($S$4:S471,S471)-1","v":16},"Tampa Bay Buccaneers","Running Back"]
[{"$f":"RANK(S472,$S:$S,0)+COUNTIF($S$4:S472,S472)-1","v":16},"Tampa Bay Buccaneers","Wide Receiver"]
[{"$f":"RANK(S473,$S:$S,0)+COUNTIF($S$4:S473,S473)-1","v":16},"Tampa Bay Buccaneers","Wide Receiver"]
[{"$f":"RANK(S474,$S:$S,0)+COUNTIF($S$4:S474,S474)-1","v":16},"Tampa Bay Buccaneers","Wide Receiver"]
[{"$f":"RANK(S475,$S:$S,0)+COUNTIF($S$4:S475,S475)-1","v":16},"Tampa Bay Buccaneers","Wide Receiver"]
[{"$f":"RANK(S476,$S:$S,0)+COUNTIF($S$4:S476,S476)-1","v":16},"Tampa Bay Buccaneers","Wide Receiver"]
[{"$f":"RANK(S477,$S:$S,0)+COUNTIF($S$4:S477,S477)-1","v":16},"Tampa Bay Buccaneers","Wide Receiver"]
[{"$f":"RANK(S478,$S:$S,0)+COUNTIF($S$4:S478,S478)-1","v":16},"Tampa Bay Buccaneers","Wide Receiver"]
[{"$f":"RANK(S479,$S:$S,0)+COUNTIF($S$4:S479,S479)-1","v":16},"Tampa Bay Buccaneers","Wide Receiver"]
[{"$f":"RANK(S480,$S:$S,0)+COUNTIF($S$4:S480,S480)-1","v":16},"Tampa Bay Buccaneers","Tight End"]
[{"$f":"RANK(S481,$S:$S,0)+COUNTIF($S$4:S481,S481)-1","v":16},"Tampa Bay Buccaneers","Tight End"]
[{"$f":"RANK(S482,$S:$S,0)+COUNTIF($S$4:S482,S482)-1","v":16},"Tampa Bay Buccaneers","Tight End"]
[{"$f":"RANK(S483,$S:$S,0)+COUNTIF($S$4:S483,S483)-1","v":16},"Tampa Bay Buccaneers","Tight End"]
[{"$f":"RANK(S484,$S:$S,0)+COUNTIF($S$4:S484,S484)-1","v":16},"Tennessee Titans","Running Back"]
[{"$f":"RANK(S485,$S:$S,0)+COUNTIF($S$4:S485,S485)-1","v":16},"Tennessee Titans","Running Back"]
[{"$f":"RANK(S486,$S:$S,0)+COUNTIF($S$4:S486,S486)-1","v":16},"Tennessee Titans","Running Back"]
[{"$f":"RANK(S487,$S:$S,0)+COUNTIF($S$4:S487,S487)-1","v":16},"Tennessee Titans","Running Back"]
[{"$f":"RANK(S488,$S:$S,0)+COUNTIF($S$4:S488,S488)-1","v":16},"Tennessee Titans","Wide Receiver"]
[{"$f":"RANK(S489,$S:$S,0)+COUNTIF($S$4:S489,S489)-1","v":16},"Tennessee Titans","Wide Receiver"]
[{"$f":"RANK(S490,$S:$S,0)+COUNTIF($S$4:S490,S490)-1","v":16},"Tennessee Titans","Wide Receiver"]
[{"$f":"RANK(S491,$S:$S,0)+COUNTIF($S$4:S491,S491)-1","v":16},"Tennessee Titans","Wide Receiver"]
[{"$f":"RANK(S492,$S:$S,0)+COUNTIF($S$4:S492,S492)-1","v":16},"Tennessee Titans","Wide Receiver"]
[{"$f":"RANK(S493,$S:$S,0)+COUNTIF($S$4:S493,S493)-1","v":16},"Tennessee Titans","Wide Receiver"]
[{"$f":"RANK(S494,$S:$S,0)+COUNTIF($S$4:S494,S494)-1","v":16},"Tennessee Titans","Wide Receiver"]
[{"$f":"RANK(S495,$S:$S,0)+COUNTIF($S$4:S495,S495)-1","v":16},"Tennessee Titans","Wide Receiver"]
[{"$f":"RANK(S496,$S:$S,0)+COUNTIF($S$4:S496,S496)-1","v":16},"Tennessee Titans","Tight End"]
[{"$f":"RANK(S497,$S:$S,0)+COUNTIF($S$4:S497,S497)-1","v":16},"Tennessee Titans","Tight End"]
[{"$f":"RANK(S498,$S:$S,0)+COUNTIF($S$4:S498,S498)-1","v":16},"Tennessee Titans","Tight End"]
[{"$f":"RANK(S499,$S:$S,0)+COUNTIF($S$4:S499,S499)-1","v":16},"Tennessee Titans","Tight End"]
[{"$f":"RANK(S500,$S:$S,0)+COUNTIF($S$4:S500,S500)-1","v":16},"Washington Commanders","Running Back"]
[{"$f":"RANK(S501,$S:$S,0)+COUNTIF($S$4:S501,S501)-1","v":16},"Washington Commanders","Running Back"]
[{"$f":"RANK(S502,$S:$S,0)+COUNTIF($S$4:S502,S502)-1","v":16},"Washington Commanders","Running Back"]
[{"$f":"RANK(S503,$S:$S,0)+COUNTIF($S$4:S503,S503)-1","v":16},"Washington Commanders","Running Back"]
[{"$f":"RANK(S504,$S:$S,0)+COUNTIF($S$4:S504,S504)-1","v":16},"Washington Commanders","Wide Receiver"]
[{"$f":"RANK(S505,$S:$S,0)+COUNTIF($S$4:S505,S505)-1","v":16},"Washington Commanders","Wide Receiver"]
[{"$f":"RANK(S506,$S:$S,0)+COUNTIF($S$4:S506,S506)-1","v":16},"Washington Commanders","Wide Receiver"]
[{"$f":"RANK(S507,$S:$S,0)+COUNTIF($S$4:S507,S507)-1","v":16},"Washington Commanders","Wide Receiver"]
[{"$f":"RANK(S508,$S:$S,0)+COUNTIF($S$4:S508,S508)-1","v":16},"Washington Commanders","Wide Receiver"]
[{"$f":"RANK(S509,$S:$S,0)+COUNTIF($S$4:S509,S509)-1","v":16},"Washington Commanders","Wide Receiver"]
[{"$f":"RANK(S510,$S:$S,0)+COUNTIF($S$4:S510,S510)-1","v":16},"Washington Commanders","Wide Receiver"]
[{"$f":"RANK(S511,$S:$S,0)+COUNTIF($S$4:S511,S511)-1","v":16},"Washington Commanders","Wide Receiver"]
[{"$f":"RANK(S512,$S:$S,0)+COUNTIF($S$4:S512,S512)-1","v":16},"Washington Commanders","Tight End"]
[{"$f":"RANK(S513,$S:$S,0)+COUNTIF($S$4:S513,S513)-1","v":16},"Washington Commanders","Tight End"]
[{"$f":"RANK(S514,$S:$S,0)+COUNTIF($S$4:S514,S514)-1","v":16},"Washington Commanders","Tight End"]
[{"$f":"RANK(S515,$S:$S,0)+COUNTIF($S$4:S515,S515)-1","v":16},"Washington Commanders","Tight End"]

{"sheet":"QB Projections","index":3,"n_rows":4,"n_cols":21,"rows_kept":4,"cut":false,"hidden":false,"merged":[]}
["Quarterback Projections",null,null,"Want to use #SFB14 settings? Go to 'Settings & Instructions' and select 'Yes' in cell G5",null,null,null,null,null,null,null,null,null,null,null,null,null,"Range of Outcomes"]
[null,null,null,null,null,null,null,null,null,null,null,null,null,null,null,null,null,"Low",null,"High"]
["Rank","Team","Player","Pass Att.","Completions","Pass Yds.","Pass TD","Int","Rush Att","Rushing Yds","Rushing TDs","Fantasy Points (excl 1st down)","Fantasy Points (incl 1st down)","QB Completion %","QB TD %","YPA","Tier (Volume based)","Fantasy Points","Tier","Fantasy Points","Tier"]
[{"$f":"RANK(M4,$M:$M,0)+COUNTIF($M$4:M4,M4)-1","v":1},"Arizona Cardinals",{"$f":"'Arizona Cardinals'!$B$102","v":"Kyler Murray"},{"$f":"'Arizona Cardinals'!$C$102","v":562.30899999999997},{"$f":"'Arizona Cardinals'!$D$102","v":393.50036},{"$f":"'Arizona Cardinals'!$E$102","v":4417.6618200000012},{"$f":"'Arizona Cardinals'!$F$102","v":22},{"$f":"'Arizona Cardinals'!$G$102","v":12},{"$f":"'Arizona Cardinals'!$I$102","v":71.144999999999996},{"$f":"'Arizona Cardinals'!$K$102","v":426.87},{"$f":"'Arizona Cardinals'!$L$102","v":4},{"$f":"'Arizona Cardinals'!$P$102","v":307.39347280000004},{"$f":"MAX(L4+(((0.0572*J4)-2.646)*'Settings & Instructions'!$C$22)+(((0.3608*D4)-7.7781)*'Settings & Instructions'!$C$21),0)","v":307.39347280000004},{"$f":"'Arizona Cardinals'!$M$102","v":0.69979381443298971},{"$f":"'Arizona Cardinals'!$N$102","v":3.9124396017136485E-2},{"$f":"'Arizona Cardinals'!$O$102","v":7.8562886597938171},{"$f":"'Arizona Cardinals'!$R$102","v":"2nd Tier QB1"},{"$f":"'Arizona Cardinals'!$T$102","v":268.09704171428569},{"$f":"'Arizona Cardinals'!$U$102","v":"2nd Tier QB1"},{"$f":"'Arizona Cardinals'!$V$102","v":330.5048602857143},{"$f":"'Arizona Cardinals'!$W$102","v":"2nd Tier QB1"}]

{"sheet":"Total Rankings (excl QB)","index":4,"n_rows":515,"n_cols":14,"rows_kept":515,"cut":false,"hidden":false,"merged":[]}
["Total Rankings (Excl QB)",null,null,null,null,null,"Open '+' for Range of Outcomes","Range of Outcomes",null,null,null,null,"Want to use #SFB14 settings? Go to 'Settings & Instructions' and select 'Yes' in cell G5"]
[null,null,null,null,null,null,null,"Low",null,"High"]
["Rank","Team","Position","Player","Fantasy Points","Pos Rank","Tier (Volume based)","Fantasy Points","Tier","Fantasy Points","Tier",null,"PPR & Premium Settings"]
[1,{"$f":"VLOOKUP($A4,'Total Projections (excl QB)'!$A:$Y,2,0)","v":"Arizona Cardinals"},{"$f":"VLOOKUP($A4,'Total Projections (excl QB)'!$A:$Y,3,0)","v":"Tight End"},{"$f":"VLOOKUP($A4,'Total Projections (excl QB)'!$A:$Y,4,0)","v":"Trey McBride"},{"$f":"VLOOKUP($A4,'Total Projections (excl QB)'!$A:$Y,19,0)","v":316.95150000000007},{"$f":"COUNTIFS(C:C,C4,E:E,\">\"&E4)+1","v":1},{"$f":"VLOOKUP($A4,'Total Projections (excl QB)'!$A:$Y,20,0)","v":"Top TE"},{"$f":"VLOOKUP($A4,'Total Projections (excl QB)'!$A:$Y,21,0)","v":292.37628571428581},{"$f":"VLOOKUP($A4,'Total Projections (excl QB)'!$A:$Y,22,0)","v":"Top TE"},{"$f":"VLOOKUP($A4,'Total Projections (excl QB)'!$A:$Y,23,0)","v":334.28046428571434},{"$f":"VLOOKUP($A4,'Total Projections (excl QB)'!$A:$Y,24,0)","v":"Top TE"}]
[2,{"$f":"VLOOKUP($A5,'Total Projections (excl QB)'!$A:$Y,2,0)","v":"Arizona Cardinals"},{"$f":"VLOOKUP($A5,'Total Projections (excl QB)'!$A:$Y,3,0)","v":"Wide Receiver"},{"$f":"VLOOKUP($A5,'Total Projections (excl QB)'!$A:$Y,4,0)","v":"Marvin Harrison"},{"$f":"VLOOKUP($A5,'Total Projections (excl QB)'!$A:$Y,19,0)","v":295.61875000000003},1,{"$f":"VLOOKUP($A5,'Total Projections (excl QB)'!$A:$Y,20,0)","v":"2nd Tier WR1"},{"$f":"VLOOKUP($A5,'Total Projections (excl QB)'!$A:$Y,21,0)","v":271.35820000000001},{"$f":"VLOOKUP($A5,'Total Projections (excl QB)'!$A:$Y,22,0)","v":"Consistent WR2"},{"$f":"VLOOKUP($A5,'Total Projections (excl QB)'!$A:$Y,23,0)","v":332.05300000000005},{"$f":"VLOOKUP($A5,'Total Projections (excl QB)'!$A:$Y,24,0)","v":"Elite WR"},null,"Receptions",{"$f":"'Settings & Instructions'!C13","v":1}]
[3,{"$f":"VLOOKUP($A6,'Total Projections (excl QB)'!$A:$Y,2,0)","v":"Arizona Cardinals"},{"$f":"VLOOKUP($A6,'Total Projections (excl QB)'!$A:$Y,3,0)","v":"Running Back"},{"$f":"VLOOKUP($A6,'Total Projections (excl QB)'!$A:$Y,4,0)","v":"James Conner"},{"$f":"VLOOKUP($A6,'Total Projections (excl QB)'!$A:$Y,19,0)","v":182.30595},1,{"$f":"VLOOKUP($A6,'Total Projections (excl QB)'!$A:$Y,20,0)","v":"Consistent RB2"},{"$f":"VLOOKUP($A6,'Total Projections (excl QB)'!$A:$Y,21,0)","v":175.44880714285713},{"$f":"VLOOKUP($A6,'Total Projections (excl QB)'!$A:$Y,22,0)","v":"Not a top RB"},{"$f":"VLOOKUP($A6,'Total Projections (excl QB)'!$A:$Y,23,0)","v":251.32274285714288},{"$f":"VLOOKUP($A6,'Total Projections (excl QB)'!$A:$Y,24,0)","v":"Elite RB"},null,"Premium - Tight End",{"$f":"'Settings & Instructions'!C14","v":1}]
[4,{"$f":"VLOOKUP($A7,'Total Projections (excl QB)'!$A:$Y,2,0)","v":"Arizona Cardinals"},{"$f":"VLOOKUP($A7,'Total Projections (excl QB)'!$A:$Y,3,0)","v":"Running Back"},{"$f":"VLOOKUP($A7,'Total Projections (excl QB)'!$A:$Y,4,0)","v":"Trey Benson"},{"$f":"VLOOKUP($A7,'Total Projections (excl QB)'!$A:$Y,19,0)","v":118.63866000000002},2,{"$f":"VLOOKUP($A7,'Total Projections (excl QB)'!$A:$Y,20,0)","v":"Not a top RB"},{"$f":"VLOOKUP($A7,'Total Projections (excl QB)'!$A:$Y,21,0)","v":115.21008857142859},{"$f":"VLOOKUP($A7,'Total Projections (excl QB)'!$A:$Y,22,0)","v":"Not a top RB"},{"$f":"VLOOKUP($A7,'Total Projections (excl QB)'!$A:$Y,23,0)","v":122.06723142857145},{"$f":"VLOOKUP($A7,'Total Projections (excl QB)'!$A:$Y,24,0)","v":"Not a top RB"},null,"Premium - Wide Receiver",{"$f":"'Settings & Instructions'!C15","v":0}]
[5,{"$f":"VLOOKUP($A8,'Total Projections (excl QB)'!$A:$Y,2,0)","v":"Arizona Cardinals"},{"$f":"VLOOKUP($A8,'Total Projections (excl QB)'!$A:$Y,3,0)","v":"Wide Receiver"},{"$f":"VLOOKUP($A8,'Total Projections (excl QB)'!$A:$Y,4,0)","v":"Michael Wilson"},{"$f":"VLOOKUP($A8,'Total Projections (excl QB)'!$A:$Y,19,0)","v":112.88529600000001},2,{"$f":"VLOOKUP($A8,'Total Projections (excl QB)'!$A:$Y,20,0)","v":"Not a top WR"},{"$f":"VLOOKUP($A8,'Total Projections (excl QB)'!$A:$Y,21,0)","v":95.218479428571442},{"$f":"VLOOKUP($A8,'Total Projections (excl QB)'!$A:$Y,22,0)","v":"Not a top WR"},{"$f":"VLOOKUP($A8,'Total Projections (excl QB)'!$A:$Y,23,0)","v":115.45672457142858},{"$f":"VLOOKUP($A8,'Total Projections (excl QB)'!$A:$Y,24,0)","v":"Not a top WR"},null,"Premium - Running Back",{"$f":"'Settings & Instructions'!C16","v":0}]
[6,{"$f":"VLOOKUP($A9,'Total Projections (excl QB)'!$A:$Y,2,0)","v":"Arizona Cardinals"},{"$f":"VLOOKUP($A9,'Total Projections (excl QB)'!$A:$Y,3,0)","v":"Wide Receiver"},{"$f":"VLOOKUP($A9,'Total Projections (excl QB)'!$A:$Y,4,0)","v":"Greg Dortch"},{"$f":"VLOOKUP($A9,'Total Projections (excl QB)'!$A:$Y,19,0)","v":112.60704000000001},3,{"$f":"VLOOKUP($A9,'Total Projections (excl QB)'!$A:$Y,20,0)","v":"Not a top WR"},{"$f":"VLOOKUP($A9,'Total Projections (excl QB)'!$A:$Y,21,0)","v":98.209731428571445},{"$f":"VLOOKUP($A9,'Total Projections (excl QB)'!$A:$Y,22,0)","v":"Not a top WR"},{"$f":"VLOOKUP($A9,'Total Projections (excl QB)'!$A:$Y,23,0)","v":115.17846857142858},{"$f":"VLOOKUP($A9,'Total Projections (excl QB)'!$A:$Y,24,0)","v":"Not a top WR"}]
[7,{"$f":"VLOOKUP($A10,'Total Projections (excl QB)'!$A:$Y,2,0)","v":"Arizona Cardinals"},{"$f":"VLOOKUP($A10,'Total Projections (excl QB)'!$A:$Y,3,0)","v":"Wide Receiver"},{"$f":"VLOOKUP($A10,'Total Projections (excl QB)'!$A:$Y,4,0)","v":"Zach Pascal"},{"$f":"VLOOKUP($A10,'Total Projections (excl QB)'!$A:$Y,19,0)","v":50.520960000000002},4,{"$f":"VLOOKUP($A10,'Total Projections (excl QB)'!$A:$Y,20,0)","v":"Not a top WR"},{"$f":"VLOOKUP($A10,'Total Projections (excl QB)'!$A:$Y,21,0)","v":42.243657142857138},{"$f":"VLOOKUP($A10,'Total Projections (excl QB)'!$A:$Y,22,0)","v":"Not a top WR"},{"$f":"VLOOKUP($A10,'Total Projections (excl QB)'!$A:$Y,23,0)","v":51.378102857142856},{"$f":"VLOOKUP($A10,'Total Projections (excl QB)'!$A:$Y,24,0)","v":"Not a top WR"}]
[8,{"$f":"VLOOKUP($A11,'Total Projections (excl QB)'!$A:$Y,2,0)","v":"Arizona Cardinals"},{"$f":"VLOOKUP($A11,'Total Projections (excl QB)'!$A:$Y,3,0)","v":"Wide Receiver"},{"$f":"VLOOKUP($A11,'Total Projections (excl QB)'!$A:$Y,4,0)","v":"Chris Moore"},{"$f":"VLOOKUP($A11,'Total Projections (excl QB)'!$A:$Y,19,0)","v":32.277696000000006},5,{"$f":"VLOOKUP($A11,'Total Projections (excl QB)'!$A:$Y,20,0)","v":"Not a top WR"},{"$f":"VLOOKUP($A11,'Total Projections (excl QB)'!$A:$Y,21,0)","v":32.277696000000006},{"$f":"VLOOKUP($A11,'Total Projections (excl QB)'!$A:$Y,22,0)","v":"Not a top WR"},{"$f":"VLOOKUP($A11,'Total Projections (excl QB)'!$A:$Y,23,0)","v":32.277696000000006},{"$f":"VLOOKUP($A11,'Total Projections (excl QB)'!$A:$Y,24,0)","v":"Not a top WR"}]
[9,{"$f":"VLOOKUP($A12,'Total Projections (excl QB)'!$A:$Y,2,0)","v":"Arizona Cardinals"},{"$f":"VLOOKUP($A12,'Total Projections (excl QB)'!$A:$Y,3,0)","v":"Tight End"},{"$f":"VLOOKUP($A12,'Total Projections (excl QB)'!$A:$Y,4,0)","v":"Tip Reiman"},{"$f":"VLOOKUP($A12,'Total Projections (excl QB)'!$A:$Y,19,0)","v":26.086500000000001},2,{"$f":"VLOOKUP($A12,'Total Projections (excl QB)'!$A:$Y,20,0)","v":"Not a top TE"},{"$f":"VLOOKUP($A12,'Total Projections (excl QB)'!$A:$Y,21,0)","v":26.086500000000001},{"$f":"VLOOKUP($A12,'Total Projections (excl QB)'!$A:$Y,22,0)","v":"Not a top TE"},{"$f":"VLOOKUP($A12,'Total Projections (excl QB)'!$A:$Y,23,0)","v":26.086500000000001},{"$f":"VLOOKUP($A12,'Total Projections (excl QB)'!$A:$Y,24,0)","v":"Not a top TE"}]
[10,{"$f":"VLOOKUP($A13,'Total Projections (excl QB)'!$A:$Y,2,0)","v":"Arizona Cardinals"},{"$f":"VLOOKUP($A13,'Total Projections (excl QB)'!$A:$Y,3,0)","v":"Running Back"},{"$f":"VLOOKUP($A13,'Total Projections (excl QB)'!$A:$Y,4,0)","v":"Emari Demercado"},{"$f":"VLOOKUP($A13,'Total Projections (excl QB)'!$A:$Y,19,0)","v":18.323790000000002},3,{"$f":"VLOOKUP($A13,'Total Projections (excl QB)'!$A:$Y,20,0)","v":"Not a top RB"},{"$f":"VLOOKUP($A13,'Total Projections (excl QB)'!$A:$Y,21,0)","v":18.323790000000002},{"$f":"VLOOKUP($A13,'Total Projections (excl QB)'!$A:$Y,22,0)","v":"Not a top RB"},{"$f":"VLOOKUP($A13,'Total Projections (excl QB)'!$A:$Y,23,0)","v":18.323790000000002},{"$f":"VLOOKUP($A13,'Total Projections (excl QB)'!$A:$Y,24,0)","v":"Not a top RB"}]
[11,{"$f":"VLOOKUP($A14,'Total Projections (excl QB)'!$A:$Y,2,0)","v":"Arizona Cardinals"},{"$f":"VLOOKUP($A14,'Total Projections (excl QB)'!$A:$Y,3,0)","v":"Running Back"},{"$f":"VLOOKUP($A14,'Total Projections (excl QB)'!$A:$Y,4,0)","v":"Michael Carter"},{"$f":"VLOOKUP($A14,'Total Projections (excl QB)'!$A:$Y,19,0)","v":18.323790000000002},3,{"$f":"VLOOKUP($A14,'Total Projections (excl QB)'!$A:$Y,20,0)","v":"Not a top RB"},{"$f":"VLOOKUP($A14,'Total Projections (excl QB)'!$A:$Y,21,0)","v":18.323790000000002},{"$f":"VLOOKUP($A14,'Total Projections (excl QB)'!$A:$Y,22,0)","v":"Not a top RB"},{"$f":"VLOOKUP($A14,'Total Projections (excl QB)'!$A:$Y,23,0)","v":18.323790000000002},{"$f":"VLOOKUP($A14,'Total Projections (excl QB)'!$A:$Y,24,0)","v":"Not a top RB"}]
[12,{"$f":"VLOOKUP($A15,'Total Projections (excl QB)'!$A:$Y,2,0)","v":"Arizona Cardinals"},{"$f":"VLOOKUP($A15,'Total Projections (excl QB)'!$A:$Y,3,0)","v":"Wide Receiver"},{"$f":"VLOOKUP($A15,'Total Projections (excl QB)'!$A:$Y,4,0)","v":"Tejhaun Palmer"},{"$f":"VLOOKUP($A15,'Total Projections (excl QB)'!$A:$Y,19,0)","v":15.304080000000001},6,{"$f":"VLOOKUP($A15,'Total Projections (excl QB)'!$A:$Y,20,0)","v":"Not a top WR"},{"$f":"VLOOKUP($A15,'Total Projections (excl QB)'!$A:$Y,21,0)","v":15.304080000000001},{"$f":"VLOOKUP($A15,'Total Projections (excl QB)'!$A:$Y,22,0)","v":"Not a top WR"},{"$f":"VLOOKUP($A15,'Total Projections (excl QB)'!$A:$Y,23,0)","v":15.304080000000001},{"$f":"VLOOKUP($A15,'Total Projections (excl QB)'!$A:$Y,24,0)","v":"Not a top WR"}]
[13,{"$f":"VLOOKUP($A16,'Total Projections (excl QB)'!$A:$Y,2,0)","v":"Arizona Cardinals"},{"$f":"VLOOKUP($A16,'Total Projections (excl QB)'!$A:$Y,3,0)","v":"Wide Receiver"},{"$f":"VLOOKUP($A16,'Total Projections (excl QB)'!$A:$Y,4,0)","v":0},{"$f":"VLOOKUP($A16,'Total Projections (excl QB)'!$A:$Y,19,0)","v":0},7,{"$f":"VLOOKUP($A16,'Total Projections (excl QB)'!$A:$Y,20,0)","v":"Not a top WR"},{"$f":"VLOOKUP($A16,'Total Projections (excl QB)'!$A:$Y,21,0)","v":0},{"$f":"VLOOKUP($A16,'Total Projections (excl QB)'!$A:$Y,22,0)","v":"Not a top WR"},{"$f":"VLOOKUP($A16,'Total Projections (excl QB)'!$A:$Y,23,0)","v":0},{"$f":"VLOOKUP($A16,'Total Projections (excl QB)'!$A:$Y,24,0)","v":"Not a top WR"}]
[14,{"$f":"VLOOKUP($A17,'Total Projections (excl QB)'!$A:$Y,2,0)","v":"Arizona Cardinals"},{"$f":"VLOOKUP($A17,'Total Projections (excl QB)'!$A:$Y,3,0)","v":"Wide Receiver"},{"$f":"VLOOKUP($A17,'Total Projections (excl QB)'!$A:$Y,4,0)","v":0},{"$f":"VLOOKUP($A17,'Total Projections (excl QB)'!$A:$Y,19,0)","v":0},7,{"$f":"VLOOKUP($A17,'Total Projections (excl QB)'!$A:$Y,20,0)","v":"Not a top WR"},{"$f":"VLOOKUP($A17,'Total Projections (excl QB)'!$A:$Y,21,0)","v":0},{"$f":"VLOOKUP($A17,'Total Projections (excl QB)'!$A:$Y,22,0)","v":"Not a top WR"},{"$f":"VLOOKUP($A17,'Total Projections (excl QB)'!$A:$Y,23,0)","v":0},{"$f":"VLOOKUP($A17,'Total Projections (excl QB)'!$A:$Y,24,0)","v":"Not a top WR"}]
[15,{"$f":"VLOOKUP($A18,'Total Projections (excl QB)'!$A:$Y,2,0)","v":"Arizona Cardinals"},{"$f":"VLOOKUP($A18,'Total Projections (excl QB)'!$A:$Y,3,0)","v":"Tight End"},{"$f":"VLOOKUP($A18,'Total Projections (excl QB)'!$A:$Y,4,0)","v":0},{"$f":"VLOOKUP($A18,'Total Projections (excl QB)'!$A:$Y,19,0)","v":0},3,{"$f":"VLOOKUP($A18,'Total Projections (excl QB)'!$A:$Y,20,0)","v":"Not a top TE"},{"$f":"VLOOKUP($A18,'Total Projections (excl QB)'!$A:$Y,21,0)","v":0},{"$f":"VLOOKUP($A18,'Total Projections (excl QB)'!$A:$Y,22,0)","v":"Not a top TE"},{"$f":"VLOOKUP($A18,'Total Projections (excl QB)'!$A:$Y,23,0)","v":0},{"$f":"VLOOKUP($A18,'Total Projections (excl QB)'!$A:$Y,24,0)","v":"Not a top TE"}]
[16,{"$f":"VLOOKUP($A19,'Total Projections (excl QB)'!$A:$Y,2,0)","v":"Arizona Cardinals"},{"$f":"VLOOKUP($A19,'Total Projections (excl QB)'!$A:$Y,3,0)","v":"Tight End"},{"$f":"VLOOKUP($A19,'Total Projections (excl QB)'!$A:$Y,4,0)","v":0},{"$f":"VLOOKUP($A19,'Total Projections (excl QB)'!$A:$Y,19,0)","v":0},3,{"$f":"VLOOKUP($A19,'Total Projections (excl QB)'!$A:$Y,20,0)","v":"Not a top TE"},{"$f":"VLOOKUP($A19,'Total Projections (excl QB)'!$A:$Y,21,0)","v":0},{"$f":"VLOOKUP($A19,'Total Projections (excl QB)'!$A:$Y,22,0)","v":"Not a top TE"},{"$f":"VLOOKUP($A19,'Total Projections (excl QB)'!$A:$Y,23,0)","v":0},{"$f":"VLOOKUP($A19,'Total Projections (excl QB)'!$A:$Y,24,0)","v":"Not a top TE"}]
[17]
[18]
[19]
[20]
[21]
[22]
[23]
[24]
[25]
[26]
[27]
[28]
[29]
[30]
[31]
[32]
[33]
[34]
[35]
[36]
[37]
[38]
[39]
[40]
[41]
[42]
[43]
[44]
[45]
[46]
[47]
[48]
[49]
[50]
[51]
[52]
[53]
[54]
[55]
[56]
[57]
[58]
[59]
[60]
[61]
[62]
[63]
[64]
[65]
[66]
[67]
[68]
[69]
[70]
[71]
[72]
[73]
[74]
[75]
[76]
[77]
[78]
[79]
[80]
[81]
[82]
[83]
[84]
[85]
[86]
[87]
[88]
[89]
[90]
[91]
[92]
[93]
[94]
[95]
[96]
[97]
[98]
[99]
[100]
[101]
[102]
[103]
[104]
[105]
[106]
[107]
[108]
[109]
[110]
[111]
[112]
[113]
[114]
[115]
[116]
[117]
[118]
[119]
[120]
[121]
[122]
[123]
[124]
[125]
[126]
[127]
[128]
[129]
[130]
[131]
[132]
[133]
[134]
[135]
[136]
[137]
[138]
[139]
[140]
[141]
[142]
[143]
[144]
[145]
[146]
[147]
[148]
[149]
[150]
[151]
[152]
[153]
[154]
[155]
[156]
[157]
[158]
[159]
[160]
[161]
[162]
[163]
[164]
[165]
[166]
[167]
[168]
[169]
[170]
[171]
[172]
[173]
[174]
[175]
[176]
[177]
[178]
[179]
[180]
[181]
[182]
[183]
[184]
[185]
[186]
[187]
[188]
[189]
[190]
[191]
[192]
[193]
[194]
[195]
[196]
[197]
[198]
[199]
[200]
[201]
[202]
[203]
[204]
[205]
[206]
[207]
[208]
[209]
[210]
[211]
[212]
[213]
[214]
[215]
[216]
[217]
[218]
[219]
[220]
[221]
[222]
[223]
[224]
[225]
[226]
[227]
[228]
[229]
[230]
[231]
[232]
[233]
[234]
[235]
[236]
[237]
[238]
[239]
[240]
[241]
[242]
[243]
[244]
[245]
[246]
[247]
[248]
[249]
[250]
[251]
[252]
[253]
[254]
[255]
[256]
[257]
[258]
[259]
[260]
[261]
[262]
[263]
[264]
[265]
[266]
[267]
[268]
[269]
[270]
[271]
[272]
[273]
[274]
[275]
[276]
[277]
[278]
[279]
[280]
[281]
[282]
[283]
[284]
[285]
[286]
[287]
[288]
[289]
[290]
[291]
[292]
[293]
[294]
[295]
[296]
[297]
[298]
[299]
[300]
[301]
[302]
[303]
[304]
[305]
[306]
[307]
[308]
[309]
[310]
[311]
[312]
[313]
[314]
[315]
[316]
[317]
[318]
[319]
[320]
[321]
[322]
[323]
[324]
[325]
[326]
[327]
[328]
[329]
[330]
[331]
[332]
[333]
[334]
[335]
[336]
[337]
[338]
[339]
[340]
[341]
[342]
[343]
[344]
[345]
[346]
[347]
[348]
[349]
[350]
[351]
[352]
[353]
[354]
[355]
[356]
[357]
[358]
[359]
[360]
[361]
[362]
[363]
[364]
[365]
[366]
[367]
[368]
[369]
[370]
[371]
[372]
[373]
[374]
[375]
[376]
[377]
[378]
[379]
[380]
[381]
[382]
[383]
[384]
[385]
[386]
[387]
[388]
[389]
[390]
[391]
[392]
[393]
[394]
[395]
[396]
[397]
[398]
[399]
[400]
[401]
[402]
[403]
[404]
[405]
[406]
[407]
[408]
[409]
[410]
[411]
[412]
[413]
[414]
[415]
[416]
[417]
[418]
[419]
[420]
[421]
[422]
[423]
[424]
[425]
[426]
[427]
[428]
[429]
[430]
[431]
[432]
[433]
[434]
[435]
[436]
[437]
[438]
[439]
[440]
[441]
[442]
[443]
[444]
[445]
[446]
[447]
[448]
[449]
[450]
[451]
[452]
[453]
[454]
[455]
[456]
[457]
[458]
[459]
[460]
[461]
[462]
[463]
[464]
[465]
[466]
[467]
[468]
[469]
[470]
[471]
[472]
[473]
[474]
[475]
[476]
[477]
[478]
[479]
[480]
[481]
[482]
[483]
[484]
[485]
[486]
[487]
[488]
[489]
[490]
[491]
[492]
[493]
[494]
[495]
[496]
[497]
[498]
[499]
[500]
[501]
[502]
[503]
[504]
[505]
[506]
[507]
[508]
[509]
[510]
[511]
[512]

{"sheet":"QB Rankings","index":5,"n_rows":67,"n_cols":11,"rows_kept":67,"cut":false,"hidden":false,"merged":[]}
["Quarterback Projections",null,null,null,"Open '+' for Range of Outcomes","Range of Outcomes",null,null,null,null,"Want to use #SFB14 settings? Go to 'Settings & Instructions' and select 'Yes' in cell G5"]
[null,null,null,null,null,"Low",null,"High"]
["Rank","Team","Player","Fantasy Points","Tier (Volume based)","Fantasy Points","Tier","Fantasy Points","Tier"]
[1,{"$f":"VLOOKUP($A4,'QB Projections'!$A:$M,2,0)","v":"Arizona Cardinals"},{"$f":"VLOOKUP($A4,'QB Projections'!$A:$M,3,0)","v":"Kyler Murray"},{"$f":"VLOOKUP($A4,'QB Projections'!$A:$M,13,0)","v":307.39347280000004},{"$f":"VLOOKUP($A4,'QB Projections'!$A:$V,17,0)","v":"2nd Tier QB1"},{"$f":"VLOOKUP($A4,'QB Projections'!$A:$V,18,0)","v":268.09704171428569},{"$f":"VLOOKUP($A4,'QB Projections'!$A:$V,19,0)","v":"2nd Tier QB1"},{"$f":"VLOOKUP($A4,'QB Projections'!$A:$V,20,0)","v":330.5048602857143},{"$f":"VLOOKUP($A4,'QB Projections'!$A:$V,21,0)","v":"2nd Tier QB1"}]
[2]
[3]
[4]
[5]
[6]
[7]
[8]
[9]
[10]
[11]
[12]
[13]
[14]
[15]
[16]
[17]
[18]
[19]
[20]
[21]
[22]
[23]
[24]
[25]
[26]
[27]
[28]
[29]
[30]
[31]
[32]
[33]
[34]
[35]
[36]
[37]
[38]
[39]
[40]
[41]
[42]
[43]
[44]
[45]
[46]
[47]
[48]
[49]
[50]
[51]
[52]
[53]
[54]
[55]
[56]
[57]
[58]
[59]
[60]
[61]
[62]
[63]
[64]

{"sheet":"Positional Ranks","index":6,"n_rows":195,"n_cols":43,"rows_kept":195,"cut":false,"hidden":false,"merged":[]}
["Wide Receiver",null,null,null,null,"Open '+' for Range of Outcomes","Range of Outcomes",null,null,null,null,"Running Back",null,null,null,null,"Open '+' for Range of Outcomes","Range of Outcomes",null,null,null,null,"Tight End",null,null,null,null,"Open '+' for Range of Outcomes","Range of Outcomes",null,null,null,null,"Quarterback",null,null,null,null,"Open '+' for Range of Outcomes","Range of Outcomes"]
[null,null,null,null,null,null,"Low",null,"High",null,null,null,null,null,null,null,null,"Low",null,"High",null,null,null,null,null,null,null,null,"Low",null,"High",null,null,null,null,null,null,null,null,"Low",null,"High"]
["Rank","Player","Fantasy Points","Points per Game","Manual Tier","Tier (Volume based)","Fantasy Points","Tier","Fantasy Points","Tier",null,"Rank","Player","Fantasy Points","Points per Game","Manual Tier","Tier (Volume based)","Fantasy Points","Tier","Fantasy Points","Tier",null,"Rank","Player","Fantasy Points","Points per Game","Manual Tier","Tier (Volume based)","Fantasy Points","Tier","Fantasy Points","Tier",null,"Rank","Player","Fantasy Points","Points per Game","Manual Tier","Tier (Volume based)","Fantasy Points","Tier","Fantasy Points","Tier"]
[1,{"$f":"IFERROR(INDEX('Total Rankings (excl QB)'!$D:$D,MATCH(1,(\"Wide Receiver\"='Total Rankings (excl QB)'!$C:$C)*(A4='Total Rankings (excl QB)'!$F:$F),0),1),\"\")","v":"Marvin Harrison"},{"$f":"IFERROR(VLOOKUP($B4,'Total Rankings (excl QB)'!$D:$E,2,0),0)","v":295.61875000000003},{"$f":"IFERROR(C4/17,0)","v":17.389338235294119},null,{"$f":"IFERROR(VLOOKUP($B4,'Total Rankings (excl QB)'!$D:$L,4,0),\"\")","v":"2nd Tier WR1"},{"$f":"IFERROR(VLOOKUP($B4,'Total Rankings (excl QB)'!$D:$L,5,0),\"\")","v":271.35820000000001},{"$f":"IFERROR(VLOOKUP($B4,'Total Rankings (excl QB)'!$D:$L,6,0),\"\")","v":"Consistent WR2"},{"$f":"IFERROR(VLOOKUP($B4,'Total Rankings (excl QB)'!$D:$L,7,0),\"\")","v":332.05300000000005},{"$f":"IFERROR(VLOOKUP($B4,'Total Rankings (excl QB)'!$D:$L,8,0),\"\")","v":"Elite WR"},null,1,{"$f":"IFERROR(INDEX('Total Rankings (excl QB)'!$D:$D,MATCH(1,(\"Running Back\"='Total Rankings (excl QB)'!$C:$C)*(L4='Total Rankings (excl QB)'!$F:$F),0),1),\"\")","v":"James Conner"},{"$f":"IFERROR(VLOOKUP($M4,'Total Rankings (excl QB)'!$D:$E,2,0),0)","v":182.30595},{"$f":"IFERROR(N4/17,0)","v":10.723879411764706},null,{"$f":"IFERROR(VLOOKUP($M4,'Total Rankings (excl QB)'!$D:$L,4,0),\"\")","v":"Consistent RB2"},{"$f":"IFERROR(VLOOKUP($M4,'Total Rankings (excl QB)'!$D:$L,5,0),\"\")","v":175.44880714285713},{"$f":"IFERROR(VLOOKUP($M4,'Total Rankings (excl QB)'!$D:$L,6,0),\"\")","v":"Not a top RB"},{"$f":"IFERROR(VLOOKUP($M4,'Total Rankings (excl QB)'!$D:$L,7,0),\"\")","v":251.32274285714288},{"$f":"IFERROR(VLOOKUP($M4,'Total Rankings (excl QB)'!$D:$L,8,0),\"\")","v":"Elite RB"},null,1,{"$f":"IFERROR(INDEX('Total Rankings (excl QB)'!$D:$D,MATCH(1,(\"Tight End\"='Total Rankings (excl QB)'!$C:$C)*(W4='Total Rankings (excl QB)'!$F:$F),0),1),\"\")","v":"Trey McBride"},{"$f":"IFERROR(VLOOKUP($X4,'Total Rankings (excl QB)'!$D:$E,2,0),0)","v":316.95150000000007},{"$f":"IFERROR(Y4/17,0)","v":18.644205882352946},null,{"$f":"IFERROR(VLOOKUP($X4,'Total Rankings (excl QB)'!$D:$L,4,0),\"\")","v":"Top TE"},{"$f":"IFERROR(VLOOKUP($X4,'Total Rankings (excl QB)'!$D:$L,5,0),\"\")","v":292.37628571428581},{"$f":"IFERROR(VLOOKUP($X4,'Total Rankings (excl QB)'!$D:$L,6,0),\"\")","v":"Top TE"},{"$f":"IFERROR(VLOOKUP($X4,'Total Rankings (excl QB)'!$D:$L,7,0),\"\")","v":334.28046428571434},{"$f":"IFERROR(VLOOKUP($X4,'Total Rankings (excl QB)'!$D:$L,8,0),\"\")","v":"Top TE"},null,1,{"$f":"'QB Rankings'!C4","v":"Kyler Murray"},{"$f":"'QB Rankings'!D4","v":307.39347280000004},{"$f":"AJ4/17","v":18.081968988235296},null,{"$f":"'QB Rankings'!E4","v":"2nd Tier QB1"},{"$f":"'QB Rankings'!F4","v":268.09704171428569},{"$f":"'QB Rankings'!G4","v":"2nd Tier QB1"},{"$f":"'QB Rankings'!H4","v":330.5048602857143},{"$f":"'QB Rankings'!I4","v":"2nd Tier QB1"}]
[2,{"$f":"IFERROR(INDEX('Total Rankings (excl QB)'!$D:$D,MATCH(1,(\"Wide Receiver\"='Total Rankings (excl QB)'!$C:$C)*(A5='Total Rankings (excl QB)'!$F:$F),0),1),\"\")","v":"Michael Wilson"},{"$f":"IFERROR(VLOOKUP($B5,'Total Rankings (excl QB)'!$D:$E,2,0),0)","v":112.88529600000001},6.6403115294117656,null,{"$f":"IFERROR(VLOOKUP($B5,'Total Rankings (excl QB)'!$D:$L,4,0),\"\")","v":"Not a top WR"},{"$f":"IFERROR(VLOOKUP($B5,'Total Rankings (excl QB)'!$D:$L,5,0),\"\")","v":95.218479428571442},{"$f":"IFERROR(VLOOKUP($B5,'Total Rankings (excl QB)'!$D:$L,6,0),\"\")","v":"Not a top WR"},{"$f":"IFERROR(VLOOKUP($B5,'Total Rankings (excl QB)'!$D:$L,7,0),\"\")","v":115.45672457142858},{"$f":"IFERROR(VLOOKUP($B5,'Total Rankings (excl QB)'!$D:$L,8,0),\"\")","v":"Not a top WR"},null,2,{"$f":"IFERROR(INDEX('Total Rankings (excl QB)'!$D:$D,MATCH(1,(\"Running Back\"='Total Rankings (excl QB)'!$C:$C)*(L5='Total Rankings (excl QB)'!$F:$F),0),1),\"\")","v":"Trey Benson"},{"$f":"IFERROR(VLOOKUP($M5,'Total Rankings (excl QB)'!$D:$E,2,0),0)","v":118.63866000000002},{"$f":"IFERROR(N5/17,0)","v":6.9787447058823542},null,{"$f":"IFERROR(VLOOKUP($M5,'Total Rankings (excl QB)'!$D:$L,4,0),\"\")","v":"Not a top RB"},{"$f":"IFERROR(VLOOKUP($M5,'Total Rankings (excl QB)'!$D:$L,5,0),\"\")","v":115.21008857142859},{"$f":"IFERROR(VLOOKUP($M5,'Total Rankings (excl QB)'!$D:$L,6,0),\"\")","v":"Not a top RB"},{"$f":"IFERROR(VLOOKUP($M5,'Total Rankings (excl QB)'!$D:$L,7,0),\"\")","v":122.06723142857145},{"$f":"IFERROR(VLOOKUP($M5,'Total Rankings (excl QB)'!$D:$L,8,0),\"\")","v":"Not a top RB"},null,2,{"$f":"IFERROR(INDEX('Total Rankings (excl QB)'!$D:$D,MATCH(1,(\"Tight End\"='Total Rankings (excl QB)'!$C:$C)*(W5='Total Rankings (excl QB)'!$F:$F),0),1),\"\")","v":"Tip Reiman"},{"$f":"IFERROR(VLOOKUP($X5,'Total Rankings (excl QB)'!$D:$E,2,0),0)","v":26.086500000000001},{"$f":"IFERROR(Y5/17,0)","v":1.5345},null,{"$f":"IFERROR(VLOOKUP($X5,'Total Rankings (excl QB)'!$D:$L,4,0),\"\")","v":"Not a top TE"},{"$f":"IFERROR(VLOOKUP($X5,'Total Rankings (excl QB)'!$D:$L,5,0),\"\")","v":26.086500000000001},{"$f":"IFERROR(VLOOKUP($X5,'Total Rankings (excl QB)'!$D:$L,6,0),\"\")","v":"Not a top TE"},{"$f":"IFERROR(VLOOKUP($X5,'Total Rankings (excl QB)'!$D:$L,7,0),\"\")","v":26.086500000000001},{"$f":"IFERROR(VLOOKUP($X5,'Total Rankings (excl QB)'!$D:$L,8,0),\"\")","v":"Not a top TE"},null,2,{"$f":"'QB Rankings'!C5","v":0},{"$f":"'QB Rankings'!D5","v":0},{"$f":"AJ5/17","v":0},null,{"$f":"'QB Rankings'!E5","v":0},{"$f":"'QB Rankings'!F5","v":0},{"$f":"'QB Rankings'!G5","v":0},{"$f":"'QB Rankings'!H5","v":0},{"$f":"'QB Rankings'!I5","v":0}]
[3,{"$f":"IFERROR(INDEX('Total Rankings (excl QB)'!$D:$D,MATCH(1,(\"Wide Receiver\"='Total Rankings (excl QB)'!$C:$C)*(A6='Total Rankings (excl QB)'!$F:$F),0),1),\"\")","v":"Greg Dortch"},{"$f":"IFERROR(VLOOKUP($B6,'Total Rankings (excl QB)'!$D:$E,2,0),0)","v":112.60704000000001},6.6239435294117657,null,{"$f":"IFERROR(VLOOKUP($B6,'Total Rankings (excl QB)'!$D:$L,4,0),\"\")","v":"Not a top WR"},{"$f":"IFERROR(VLOOKUP($B6,'Total Rankings (excl QB)'!$D:$L,5,0),\"\")","v":98.209731428571445},{"$f":"IFERROR(VLOOKUP($B6,'Total Rankings (excl QB)'!$D:$L,6,0),\"\")","v":"Not a top WR"},{"$f":"IFERROR(VLOOKUP($B6,'Total Rankings (excl QB)'!$D:$L,7,0),\"\")","v":115.17846857142858},{"$f":"IFERROR(VLOOKUP($B6,'Total Rankings (excl QB)'!$D:$L,8,0),\"\")","v":"Not a top WR"},null,3,{"$f":"IFERROR(INDEX('Total Rankings (excl QB)'!$D:$D,MATCH(1,(\"Running Back\"='Total Rankings (excl QB)'!$C:$C)*(L6='Total Rankings (excl QB)'!$F:$F),0),1),\"\")","v":"Emari Demercado"},{"$f":"IFERROR(VLOOKUP($M6,'Total Rankings (excl QB)'!$D:$E,2,0),0)","v":18.323790000000002},1.0778700000000001,null,{"$f":"IFERROR(VLOOKUP($M6,'Total Rankings (excl QB)'!$D:$L,4,0),\"\")","v":"Not a top RB"},{"$f":"IFERROR(VLOOKUP($M6,'Total Rankings (excl QB)'!$D:$L,5,0),\"\")","v":18.323790000000002},{"$f":"IFERROR(VLOOKUP($M6,'Total Rankings (excl QB)'!$D:$L,6,0),\"\")","v":"Not a top RB"},{"$f":"IFERROR(VLOOKUP($M6,'Total Rankings (excl QB)'!$D:$L,7,0),\"\")","v":18.323790000000002},{"$f":"IFERROR(VLOOKUP($M6,'Total Rankings (excl QB)'!$D:$L,8,0),\"\")","v":"Not a top RB"},null,3,{"$f":"IFERROR(INDEX('Total Rankings (excl QB)'!$D:$D,MATCH(1,(\"Tight End\"='Total Rankings (excl QB)'!$C:$C)*(W6='Total Rankings (excl QB)'!$F:$F),0),1),\"\")","v":0},{"$f":"IFERROR(VLOOKUP($X6,'Total Rankings (excl QB)'!$D:$E,2,0),0)","v":0},0,null,{"$f":"IFERROR(VLOOKUP($X6,'Total Rankings (excl QB)'!$D:$L,4,0),\"\")","v":"Not a top WR"},{"$f":"IFERROR(VLOOKUP($X6,'Total Rankings (excl QB)'!$D:$L,5,0),\"\")","v":0},{"$f":"IFERROR(VLOOKUP($X6,'Total Rankings (excl QB)'!$D:$L,6,0),\"\")","v":"Not a top WR"},{"$f":"IFERROR(VLOOKUP($X6,'Total Rankings (excl QB)'!$D:$L,7,0),\"\")","v":0},{"$f":"IFERROR(VLOOKUP($X6,'Total Rankings (excl QB)'!$D:$L,8,0),\"\")","v":"Not a top WR"},null,3,{"$f":"'QB Rankings'!C6","v":0},{"$f":"'QB Rankings'!D6","v":0},0,null,{"$f":"'QB Rankings'!E6","v":0},{"$f":"'QB Rankings'!F6","v":0},{"$f":"'QB Rankings'!G6","v":0},{"$f":"'QB Rankings'!H6","v":0},{"$f":"'QB Rankings'!I6","v":0}]
[4,{"$f":"IFERROR(INDEX('Total Rankings (excl QB)'!$D:$D,MATCH(1,(\"Wide Receiver\"='Total Rankings (excl QB)'!$C:$C)*(A7='Total Rankings (excl QB)'!$F:$F),0),1),\"\")","v":"Zach Pascal"},{"$f":"IFERROR(VLOOKUP($B7,'Total Rankings (excl QB)'!$D:$E,2,0),0)","v":50.520960000000002},2.9718211764705882,null,{"$f":"IFERROR(VLOOKUP($B7,'Total Rankings (excl QB)'!$D:$L,4,0),\"\")","v":"Not a top WR"},{"$f":"IFERROR(VLOOKUP($B7,'Total Rankings (excl QB)'!$D:$L,5,0),\"\")","v":42.243657142857138},{"$f":"IFERROR(VLOOKUP($B7,'Total Rankings (excl QB)'!$D:$L,6,0),\"\")","v":"Not a top WR"},{"$f":"IFERROR(VLOOKUP($B7,'Total Rankings (excl QB)'!$D:$L,7,0),\"\")","v":51.378102857142856},{"$f":"IFERROR(VLOOKUP($B7,'Total Rankings (excl QB)'!$D:$L,8,0),\"\")","v":"Not a top WR"},null,4,{"$f":"IFERROR(INDEX('Total Rankings (excl QB)'!$D:$D,MATCH(1,(\"Running Back\"='Total Rankings (excl QB)'!$C:$C)*(L7='Total Rankings (excl QB)'!$F:$F),0),1),\"\")","v":""},{"$f":"IFERROR(VLOOKUP($M7,'Total Rankings (excl QB)'!$D:$E,2,0),0)","v":0},0,null,{"$f":"IFERROR(VLOOKUP($M7,'Total Rankings (excl QB)'!$D:$L,4,0),\"\")","v":""},{"$f":"IFERROR(VLOOKUP($M7,'Total Rankings (excl QB)'!$D:$L,5,0),\"\")","v":""},{"$f":"IFERROR(VLOOKUP($M7,'Total Rankings (excl QB)'!$D:$L,6,0),\"\")","v":""},{"$f":"IFERROR(VLOOKUP($M7,'Total Rankings (excl QB)'!$D:$L,7,0),\"\")","v":""},{"$f":"IFERROR(VLOOKUP($M7,'Total Rankings (excl QB)'!$D:$L,8,0),\"\")","v":""},null,4,{"$f":"IFERROR(INDEX('Total Rankings (excl QB)'!$D:$D,MATCH(1,(\"Tight End\"='Total Rankings (excl QB)'!$C:$C)*(W7='Total Rankings (excl QB)'!$F:$F),0),1),\"\")","v":""},{"$f":"IFERROR(VLOOKUP($X7,'Total Rankings (excl QB)'!$D:$E,2,0),0)","v":0},0,null,{"$f":"IFERROR(VLOOKUP($X7,'Total Rankings (excl QB)'!$D:$L,4,0),\"\")","v":""},{"$f":"IFERROR(VLOOKUP($X7,'Total Rankings (excl QB)'!$D:$L,5,0),\"\")","v":""},{"$f":"IFERROR(VLOOKUP($X7,'Total Rankings (excl QB)'!$D:$L,6,0),\"\")","v":""},{"$f":"IFERROR(VLOOKUP($X7,'Total Rankings (excl QB)'!$D:$L,7,0),\"\")","v":""},{"$f":"IFERROR(VLOOKUP($X7,'Total Rankings (excl QB)'!$D:$L,8,0),\"\")","v":""},null,4,{"$f":"'QB Rankings'!C7","v":0},{"$f":"'QB Rankings'!D7","v":0},0,null,{"$f":"'QB Rankings'!E7","v":0},{"$f":"'QB Rankings'!F7","v":0},{"$f":"'QB Rankings'!G7","v":0},{"$f":"'QB Rankings'!H7","v":0},{"$f":"'QB Rankings'!I7","v":0}]
[5,{"$f":"IFERROR(INDEX('Total Rankings (excl QB)'!$D:$D,MATCH(1,(\"Wide Receiver\"='Total Rankings (excl QB)'!$C:$C)*(A8='Total Rankings (excl QB)'!$F:$F),0),1),\"\")","v":"Chris Moore"},{"$f":"IFERROR(VLOOKUP($B8,'Total Rankings (excl QB)'!$D:$E,2,0),0)","v":32.277696000000006},1.8986880000000004,null,{"$f":"IFERROR(VLOOKUP($B8,'Total Rankings (excl QB)'!$D:$L,4,0),\"\")","v":"Not a top WR"},{"$f":"IFERROR(VLOOKUP($B8,'Total Rankings (excl QB)'!$D:$L,5,0),\"\")","v":32.277696000000006},{"$f":"IFERROR(VLOOKUP($B8,'Total Rankings (excl QB)'!$D:$L,6,0),\"\")","v":"Not a top WR"},{"$f":"IFERROR(VLOOKUP($B8,'Total Rankings (excl QB)'!$D:$L,7,0),\"\")","v":32.277696000000006},{"$f":"IFERROR(VLOOKUP($B8,'Total Rankings (excl QB)'!$D:$L,8,0),\"\")","v":"Not a top WR"},null,5,{"$f":"IFERROR(INDEX('Total Rankings (excl QB)'!$D:$D,MATCH(1,(\"Running Back\"='Total Rankings (excl QB)'!$C:$C)*(L8='Total Rankings (excl QB)'!$F:$F),0),1),\"\")","v":""},{"$f":"IFERROR(VLOOKUP($M8,'Total Rankings (excl QB)'!$D:$E,2,0),0)","v":0},0,null,{"$f":"IFERROR(VLOOKUP($M8,'Total Rankings (excl QB)'!$D:$L,4,0),\"\")","v":""},{"$f":"IFERROR(VLOOKUP($M8,'Total Rankings (excl QB)'!$D:$L,5,0),\"\")","v":""},{"$f":"IFERROR(VLOOKUP($M8,'Total Rankings (excl QB)'!$D:$L,6,0),\"\")","v":""},{"$f":"IFERROR(VLOOKUP($M8,'Total Rankings (excl QB)'!$D:$L,7,0),\"\")","v":""},{"$f":"IFERROR(VLOOKUP($M8,'Total Rankings (excl QB)'!$D:$L,8,0),\"\")","v":""},null,5,{"$f":"IFERROR(INDEX('Total Rankings (excl QB)'!$D:$D,MATCH(1,(\"Tight End\"='Total Rankings (excl QB)'!$C:$C)*(W8='Total Rankings (excl QB)'!$F:$F),0),1),\"\")","v":""},{"$f":"IFERROR(VLOOKUP($X8,'Total Rankings (excl QB)'!$D:$E,2,0),0)","v":0},0,null,{"$f":"IFERROR(VLOOKUP($X8,'Total Rankings (excl QB)'!$D:$L,4,0),\"\")","v":""},{"$f":"IFERROR(VLOOKUP($X8,'Total Rankings (excl QB)'!$D:$L,5,0),\"\")","v":""},{"$f":"IFERROR(VLOOKUP($X8,'Total Rankings (excl QB)'!$D:$L,6,0),\"\")","v":""},{"$f":"IFERROR(VLOOKUP($X8,'Total Rankings (excl QB)'!$D:$L,7,0),\"\")","v":""},{"$f":"IFERROR(VLOOKUP($X8,'Total Rankings (excl QB)'!$D:$L,8,0),\"\")","v":""},null,5,{"$f":"'QB Rankings'!C8","v":0},{"$f":"'QB Rankings'!D8","v":0},0,null,{"$f":"'QB Rankings'!E8","v":0},{"$f":"'QB Rankings'!F8","v":0},{"$f":"'QB Rankings'!G8","v":0},{"$f":"'QB Rankings'!H8","v":0},{"$f":"'QB Rankings'!I8","v":0}]
[6,{"$f":"IFERROR(INDEX('Total Rankings (excl QB)'!$D:$D,MATCH(1,(\"Wide Receiver\"='Total Rankings (excl QB)'!$C:$C)*(A9='Total Rankings (excl QB)'!$F:$F),0),1),\"\")","v":"Tejhaun Palmer"},{"$f":"IFERROR(VLOOKUP($B9,'Total Rankings (excl QB)'!$D:$E,2,0),0)","v":15.304080000000001},0.90024000000000004,null,{"$f":"IFERROR(VLOOKUP($B9,'Total Rankings (excl QB)'!$D:$L,4,0),\"\")","v":"Not a top WR"},{"$f":"IFERROR(VLOOKUP($B9,'Total Rankings (excl QB)'!$D:$L,5,0),\"\")","v":15.304080000000001},{"$f":"IFERROR(VLOOKUP($B9,'Total Rankings (excl QB)'!$D:$L,6,0),\"\")","v":"Not a top WR"},{"$f":"IFERROR(VLOOKUP($B9,'Total Rankings (excl QB)'!$D:$L,7,0),\"\")","v":15.304080000000001},{"$f":"IFERROR(VLOOKUP($B9,'Total Rankings (excl QB)'!$D:$L,8,0),\"\")","v":"Not a top WR"},null,6,{"$f":"IFERROR(INDEX('Total Rankings (excl QB)'!$D:$D,MATCH(1,(\"Running Back\"='Total Rankings (excl QB)'!$C:$C)*(L9='Total Rankings (excl QB)'!$F:$F),0),1),\"\")","v":""},{"$f":"IFERROR(VLOOKUP($M9,'Total Rankings (excl QB)'!$D:$E,2,0),0)","v":0},0,null,{"$f":"IFERROR(VLOOKUP($M9,'Total Rankings (excl QB)'!$D:$L,4,0),\"\")","v":""},{"$f":"IFERROR(VLOOKUP($M9,'Total Rankings (excl QB)'!$D:$L,5,0),\"\")","v":""},{"$f":"IFERROR(VLOOKUP($M9,'Total Rankings (excl QB)'!$D:$L,6,0),\"\")","v":""},{"$f":"IFERROR(VLOOKUP($M9,'Total Rankings (excl QB)'!$D:$L,7,0),\"\")","v":""},{"$f":"IFERROR(VLOOKUP($M9,'Total Rankings (excl QB)'!$D:$L,8,0),\"\")","v":""},null,6,{"$f":"IFERROR(INDEX('Total Rankings (excl QB)'!$D:$D,MATCH(1,(\"Tight End\"='Total Rankings (excl QB)'!$C:$C)*(W9='Total Rankings (excl QB)'!$F:$F),0),1),\"\")","v":""},{"$f":"IFERROR(VLOOKUP($X9,'Total Rankings (excl QB)'!$D:$E,2,0),0)","v":0},0,null,{"$f":"IFERROR(VLOOKUP($X9,'Total Rankings (excl QB)'!$D:$L,4,0),\"\")","v":""},{"$f":"IFERROR(VLOOKUP($X9,'Total Rankings (excl QB)'!$D:$L,5,0),\"\")","v":""},{"$f":"IFERROR(VLOOKUP($X9,'Total Rankings (excl QB)'!$D:$L,6,0),\"\")","v":""},{"$f":"IFERROR(VLOOKUP($X9,'Total Rankings (excl QB)'!$D:$L,7,0),\"\")","v":""},{"$f":"IFERROR(VLOOKUP($X9,'Total Rankings (excl QB)'!$D:$L,8,0),\"\")","v":""},null,6,{"$f":"'QB Rankings'!C9","v":0},{"$f":"'QB Rankings'!D9","v":0},0,null,{"$f":"'QB Rankings'!E9","v":0},{"$f":"'QB Rankings'!F9","v":0},{"$f":"'QB Rankings'!G9","v":0},{"$f":"'QB Rankings'!H9","v":0},{"$f":"'QB Rankings'!I9","v":0}]
[7,{"$f":"IFERROR(INDEX('Total Rankings (excl QB)'!$D:$D,MATCH(1,(\"Wide Receiver\"='Total Rankings (excl QB)'!$C:$C)*(A10='Total Rankings (excl QB)'!$F:$F),0),1),\"\")","v":0},{"$f":"IFERROR(VLOOKUP($B10,'Total Rankings (excl QB)'!$D:$E,2,0),0)","v":0},0,null,{"$f":"IFERROR(VLOOKUP($B10,'Total Rankings (excl QB)'!$D:$L,4,0),\"\")","v":"Not a top WR"},{"$f":"IFERROR(VLOOKUP($B10,'Total Rankings (excl QB)'!$D:$L,5,0),\"\")","v":0},{"$f":"IFERROR(VLOOKUP($B10,'Total Rankings (excl QB)'!$D:$L,6,0),\"\")","v":"Not a top WR"},{"$f":"IFERROR(VLOOKUP($B10,'Total Rankings (excl QB)'!$D:$L,7,0),\"\")","v":0},{"$f":"IFERROR(VLOOKUP($B10,'Total Rankings (excl QB)'!$D:$L,8,0),\"\")","v":"Not a top WR"},null,7,{"$f":"IFERROR(INDEX('Total Rankings (excl QB)'!$D:$D,MATCH(1,(\"Running Back\"='Total Rankings (excl QB)'!$C:$C)*(L10='Total Rankings (excl QB)'!$F:$F),0),1),\"\")","v":""},{"$f":"IFERROR(VLOOKUP($M10,'Total Rankings (excl QB)'!$D:$E,2,0),0)","v":0},0,null,{"$f":"IFERROR(VLOOKUP($M10,'Total Rankings (excl QB)'!$D:$L,4,0),\"\")","v":""},{"$f":"IFERROR(VLOOKUP($M10,'Total Rankings (excl QB)'!$D:$L,5,0),\"\")","v":""},{"$f":"IFERROR(VLOOKUP($M10,'Total Rankings (excl QB)'!$D:$L,6,0),\"\")","v":""},{"$f":"IFERROR(VLOOKUP($M10,'Total Rankings (excl QB)'!$D:$L,7,0),\"\")","v":""},{"$f":"IFERROR(VLOOKUP($M10,'Total Rankings (excl QB)'!$D:$L,8,0),\"\")","v":""},null,7,{"$f":"IFERROR(INDEX('Total Rankings (excl QB)'!$D:$D,MATCH(1,(\"Tight End\"='Total Rankings (excl QB)'!$C:$C)*(W10='Total Rankings (excl QB)'!$F:$F),0),1),\"\")","v":""},{"$f":"IFERROR(VLOOKUP($X10,'Total Rankings (excl QB)'!$D:$E,2,0),0)","v":0},0,null,{"$f":"IFERROR(VLOOKUP($X10,'Total Rankings (excl QB)'!$D:$L,4,0),\"\")","v":""},{"$f":"IFERROR(VLOOKUP($X10,'Total Rankings (excl QB)'!$D:$L,5,0),\"\")","v":""},{"$f":"IFERROR(VLOOKUP($X10,'Total Rankings (excl QB)'!$D:$L,6,0),\"\")","v":""},{"$f":"IFERROR(VLOOKUP($X10,'Total Rankings (excl QB)'!$D:$L,7,0),\"\")","v":""},{"$f":"IFERROR(VLOOKUP($X10,'Total Rankings (excl QB)'!$D:$L,8,0),\"\")","v":""},null,7,{"$f":"'QB Rankings'!C10","v":0},{"$f":"'QB Rankings'!D10","v":0},0,null,{"$f":"'QB Rankings'!E10","v":0},{"$f":"'QB Rankings'!F10","v":0},{"$f":"'QB Rankings'!G10","v":0},{"$f":"'QB Rankings'!H10","v":0},{"$f":"'QB Rankings'!I10","v":0}]
[8,{"$f":"IFERROR(INDEX('Total Rankings (excl QB)'!$D:$D,MATCH(1,(\"Wide Receiver\"='Total Rankings (excl QB)'!$C:$C)*(A11='Total Rankings (excl QB)'!$F:$F),0),1),\"\")","v":""},{"$f":"IFERROR(VLOOKUP($B11,'Total Rankings (excl QB)'!$D:$E,2,0),0)","v":0},0,null,{"$f":"IFERROR(VLOOKUP($B11,'Total Rankings (excl QB)'!$D:$L,4,0),\"\")","v":""},{"$f":"IFERROR(VLOOKUP($B11,'Total Rankings (excl QB)'!$D:$L,5,0),\"\")","v":""},{"$f":"IFERROR(VLOOKUP($B11,'Total Rankings (excl QB)'!$D:$L,6,0),\"\")","v":""},{"$f":"IFERROR(VLOOKUP($B11,'Total Rankings (excl QB)'!$D:$L,7,0),\"\")","v":""},{"$f":"IFERROR(VLOOKUP($B11,'Total Rankings (excl QB)'!$D:$L,8,0),\"\")","v":""},null,8,{"$f":"IFERROR(INDEX('Total Rankings (excl QB)'!$D:$D,MATCH(1,(\"Running Back\"='Total Rankings (excl QB)'!$C:$C)*(L11='Total Rankings (excl QB)'!$F:$F),0),1),\"\")","v":""},{"$f":"IFERROR(VLOOKUP($M11,'Total Rankings (excl QB)'!$D:$E,2,0),0)","v":0},0,null,{"$f":"IFERROR(VLOOKUP($M11,'Total Rankings (excl QB)'!$D:$L,4,0),\"\")","v":""},{"$f":"IFERROR(VLOOKUP($M11,'Total Rankings (excl QB)'!$D:$L,5,0),\"\")","v":""},{"$f":"IFERROR(VLOOKUP($M11,'Total Rankings (excl QB)'!$D:$L,6,0),\"\")","v":""},{"$f":"IFERROR(VLOOKUP($M11,'Total Rankings (excl QB)'!$D:$L,7,0),\"\")","v":""},{"$f":"IFERROR(VLOOKUP($M11,'Total Rankings (excl QB)'!$D:$L,8,0),\"\")","v":""},null,8,{"$f":"IFERROR(INDEX('Total Rankings (excl QB)'!$D:$D,MATCH(1,(\"Tight End\"='Total Rankings (excl QB)'!$C:$C)*(W11='Total Rankings (excl QB)'!$F:$F),0),1),\"\")","v":""},{"$f":"IFERROR(VLOOKUP($X11,'Total Rankings (excl QB)'!$D:$E,2,0),0)","v":0},0,null,{"$f":"IFERROR(VLOOKUP($X11,'Total Rankings (excl QB)'!$D:$L,4,0),\"\")","v":""},{"$f":"IFERROR(VLOOKUP($X11,'Total Rankings (excl QB)'!$D:$L,5,0),\"\")","v":""},{"$f":"IFERROR(VLOOKUP($X11,'Total Rankings (excl QB)'!$D:$L,6,0),\"\")","v":""},{"$f":"IFERROR(VLOOKUP($X11,'Total Rankings (excl QB)'!$D:$L,7,0),\"\")","v":""},{"$f":"IFERROR(VLOOKUP($X11,'Total Rankings (excl QB)'!$D:$L,8,0),\"\")","v":""},null,8,{"$f":"'QB Rankings'!C11","v":0},{"$f":"'QB Rankings'!D11","v":0},0,null,{"$f":"'QB Rankings'!E11","v":0},{"$f":"'QB Rankings'!F11","v":0},{"$f":"'QB Rankings'!G11","v":0},{"$f":"'QB Rankings'!H11","v":0},{"$f":"'QB Rankings'!I11","v":0}]
[9,{"$f":"IFERROR(INDEX('Total Rankings (excl QB)'!$D:$D,MATCH(1,(\"Wide Receiver\"='Total Rankings (excl QB)'!$C:$C)*(A12='Total Rankings (excl QB)'!$F:$F),0),1),\"\")","v":""},{"$f":"IFERROR(VLOOKUP($B12,'Total Rankings (excl QB)'!$D:$E,2,0),0)","v":0},0,null,{"$f":"IFERROR(VLOOKUP($B12,'Total Rankings (excl QB)'!$D:$L,4,0),\"\")","v":""},{"$f":"IFERROR(VLOOKUP($B12,'Total Rankings (excl QB)'!$D:$L,5,0),\"\")","v":""},{"$f":"IFERROR(VLOOKUP($B12,'Total Rankings (excl QB)'!$D:$L,6,0),\"\")","v":""},{"$f":"IFERROR(VLOOKUP($B12,'Total Rankings (excl QB)'!$D:$L,7,0),\"\")","v":""},{"$f":"IFERROR(VLOOKUP($B12,'Total Rankings (excl QB)'!$D:$L,8,0),\"\")","v":""},null,9,{"$f":"IFERROR(INDEX('Total Rankings (excl QB)'!$D:$D,MATCH(1,(\"Running Back\"='Total Rankings (excl QB)'!$C:$C)*(L12='Total Rankings (excl QB)'!$F:$F),0),1),\"\")","v":""},{"$f":"IFERROR(VLOOKUP($M12,'Total Rankings (excl QB)'!$D:$E,2,0),0)","v":0},0,null,{"$f":"IFERROR(VLOOKUP($M12,'Total Rankings (excl QB)'!$D:$L,4,0),\"\")","v":""},{"$f":"IFERROR(VLOOKUP($M12,'Total Rankings (excl QB)'!$D:$L,5,0),\"\")","v":""},{"$f":"IFERROR(VLOOKUP($M12,'Total Rankings (excl QB)'!$D:$L,6,0),\"\")","v":""},{"$f":"IFERROR(VLOOKUP($M12,'Total Rankings (excl QB)'!$D:$L,7,0),\"\")","v":""},{"$f":"IFERROR(VLOOKUP($M12,'Total Rankings (excl QB)'!$D:$L,8,0),\"\")","v":""},null,9,{"$f":"IFERROR(INDEX('Total Rankings (excl QB)'!$D:$D,MATCH(1,(\"Tight End\"='Total Rankings (excl QB)'!$C:$C)*(W12='Total Rankings (excl QB)'!$F:$F),0),1),\"\")","v":""},{"$f":"IFERROR(VLOOKUP($X12,'Total Rankings (excl QB)'!$D:$E,2,0),0)","v":0},0,null,{"$f":"IFERROR(VLOOKUP($X12,'Total Rankings (excl QB)'!$D:$L,4,0),\"\")","v":""},{"$f":"IFERROR(VLOOKUP($X12,'Total Rankings (excl QB)'!$D:$L,5,0),\"\")","v":""},{"$f":"IFERROR(VLOOKUP($X12,'Total Rankings (excl QB)'!$D:$L,6,0),\"\")","v":""},{"$f":"IFERROR(VLOOKUP($X12,'Total Rankings (excl QB)'!$D:$L,7,0),\"\")","v":""},{"$f":"IFERROR(VLOOKUP($X12,'Total Rankings (excl QB)'!$D:$L,8,0),\"\")","v":""},null,9,{"$f":"'QB Rankings'!C12","v":0},{"$f":"'QB Rankings'!D12","v":0},0,null,{"$f":"'QB Rankings'!E12","v":0},{"$f":"'QB Rankings'!F12","v":0},{"$f":"'QB Rankings'!G12","v":0},{"$f":"'QB Rankings'!H12","v":0},{"$f":"'QB Rankings'!I12","v":0}]
[10,{"$f":"IFERROR(INDEX('Total Rankings (excl QB)'!$D:$D,MATCH(1,(\"Wide Receiver\"='Total Rankings (excl QB)'!$C:$C)*(A13='Total Rankings (excl QB)'!$F:$F),0),1),\"\")","v":""},{"$f":"IFERROR(VLOOKUP($B13,'Total Rankings (excl QB)'!$D:$E,2,0),0)","v":0},0,null,{"$f":"IFERROR(VLOOKUP($B13,'Total Rankings (excl QB)'!$D:$L,4,0),\"\")","v":""},{"$f":"IFERROR(VLOOKUP($B13,'Total Rankings (excl QB)'!$D:$L,5,0),\"\")","v":""},{"$f":"IFERROR(VLOOKUP($B13,'Total Rankings (excl QB)'!$D:$L,6,0),\"\")","v":""},{"$f":"IFERROR(VLOOKUP($B13,'Total Rankings (excl QB)'!$D:$L,7,0),\"\")","v":""},{"$f":"IFERROR(VLOOKUP($B13,'Total Rankings (excl QB)'!$D:$L,8,0),\"\")","v":""},null,10,{"$f":"IFERROR(INDEX('Total Rankings (excl QB)'!$D:$D,MATCH(1,(\"Running Back\"='Total Rankings (excl QB)'!$C:$C)*(L13='Total Rankings (excl QB)'!$F:$F),0),1),\"\")","v":""},{"$f":"IFERROR(VLOOKUP($M13,'Total Rankings (excl QB)'!$D:$E,2,0),0)","v":0},0,null,{"$f":"IFERROR(VLOOKUP($M13,'Total Rankings (excl QB)'!$D:$L,4,0),\"\")","v":""},{"$f":"IFERROR(VLOOKUP($M13,'Total Rankings (excl QB)'!$D:$L,5,0),\"\")","v":""},{"$f":"IFERROR(VLOOKUP($M13,'Total Rankings (excl QB)'!$D:$L,6,0),\"\")","v":""},{"$f":"IFERROR(VLOOKUP($M13,'Total Rankings (excl QB)'!$D:$L,7,0),\"\")","v":""},{"$f":"IFERROR(VLOOKUP($M13,'Total Rankings (excl QB)'!$D:$L,8,0),\"\")","v":""},null,10,{"$f":"IFERROR(INDEX('Total Rankings (excl QB)'!$D:$D,MATCH(1,(\"Tight End\"='Total Rankings (excl QB)'!$C:$C)*(W13='Total Rankings (excl QB)'!$F:$F),0),1),\"\")","v":""},{"$f":"IFERROR(VLOOKUP($X13,'Total Rankings (excl QB)'!$D:$E,2,0),0)","v":0},0,null,{"$f":"IFERROR(VLOOKUP($X13,'Total Rankings (excl QB)'!$D:$L,4,0),\"\")","v":""},{"$f":"IFERROR(VLOOKUP($X13,'Total Rankings (excl QB)'!$D:$L,5,0),\"\")","v":""},{"$f":"IFERROR(VLOOKUP($X13,'Total Rankings (excl QB)'!$D:$L,6,0),\"\")","v":""},{"$f":"IFERROR(VLOOKUP($X13,'Total Rankings (excl QB)'!$D:$L,7,0),\"\")","v":""},{"$f":"IFERROR(VLOOKUP($X13,'Total Rankings (excl QB)'!$D:$L,8,0),\"\")","v":""},null,10,{"$f":"'QB Rankings'!C13","v":0},{"$f":"'QB Rankings'!D13","v":0},0,null,{"$f":"'QB Rankings'!E13","v":0},{"$f":"'QB Rankings'!F13","v":0},{"$f":"'QB Rankings'!G13","v":0},{"$f":"'QB Rankings'!H13","v":0},{"$f":"'QB Rankings'!I13","v":0}]
[11,{"$f":"IFERROR(INDEX('Total Rankings (excl QB)'!$D:$D,MATCH(1,(\"Wide Receiver\"='Total Rankings (excl QB)'!$C:$C)*(A14='Total Rankings (excl QB)'!$F:$F),0),1),\"\")","v":""},{"$f":"IFERROR(VLOOKUP($B14,'Total Rankings (excl QB)'!$D:$E,2,0),0)","v":0},0,null,{"$f":"IFERROR(VLOOKUP($B14,'Total Rankings (excl QB)'!$D:$L,4,0),\"\")","v":""},{"$f":"IFERROR(VLOOKUP($B14,'Total Rankings (excl QB)'!$D:$L,5,0),\"\")","v":""},{"$f":"IFERROR(VLOOKUP($B14,'Total Rankings (excl QB)'!$D:$L,6,0),\"\")","v":""},{"$f":"IFERROR(VLOOKUP($B14,'Total Rankings (excl QB)'!$D:$L,7,0),\"\")","v":""},{"$f":"IFERROR(VLOOKUP($B14,'Total Rankings (excl QB)'!$D:$L,8,0),\"\")","v":""},null,11,{"$f":"IFERROR(INDEX('Total Rankings (excl QB)'!$D:$D,MATCH(1,(\"Running Back\"='Total Rankings (excl QB)'!$C:$C)*(L14='Total Rankings (excl QB)'!$F:$F),0),1),\"\")","v":""},{"$f":"IFERROR(VLOOKUP($M14,'Total Rankings (excl QB)'!$D:$E,2,0),0)","v":0},0,null,{"$f":"IFERROR(VLOOKUP($M14,'Total Rankings (excl QB)'!$D:$L,4,0),\"\")","v":""},{"$f":"IFERROR(VLOOKUP($M14,'Total Rankings (excl QB)'!$D:$L,5,0),\"\")","v":""},{"$f":"IFERROR(VLOOKUP($M14,'Total Rankings (excl QB)'!$D:$L,6,0),\"\")","v":""},{"$f":"IFERROR(VLOOKUP($M14,'Total Rankings (excl QB)'!$D:$L,7,0),\"\")","v":""},{"$f":"IFERROR(VLOOKUP($M14,'Total Rankings (excl QB)'!$D:$L,8,0),\"\")","v":""},null,11,{"$f":"IFERROR(INDEX('Total Rankings (excl QB)'!$D:$D,MATCH(1,(\"Tight End\"='Total Rankings (excl QB)'!$C:$C)*(W14='Total Rankings (excl QB)'!$F:$F),0),1),\"\")","v":""},{"$f":"IFERROR(VLOOKUP($X14,'Total Rankings (excl QB)'!$D:$E,2,0),0)","v":0},0,null,{"$f":"IFERROR(VLOOKUP($X14,'Total Rankings (excl QB)'!$D:$L,4,0),\"\")","v":""},{"$f":"IFERROR(VLOOKUP($X14,'Total Rankings (excl QB)'!$D:$L,5,0),\"\")","v":""},{"$f":"IFERROR(VLOOKUP($X14,'Total Rankings (excl QB)'!$D:$L,6,0),\"\")","v":""},{"$f":"IFERROR(VLOOKUP($X14,'Total Rankings (excl QB)'!$D:$L,7,0),\"\")","v":""},{"$f":"IFERROR(VLOOKUP($X14,'Total Rankings (excl QB)'!$D:$L,8,0),\"\")","v":""},null,11,{"$f":"'QB Rankings'!C14","v":0},{"$f":"'QB Rankings'!D14","v":0},0,null,{"$f":"'QB Rankings'!E14","v":0},{"$f":"'QB Rankings'!F14","v":0},{"$f":"'QB Rankings'!G14","v":0},{"$f":"'QB Rankings'!H14","v":0},{"$f":"'QB Rankings'!I14","v":0}]
[12,{"$f":"IFERROR(INDEX('Total Rankings (excl QB)'!$D:$D,MATCH(1,(\"Wide Receiver\"='Total Rankings (excl QB)'!$C:$C)*(A15='Total Rankings (excl QB)'!$F:$F),0),1),\"\")","v":""},{"$f":"IFERROR(VLOOKUP($B15,'Total Rankings (excl QB)'!$D:$E,2,0),0)","v":0},0,null,{"$f":"IFERROR(VLOOKUP($B15,'Total Rankings (excl QB)'!$D:$L,4,0),\"\")","v":""},{"$f":"IFERROR(VLOOKUP($B15,'Total Rankings (excl QB)'!$D:$L,5,0),\"\")","v":""},{"$f":"IFERROR(VLOOKUP($B15,'Total Rankings (excl QB)'!$D:$L,6,0),\"\")","v":""},{"$f":"IFERROR(VLOOKUP($B15,'Total Rankings (excl QB)'!$D:$L,7,0),\"\")","v":""},{"$f":"IFERROR(VLOOKUP($B15,'Total Rankings (excl QB)'!$D:$L,8,0),\"\")","v":""},null,12,{"$f":"IFERROR(INDEX('Total Rankings (excl QB)'!$D:$D,MATCH(1,(\"Running Back\"='Total Rankings (excl QB)'!$C:$C)*(L15='Total Rankings (excl QB)'!$F:$F),0),1),\"\")","v":""},{"$f":"IFERROR(VLOOKUP($M15,'Total Rankings (excl QB)'!$D:$E,2,0),0)","v":0},0,null,{"$f":"IFERROR(VLOOKUP($M15,'Total Rankings (excl QB)'!$D:$L,4,0),\"\")","v":""},{"$f":"IFERROR(VLOOKUP($M15,'Total Rankings (excl QB)'!$D:$L,5,0),\"\")","v":""},{"$f":"IFERROR(VLOOKUP($M15,'Total Rankings (excl QB)'!$D:$L,6,0),\"\")","v":""},{"$f":"IFERROR(VLOOKUP($M15,'Total Rankings (excl QB)'!$D:$L,7,0),\"\")","v":""},{"$f":"IFERROR(VLOOKUP($M15,'Total Rankings (excl QB)'!$D:$L,8,0),\"\")","v":""},null,12,{"$f":"IFERROR(INDEX('Total Rankings (excl QB)'!$D:$D,MATCH(1,(\"Tight End\"='Total Rankings (excl QB)'!$C:$C)*(W15='Total Rankings (excl QB)'!$F:$F),0),1),\"\")","v":""},{"$f":"IFERROR(VLOOKUP($X15,'Total Rankings (excl QB)'!$D:$E,2,0),0)","v":0},0,null,{"$f":"IFERROR(VLOOKUP($X15,'Total Rankings (excl QB)'!$D:$L,4,0),\"\")","v":""},{"$f":"IFERROR(VLOOKUP($X15,'Total Rankings (excl QB)'!$D:$L,5,0),\"\")","v":""},{"$f":"IFERROR(VLOOKUP($X15,'Total Rankings (excl QB)'!$D:$L,6,0),\"\")","v":""},{"$f":"IFERROR(VLOOKUP($X15,'Total Rankings (excl QB)'!$D:$L,7,0),\"\")","v":""},{"$f":"IFERROR(VLOOKUP($X15,'Total Rankings (excl QB)'!$D:$L,8,0),\"\")","v":""},null,12,{"$f":"'QB Rankings'!C15","v":0},{"$f":"'QB Rankings'!D15","v":0},0,null,{"$f":"'QB Rankings'!E15","v":0},{"$f":"'QB Rankings'!F15","v":0},{"$f":"'QB Rankings'!G15","v":0},{"$f":"'QB Rankings'!H15","v":0},{"$f":"'QB Rankings'!I15","v":0}]
[13,{"$f":"IFERROR(INDEX('Total Rankings (excl QB)'!$D:$D,MATCH(1,(\"Wide Receiver\"='Total Rankings (excl QB)'!$C:$C)*(A16='Total Rankings (excl QB)'!$F:$F),0),1),\"\")","v":""},{"$f":"IFERROR(VLOOKUP($B16,'Total Rankings (excl QB)'!$D:$E,2,0),0)","v":0},0,null,{"$f":"IFERROR(VLOOKUP($B16,'Total Rankings (excl QB)'!$D:$L,4,0),\"\")","v":""},{"$f":"IFERROR(VLOOKUP($B16,'Total Rankings (excl QB)'!$D:$L,5,0),\"\")","v":""},{"$f":"IFERROR(VLOOKUP($B16,'Total Rankings (excl QB)'!$D:$L,6,0),\"\")","v":""},{"$f":"IFERROR(VLOOKUP($B16,'Total Rankings (excl QB)'!$D:$L,7,0),\"\")","v":""},{"$f":"IFERROR(VLOOKUP($B16,'Total Rankings (excl QB)'!$D:$L,8,0),\"\")","v":""},null,13,{"$f":"IFERROR(INDEX('Total Rankings (excl QB)'!$D:$D,MATCH(1,(\"Running Back\"='Total Rankings (excl QB)'!$C:$C)*(L16='Total Rankings (excl QB)'!$F:$F),0),1),\"\")","v":""},{"$f":"IFERROR(VLOOKUP($M16,'Total Rankings (excl QB)'!$D:$E,2,0),0)","v":0},0,null,{"$f":"IFERROR(VLOOKUP($M16,'Total Rankings (excl QB)'!$D:$L,4,0),\"\")","v":""},{"$f":"IFERROR(VLOOKUP($M16,'Total Rankings (excl QB)'!$D:$L,5,0),\"\")","v":""},{"$f":"IFERROR(VLOOKUP($M16,'Total Rankings (excl QB)'!$D:$L,6,0),\"\")","v":""},{"$f":"IFERROR(VLOOKUP($M16,'Total Rankings (excl QB)'!$D:$L,7,0),\"\")","v":""},{"$f":"IFERROR(VLOOKUP($M16,'Total Rankings (excl QB)'!$D:$L,8,0),\"\")","v":""},null,13,{"$f":"IFERROR(INDEX('Total Rankings (excl QB)'!$D:$D,MATCH(1,(\"Tight End\"='Total Rankings (excl QB)'!$C:$C)*(W16='Total Rankings (excl QB)'!$F:$F),0),1),\"\")","v":""},{"$f":"IFERROR(VLOOKUP($X16,'Total Rankings (excl QB)'!$D:$E,2,0),0)","v":0},0,null,{"$f":"IFERROR(VLOOKUP($X16,'Total Rankings (excl QB)'!$D:$L,4,0),\"\")","v":""},{"$f":"IFERROR(VLOOKUP($X16,'Total Rankings (excl QB)'!$D:$L,5,0),\"\")","v":""},{"$f":"IFERROR(VLOOKUP($X16,'Total Rankings (excl QB)'!$D:$L,6,0),\"\")","v":""},{"$f":"IFERROR(VLOOKUP($X16,'Total Rankings (excl QB)'!$D:$L,7,0),\"\")","v":""},{"$f":"IFERROR(VLOOKUP($X16,'Total Rankings (excl QB)'!$D:$L,8,0),\"\")","v":""},null,13,{"$f":"'QB Rankings'!C16","v":0},{"$f":"'QB Rankings'!D16","v":0},0,null,{"$f":"'QB Rankings'!E16","v":0},{"$f":"'QB Rankings'!F16","v":0},{"$f":"'QB Rankings'!G16","v":0},{"$f":"'QB Rankings'!H16","v":0},{"$f":"'QB Rankings'!I16","v":0}]
[14,{"$f":"IFERROR(INDEX('Total Rankings (excl QB)'!$D:$D,MATCH(1,(\"Wide Receiver\"='Total Rankings (excl QB)'!$C:$C)*(A17='Total Rankings (excl QB)'!$F:$F),0),1),\"\")","v":""},{"$f":"IFERROR(VLOOKUP($B17,'Total Rankings (excl QB)'!$D:$E,2,0),0)","v":0},0,null,{"$f":"IFERROR(VLOOKUP($B17,'Total Rankings (excl QB)'!$D:$L,4,0),\"\")","v":""},{"$f":"IFERROR(VLOOKUP($B17,'Total Rankings (excl QB)'!$D:$L,5,0),\"\")","v":""},{"$f":"IFERROR(VLOOKUP($B17,'Total Rankings (excl QB)'!$D:$L,6,0),\"\")","v":""},{"$f":"IFERROR(VLOOKUP($B17,'Total Rankings (excl QB)'!$D:$L,7,0),\"\")","v":""},{"$f":"IFERROR(VLOOKUP($B17,'Total Rankings (excl QB)'!$D:$L,8,0),\"\")","v":""},null,14,{"$f":"IFERROR(INDEX('Total Rankings (excl QB)'!$D:$D,MATCH(1,(\"Running Back\"='Total Rankings (excl QB)'!$C:$C)*(L17='Total Rankings (excl QB)'!$F:$F),0),1),\"\")","v":""},{"$f":"IFERROR(VLOOKUP($M17,'Total Rankings (excl QB)'!$D:$E,2,0),0)","v":0},0,null,{"$f":"IFERROR(VLOOKUP($M17,'Total Rankings (excl QB)'!$D:$L,4,0),\"\")","v":""},{"$f":"IFERROR(VLOOKUP($M17,'Total Rankings (excl QB)'!$D:$L,5,0),\"\")","v":""},{"$f":"IFERROR(VLOOKUP($M17,'Total Rankings (excl QB)'!$D:$L,6,0),\"\")","v":""},{"$f":"IFERROR(VLOOKUP($M17,'Total Rankings (excl QB)'!$D:$L,7,0),\"\")","v":""},{"$f":"IFERROR(VLOOKUP($M17,'Total Rankings (excl QB)'!$D:$L,8,0),\"\")","v":""},null,14,{"$f":"IFERROR(INDEX('Total Rankings (excl QB)'!$D:$D,MATCH(1,(\"Tight End\"='Total Rankings (excl QB)'!$C:$C)*(W17='Total Rankings (excl QB)'!$F:$F),0),1),\"\")","v":""},{"$f":"IFERROR(VLOOKUP($X17,'Total Rankings (excl QB)'!$D:$E,2,0),0)","v":0},0,null,{"$f":"IFERROR(VLOOKUP($X17,'Total Rankings (excl QB)'!$D:$L,4,0),\"\")","v":""},{"$f":"IFERROR(VLOOKUP($X17,'Total Rankings (excl QB)'!$D:$L,5,0),\"\")","v":""},{"$f":"IFERROR(VLOOKUP($X17,'Total Rankings (excl QB)'!$D:$L,6,0),\"\")","v":""},{"$f":"IFERROR(VLOOKUP($X17,'Total Rankings (excl QB)'!$D:$L,7,0),\"\")","v":""},{"$f":"IFERROR(VLOOKUP($X17,'Total Rankings (excl QB)'!$D:$L,8,0),\"\")","v":""},null,14,{"$f":"'QB Rankings'!C17","v":0},{"$f":"'QB Rankings'!D17","v":0},0,null,{"$f":"'QB Rankings'!E17","v":0},{"$f":"'QB Rankings'!F17","v":0},{"$f":"'QB Rankings'!G17","v":0},{"$f":"'QB Rankings'!H17","v":0},{"$f":"'QB Rankings'!I17","v":0}]
[15,{"$f":"IFERROR(INDEX('Total Rankings (excl QB)'!$D:$D,MATCH(1,(\"Wide Receiver\"='Total Rankings (excl QB)'!$C:$C)*(A18='Total Rankings (excl QB)'!$F:$F),0),1),\"\")","v":""},{"$f":"IFERROR(VLOOKUP($B18,'Total Rankings (excl QB)'!$D:$E,2,0),0)","v":0},0,null,{"$f":"IFERROR(VLOOKUP($B18,'Total Rankings (excl QB)'!$D:$L,4,0),\"\")","v":""},{"$f":"IFERROR(VLOOKUP($B18,'Total Rankings (excl QB)'!$D:$L,5,0),\"\")","v":""},{"$f":"IFERROR(VLOOKUP($B18,'Total Rankings (excl QB)'!$D:$L,6,0),\"\")","v":""},{"$f":"IFERROR(VLOOKUP($B18,'Total Rankings (excl QB)'!$D:$L,7,0),\"\")","v":""},{"$f":"IFERROR(VLOOKUP($B18,'Total Rankings (excl QB)'!$D:$L,8,0),\"\")","v":""},null,15,{"$f":"IFERROR(INDEX('Total Rankings (excl QB)'!$D:$D,MATCH(1,(\"Running Back\"='Total Rankings (excl QB)'!$C:$C)*(L18='Total Rankings (excl QB)'!$F:$F),0),1),\"\")","v":""},{"$f":"IFERROR(VLOOKUP($M18,'Total Rankings (excl QB)'!$D:$E,2,0),0)","v":0},0,null,{"$f":"IFERROR(VLOOKUP($M18,'Total Rankings (excl QB)'!$D:$L,4,0),\"\")","v":""},{"$f":"IFERROR(VLOOKUP($M18,'Total Rankings (excl QB)'!$D:$L,5,0),\"\")","v":""},{"$f":"IFERROR(VLOOKUP($M18,'Total Rankings (excl QB)'!$D:$L,6,0),\"\")","v":""},{"$f":"IFERROR(VLOOKUP($M18,'Total Rankings (excl QB)'!$D:$L,7,0),\"\")","v":""},{"$f":"IFERROR(VLOOKUP($M18,'Total Rankings (excl QB)'!$D:$L,8,0),\"\")","v":""},null,15,{"$f":"IFERROR(INDEX('Total Rankings (excl QB)'!$D:$D,MATCH(1,(\"Tight End\"='Total Rankings (excl QB)'!$C:$C)*(W18='Total Rankings (excl QB)'!$F:$F),0),1),\"\")","v":""},{"$f":"IFERROR(VLOOKUP($X18,'Total Rankings (excl QB)'!$D:$E,2,0),0)","v":0},0,null,{"$f":"IFERROR(VLOOKUP($X18,'Total Rankings (excl QB)'!$D:$L,4,0),\"\")","v":""},{"$f":"IFERROR(VLOOKUP($X18,'Total Rankings (excl QB)'!$D:$L,5,0),\"\")","v":""},{"$f":"IFERROR(VLOOKUP($X18,'Total Rankings (excl QB)'!$D:$L,6,0),\"\")","v":""},{"$f":"IFERROR(VLOOKUP($X18,'Total Rankings (excl QB)'!$D:$L,7,0),\"\")","v":""},{"$f":"IFERROR(VLOOKUP($X18,'Total Rankings (excl QB)'!$D:$L,8,0),\"\")","v":""},null,15,{"$f":"'QB Rankings'!C18","v":0},{"$f":"'QB Rankings'!D18","v":0},0,null,{"$f":"'QB Rankings'!E18","v":0},{"$f":"'QB Rankings'!F18","v":0},{"$f":"'QB Rankings'!G18","v":0},{"$f":"'QB Rankings'!H18","v":0},{"$f":"'QB Rankings'!I18","v":0}]
[16,{"$f":"IFERROR(INDEX('Total Rankings (excl QB)'!$D:$D,MATCH(1,(\"Wide Receiver\"='Total Rankings (excl QB)'!$C:$C)*(A19='Total Rankings (excl QB)'!$F:$F),0),1),\"\")","v":""},{"$f":"IFERROR(VLOOKUP($B19,'Total Rankings (excl QB)'!$D:$E,2,0),0)","v":0},0,null,{"$f":"IFERROR(VLOOKUP($B19,'Total Rankings (excl QB)'!$D:$L,4,0),\"\")","v":""},{"$f":"IFERROR(VLOOKUP($B19,'Total Rankings (excl QB)'!$D:$L,5,0),\"\")","v":""},{"$f":"IFERROR(VLOOKUP($B19,'Total Rankings (excl QB)'!$D:$L,6,0),\"\")","v":""},{"$f":"IFERROR(VLOOKUP($B19,'Total Rankings (excl QB)'!$D:$L,7,0),\"\")","v":""},{"$f":"IFERROR(VLOOKUP($B19,'Total Rankings (excl QB)'!$D:$L,8,0),\"\")","v":""},null,16,{"$f":"IFERROR(INDEX('Total Rankings (excl QB)'!$D:$D,MATCH(1,(\"Running Back\"='Total Rankings (excl QB)'!$C:$C)*(L19='Total Rankings (excl QB)'!$F:$F),0),1),\"\")","v":""},{"$f":"IFERROR(VLOOKUP($M19,'Total Rankings (excl QB)'!$D:$E,2,0),0)","v":0},0,null,{"$f":"IFERROR(VLOOKUP($M19,'Total Rankings (excl QB)'!$D:$L,4,0),\"\")","v":""},{"$f":"IFERROR(VLOOKUP($M19,'Total Rankings (excl QB)'!$D:$L,5,0),\"\")","v":""},{"$f":"IFERROR(VLOOKUP($M19,'Total Rankings (excl QB)'!$D:$L,6,0),\"\")","v":""},{"$f":"IFERROR(VLOOKUP($M19,'Total Rankings (excl QB)'!$D:$L,7,0),\"\")","v":""},{"$f":"IFERROR(VLOOKUP($M19,'Total Rankings (excl QB)'!$D:$L,8,0),\"\")","v":""},null,16,{"$f":"IFERROR(INDEX('Total Rankings (excl QB)'!$D:$D,MATCH(1,(\"Tight End\"='Total Rankings (excl QB)'!$C:$C)*(W19='Total Rankings (excl QB)'!$F:$F),0),1),\"\")","v":""},{"$f":"IFERROR(VLOOKUP($X19,'Total Rankings (excl QB)'!$D:$E,2,0),0)","v":0},0,null,{"$f":"IFERROR(VLOOKUP($X19,'Total Rankings (excl QB)'!$D:$L,4,0),\"\")","v":""},{"$f":"IFERROR(VLOOKUP($X19,'Total Rankings (excl QB)'!$D:$L,5,0),\"\")","v":""},{"$f":"IFERROR(VLOOKUP($X19,'Total Rankings (excl QB)'!$D:$L,6,0),\"\")","v":""},{"$f":"IFERROR(VLOOKUP($X19,'Total Rankings (excl QB)'!$D:$L,7,0),\"\")","v":""},{"$f":"IFERROR(VLOOKUP($X19,'Total Rankings (excl QB)'!$D:$L,8,0),\"\")","v":""},null,16,{"$f":"'QB Rankings'!C19","v":0},{"$f":"'QB Rankings'!D19","v":0},0,null,{"$f":"'QB Rankings'!E19","v":0},{"$f":"'QB Rankings'!F19","v":0},{"$f":"'QB Rankings'!G19","v":0},{"$f":"'QB Rankings'!H19","v":0},{"$f":"'QB Rankings'!I19","v":0}]
[17,{"$f":"IFERROR(INDEX('Total Rankings (excl QB)'!$D:$D,MATCH(1,(\"Wide Receiver\"='Total Rankings (excl QB)'!$C:$C)*(A20='Total Rankings (excl QB)'!$F:$F),0),1),\"\")","v":""},{"$f":"IFERROR(VLOOKUP($B20,'Total Rankings (excl QB)'!$D:$E,2,0),0)","v":0},0,null,{"$f":"IFERROR(VLOOKUP($B20,'Total Rankings (excl QB)'!$D:$L,4,0),\"\")","v":""},{"$f":"IFERROR(VLOOKUP($B20,'Total Rankings (excl QB)'!$D:$L,5,0),\"\")","v":""},{"$f":"IFERROR(VLOOKUP($B20,'Total Rankings (excl QB)'!$D:$L,6,0),\"\")","v":""},{"$f":"IFERROR(VLOOKUP($B20,'Total Rankings (excl QB)'!$D:$L,7,0),\"\")","v":""},{"$f":"IFERROR(VLOOKUP($B20,'Total Rankings (excl QB)'!$D:$L,8,0),\"\")","v":""},null,17,{"$f":"IFERROR(INDEX('Total Rankings (excl QB)'!$D:$D,MATCH(1,(\"Running Back\"='Total Rankings (excl QB)'!$C:$C)*(L20='Total Rankings (excl QB)'!$F:$F),0),1),\"\")","v":""},{"$f":"IFERROR(VLOOKUP($M20,'Total Rankings (excl QB)'!$D:$E,2,0),0)","v":0},0,null,{"$f":"IFERROR(VLOOKUP($M20,'Total Rankings (excl QB)'!$D:$L,4,0),\"\")","v":""},{"$f":"IFERROR(VLOOKUP($M20,'Total Rankings (excl QB)'!$D:$L,5,0),\"\")","v":""},{"$f":"IFERROR(VLOOKUP($M20,'Total Rankings (excl QB)'!$D:$L,6,0),\"\")","v":""},{"$f":"IFERROR(VLOOKUP($M20,'Total Rankings (excl QB)'!$D:$L,7,0),\"\")","v":""},{"$f":"IFERROR(VLOOKUP($M20,'Total Rankings (excl QB)'!$D:$L,8,0),\"\")","v":""},null,17,{"$f":"IFERROR(INDEX('Total Rankings (excl QB)'!$D:$D,MATCH(1,(\"Tight End\"='Total Rankings (excl QB)'!$C:$C)*(W20='Total Rankings (excl QB)'!$F:$F),0),1),\"\")","v":""},{"$f":"IFERROR(VLOOKUP($X20,'Total Rankings (excl QB)'!$D:$E,2,0),0)","v":0},0,null,{"$f":"IFERROR(VLOOKUP($X20,'Total Rankings (excl QB)'!$D:$L,4,0),\"\")","v":""},{"$f":"IFERROR(VLOOKUP($X20,'Total Rankings (excl QB)'!$D:$L,5,0),\"\")","v":""},{"$f":"IFERROR(VLOOKUP($X20,'Total Rankings (excl QB)'!$D:$L,6,0),\"\")","v":""},{"$f":"IFERROR(VLOOKUP($X20,'Total Rankings (excl QB)'!$D:$L,7,0),\"\")","v":""},{"$f":"IFERROR(VLOOKUP($X20,'Total Rankings (excl QB)'!$D:$L,8,0),\"\")","v":""},null,17,{"$f":"'QB Rankings'!C20","v":0},{"$f":"'QB Rankings'!D20","v":0},0,null,{"$f":"'QB Rankings'!E20","v":0},{"$f":"'QB Rankings'!F20","v":0},{"$f":"'QB Rankings'!G20","v":0},{"$f":"'QB Rankings'!H20","v":0},{"$f":"'QB Rankings'!I20","v":0}]
[18,{"$f":"IFERROR(INDEX('Total Rankings (excl QB)'!$D:$D,MATCH(1,(\"Wide Receiver\"='Total Rankings (excl QB)'!$C:$C)*(A21='Total Rankings (excl QB)'!$F:$F),0),1),\"\")","v":""},{"$f":"IFERROR(VLOOKUP($B21,'Total Rankings (excl QB)'!$D:$E,2,0),0)","v":0},0,null,{"$f":"IFERROR(VLOOKUP($B21,'Total Rankings (excl QB)'!$D:$L,4,0),\"\")","v":""},{"$f":"IFERROR(VLOOKUP($B21,'Total Rankings (excl QB)'!$D:$L,5,0),\"\")","v":""},{"$f":"IFERROR(VLOOKUP($B21,'Total Rankings (excl QB)'!$D:$L,6,0),\"\")","v":""},{"$f":"IFERROR(VLOOKUP($B21,'Total Rankings (excl QB)'!$D:$L,7,0),\"\")","v":""},{"$f":"IFERROR(VLOOKUP($B21,'Total Rankings (excl QB)'!$D:$L,8,0),\"\")","v":""},null,18,{"$f":"IFERROR(INDEX('Total Rankings (excl QB)'!$D:$D,MATCH(1,(\"Running Back\"='Total Rankings (excl QB)'!$C:$C)*(L21='Total Rankings (excl QB)'!$F:$F),0),1),\"\")","v":""},{"$f":"IFERROR(VLOOKUP($M21,'Total Rankings (excl QB)'!$D:$E,2,0),0)","v":0},0,null,{"$f":"IFERROR(VLOOKUP($M21,'Total Rankings (excl QB)'!$D:$L,4,0),\"\")","v":""},{"$f":"IFERROR(VLOOKUP($M21,'Total Rankings (excl QB)'!$D:$L,5,0),\"\")","v":""},{"$f":"IFERROR(VLOOKUP($M21,'Total Rankings (excl QB)'!$D:$L,6,0),\"\")","v":""},{"$f":"IFERROR(VLOOKUP($M21,'Total Rankings (excl QB)'!$D:$L,7,0),\"\")","v":""},{"$f":"IFERROR(VLOOKUP($M21,'Total Rankings (excl QB)'!$D:$L,8,0),\"\")","v":""},null,18,{"$f":"IFERROR(INDEX('Total Rankings (excl QB)'!$D:$D,MATCH(1,(\"Tight End\"='Total Rankings (excl QB)'!$C:$C)*(W21='Total Rankings (excl QB)'!$F:$F),0),1),\"\")","v":""},{"$f":"IFERROR(VLOOKUP($X21,'Total Rankings (excl QB)'!$D:$E,2,0),0)","v":0},0,null,{"$f":"IFERROR(VLOOKUP($X21,'Total Rankings (excl QB)'!$D:$L,4,0),\"\")","v":""},{"$f":"IFERROR(VLOOKUP($X21,'Total Rankings (excl QB)'!$D:$L,5,0),\"\")","v":""},{"$f":"IFERROR(VLOOKUP($X21,'Total Rankings (excl QB)'!$D:$L,6,0),\"\")","v":""},{"$f":"IFERROR(VLOOKUP($X21,'Total Rankings (excl QB)'!$D:$L,7,0),\"\")","v":""},{"$f":"IFERROR(VLOOKUP($X21,'Total Rankings (excl QB)'!$D:$L,8,0),\"\")","v":""},null,18,{"$f":"'QB Rankings'!C21","v":0},{"$f":"'QB Rankings'!D21","v":0},0,null,{"$f":"'QB Rankings'!E21","v":0},{"$f":"'QB Rankings'!F21","v":0},{"$f":"'QB Rankings'!G21","v":0},{"$f":"'QB Rankings'!H21","v":0},{"$f":"'QB Rankings'!I21","v":0}]
[19,{"$f":"IFERROR(INDEX('Total Rankings (excl QB)'!$D:$D,MATCH(1,(\"Wide Receiver\"='Total Rankings (excl QB)'!$C:$C)*(A22='Total Rankings (excl QB)'!$F:$F),0),1),\"\")","v":""},{"$f":"IFERROR(VLOOKUP($B22,'Total Rankings (excl QB)'!$D:$E,2,0),0)","v":0},0,null,{"$f":"IFERROR(VLOOKUP($B22,'Total Rankings (excl QB)'!$D:$L,4,0),\"\")","v":""},{"$f":"IFERROR(VLOOKUP($B22,'Total Rankings (excl QB)'!$D:$L,5,0),\"\")","v":""},{"$f":"IFERROR(VLOOKUP($B22,'Total Rankings (excl QB)'!$D:$L,6,0),\"\")","v":""},{"$f":"IFERROR(VLOOKUP($B22,'Total Rankings (excl QB)'!$D:$L,7,0),\"\")","v":""},{"$f":"IFERROR(VLOOKUP($B22,'Total Rankings (excl QB)'!$D:$L,8,0),\"\")","v":""},null,19,{"$f":"IFERROR(INDEX('Total Rankings (excl QB)'!$D:$D,MATCH(1,(\"Running Back\"='Total Rankings (excl QB)'!$C:$C)*(L22='Total Rankings (excl QB)'!$F:$F),0),1),\"\")","v":""},{"$f":"IFERROR(VLOOKUP($M22,'Total Rankings (excl QB)'!$D:$E,2,0),0)","v":0},0,null,{"$f":"IFERROR(VLOOKUP($M22,'Total Rankings (excl QB)'!$D:$L,4,0),\"\")","v":""},{"$f":"IFERROR(VLOOKUP($M22,'Total Rankings (excl QB)'!$D:$L,5,0),\"\")","v":""},{"$f":"IFERROR(VLOOKUP($M22,'Total Rankings (excl QB)'!$D:$L,6,0),\"\")","v":""},{"$f":"IFERROR(VLOOKUP($M22,'Total Rankings (excl QB)'!$D:$L,7,0),\"\")","v":""},{"$f":"IFERROR(VLOOKUP($M22,'Total Rankings (excl QB)'!$D:$L,8,0),\"\")","v":""},null,19,{"$f":"IFERROR(INDEX('Total Rankings (excl QB)'!$D:$D,MATCH(1,(\"Tight End\"='Total Rankings (excl QB)'!$C:$C)*(W22='Total Rankings (excl QB)'!$F:$F),0),1),\"\")","v":""},{"$f":"IFERROR(VLOOKUP($X22,'Total Rankings (excl QB)'!$D:$E,2,0),0)","v":0},0,null,{"$f":"IFERROR(VLOOKUP($X22,'Total Rankings (excl QB)'!$D:$L,4,0),\"\")","v":""},{"$f":"IFERROR(VLOOKUP($X22,'Total Rankings (excl QB)'!$D:$L,5,0),\"\")","v":""},{"$f":"IFERROR(VLOOKUP($X22,'Total Rankings (excl QB)'!$D:$L,6,0),\"\")","v":""},{"$f":"IFERROR(VLOOKUP($X22,'Total Rankings (excl QB)'!$D:$L,7,0),\"\")","v":""},{"$f":"IFERROR(VLOOKUP($X22,'Total Rankings (excl QB)'!$D:$L,8,0),\"\")","v":""},null,19,{"$f":"'QB Rankings'!C22","v":0},{"$f":"'QB Rankings'!D22","v":0},0,null,{"$f":"'QB Rankings'!E22","v":0},{"$f":"'QB Rankings'!F22","v":0},{"$f":"'QB Rankings'!G22","v":0},{"$f":"'QB Rankings'!H22","v":0},{"$f":"'QB Rankings'!I22","v":0}]
[20,{"$f":"IFERROR(INDEX('Total Rankings (excl QB)'!$D:$D,MATCH(1,(\"Wide Receiver\"='Total Rankings (excl QB)'!$C:$C)*(A23='Total Rankings (excl QB)'!$F:$F),0),1),\"\")","v":""},{"$f":"IFERROR(VLOOKUP($B23,'Total Rankings (excl QB)'!$D:$E,2,0),0)","v":0},0,null,{"$f":"IFERROR(VLOOKUP($B23,'Total Rankings (excl QB)'!$D:$L,4,0),\"\")","v":""},{"$f":"IFERROR(VLOOKUP($B23,'Total Rankings (excl QB)'!$D:$L,5,0),\"\")","v":""},{"$f":"IFERROR(VLOOKUP($B23,'Total Rankings (excl QB)'!$D:$L,6,0),\"\")","v":""},{"$f":"IFERROR(VLOOKUP($B23,'Total Rankings (excl QB)'!$D:$L,7,0),\"\")","v":""},{"$f":"IFERROR(VLOOKUP($B23,'Total Rankings (excl QB)'!$D:$L,8,0),\"\")","v":""},null,20,{"$f":"IFERROR(INDEX('Total Rankings (excl QB)'!$D:$D,MATCH(1,(\"Running Back\"='Total Rankings (excl QB)'!$C:$C)*(L23='Total Rankings (excl QB)'!$F:$F),0),1),\"\")","v":""},{"$f":"IFERROR(VLOOKUP($M23,'Total Rankings (excl QB)'!$D:$E,2,0),0)","v":0},0,null,{"$f":"IFERROR(VLOOKUP($M23,'Total Rankings (excl QB)'!$D:$L,4,0),\"\")","v":""},{"$f":"IFERROR(VLOOKUP($M23,'Total Rankings (excl QB)'!$D:$L,5,0),\"\")","v":""},{"$f":"IFERROR(VLOOKUP($M23,'Total Rankings (excl QB)'!$D:$L,6,0),\"\")","v":""},{"$f":"IFERROR(VLOOKUP($M23,'Total Rankings (excl QB)'!$D:$L,7,0),\"\")","v":""},{"$f":"IFERROR(VLOOKUP($M23,'Total Rankings (excl QB)'!$D:$L,8,0),\"\")","v":""},null,20,{"$f":"IFERROR(INDEX('Total Rankings (excl QB)'!$D:$D,MATCH(1,(\"Tight End\"='Total Rankings (excl QB)'!$C:$C)*(W23='Total Rankings (excl QB)'!$F:$F),0),1),\"\")","v":""},{"$f":"IFERROR(VLOOKUP($X23,'Total Rankings (excl QB)'!$D:$E,2,0),0)","v":0},0,null,{"$f":"IFERROR(VLOOKUP($X23,'Total Rankings (excl QB)'!$D:$L,4,0),\"\")","v":""},{"$f":"IFERROR(VLOOKUP($X23,'Total Rankings (excl QB)'!$D:$L,5,0),\"\")","v":""},{"$f":"IFERROR(VLOOKUP($X23,'Total Rankings (excl QB)'!$D:$L,6,0),\"\")","v":""},{"$f":"IFERROR(VLOOKUP($X23,'Total Rankings (excl QB)'!$D:$L,7,0),\"\")","v":""},{"$f":"IFERROR(VLOOKUP($X23,'Total Rankings (excl QB)'!$D:$L,8,0),\"\")","v":""},null,20,{"$f":"'QB Rankings'!C23","v":0},{"$f":"'QB Rankings'!D23","v":0},0,null,{"$f":"'QB Rankings'!E23","v":0},{"$f":"'QB Rankings'!F23","v":0},{"$f":"'QB Rankings'!G23","v":0},{"$f":"'QB Rankings'!H23","v":0},{"$f":"'QB Rankings'!I23","v":0}]
[21,{"$f":"IFERROR(INDEX('Total Rankings (excl QB)'!$D:$D,MATCH(1,(\"Wide Receiver\"='Total Rankings (excl QB)'!$C:$C)*(A24='Total Rankings (excl QB)'!$F:$F),0),1),\"\")","v":""},{"$f":"IFERROR(VLOOKUP($B24,'Total Rankings (excl QB)'!$D:$E,2,0),0)","v":0},0,null,{"$f":"IFERROR(VLOOKUP($B24,'Total Rankings (excl QB)'!$D:$L,4,0),\"\")","v":""},{"$f":"IFERROR(VLOOKUP($B24,'Total Rankings (excl QB)'!$D:$L,5,0),\"\")","v":""},{"$f":"IFERROR(VLOOKUP($B24,'Total Rankings (excl QB)'!$D:$L,6,0),\"\")","v":""},{"$f":"IFERROR(VLOOKUP($B24,'Total Rankings (excl QB)'!$D:$L,7,0),\"\")","v":""},{"$f":"IFERROR(VLOOKUP($B24,'Total Rankings (excl QB)'!$D:$L,8,0),\"\")","v":""},null,21,{"$f":"IFERROR(INDEX('Total Rankings (excl QB)'!$D:$D,MATCH(1,(\"Running Back\"='Total Rankings (excl QB)'!$C:$C)*(L24='Total Rankings (excl QB)'!$F:$F),0),1),\"\")","v":""},{"$f":"IFERROR(VLOOKUP($M24,'Total Rankings (excl QB)'!$D:$E,2,0),0)","v":0},0,null,{"$f":"IFERROR(VLOOKUP($M24,'Total Rankings (excl QB)'!$D:$L,4,0),\"\")","v":""},{"$f":"IFERROR(VLOOKUP($M24,'Total Rankings (excl QB)'!$D:$L,5,0),\"\")","v":""},{"$f":"IFERROR(VLOOKUP($M24,'Total Rankings (excl QB)'!$D:$L,6,0),\"\")","v":""},{"$f":"IFERROR(VLOOKUP($M24,'Total Rankings (excl QB)'!$D:$L,7,0),\"\")","v":""},{"$f":"IFERROR(VLOOKUP($M24,'Total Rankings (excl QB)'!$D:$L,8,0),\"\")","v":""},null,21,{"$f":"IFERROR(INDEX('Total Rankings (excl QB)'!$D:$D,MATCH(1,(\"Tight End\"='Total Rankings (excl QB)'!$C:$C)*(W24='Total Rankings (excl QB)'!$F:$F),0),1),\"\")","v":""},{"$f":"IFERROR(VLOOKUP($X24,'Total Rankings (excl QB)'!$D:$E,2,0),0)","v":0},0,null,{"$f":"IFERROR(VLOOKUP($X24,'Total Rankings (excl QB)'!$D:$L,4,0),\"\")","v":""},{"$f":"IFERROR(VLOOKUP($X24,'Total Rankings (excl QB)'!$D:$L,5,0),\"\")","v":""},{"$f":"IFERROR(VLOOKUP($X24,'Total Rankings (excl QB)'!$D:$L,6,0),\"\")","v":""},{"$f":"IFERROR(VLOOKUP($X24,'Total Rankings (excl QB)'!$D:$L,7,0),\"\")","v":""},{"$f":"IFERROR(VLOOKUP($X24,'Total Rankings (excl QB)'!$D:$L,8,0),\"\")","v":""},null,21,{"$f":"'QB Rankings'!C24","v":0},{"$f":"'QB Rankings'!D24","v":0},0,null,{"$f":"'QB Rankings'!E24","v":0},{"$f":"'QB Rankings'!F24","v":0},{"$f":"'QB Rankings'!G24","v":0},{"$f":"'QB Rankings'!H24","v":0},{"$f":"'QB Rankings'!I24","v":0}]
[22,{"$f":"IFERROR(INDEX('Total Rankings (excl QB)'!$D:$D,MATCH(1,(\"Wide Receiver\"='Total Rankings (excl QB)'!$C:$C)*(A25='Total Rankings (excl QB)'!$F:$F),0),1),\"\")","v":""},{"$f":"IFERROR(VLOOKUP($B25,'Total Rankings (excl QB)'!$D:$E,2,0),0)","v":0},0,null,{"$f":"IFERROR(VLOOKUP($B25,'Total Rankings (excl QB)'!$D:$L,4,0),\"\")","v":""},{"$f":"IFERROR(VLOOKUP($B25,'Total Rankings (excl QB)'!$D:$L,5,0),\"\")","v":""},{"$f":"IFERROR(VLOOKUP($B25,'Total Rankings (excl QB)'!$D:$L,6,0),\"\")","v":""},{"$f":"IFERROR(VLOOKUP($B25,'Total Rankings (excl QB)'!$D:$L,7,0),\"\")","v":""},{"$f":"IFERROR(VLOOKUP($B25,'Total Rankings (excl QB)'!$D:$L,8,0),\"\")","v":""},null,22,{"$f":"IFERROR(INDEX('Total Rankings (excl QB)'!$D:$D,MATCH(1,(\"Running Back\"='Total Rankings (excl QB)'!$C:$C)*(L25='Total Rankings (excl QB)'!$F:$F),0),1),\"\")","v":""},{"$f":"IFERROR(VLOOKUP($M25,'Total Rankings (excl QB)'!$D:$E,2,0),0)","v":0},0,null,{"$f":"IFERROR(VLOOKUP($M25,'Total Rankings (excl QB)'!$D:$L,4,0),\"\")","v":""},{"$f":"IFERROR(VLOOKUP($M25,'Total Rankings (excl QB)'!$D:$L,5,0),\"\")","v":""},{"$f":"IFERROR(VLOOKUP($M25,'Total Rankings (excl QB)'!$D:$L,6,0),\"\")","v":""},{"$f":"IFERROR(VLOOKUP($M25,'Total Rankings (excl QB)'!$D:$L,7,0),\"\")","v":""},{"$f":"IFERROR(VLOOKUP($M25,'Total Rankings (excl QB)'!$D:$L,8,0),\"\")","v":""},null,22,{"$f":"IFERROR(INDEX('Total Rankings (excl QB)'!$D:$D,MATCH(1,(\"Tight End\"='Total Rankings (excl QB)'!$C:$C)*(W25='Total Rankings (excl QB)'!$F:$F),0),1),\"\")","v":""},{"$f":"IFERROR(VLOOKUP($X25,'Total Rankings (excl QB)'!$D:$E,2,0),0)","v":0},0,null,{"$f":"IFERROR(VLOOKUP($X25,'Total Rankings (excl QB)'!$D:$L,4,0),\"\")","v":""},{"$f":"IFERROR(VLOOKUP($X25,'Total Rankings (excl QB)'!$D:$L,5,0),\"\")","v":""},{"$f":"IFERROR(VLOOKUP($X25,'Total Rankings (excl QB)'!$D:$L,6,0),\"\")","v":""},{"$f":"IFERROR(VLOOKUP($X25,'Total Rankings (excl QB)'!$D:$L,7,0),\"\")","v":""},{"$f":"IFERROR(VLOOKUP($X25,'Total Rankings (excl QB)'!$D:$L,8,0),\"\")","v":""},null,22,{"$f":"'QB Rankings'!C25","v":0},{"$f":"'QB Rankings'!D25","v":0},0,null,{"$f":"'QB Rankings'!E25","v":0},{"$f":"'QB Rankings'!F25","v":0},{"$f":"'QB Rankings'!G25","v":0},{"$f":"'QB Rankings'!H25","v":0},{"$f":"'QB Rankings'!I25","v":0}]
[23,{"$f":"IFERROR(INDEX('Total Rankings (excl QB)'!$D:$D,MATCH(1,(\"Wide Receiver\"='Total Rankings (excl QB)'!$C:$C)*(A26='Total Rankings (excl QB)'!$F:$F),0),1),\"\")","v":""},{"$f":"IFERROR(VLOOKUP($B26,'Total Rankings (excl QB)'!$D:$E,2,0),0)","v":0},0,null,{"$f":"IFERROR(VLOOKUP($B26,'Total Rankings (excl QB)'!$D:$L,4,0),\"\")","v":""},{"$f":"IFERROR(VLOOKUP($B26,'Total Rankings (excl QB)'!$D:$L,5,0),\"\")","v":""},{"$f":"IFERROR(VLOOKUP($B26,'Total Rankings (excl QB)'!$D:$L,6,0),\"\")","v":""},{"$f":"IFERROR(VLOOKUP($B26,'Total Rankings (excl QB)'!$D:$L,7,0),\"\")","v":""},{"$f":"IFERROR(VLOOKUP($B26,'Total Rankings (excl QB)'!$D:$L,8,0),\"\")","v":""},null,23,{"$f":"IFERROR(INDEX('Total Rankings (excl QB)'!$D:$D,MATCH(1,(\"Running Back\"='Total Rankings (excl QB)'!$C:$C)*(L26='Total Rankings (excl QB)'!$F:$F),0),1),\"\")","v":""},{"$f":"IFERROR(VLOOKUP($M26,'Total Rankings (excl QB)'!$D:$E,2,0),0)","v":0},0,null,{"$f":"IFERROR(VLOOKUP($M26,'Total Rankings (excl QB)'!$D:$L,4,0),\"\")","v":""},{"$f":"IFERROR(VLOOKUP($M26,'Total Rankings (excl QB)'!$D:$L,5,0),\"\")","v":""},{"$f":"IFERROR(VLOOKUP($M26,'Total Rankings (excl QB)'!$D:$L,6,0),\"\")","v":""},{"$f":"IFERROR(VLOOKUP($M26,'Total Rankings (excl QB)'!$D:$L,7,0),\"\")","v":""},{"$f":"IFERROR(VLOOKUP($M26,'Total Rankings (excl QB)'!$D:$L,8,0),\"\")","v":""},null,23,{"$f":"IFERROR(INDEX('Total Rankings (excl QB)'!$D:$D,MATCH(1,(\"Tight End\"='Total Rankings (excl QB)'!$C:$C)*(W26='Total Rankings (excl QB)'!$F:$F),0),1),\"\")","v":""},{"$f":"IFERROR(VLOOKUP($X26,'Total Rankings (excl QB)'!$D:$E,2,0),0)","v":0},0,null,{"$f":"IFERROR(VLOOKUP($X26,'Total Rankings (excl QB)'!$D:$L,4,0),\"\")","v":""},{"$f":"IFERROR(VLOOKUP($X26,'Total Rankings (excl QB)'!$D:$L,5,0),\"\")","v":""},{"$f":"IFERROR(VLOOKUP($X26,'Total Rankings (excl QB)'!$D:$L,6,0),\"\")","v":""},{"$f":"IFERROR(VLOOKUP($X26,'Total Rankings (excl QB)'!$D:$L,7,0),\"\")","v":""},{"$f":"IFERROR(VLOOKUP($X26,'Total Rankings (excl QB)'!$D:$L,8,0),\"\")","v":""},null,23,{"$f":"'QB Rankings'!C26","v":0},{"$f":"'QB Rankings'!D26","v":0},0,null,{"$f":"'QB Rankings'!E26","v":0},{"$f":"'QB Rankings'!F26","v":0},{"$f":"'QB Rankings'!G26","v":0},{"$f":"'QB Rankings'!H26","v":0},{"$f":"'QB Rankings'!I26","v":0}]
[24,{"$f":"IFERROR(INDEX('Total Rankings (excl QB)'!$D:$D,MATCH(1,(\"Wide Receiver\"='Total Rankings (excl QB)'!$C:$C)*(A27='Total Rankings (excl QB)'!$F:$F),0),1),\"\")","v":""},{"$f":"IFERROR(VLOOKUP($B27,'Total Rankings (excl QB)'!$D:$E,2,0),0)","v":0},0,null,{"$f":"IFERROR(VLOOKUP($B27,'Total Rankings (excl QB)'!$D:$L,4,0),\"\")","v":""},{"$f":"IFERROR(VLOOKUP($B27,'Total Rankings (excl QB)'!$D:$L,5,0),\"\")","v":""},{"$f":"IFERROR(VLOOKUP($B27,'Total Rankings (excl QB)'!$D:$L,6,0),\"\")","v":""},{"$f":"IFERROR(VLOOKUP($B27,'Total Rankings (excl QB)'!$D:$L,7,0),\"\")","v":""},{"$f":"IFERROR(VLOOKUP($B27,'Total Rankings (excl QB)'!$D:$L,8,0),\"\")","v":""},null,24,{"$f":"IFERROR(INDEX('Total Rankings (excl QB)'!$D:$D,MATCH(1,(\"Running Back\"='Total Rankings (excl QB)'!$C:$C)*(L27='Total Rankings (excl QB)'!$F:$F),0),1),\"\")","v":""},{"$f":"IFERROR(VLOOKUP($M27,'Total Rankings (excl QB)'!$D:$E,2,0),0)","v":0},0,null,{"$f":"IFERROR(VLOOKUP($M27,'Total Rankings (excl QB)'!$D:$L,4,0),\"\")","v":""},{"$f":"IFERROR(VLOOKUP($M27,'Total Rankings (excl QB)'!$D:$L,5,0),\"\")","v":""},{"$f":"IFERROR(VLOOKUP($M27,'Total Rankings (excl QB)'!$D:$L,6,0),\"\")","v":""},{"$f":"IFERROR(VLOOKUP($M27,'Total Rankings (excl QB)'!$D:$L,7,0),\"\")","v":""},{"$f":"IFERROR(VLOOKUP($M27,'Total Rankings (excl QB)'!$D:$L,8,0),\"\")","v":""},null,24,{"$f":"IFERROR(INDEX('Total Rankings (excl QB)'!$D:$D,MATCH(1,(\"Tight End\"='Total Rankings (excl QB)'!$C:$C)*(W27='Total Rankings (excl QB)'!$F:$F),0),1),\"\")","v":""},{"$f":"IFERROR(VLOOKUP($X27,'Total Rankings (excl QB)'!$D:$E,2,0),0)","v":0},0,null,{"$f":"IFERROR(VLOOKUP($X27,'Total Rankings (excl QB)'!$D:$L,4,0),\"\")","v":""},{"$f":"IFERROR(VLOOKUP($X27,'Total Rankings (excl QB)'!$D:$L,5,0),\"\")","v":""},{"$f":"IFERROR(VLOOKUP($X27,'Total Rankings (excl QB)'!$D:$L,6,0),\"\")","v":""},{"$f":"IFERROR(VLOOKUP($X27,'Total Rankings (excl QB)'!$D:$L,7,0),\"\")","v":""},{"$f":"IFERROR(VLOOKUP($X27,'Total Rankings (excl QB)'!$D:$L,8,0),\"\")","v":""},null,24,{"$f":"'QB Rankings'!C27","v":0},{"$f":"'QB Rankings'!D27","v":0},0,null,{"$f":"'QB Rankings'!E27","v":0},{"$f":"'QB Rankings'!F27","v":0},{"$f":"'QB Rankings'!G27","v":0},{"$f":"'QB Rankings'!H27","v":0},{"$f":"'QB Rankings'!I27","v":0}]
[25,{"$f":"IFERROR(INDEX('Total Rankings (excl QB)'!$D:$D,MATCH(1,(\"Wide Receiver\"='Total Rankings (excl QB)'!$C:$C)*(A28='Total Rankings (excl QB)'!$F:$F),0),1),\"\")","v":""},{"$f":"IFERROR(VLOOKUP($B28,'Total Rankings (excl QB)'!$D:$E,2,0),0)","v":0},0,null,{"$f":"IFERROR(VLOOKUP($B28,'Total Rankings (excl QB)'!$D:$L,4,0),\"\")","v":""},{"$f":"IFERROR(VLOOKUP($B28,'Total Rankings (excl QB)'!$D:$L,5,0),\"\")","v":""},{"$f":"IFERROR(VLOOKUP($B28,'Total Rankings (excl QB)'!$D:$L,6,0),\"\")","v":""},{"$f":"IFERROR(VLOOKUP($B28,'Total Rankings (excl QB)'!$D:$L,7,0),\"\")","v":""},{"$f":"IFERROR(VLOOKUP($B28,'Total Rankings (excl QB)'!$D:$L,8,0),\"\")","v":""},null,25,{"$f":"IFERROR(INDEX('Total Rankings (excl QB)'!$D:$D,MATCH(1,(\"Running Back\"='Total Rankings (excl QB)'!$C:$C)*(L28='Total Rankings (excl QB)'!$F:$F),0),1),\"\")","v":""},{"$f":"IFERROR(VLOOKUP($M28,'Total Rankings (excl QB)'!$D:$E,2,0),0)","v":0},0,null,{"$f":"IFERROR(VLOOKUP($M28,'Total Rankings (excl QB)'!$D:$L,4,0),\"\")","v":""},{"$f":"IFERROR(VLOOKUP($M28,'Total Rankings (excl QB)'!$D:$L,5,0),\"\")","v":""},{"$f":"IFERROR(VLOOKUP($M28,'Total Rankings (excl QB)'!$D:$L,6,0),\"\")","v":""},{"$f":"IFERROR(VLOOKUP($M28,'Total Rankings (excl QB)'!$D:$L,7,0),\"\")","v":""},{"$f":"IFERROR(VLOOKUP($M28,'Total Rankings (excl QB)'!$D:$L,8,0),\"\")","v":""},null,25,{"$f":"IFERROR(INDEX('Total Rankings (excl QB)'!$D:$D,MATCH(1,(\"Tight End\"='Total Rankings (excl QB)'!$C:$C)*(W28='Total Rankings (excl QB)'!$F:$F),0),1),\"\")","v":""},{"$f":"IFERROR(VLOOKUP($X28,'Total Rankings (excl QB)'!$D:$E,2,0),0)","v":0},0,null,{"$f":"IFERROR(VLOOKUP($X28,'Total Rankings (excl QB)'!$D:$L,4,0),\"\")","v":""},{"$f":"IFERROR(VLOOKUP($X28,'Total Rankings (excl QB)'!$D:$L,5,0),\"\")","v":""},{"$f":"IFERROR(VLOOKUP($X28,'Total Rankings (excl QB)'!$D:$L,6,0),\"\")","v":""},{"$f":"IFERROR(VLOOKUP($X28,'Total Rankings (excl QB)'!$D:$L,7,0),\"\")","v":""},{"$f":"IFERROR(VLOOKUP($X28,'Total Rankings (excl QB)'!$D:$L,8,0),\"\")","v":""},null,25,{"$f":"'QB Rankings'!C28","v":0},{"$f":"'QB Rankings'!D28","v":0},0,null,{"$f":"'QB Rankings'!E28","v":0},{"$f":"'QB Rankings'!F28","v":0},{"$f":"'QB Rankings'!G28","v":0},{"$f":"'QB Rankings'!H28","v":0},{"$f":"'QB Rankings'!I28","v":0}]
[26,{"$f":"IFERROR(INDEX('Total Rankings (excl QB)'!$D:$D,MATCH(1,(\"Wide Receiver\"='Total Rankings (excl QB)'!$C:$C)*(A29='Total Rankings (excl QB)'!$F:$F),0),1),\"\")","v":""},{"$f":"IFERROR(VLOOKUP($B29,'Total Rankings (excl QB)'!$D:$E,2,0),0)","v":0},0,null,{"$f":"IFERROR(VLOOKUP($B29,'Total Rankings (excl QB)'!$D:$L,4,0),\"\")","v":""},{"$f":"IFERROR(VLOOKUP($B29,'Total Rankings (excl QB)'!$D:$L,5,0),\"\")","v":""},{"$f":"IFERROR(VLOOKUP($B29,'Total Rankings (excl QB)'!$D:$L,6,0),\"\")","v":""},{"$f":"IFERROR(VLOOKUP($B29,'Total Rankings (excl QB)'!$D:$L,7,0),\"\")","v":""},{"$f":"IFERROR(VLOOKUP($B29,'Total Rankings (excl QB)'!$D:$L,8,0),\"\")","v":""},null,26,{"$f":"IFERROR(INDEX('Total Rankings (excl QB)'!$D:$D,MATCH(1,(\"Running Back\"='Total Rankings (excl QB)'!$C:$C)*(L29='Total Rankings (excl QB)'!$F:$F),0),1),\"\")","v":""},{"$f":"IFERROR(VLOOKUP($M29,'Total Rankings (excl QB)'!$D:$E,2,0),0)","v":0},0,null,{"$f":"IFERROR(VLOOKUP($M29,'Total Rankings (excl QB)'!$D:$L,4,0),\"\")","v":""},{"$f":"IFERROR(VLOOKUP($M29,'Total Rankings (excl QB)'!$D:$L,5,0),\"\")","v":""},{"$f":"IFERROR(VLOOKUP($M29,'Total Rankings (excl QB)'!$D:$L,6,0),\"\")","v":""},{"$f":"IFERROR(VLOOKUP($M29,'Total Rankings (excl QB)'!$D:$L,7,0),\"\")","v":""},{"$f":"IFERROR(VLOOKUP($M29,'Total Rankings (excl QB)'!$D:$L,8,0),\"\")","v":""},null,26,{"$f":"IFERROR(INDEX('Total Rankings (excl QB)'!$D:$D,MATCH(1,(\"Tight End\"='Total Rankings (excl QB)'!$C:$C)*(W29='Total Rankings (excl QB)'!$F:$F),0),1),\"\")","v":""},{"$f":"IFERROR(VLOOKUP($X29,'Total Rankings (excl QB)'!$D:$E,2,0),0)","v":0},0,null,{"$f":"IFERROR(VLOOKUP($X29,'Total Rankings (excl QB)'!$D:$L,4,0),\"\")","v":""},{"$f":"IFERROR(VLOOKUP($X29,'Total Rankings (excl QB)'!$D:$L,5,0),\"\")","v":""},{"$f":"IFERROR(VLOOKUP($X29,'Total Rankings (excl QB)'!$D:$L,6,0),\"\")","v":""},{"$f":"IFERROR(VLOOKUP($X29,'Total Rankings (excl QB)'!$D:$L,7,0),\"\")","v":""},{"$f":"IFERROR(VLOOKUP($X29,'Total Rankings (excl QB)'!$D:$L,8,0),\"\")","v":""},null,26,{"$f":"'QB Rankings'!C29","v":0},{"$f":"'QB Rankings'!D29","v":0},0,null,{"$f":"'QB Rankings'!E29","v":0},{"$f":"'QB Rankings'!F29","v":0},{"$f":"'QB Rankings'!G29","v":0},{"$f":"'QB Rankings'!H29","v":0},{"$f":"'QB Rankings'!I29","v":0}]
[27,{"$f":"IFERROR(INDEX('Total Rankings (excl QB)'!$D:$D,MATCH(1,(\"Wide Receiver\"='Total Rankings (excl QB)'!$C:$C)*(A30='Total Rankings (excl QB)'!$F:$F),0),1),\"\")","v":""},{"$f":"IFERROR(VLOOKUP($B30,'Total Rankings (excl QB)'!$D:$E,2,0),0)","v":0},0,null,{"$f":"IFERROR(VLOOKUP($B30,'Total Rankings (excl QB)'!$D:$L,4,0),\"\")","v":""},{"$f":"IFERROR(VLOOKUP($B30,'Total Rankings (excl QB)'!$D:$L,5,0),\"\")","v":""},{"$f":"IFERROR(VLOOKUP($B30,'Total Rankings (excl QB)'!$D:$L,6,0),\"\")","v":""},{"$f":"IFERROR(VLOOKUP($B30,'Total Rankings (excl QB)'!$D:$L,7,0),\"\")","v":""},{"$f":"IFERROR(VLOOKUP($B30,'Total Rankings (excl QB)'!$D:$L,8,0),\"\")","v":""},null,27,{"$f":"IFERROR(INDEX('Total Rankings (excl QB)'!$D:$D,MATCH(1,(\"Running Back\"='Total Rankings (excl QB)'!$C:$C)*(L30='Total Rankings (excl QB)'!$F:$F),0),1),\"\")","v":""},{"$f":"IFERROR(VLOOKUP($M30,'Total Rankings (excl QB)'!$D:$E,2,0),0)","v":0},0,null,{"$f":"IFERROR(VLOOKUP($M30,'Total Rankings (excl QB)'!$D:$L,4,0),\"\")","v":""},{"$f":"IFERROR(VLOOKUP($M30,'Total Rankings (excl QB)'!$D:$L,5,0),\"\")","v":""},{"$f":"IFERROR(VLOOKUP($M30,'Total Rankings (excl QB)'!$D:$L,6,0),\"\")","v":""},{"$f":"IFERROR(VLOOKUP($M30,'Total Rankings (excl QB)'!$D:$L,7,0),\"\")","v":""},{"$f":"IFERROR(VLOOKUP($M30,'Total Rankings (excl QB)'!$D:$L,8,0),\"\")","v":""},null,27,{"$f":"IFERROR(INDEX('Total Rankings (excl QB)'!$D:$D,MATCH(1,(\"Tight End\"='Total Rankings (excl QB)'!$C:$C)*(W30='Total Rankings (excl QB)'!$F:$F),0),1),\"\")","v":""},{"$f":"IFERROR(VLOOKUP($X30,'Total Rankings (excl QB)'!$D:$E,2,0),0)","v":0},0,null,{"$f":"IFERROR(VLOOKUP($X30,'Total Rankings (excl QB)'!$D:$L,4,0),\"\")","v":""},{"$f":"IFERROR(VLOOKUP($X30,'Total Rankings (excl QB)'!$D:$L,5,0),\"\")","v":""},{"$f":"IFERROR(VLOOKUP($X30,'Total Rankings (excl QB)'!$D:$L,6,0),\"\")","v":""},{"$f":"IFERROR(VLOOKUP($X30,'Total Rankings (excl QB)'!$D:$L,7,0),\"\")","v":""},{"$f":"IFERROR(VLOOKUP($X30,'Total Rankings (excl QB)'!$D:$L,8,0),\"\")","v":""},null,27,{"$f":"'QB Rankings'!C30","v":0},{"$f":"'QB Rankings'!D30","v":0},0,null,{"$f":"'QB Rankings'!E30","v":0},{"$f":"'QB Rankings'!F30","v":0},{"$f":"'QB Rankings'!G30","v":0},{"$f":"'QB Rankings'!H30","v":0},{"$f":"'QB Rankings'!I30","v":0}]
[28,{"$f":"IFERROR(INDEX('Total Rankings (excl QB)'!$D:$D,MATCH(1,(\"Wide Receiver\"='Total Rankings (excl QB)'!$C:$C)*(A31='Total Rankings (excl QB)'!$F:$F),0),1),\"\")","v":""},{"$f":"IFERROR(VLOOKUP($B31,'Total Rankings (excl QB)'!$D:$E,2,0),0)","v":0},0,null,{"$f":"IFERROR(VLOOKUP($B31,'Total Rankings (excl QB)'!$D:$L,4,0),\"\")","v":""},{"$f":"IFERROR(VLOOKUP($B31,'Total Rankings (excl QB)'!$D:$L,5,0),\"\")","v":""},{"$f":"IFERROR(VLOOKUP($B31,'Total Rankings (excl QB)'!$D:$L,6,0),\"\")","v":""},{"$f":"IFERROR(VLOOKUP($B31,'Total Rankings (excl QB)'!$D:$L,7,0),\"\")","v":""},{"$f":"IFERROR(VLOOKUP($B31,'Total Rankings (excl QB)'!$D:$L,8,0),\"\")","v":""},null,28,{"$f":"IFERROR(INDEX('Total Rankings (excl QB)'!$D:$D,MATCH(1,(\"Running Back\"='Total Rankings (excl QB)'!$C:$C)*(L31='Total Rankings (excl QB)'!$F:$F),0),1),\"\")","v":""},{"$f":"IFERROR(VLOOKUP($M31,'Total Rankings (excl QB)'!$D:$E,2,0),0)","v":0},0,null,{"$f":"IFERROR(VLOOKUP($M31,'Total Rankings (excl QB)'!$D:$L,4,0),\"\")","v":""},{"$f":"IFERROR(VLOOKUP($M31,'Total Rankings (excl QB)'!$D:$L,5,0),\"\")","v":""},{"$f":"IFERROR(VLOOKUP($M31,'Total Rankings (excl QB)'!$D:$L,6,0),\"\")","v":""},{"$f":"IFERROR(VLOOKUP($M31,'Total Rankings (excl QB)'!$D:$L,7,0),\"\")","v":""},{"$f":"IFERROR(VLOOKUP($M31,'Total Rankings (excl QB)'!$D:$L,8,0),\"\")","v":""},null,28,{"$f":"IFERROR(INDEX('Total Rankings (excl QB)'!$D:$D,MATCH(1,(\"Tight End\"='Total Rankings (excl QB)'!$C:$C)*(W31='Total Rankings (excl QB)'!$F:$F),0),1),\"\")","v":""},{"$f":"IFERROR(VLOOKUP($X31,'Total Rankings (excl QB)'!$D:$E,2,0),0)","v":0},0,null,{"$f":"IFERROR(VLOOKUP($X31,'Total Rankings (excl QB)'!$D:$L,4,0),\"\")","v":""},{"$f":"IFERROR(VLOOKUP($X31,'Total Rankings (excl QB)'!$D:$L,5,0),\"\")","v":""},{"$f":"IFERROR(VLOOKUP($X31,'Total Rankings (excl QB)'!$D:$L,6,0),\"\")","v":""},{"$f":"IFERROR(VLOOKUP($X31,'Total Rankings (excl QB)'!$D:$L,7,0),\"\")","v":""},{"$f":"IFERROR(VLOOKUP($X31,'Total Rankings (excl QB)'!$D:$L,8,0),\"\")","v":""},null,28,{"$f":"'QB Rankings'!C31","v":0},{"$f":"'QB Rankings'!D31","v":0},0,null,{"$f":"'QB Rankings'!E31","v":0},{"$f":"'QB Rankings'!F31","v":0},{"$f":"'QB Rankings'!G31","v":0},{"$f":"'QB Rankings'!H31","v":0},{"$f":"'QB Rankings'!I31","v":0}]
[29,{"$f":"IFERROR(INDEX('Total Rankings (excl QB)'!$D:$D,MATCH(1,(\"Wide Receiver\"='Total Rankings (excl QB)'!$C:$C)*(A32='Total Rankings (excl QB)'!$F:$F),0),1),\"\")","v":""},{"$f":"IFERROR(VLOOKUP($B32,'Total Rankings (excl QB)'!$D:$E,2,0),0)","v":0},0,null,{"$f":"IFERROR(VLOOKUP($B32,'Total Rankings (excl QB)'!$D:$L,4,0),\"\")","v":""},{"$f":"IFERROR(VLOOKUP($B32,'Total Rankings (excl QB)'!$D:$L,5,0),\"\")","v":""},{"$f":"IFERROR(VLOOKUP($B32,'Total Rankings (excl QB)'!$D:$L,6,0),\"\")","v":""},{"$f":"IFERROR(VLOOKUP($B32,'Total Rankings (excl QB)'!$D:$L,7,0),\"\")","v":""},{"$f":"IFERROR(VLOOKUP($B32,'Total Rankings (excl QB)'!$D:$L,8,0),\"\")","v":""},null,29,{"$f":"IFERROR(INDEX('Total Rankings (excl QB)'!$D:$D,MATCH(1,(\"Running Back\"='Total Rankings (excl QB)'!$C:$C)*(L32='Total Rankings (excl QB)'!$F:$F),0),1),\"\")","v":""},{"$f":"IFERROR(VLOOKUP($M32,'Total Rankings (excl QB)'!$D:$E,2,0),0)","v":0},0,null,{"$f":"IFERROR(VLOOKUP($M32,'Total Rankings (excl QB)'!$D:$L,4,0),\"\")","v":""},{"$f":"IFERROR(VLOOKUP($M32,'Total Rankings (excl QB)'!$D:$L,5,0),\"\")","v":""},{"$f":"IFERROR(VLOOKUP($M32,'Total Rankings (excl QB)'!$D:$L,6,0),\"\")","v":""},{"$f":"IFERROR(VLOOKUP($M32,'Total Rankings (excl QB)'!$D:$L,7,0),\"\")","v":""},{"$f":"IFERROR(VLOOKUP($M32,'Total Rankings (excl QB)'!$D:$L,8,0),\"\")","v":""},null,29,{"$f":"IFERROR(INDEX('Total Rankings (excl QB)'!$D:$D,MATCH(1,(\"Tight End\"='Total Rankings (excl QB)'!$C:$C)*(W32='Total Rankings (excl QB)'!$F:$F),0),1),\"\")","v":""},{"$f":"IFERROR(VLOOKUP($X32,'Total Rankings (excl QB)'!$D:$E,2,0),0)","v":0},0,null,{"$f":"IFERROR(VLOOKUP($X32,'Total Rankings (excl QB)'!$D:$L,4,0),\"\")","v":""},{"$f":"IFERROR(VLOOKUP($X32,'Total Rankings (excl QB)'!$D:$L,5,0),\"\")","v":""},{"$f":"IFERROR(VLOOKUP($X32,'Total Rankings (excl QB)'!$D:$L,6,0),\"\")","v":""},{"$f":"IFERROR(VLOOKUP($X32,'Total Rankings (excl QB)'!$D:$L,7,0),\"\")","v":""},{"$f":"IFERROR(VLOOKUP($X32,'Total Rankings (excl QB)'!$D:$L,8,0),\"\")","v":""},null,29,{"$f":"'QB Rankings'!C32","v":0},{"$f":"'QB Rankings'!D32","v":0},0,null,{"$f":"'QB Rankings'!E32","v":0},{"$f":"'QB Rankings'!F32","v":0},{"$f":"'QB Rankings'!G32","v":0},{"$f":"'QB Rankings'!H32","v":0},{"$f":"'QB Rankings'!I32","v":0}]
[30,{"$f":"IFERROR(INDEX('Total Rankings (excl QB)'!$D:$D,MATCH(1,(\"Wide Receiver\"='Total Rankings (excl QB)'!$C:$C)*(A33='Total Rankings (excl QB)'!$F:$F),0),1),\"\")","v":""},{"$f":"IFERROR(VLOOKUP($B33,'Total Rankings (excl QB)'!$D:$E,2,0),0)","v":0},0,null,{"$f":"IFERROR(VLOOKUP($B33,'Total Rankings (excl QB)'!$D:$L,4,0),\"\")","v":""},{"$f":"IFERROR(VLOOKUP($B33,'Total Rankings (excl QB)'!$D:$L,5,0),\"\")","v":""},{"$f":"IFERROR(VLOOKUP($B33,'Total Rankings (excl QB)'!$D:$L,6,0),\"\")","v":""},{"$f":"IFERROR(VLOOKUP($B33,'Total Rankings (excl QB)'!$D:$L,7,0),\"\")","v":""},{"$f":"IFERROR(VLOOKUP($B33,'Total Rankings (excl QB)'!$D:$L,8,0),\"\")","v":""},null,30,{"$f":"IFERROR(INDEX('Total Rankings (excl QB)'!$D:$D,MATCH(1,(\"Running Back\"='Total Rankings (excl QB)'!$C:$C)*(L33='Total Rankings (excl QB)'!$F:$F),0),1),\"\")","v":""},{"$f":"IFERROR(VLOOKUP($M33,'Total Rankings (excl QB)'!$D:$E,2,0),0)","v":0},0,null,{"$f":"IFERROR(VLOOKUP($M33,'Total Rankings (excl QB)'!$D:$L,4,0),\"\")","v":""},{"$f":"IFERROR(VLOOKUP($M33,'Total Rankings (excl QB)'!$D:$L,5,0),\"\")","v":""},{"$f":"IFERROR(VLOOKUP($M33,'Total Rankings (excl QB)'!$D:$L,6,0),\"\")","v":""},{"$f":"IFERROR(VLOOKUP($M33,'Total Rankings (excl QB)'!$D:$L,7,0),\"\")","v":""},{"$f":"IFERROR(VLOOKUP($M33,'Total Rankings (excl QB)'!$D:$L,8,0),\"\")","v":""},null,30,{"$f":"IFERROR(INDEX('Total Rankings (excl QB)'!$D:$D,MATCH(1,(\"Tight End\"='Total Rankings (excl QB)'!$C:$C)*(W33='Total Rankings (excl QB)'!$F:$F),0),1),\"\")","v":""},{"$f":"IFERROR(VLOOKUP($X33,'Total Rankings (excl QB)'!$D:$E,2,0),0)","v":0},0,null,{"$f":"IFERROR(VLOOKUP($X33,'Total Rankings (excl QB)'!$D:$L,4,0),\"\")","v":""},{"$f":"IFERROR(VLOOKUP($X33,'Total Rankings (excl QB)'!$D:$L,5,0),\"\")","v":""},{"$f":"IFERROR(VLOOKUP($X33,'Total Rankings (excl QB)'!$D:$L,6,0),\"\")","v":""},{"$f":"IFERROR(VLOOKUP($X33,'Total Rankings (excl QB)'!$D:$L,7,0),\"\")","v":""},{"$f":"IFERROR(VLOOKUP($X33,'Total Rankings (excl QB)'!$D:$L,8,0),\"\")","v":""},null,30,{"$f":"'QB Rankings'!C33","v":0},{"$f":"'QB Rankings'!D33","v":0},0,null,{"$f":"'QB Rankings'!E33","v":0},{"$f":"'QB Rankings'!F33","v":0},{"$f":"'QB Rankings'!G33","v":0},{"$f":"'QB Rankings'!H33","v":0},{"$f":"'QB Rankings'!I33","v":0}]
[31,{"$f":"IFERROR(INDEX('Total Rankings (excl QB)'!$D:$D,MATCH(1,(\"Wide Receiver\"='Total Rankings (excl QB)'!$C:$C)*(A34='Total Rankings (excl QB)'!$F:$F),0),1),\"\")","v":""},{"$f":"IFERROR(VLOOKUP($B34,'Total Rankings (excl QB)'!$D:$E,2,0),0)","v":0},0,null,{"$f":"IFERROR(VLOOKUP($B34,'Total Rankings (excl QB)'!$D:$L,4,0),\"\")","v":""},{"$f":"IFERROR(VLOOKUP($B34,'Total Rankings (excl QB)'!$D:$L,5,0),\"\")","v":""},{"$f":"IFERROR(VLOOKUP($B34,'Total Rankings (excl QB)'!$D:$L,6,0),\"\")","v":""},{"$f":"IFERROR(VLOOKUP($B34,'Total Rankings (excl QB)'!$D:$L,7,0),\"\")","v":""},{"$f":"IFERROR(VLOOKUP($B34,'Total Rankings (excl QB)'!$D:$L,8,0),\"\")","v":""},null,31,{"$f":"IFERROR(INDEX('Total Rankings (excl QB)'!$D:$D,MATCH(1,(\"Running Back\"='Total Rankings (excl QB)'!$C:$C)*(L34='Total Rankings (excl QB)'!$F:$F),0),1),\"\")","v":""},{"$f":"IFERROR(VLOOKUP($M34,'Total Rankings (excl QB)'!$D:$E,2,0),0)","v":0},0,null,{"$f":"IFERROR(VLOOKUP($M34,'Total Rankings (excl QB)'!$D:$L,4,0),\"\")","v":""},{"$f":"IFERROR(VLOOKUP($M34,'Total Rankings (excl QB)'!$D:$L,5,0),\"\")","v":""},{"$f":"IFERROR(VLOOKUP($M34,'Total Rankings (excl QB)'!$D:$L,6,0),\"\")","v":""},{"$f":"IFERROR(VLOOKUP($M34,'Total Rankings (excl QB)'!$D:$L,7,0),\"\")","v":""},{"$f":"IFERROR(VLOOKUP($M34,'Total Rankings (excl QB)'!$D:$L,8,0),\"\")","v":""},null,31,{"$f":"IFERROR(INDEX('Total Rankings (excl QB)'!$D:$D,MATCH(1,(\"Tight End\"='Total Rankings (excl QB)'!$C:$C)*(W34='Total Rankings (excl QB)'!$F:$F),0),1),\"\")","v":""},{"$f":"IFERROR(VLOOKUP($X34,'Total Rankings (excl QB)'!$D:$E,2,0),0)","v":0},0,null,{"$f":"IFERROR(VLOOKUP($X34,'Total Rankings (excl QB)'!$D:$L,4,0),\"\")","v":""},{"$f":"IFERROR(VLOOKUP($X34,'Total Rankings (excl QB)'!$D:$L,5,0),\"\")","v":""},{"$f":"IFERROR(VLOOKUP($X34,'Total Rankings (excl QB)'!$D:$L,6,0),\"\")","v":""},{"$f":"IFERROR(VLOOKUP($X34,'Total Rankings (excl QB)'!$D:$L,7,0),\"\")","v":""},{"$f":"IFERROR(VLOOKUP($X34,'Total Rankings (excl QB)'!$D:$L,8,0),\"\")","v":""},null,31,{"$f":"'QB Rankings'!C34","v":0},{"$f":"'QB Rankings'!D34","v":0},0,null,{"$f":"'QB Rankings'!E34","v":0},{"$f":"'QB Rankings'!F34","v":0},{"$f":"'QB Rankings'!G34","v":0},{"$f":"'QB Rankings'!H34","v":0},{"$f":"'QB Rankings'!I34","v":0}]
[32,{"$f":"IFERROR(INDEX('Total Rankings (excl QB)'!$D:$D,MATCH(1,(\"Wide Receiver\"='Total Rankings (excl QB)'!$C:$C)*(A35='Total Rankings (excl QB)'!$F:$F),0),1),\"\")","v":""},{"$f":"IFERROR(VLOOKUP($B35,'Total Rankings (excl QB)'!$D:$E,2,0),0)","v":0},0,null,{"$f":"IFERROR(VLOOKUP($B35,'Total Rankings (excl QB)'!$D:$L,4,0),\"\")","v":""},{"$f":"IFERROR(VLOOKUP($B35,'Total Rankings (excl QB)'!$D:$L,5,0),\"\")","v":""},{"$f":"IFERROR(VLOOKUP($B35,'Total Rankings (excl QB)'!$D:$L,6,0),\"\")","v":""},{"$f":"IFERROR(VLOOKUP($B35,'Total Rankings (excl QB)'!$D:$L,7,0),\"\")","v":""},{"$f":"IFERROR(VLOOKUP($B35,'Total Rankings (excl QB)'!$D:$L,8,0),\"\")","v":""},null,32,{"$f":"IFERROR(INDEX('Total Rankings (excl QB)'!$D:$D,MATCH(1,(\"Running Back\"='Total Rankings (excl QB)'!$C:$C)*(L35='Total Rankings (excl QB)'!$F:$F),0),1),\"\")","v":""},{"$f":"IFERROR(VLOOKUP($M35,'Total Rankings (excl QB)'!$D:$E,2,0),0)","v":0},0,null,{"$f":"IFERROR(VLOOKUP($M35,'Total Rankings (excl QB)'!$D:$L,4,0),\"\")","v":""},{"$f":"IFERROR(VLOOKUP($M35,'Total Rankings (excl QB)'!$D:$L,5,0),\"\")","v":""},{"$f":"IFERROR(VLOOKUP($M35,'Total Rankings (excl QB)'!$D:$L,6,0),\"\")","v":""},{"$f":"IFERROR(VLOOKUP($M35,'Total Rankings (excl QB)'!$D:$L,7,0),\"\")","v":""},{"$f":"IFERROR(VLOOKUP($M35,'Total Rankings (excl QB)'!$D:$L,8,0),\"\")","v":""},null,32,{"$f":"IFERROR(INDEX('Total Rankings (excl QB)'!$D:$D,MATCH(1,(\"Tight End\"='Total Rankings (excl QB)'!$C:$C)*(W35='Total Rankings (excl QB)'!$F:$F),0),1),\"\")","v":""},{"$f":"IFERROR(VLOOKUP($X35,'Total Rankings (excl QB)'!$D:$E,2,0),0)","v":0},0,null,{"$f":"IFERROR(VLOOKUP($X35,'Total Rankings (excl QB)'!$D:$L,4,0),\"\")","v":""},{"$f":"IFERROR(VLOOKUP($X35,'Total Rankings (excl QB)'!$D:$L,5,0),\"\")","v":""},{"$f":"IFERROR(VLOOKUP($X35,'Total Rankings (excl QB)'!$D:$L,6,0),\"\")","v":""},{"$f":"IFERROR(VLOOKUP($X35,'Total Rankings (excl QB)'!$D:$L,7,0),\"\")","v":""},{"$f":"IFERROR(VLOOKUP($X35,'Total Rankings (excl QB)'!$D:$L,8,0),\"\")","v":""},null,32,{"$f":"'QB Rankings'!C35","v":0},{"$f":"'QB Rankings'!D35","v":0},0,null,{"$f":"'QB Rankings'!E35","v":0},{"$f":"'QB Rankings'!F35","v":0},{"$f":"'QB Rankings'!G35","v":0},{"$f":"'QB Rankings'!H35","v":0},{"$f":"'QB Rankings'!I35","v":0}]
[33,{"$f":"IFERROR(INDEX('Total Rankings (excl QB)'!$D:$D,MATCH(1,(\"Wide Receiver\"='Total Rankings (excl QB)'!$C:$C)*(A36='Total Rankings (excl QB)'!$F:$F),0),1),\"\")","v":""},{"$f":"IFERROR(VLOOKUP($B36,'Total Rankings (excl QB)'!$D:$E,2,0),0)","v":0},0,null,{"$f":"IFERROR(VLOOKUP($B36,'Total Rankings (excl QB)'!$D:$L,4,0),\"\")","v":""},{"$f":"IFERROR(VLOOKUP($B36,'Total Rankings (excl QB)'!$D:$L,5,0),\"\")","v":""},{"$f":"IFERROR(VLOOKUP($B36,'Total Rankings (excl QB)'!$D:$L,6,0),\"\")","v":""},{"$f":"IFERROR(VLOOKUP($B36,'Total Rankings (excl QB)'!$D:$L,7,0),\"\")","v":""},{"$f":"IFERROR(VLOOKUP($B36,'Total Rankings (excl QB)'!$D:$L,8,0),\"\")","v":""},null,33,{"$f":"IFERROR(INDEX('Total Rankings (excl QB)'!$D:$D,MATCH(1,(\"Running Back\"='Total Rankings (excl QB)'!$C:$C)*(L36='Total Rankings (excl QB)'!$F:$F),0),1),\"\")","v":""},{"$f":"IFERROR(VLOOKUP($M36,'Total Rankings (excl QB)'!$D:$E,2,0),0)","v":0},0,null,{"$f":"IFERROR(VLOOKUP($M36,'Total Rankings (excl QB)'!$D:$L,4,0),\"\")","v":""},{"$f":"IFERROR(VLOOKUP($M36,'Total Rankings (excl QB)'!$D:$L,5,0),\"\")","v":""},{"$f":"IFERROR(VLOOKUP($M36,'Total Rankings (excl QB)'!$D:$L,6,0),\"\")","v":""},{"$f":"IFERROR(VLOOKUP($M36,'Total Rankings (excl QB)'!$D:$L,7,0),\"\")","v":""},{"$f":"IFERROR(VLOOKUP($M36,'Total Rankings (excl QB)'!$D:$L,8,0),\"\")","v":""},null,33,{"$f":"IFERROR(INDEX('Total Rankings (excl QB)'!$D:$D,MATCH(1,(\"Tight End\"='Total Rankings (excl QB)'!$C:$C)*(W36='Total Rankings (excl QB)'!$F:$F),0),1),\"\")","v":""},{"$f":"IFERROR(VLOOKUP($X36,'Total Rankings (excl QB)'!$D:$E,2,0),0)","v":0},0,null,{"$f":"IFERROR(VLOOKUP($X36,'Total Rankings (excl QB)'!$D:$L,4,0),\"\")","v":""},{"$f":"IFERROR(VLOOKUP($X36,'Total Rankings (excl QB)'!$D:$L,5,0),\"\")","v":""},{"$f":"IFERROR(VLOOKUP($X36,'Total Rankings (excl QB)'!$D:$L,6,0),\"\")","v":""},{"$f":"IFERROR(VLOOKUP($X36,'Total Rankings (excl QB)'!$D:$L,7,0),\"\")","v":""},{"$f":"IFERROR(VLOOKUP($X36,'Total Rankings (excl QB)'!$D:$L,8,0),\"\")","v":""},null,33,{"$f":"'QB Rankings'!C36","v":0},{"$f":"'QB Rankings'!D36","v":0},0,null,{"$f":"'QB Rankings'!E36","v":0},{"$f":"'QB Rankings'!F36","v":0},{"$f":"'QB Rankings'!G36","v":0},{"$f":"'QB Rankings'!H36","v":0},{"$f":"'QB Rankings'!I36","v":0}]
[34,{"$f":"IFERROR(INDEX('Total Rankings (excl QB)'!$D:$D,MATCH(1,(\"Wide Receiver\"='Total Rankings (excl QB)'!$C:$C)*(A37='Total Rankings (excl QB)'!$F:$F),0),1),\"\")","v":""},{"$f":"IFERROR(VLOOKUP($B37,'Total Rankings (excl QB)'!$D:$E,2,0),0)","v":0},0,null,{"$f":"IFERROR(VLOOKUP($B37,'Total Rankings (excl QB)'!$D:$L,4,0),\"\")","v":""},{"$f":"IFERROR(VLOOKUP($B37,'Total Rankings (excl QB)'!$D:$L,5,0),\"\")","v":""},{"$f":"IFERROR(VLOOKUP($B37,'Total Rankings (excl QB)'!$D:$L,6,0),\"\")","v":""},{"$f":"IFERROR(VLOOKUP($B37,'Total Rankings (excl QB)'!$D:$L,7,0),\"\")","v":""},{"$f":"IFERROR(VLOOKUP($B37,'Total Rankings (excl QB)'!$D:$L,8,0),\"\")","v":""},null,34,{"$f":"IFERROR(INDEX('Total Rankings (excl QB)'!$D:$D,MATCH(1,(\"Running Back\"='Total Rankings (excl QB)'!$C:$C)*(L37='Total Rankings (excl QB)'!$F:$F),0),1),\"\")","v":""},{"$f":"IFERROR(VLOOKUP($M37,'Total Rankings (excl QB)'!$D:$E,2,0),0)","v":0},0,null,{"$f":"IFERROR(VLOOKUP($M37,'Total Rankings (excl QB)'!$D:$L,4,0),\"\")","v":""},{"$f":"IFERROR(VLOOKUP($M37,'Total Rankings (excl QB)'!$D:$L,5,0),\"\")","v":""},{"$f":"IFERROR(VLOOKUP($M37,'Total Rankings (excl QB)'!$D:$L,6,0),\"\")","v":""},{"$f":"IFERROR(VLOOKUP($M37,'Total Rankings (excl QB)'!$D:$L,7,0),\"\")","v":""},{"$f":"IFERROR(VLOOKUP($M37,'Total Rankings (excl QB)'!$D:$L,8,0),\"\")","v":""},null,34,{"$f":"IFERROR(INDEX('Total Rankings (excl QB)'!$D:$D,MATCH(1,(\"Tight End\"='Total Rankings (excl QB)'!$C:$C)*(W37='Total Rankings (excl QB)'!$F:$F),0),1),\"\")","v":""},{"$f":"IFERROR(VLOOKUP($X37,'Total Rankings (excl QB)'!$D:$E,2,0),0)","v":0},0,null,{"$f":"IFERROR(VLOOKUP($X37,'Total Rankings (excl QB)'!$D:$L,4,0),\"\")","v":""},{"$f":"IFERROR(VLOOKUP($X37,'Total Rankings (excl QB)'!$D:$L,5,0),\"\")","v":""},{"$f":"IFERROR(VLOOKUP($X37,'Total Rankings (excl QB)'!$D:$L,6,0),\"\")","v":""},{"$f":"IFERROR(VLOOKUP($X37,'Total Rankings (excl QB)'!$D:$L,7,0),\"\")","v":""},{"$f":"IFERROR(VLOOKUP($X37,'Total Rankings (excl QB)'!$D:$L,8,0),\"\")","v":""},null,34,{"$f":"'QB Rankings'!C37","v":0},{"$f":"'QB Rankings'!D37","v":0},0,null,{"$f":"'QB Rankings'!E37","v":0},{"$f":"'QB Rankings'!F37","v":0},{"$f":"'QB Rankings'!G37","v":0},{"$f":"'QB Rankings'!H37","v":0},{"$f":"'QB Rankings'!I37","v":0}]
[35,{"$f":"IFERROR(INDEX('Total Rankings (excl QB)'!$D:$D,MATCH(1,(\"Wide Receiver\"='Total Rankings (excl QB)'!$C:$C)*(A38='Total Rankings (excl QB)'!$F:$F),0),1),\"\")","v":""},{"$f":"IFERROR(VLOOKUP($B38,'Total Rankings (excl QB)'!$D:$E,2,0),0)","v":0},0,null,{"$f":"IFERROR(VLOOKUP($B38,'Total Rankings (excl QB)'!$D:$L,4,0),\"\")","v":""},{"$f":"IFERROR(VLOOKUP($B38,'Total Rankings (excl QB)'!$D:$L,5,0),\"\")","v":""},{"$f":"IFERROR(VLOOKUP($B38,'Total Rankings (excl QB)'!$D:$L,6,0),\"\")","v":""},{"$f":"IFERROR(VLOOKUP($B38,'Total Rankings (excl QB)'!$D:$L,7,0),\"\")","v":""},{"$f":"IFERROR(VLOOKUP($B38,'Total Rankings (excl QB)'!$D:$L,8,0),\"\")","v":""},null,35,{"$f":"IFERROR(INDEX('Total Rankings (excl QB)'!$D:$D,MATCH(1,(\"Running Back\"='Total Rankings (excl QB)'!$C:$C)*(L38='Total Rankings (excl QB)'!$F:$F),0),1),\"\")","v":""},{"$f":"IFERROR(VLOOKUP($M38,'Total Rankings (excl QB)'!$D:$E,2,0),0)","v":0},0,null,{"$f":"IFERROR(VLOOKUP($M38,'Total Rankings (excl QB)'!$D:$L,4,0),\"\")","v":""},{"$f":"IFERROR(VLOOKUP($M38,'Total Rankings (excl QB)'!$D:$L,5,0),\"\")","v":""},{"$f":"IFERROR(VLOOKUP($M38,'Total Rankings (excl QB)'!$D:$L,6,0),\"\")","v":""},{"$f":"IFERROR(VLOOKUP($M38,'Total Rankings (excl QB)'!$D:$L,7,0),\"\")","v":""},{"$f":"IFERROR(VLOOKUP($M38,'Total Rankings (excl QB)'!$D:$L,8,0),\"\")","v":""},null,35,{"$f":"IFERROR(INDEX('Total Rankings (excl QB)'!$D:$D,MATCH(1,(\"Tight End\"='Total Rankings (excl QB)'!$C:$C)*(W38='Total Rankings (excl QB)'!$F:$F),0),1),\"\")","v":""},{"$f":"IFERROR(VLOOKUP($X38,'Total Rankings (excl QB)'!$D:$E,2,0),0)","v":0},0,null,{"$f":"IFERROR(VLOOKUP($X38,'Total Rankings (excl QB)'!$D:$L,4,0),\"\")","v":""},{"$f":"IFERROR(VLOOKUP($X38,'Total Rankings (excl QB)'!$D:$L,5,0),\"\")","v":""},{"$f":"IFERROR(VLOOKUP($X38,'Total Rankings (excl QB)'!$D:$L,6,0),\"\")","v":""},{"$f":"IFERROR(VLOOKUP($X38,'Total Rankings (excl QB)'!$D:$L,7,0),\"\")","v":""},{"$f":"IFERROR(VLOOKUP($X38,'Total Rankings (excl QB)'!$D:$L,8,0),\"\")","v":""},null,35,{"$f":"'QB Rankings'!C38","v":0},{"$f":"'QB Rankings'!D38","v":0},0,null,{"$f":"'QB Rankings'!E38","v":0},{"$f":"'QB Rankings'!F38","v":0},{"$f":"'QB Rankings'!G38","v":0},{"$f":"'QB Rankings'!H38","v":0},{"$f":"'QB Rankings'!I38","v":0}]
[36,{"$f":"IFERROR(INDEX('Total Rankings (excl QB)'!$D:$D,MATCH(1,(\"Wide Receiver\"='Total Rankings (excl QB)'!$C:$C)*(A39='Total Rankings (excl QB)'!$F:$F),0),1),\"\")","v":""},{"$f":"IFERROR(VLOOKUP($B39,'Total Rankings (excl QB)'!$D:$E,2,0),0)","v":0},0,null,{"$f":"IFERROR(VLOOKUP($B39,'Total Rankings (excl QB)'!$D:$L,4,0),\"\")","v":""},{"$f":"IFERROR(VLOOKUP($B39,'Total Rankings (excl QB)'!$D:$L,5,0),\"\")","v":""},{"$f":"IFERROR(VLOOKUP($B39,'Total Rankings (excl QB)'!$D:$L,6,0),\"\")","v":""},{"$f":"IFERROR(VLOOKUP($B39,'Total Rankings (excl QB)'!$D:$L,7,0),\"\")","v":""},{"$f":"IFERROR(VLOOKUP($B39,'Total Rankings (excl QB)'!$D:$L,8,0),\"\")","v":""},null,36,{"$f":"IFERROR(INDEX('Total Rankings (excl QB)'!$D:$D,MATCH(1,(\"Running Back\"='Total Rankings (excl QB)'!$C:$C)*(L39='Total Rankings (excl QB)'!$F:$F),0),1),\"\")","v":""},{"$f":"IFERROR(VLOOKUP($M39,'Total Rankings (excl QB)'!$D:$E,2,0),0)","v":0},0,null,{"$f":"IFERROR(VLOOKUP($M39,'Total Rankings (excl QB)'!$D:$L,4,0),\"\")","v":""},{"$f":"IFERROR(VLOOKUP($M39,'Total Rankings (excl QB)'!$D:$L,5,0),\"\")","v":""},{"$f":"IFERROR(VLOOKUP($M39,'Total Rankings (excl QB)'!$D:$L,6,0),\"\")","v":""},{"$f":"IFERROR(VLOOKUP($M39,'Total Rankings (excl QB)'!$D:$L,7,0),\"\")","v":""},{"$f":"IFERROR(VLOOKUP($M39,'Total Rankings (excl QB)'!$D:$L,8,0),\"\")","v":""},null,36,{"$f":"IFERROR(INDEX('Total Rankings (excl QB)'!$D:$D,MATCH(1,(\"Tight End\"='Total Rankings (excl QB)'!$C:$C)*(W39='Total Rankings (excl QB)'!$F:$F),0),1),\"\")","v":""},{"$f":"IFERROR(VLOOKUP($X39,'Total Rankings (excl QB)'!$D:$E,2,0),0)","v":0},0,null,{"$f":"IFERROR(VLOOKUP($X39,'Total Rankings (excl QB)'!$D:$L,4,0),\"\")","v":""},{"$f":"IFERROR(VLOOKUP($X39,'Total Rankings (excl QB)'!$D:$L,5,0),\"\")","v":""},{"$f":"IFERROR(VLOOKUP($X39,'Total Rankings (excl QB)'!$D:$L,6,0),\"\")","v":""},{"$f":"IFERROR(VLOOKUP($X39,'Total Rankings (excl QB)'!$D:$L,7,0),\"\")","v":""},{"$f":"IFERROR(VLOOKUP($X39,'Total Rankings (excl QB)'!$D:$L,8,0),\"\")","v":""},null,36,{"$f":"'QB Rankings'!C39","v":0},{"$f":"'QB Rankings'!D39","v":0},0,null,{"$f":"'QB Rankings'!E39","v":0},{"$f":"'QB Rankings'!F39","v":0},{"$f":"'QB Rankings'!G39","v":0},{"$f":"'QB Rankings'!H39","v":0},{"$f":"'QB Rankings'!I39","v":0}]
[37,{"$f":"IFERROR(INDEX('Total Rankings (excl QB)'!$D:$D,MATCH(1,(\"Wide Receiver\"='Total Rankings (excl QB)'!$C:$C)*(A40='Total Rankings (excl QB)'!$F:$F),0),1),\"\")","v":""},{"$f":"IFERROR(VLOOKUP($B40,'Total Rankings (excl QB)'!$D:$E,2,0),0)","v":0},0,null,{"$f":"IFERROR(VLOOKUP($B40,'Total Rankings (excl QB)'!$D:$L,4,0),\"\")","v":""},{"$f":"IFERROR(VLOOKUP($B40,'Total Rankings (excl QB)'!$D:$L,5,0),\"\")","v":""},{"$f":"IFERROR(VLOOKUP($B40,'Total Rankings (excl QB)'!$D:$L,6,0),\"\")","v":""},{"$f":"IFERROR(VLOOKUP($B40,'Total Rankings (excl QB)'!$D:$L,7,0),\"\")","v":""},{"$f":"IFERROR(VLOOKUP($B40,'Total Rankings (excl QB)'!$D:$L,8,0),\"\")","v":""},null,37,{"$f":"IFERROR(INDEX('Total Rankings (excl QB)'!$D:$D,MATCH(1,(\"Running Back\"='Total Rankings (excl QB)'!$C:$C)*(L40='Total Rankings (excl QB)'!$F:$F),0),1),\"\")","v":""},{"$f":"IFERROR(VLOOKUP($M40,'Total Rankings (excl QB)'!$D:$E,2,0),0)","v":0},0,null,{"$f":"IFERROR(VLOOKUP($M40,'Total Rankings (excl QB)'!$D:$L,4,0),\"\")","v":""},{"$f":"IFERROR(VLOOKUP($M40,'Total Rankings (excl QB)'!$D:$L,5,0),\"\")","v":""},{"$f":"IFERROR(VLOOKUP($M40,'Total Rankings (excl QB)'!$D:$L,6,0),\"\")","v":""},{"$f":"IFERROR(VLOOKUP($M40,'Total Rankings (excl QB)'!$D:$L,7,0),\"\")","v":""},{"$f":"IFERROR(VLOOKUP($M40,'Total Rankings (excl QB)'!$D:$L,8,0),\"\")","v":""},null,37,{"$f":"IFERROR(INDEX('Total Rankings (excl QB)'!$D:$D,MATCH(1,(\"Tight End\"='Total Rankings (excl QB)'!$C:$C)*(W40='Total Rankings (excl QB)'!$F:$F),0),1),\"\")","v":""},{"$f":"IFERROR(VLOOKUP($X40,'Total Rankings (excl QB)'!$D:$E,2,0),0)","v":0},0,null,{"$f":"IFERROR(VLOOKUP($X40,'Total Rankings (excl QB)'!$D:$L,4,0),\"\")","v":""},{"$f":"IFERROR(VLOOKUP($X40,'Total Rankings (excl QB)'!$D:$L,5,0),\"\")","v":""},{"$f":"IFERROR(VLOOKUP($X40,'Total Rankings (excl QB)'!$D:$L,6,0),\"\")","v":""},{"$f":"IFERROR(VLOOKUP($X40,'Total Rankings (excl QB)'!$D:$L,7,0),\"\")","v":""},{"$f":"IFERROR(VLOOKUP($X40,'Total Rankings (excl QB)'!$D:$L,8,0),\"\")","v":""},null,37,{"$f":"'QB Rankings'!C40","v":0},{"$f":"'QB Rankings'!D40","v":0},0,null,{"$f":"'QB Rankings'!E40","v":0},{"$f":"'QB Rankings'!F40","v":0},{"$f":"'QB Rankings'!G40","v":0},{"$f":"'QB Rankings'!H40","v":0},{"$f":"'QB Rankings'!I40","v":0}]
[38,{"$f":"IFERROR(INDEX('Total Rankings (excl QB)'!$D:$D,MATCH(1,(\"Wide Receiver\"='Total Rankings (excl QB)'!$C:$C)*(A41='Total Rankings (excl QB)'!$F:$F),0),1),\"\")","v":""},{"$f":"IFERROR(VLOOKUP($B41,'Total Rankings (excl QB)'!$D:$E,2,0),0)","v":0},0,null,{"$f":"IFERROR(VLOOKUP($B41,'Total Rankings (excl QB)'!$D:$L,4,0),\"\")","v":""},{"$f":"IFERROR(VLOOKUP($B41,'Total Rankings (excl QB)'!$D:$L,5,0),\"\")","v":""},{"$f":"IFERROR(VLOOKUP($B41,'Total Rankings (excl QB)'!$D:$L,6,0),\"\")","v":""},{"$f":"IFERROR(VLOOKUP($B41,'Total Rankings (excl QB)'!$D:$L,7,0),\"\")","v":""},{"$f":"IFERROR(VLOOKUP($B41,'Total Rankings (excl QB)'!$D:$L,8,0),\"\")","v":""},null,38,{"$f":"IFERROR(INDEX('Total Rankings (excl QB)'!$D:$D,MATCH(1,(\"Running Back\"='Total Rankings (excl QB)'!$C:$C)*(L41='Total Rankings (excl QB)'!$F:$F),0),1),\"\")","v":""},{"$f":"IFERROR(VLOOKUP($M41,'Total Rankings (excl QB)'!$D:$E,2,0),0)","v":0},0,null,{"$f":"IFERROR(VLOOKUP($M41,'Total Rankings (excl QB)'!$D:$L,4,0),\"\")","v":""},{"$f":"IFERROR(VLOOKUP($M41,'Total Rankings (excl QB)'!$D:$L,5,0),\"\")","v":""},{"$f":"IFERROR(VLOOKUP($M41,'Total Rankings (excl QB)'!$D:$L,6,0),\"\")","v":""},{"$f":"IFERROR(VLOOKUP($M41,'Total Rankings (excl QB)'!$D:$L,7,0),\"\")","v":""},{"$f":"IFERROR(VLOOKUP($M41,'Total Rankings (excl QB)'!$D:$L,8,0),\"\")","v":""},null,38,{"$f":"IFERROR(INDEX('Total Rankings (excl QB)'!$D:$D,MATCH(1,(\"Tight End\"='Total Rankings (excl QB)'!$C:$C)*(W41='Total Rankings (excl QB)'!$F:$F),0),1),\"\")","v":""},{"$f":"IFERROR(VLOOKUP($X41,'Total Rankings (excl QB)'!$D:$E,2,0),0)","v":0},0,null,{"$f":"IFERROR(VLOOKUP($X41,'Total Rankings (excl QB)'!$D:$L,4,0),\"\")","v":""},{"$f":"IFERROR(VLOOKUP($X41,'Total Rankings (excl QB)'!$D:$L,5,0),\"\")","v":""},{"$f":"IFERROR(VLOOKUP($X41,'Total Rankings (excl QB)'!$D:$L,6,0),\"\")","v":""},{"$f":"IFERROR(VLOOKUP($X41,'Total Rankings (excl QB)'!$D:$L,7,0),\"\")","v":""},{"$f":"IFERROR(VLOOKUP($X41,'Total Rankings (excl QB)'!$D:$L,8,0),\"\")","v":""},null,38,{"$f":"'QB Rankings'!C41","v":0},{"$f":"'QB Rankings'!D41","v":0},0,null,{"$f":"'QB Rankings'!E41","v":0},{"$f":"'QB Rankings'!F41","v":0},{"$f":"'QB Rankings'!G41","v":0},{"$f":"'QB Rankings'!H41","v":0},{"$f":"'QB Rankings'!I41","v":0}]
[39,{"$f":"IFERROR(INDEX('Total Rankings (excl QB)'!$D:$D,MATCH(1,(\"Wide Receiver\"='Total Rankings (excl QB)'!$C:$C)*(A42='Total Rankings (excl QB)'!$F:$F),0),1),\"\")","v":""},{"$f":"IFERROR(VLOOKUP($B42,'Total Rankings (excl QB)'!$D:$E,2,0),0)","v":0},0,null,{"$f":"IFERROR(VLOOKUP($B42,'Total Rankings (excl QB)'!$D:$L,4,0),\"\")","v":""},{"$f":"IFERROR(VLOOKUP($B42,'Total Rankings (excl QB)'!$D:$L,5,0),\"\")","v":""},{"$f":"IFERROR(VLOOKUP($B42,'Total Rankings (excl QB)'!$D:$L,6,0),\"\")","v":""},{"$f":"IFERROR(VLOOKUP($B42,'Total Rankings (excl QB)'!$D:$L,7,0),\"\")","v":""},{"$f":"IFERROR(VLOOKUP($B42,'Total Rankings (excl QB)'!$D:$L,8,0),\"\")","v":""},null,39,{"$f":"IFERROR(INDEX('Total Rankings (excl QB)'!$D:$D,MATCH(1,(\"Running Back\"='Total Rankings (excl QB)'!$C:$C)*(L42='Total Rankings (excl QB)'!$F:$F),0),1),\"\")","v":""},{"$f":"IFERROR(VLOOKUP($M42,'Total Rankings (excl QB)'!$D:$E,2,0),0)","v":0},0,null,{"$f":"IFERROR(VLOOKUP($M42,'Total Rankings (excl QB)'!$D:$L,4,0),\"\")","v":""},{"$f":"IFERROR(VLOOKUP($M42,'Total Rankings (excl QB)'!$D:$L,5,0),\"\")","v":""},{"$f":"IFERROR(VLOOKUP($M42,'Total Rankings (excl QB)'!$D:$L,6,0),\"\")","v":""},{"$f":"IFERROR(VLOOKUP($M42,'Total Rankings (excl QB)'!$D:$L,7,0),\"\")","v":""},{"$f":"IFERROR(VLOOKUP($M42,'Total Rankings (excl QB)'!$D:$L,8,0),\"\")","v":""},null,39,{"$f":"IFERROR(INDEX('Total Rankings (excl QB)'!$D:$D,MATCH(1,(\"Tight End\"='Total Rankings (excl QB)'!$C:$C)*(W42='Total Rankings (excl QB)'!$F:$F),0),1),\"\")","v":""},{"$f":"IFERROR(VLOOKUP($X42,'Total Rankings (excl QB)'!$D:$E,2,0),0)","v":0},0,null,{"$f":"IFERROR(VLOOKUP($X42,'Total Rankings (excl QB)'!$D:$L,4,0),\"\")","v":""},{"$f":"IFERROR(VLOOKUP($X42,'Total Rankings (excl QB)'!$D:$L,5,0),\"\")","v":""},{"$f":"IFERROR(VLOOKUP($X42,'Total Rankings (excl QB)'!$D:$L,6,0),\"\")","v":""},{"$f":"IFERROR(VLOOKUP($X42,'Total Rankings (excl QB)'!$D:$L,7,0),\"\")","v":""},{"$f":"IFERROR(VLOOKUP($X42,'Total Rankings (excl QB)'!$D:$L,8,0),\"\")","v":""},null,39,{"$f":"'QB Rankings'!C42","v":0},{"$f":"'QB Rankings'!D42","v":0},0,null,{"$f":"'QB Rankings'!E42","v":0},{"$f":"'QB Rankings'!F42","v":0},{"$f":"'QB Rankings'!G42","v":0},{"$f":"'QB Rankings'!H42","v":0},{"$f":"'QB Rankings'!I42","v":0}]
[40,{"$f":"IFERROR(INDEX('Total Rankings (excl QB)'!$D:$D,MATCH(1,(\"Wide Receiver\"='Total Rankings (excl QB)'!$C:$C)*(A43='Total Rankings (excl QB)'!$F:$F),0),1),\"\")","v":""},{"$f":"IFERROR(VLOOKUP($B43,'Total Rankings (excl QB)'!$D:$E,2,0),0)","v":0},0,null,{"$f":"IFERROR(VLOOKUP($B43,'Total Rankings (excl QB)'!$D:$L,4,0),\"\")","v":""},{"$f":"IFERROR(VLOOKUP($B43,'Total Rankings (excl QB)'!$D:$L,5,0),\"\")","v":""},{"$f":"IFERROR(VLOOKUP($B43,'Total Rankings (excl QB)'!$D:$L,6,0),\"\")","v":""},{"$f":"IFERROR(VLOOKUP($B43,'Total Rankings (excl QB)'!$D:$L,7,0),\"\")","v":""},{"$f":"IFERROR(VLOOKUP($B43,'Total Rankings (excl QB)'!$D:$L,8,0),\"\")","v":""},null,40,{"$f":"IFERROR(INDEX('Total Rankings (excl QB)'!$D:$D,MATCH(1,(\"Running Back\"='Total Rankings (excl QB)'!$C:$C)*(L43='Total Rankings (excl QB)'!$F:$F),0),1),\"\")","v":""},{"$f":"IFERROR(VLOOKUP($M43,'Total Rankings (excl QB)'!$D:$E,2,0),0)","v":0},0,null,{"$f":"IFERROR(VLOOKUP($M43,'Total Rankings (excl QB)'!$D:$L,4,0),\"\")","v":""},{"$f":"IFERROR(VLOOKUP($M43,'Total Rankings (excl QB)'!$D:$L,5,0),\"\")","v":""},{"$f":"IFERROR(VLOOKUP($M43,'Total Rankings (excl QB)'!$D:$L,6,0),\"\")","v":""},{"$f":"IFERROR(VLOOKUP($M43,'Total Rankings (excl QB)'!$D:$L,7,0),\"\")","v":""},{"$f":"IFERROR(VLOOKUP($M43,'Total Rankings (excl QB)'!$D:$L,8,0),\"\")","v":""},null,40,{"$f":"IFERROR(INDEX('Total Rankings (excl QB)'!$D:$D,MATCH(1,(\"Tight End\"='Total Rankings (excl QB)'!$C:$C)*(W43='Total Rankings (excl QB)'!$F:$F),0),1),\"\")","v":""},{"$f":"IFERROR(VLOOKUP($X43,'Total Rankings (excl QB)'!$D:$E,2,0),0)","v":0},0,null,{"$f":"IFERROR(VLOOKUP($X43,'Total Rankings (excl QB)'!$D:$L,4,0),\"\")","v":""},{"$f":"IFERROR(VLOOKUP($X43,'Total Rankings (excl QB)'!$D:$L,5,0),\"\")","v":""},{"$f":"IFERROR(VLOOKUP($X43,'Total Rankings (excl QB)'!$D:$L,6,0),\"\")","v":""},{"$f":"IFERROR(VLOOKUP($X43,'Total Rankings (excl QB)'!$D:$L,7,0),\"\")","v":""},{"$f":"IFERROR(VLOOKUP($X43,'Total Rankings (excl QB)'!$D:$L,8,0),\"\")","v":""},null,40,{"$f":"'QB Rankings'!C43","v":0},{"$f":"'QB Rankings'!D43","v":0},0,null,{"$f":"'QB Rankings'!E43","v":0},{"$f":"'QB Rankings'!F43","v":0},{"$f":"'QB Rankings'!G43","v":0},{"$f":"'QB Rankings'!H43","v":0},{"$f":"'QB Rankings'!I43","v":0}]
[41,{"$f":"IFERROR(INDEX('Total Rankings (excl QB)'!$D:$D,MATCH(1,(\"Wide Receiver\"='Total Rankings (excl QB)'!$C:$C)*(A44='Total Rankings (excl QB)'!$F:$F),0),1),\"\")","v":""},{"$f":"IFERROR(VLOOKUP($B44,'Total Rankings (excl QB)'!$D:$E,2,0),0)","v":0},0,null,{"$f":"IFERROR(VLOOKUP($B44,'Total Rankings (excl QB)'!$D:$L,4,0),\"\")","v":""},{"$f":"IFERROR(VLOOKUP($B44,'Total Rankings (excl QB)'!$D:$L,5,0),\"\")","v":""},{"$f":"IFERROR(VLOOKUP($B44,'Total Rankings (excl QB)'!$D:$L,6,0),\"\")","v":""},{"$f":"IFERROR(VLOOKUP($B44,'Total Rankings (excl QB)'!$D:$L,7,0),\"\")","v":""},{"$f":"IFERROR(VLOOKUP($B44,'Total Rankings (excl QB)'!$D:$L,8,0),\"\")","v":""},null,41,{"$f":"IFERROR(INDEX('Total Rankings (excl QB)'!$D:$D,MATCH(1,(\"Running Back\"='Total Rankings (excl QB)'!$C:$C)*(L44='Total Rankings (excl QB)'!$F:$F),0),1),\"\")","v":""},{"$f":"IFERROR(VLOOKUP($M44,'Total Rankings (excl QB)'!$D:$E,2,0),0)","v":0},0,null,{"$f":"IFERROR(VLOOKUP($M44,'Total Rankings (excl QB)'!$D:$L,4,0),\"\")","v":""},{"$f":"IFERROR(VLOOKUP($M44,'Total Rankings (excl QB)'!$D:$L,5,0),\"\")","v":""},{"$f":"IFERROR(VLOOKUP($M44,'Total Rankings (excl QB)'!$D:$L,6,0),\"\")","v":""},{"$f":"IFERROR(VLOOKUP($M44,'Total Rankings (excl QB)'!$D:$L,7,0),\"\")","v":""},{"$f":"IFERROR(VLOOKUP($M44,'Total Rankings (excl QB)'!$D:$L,8,0),\"\")","v":""},null,41,{"$f":"IFERROR(INDEX('Total Rankings (excl QB)'!$D:$D,MATCH(1,(\"Tight End\"='Total Rankings (excl QB)'!$C:$C)*(W44='Total Rankings (excl QB)'!$F:$F),0),1),\"\")","v":""},{"$f":"IFERROR(VLOOKUP($X44,'Total Rankings (excl QB)'!$D:$E,2,0),0)","v":0},0,null,{"$f":"IFERROR(VLOOKUP($X44,'Total Rankings (excl QB)'!$D:$L,4,0),\"\")","v":""},{"$f":"IFERROR(VLOOKUP($X44,'Total Rankings (excl QB)'!$D:$L,5,0),\"\")","v":""},{"$f":"IFERROR(VLOOKUP($X44,'Total Rankings (excl QB)'!$D:$L,6,0),\"\")","v":""},{"$f":"IFERROR(VLOOKUP($X44,'Total Rankings (excl QB)'!$D:$L,7,0),\"\")","v":""},{"$f":"IFERROR(VLOOKUP($X44,'Total Rankings (excl QB)'!$D:$L,8,0),\"\")","v":""},null,41,{"$f":"'QB Rankings'!C44","v":0},{"$f":"'QB Rankings'!D44","v":0},{"$f":"AJ44/17","v":0},null,{"$f":"'QB Rankings'!E44","v":0},{"$f":"'QB Rankings'!F44","v":0},{"$f":"'QB Rankings'!G44","v":0},{"$f":"'QB Rankings'!H44","v":0},{"$f":"'QB Rankings'!I44","v":0}]
[42,{"$f":"IFERROR(INDEX('Total Rankings (excl QB)'!$D:$D,MATCH(1,(\"Wide Receiver\"='Total Rankings (excl QB)'!$C:$C)*(A45='Total Rankings (excl QB)'!$F:$F),0),1),\"\")","v":""},{"$f":"IFERROR(VLOOKUP($B45,'Total Rankings (excl QB)'!$D:$E,2,0),0)","v":0},0,null,{"$f":"IFERROR(VLOOKUP($B45,'Total Rankings (excl QB)'!$D:$L,4,0),\"\")","v":""},{"$f":"IFERROR(VLOOKUP($B45,'Total Rankings (excl QB)'!$D:$L,5,0),\"\")","v":""},{"$f":"IFERROR(VLOOKUP($B45,'Total Rankings (excl QB)'!$D:$L,6,0),\"\")","v":""},{"$f":"IFERROR(VLOOKUP($B45,'Total Rankings (excl QB)'!$D:$L,7,0),\"\")","v":""},{"$f":"IFERROR(VLOOKUP($B45,'Total Rankings (excl QB)'!$D:$L,8,0),\"\")","v":""},null,42,{"$f":"IFERROR(INDEX('Total Rankings (excl QB)'!$D:$D,MATCH(1,(\"Running Back\"='Total Rankings (excl QB)'!$C:$C)*(L45='Total Rankings (excl QB)'!$F:$F),0),1),\"\")","v":""},{"$f":"IFERROR(VLOOKUP($M45,'Total Rankings (excl QB)'!$D:$E,2,0),0)","v":0},0,null,{"$f":"IFERROR(VLOOKUP($M45,'Total Rankings (excl QB)'!$D:$L,4,0),\"\")","v":""},{"$f":"IFERROR(VLOOKUP($M45,'Total Rankings (excl QB)'!$D:$L,5,0),\"\")","v":""},{"$f":"IFERROR(VLOOKUP($M45,'Total Rankings (excl QB)'!$D:$L,6,0),\"\")","v":""},{"$f":"IFERROR(VLOOKUP($M45,'Total Rankings (excl QB)'!$D:$L,7,0),\"\")","v":""},{"$f":"IFERROR(VLOOKUP($M45,'Total Rankings (excl QB)'!$D:$L,8,0),\"\")","v":""},null,42,{"$f":"IFERROR(INDEX('Total Rankings (excl QB)'!$D:$D,MATCH(1,(\"Tight End\"='Total Rankings (excl QB)'!$C:$C)*(W45='Total Rankings (excl QB)'!$F:$F),0),1),\"\")","v":""},{"$f":"IFERROR(VLOOKUP($X45,'Total Rankings (excl QB)'!$D:$E,2,0),0)","v":0},0,null,{"$f":"IFERROR(VLOOKUP($X45,'Total Rankings (excl QB)'!$D:$L,4,0),\"\")","v":""},{"$f":"IFERROR(VLOOKUP($X45,'Total Rankings (excl QB)'!$D:$L,5,0),\"\")","v":""},{"$f":"IFERROR(VLOOKUP($X45,'Total Rankings (excl QB)'!$D:$L,6,0),\"\")","v":""},{"$f":"IFERROR(VLOOKUP($X45,'Total Rankings (excl QB)'!$D:$L,7,0),\"\")","v":""},{"$f":"IFERROR(VLOOKUP($X45,'Total Rankings (excl QB)'!$D:$L,8,0),\"\")","v":""},null,42,{"$f":"'QB Rankings'!C45","v":0},{"$f":"'QB Rankings'!D45","v":0},0,null,{"$f":"'QB Rankings'!E45","v":0},{"$f":"'QB Rankings'!F45","v":0},{"$f":"'QB Rankings'!G45","v":0},{"$f":"'QB Rankings'!H45","v":0},{"$f":"'QB Rankings'!I45","v":0}]
[43,{"$f":"IFERROR(INDEX('Total Rankings (excl QB)'!$D:$D,MATCH(1,(\"Wide Receiver\"='Total Rankings (excl QB)'!$C:$C)*(A46='Total Rankings (excl QB)'!$F:$F),0),1),\"\")","v":""},{"$f":"IFERROR(VLOOKUP($B46,'Total Rankings (excl QB)'!$D:$E,2,0),0)","v":0},0,null,{"$f":"IFERROR(VLOOKUP($B46,'Total Rankings (excl QB)'!$D:$L,4,0),\"\")","v":""},{"$f":"IFERROR(VLOOKUP($B46,'Total Rankings (excl QB)'!$D:$L,5,0),\"\")","v":""},{"$f":"IFERROR(VLOOKUP($B46,'Total Rankings (excl QB)'!$D:$L,6,0),\"\")","v":""},{"$f":"IFERROR(VLOOKUP($B46,'Total Rankings (excl QB)'!$D:$L,7,0),\"\")","v":""},{"$f":"IFERROR(VLOOKUP($B46,'Total Rankings (excl QB)'!$D:$L,8,0),\"\")","v":""},null,43,{"$f":"IFERROR(INDEX('Total Rankings (excl QB)'!$D:$D,MATCH(1,(\"Running Back\"='Total Rankings (excl QB)'!$C:$C)*(L46='Total Rankings (excl QB)'!$F:$F),0),1),\"\")","v":""},{"$f":"IFERROR(VLOOKUP($M46,'Total Rankings (excl QB)'!$D:$E,2,0),0)","v":0},0,null,{"$f":"IFERROR(VLOOKUP($M46,'Total Rankings (excl QB)'!$D:$L,4,0),\"\")","v":""},{"$f":"IFERROR(VLOOKUP($M46,'Total Rankings (excl QB)'!$D:$L,5,0),\"\")","v":""},{"$f":"IFERROR(VLOOKUP($M46,'Total Rankings (excl QB)'!$D:$L,6,0),\"\")","v":""},{"$f":"IFERROR(VLOOKUP($M46,'Total Rankings (excl QB)'!$D:$L,7,0),\"\")","v":""},{"$f":"IFERROR(VLOOKUP($M46,'Total Rankings (excl QB)'!$D:$L,8,0),\"\")","v":""},null,43,{"$f":"IFERROR(INDEX('Total Rankings (excl QB)'!$D:$D,MATCH(1,(\"Tight End\"='Total Rankings (excl QB)'!$C:$C)*(W46='Total Rankings (excl QB)'!$F:$F),0),1),\"\")","v":""},{"$f":"IFERROR(VLOOKUP($X46,'Total Rankings (excl QB)'!$D:$E,2,0),0)","v":0},0,null,{"$f":"IFERROR(VLOOKUP($X46,'Total Rankings (excl QB)'!$D:$L,4,0),\"\")","v":""},{"$f":"IFERROR(VLOOKUP($X46,'Total Rankings (excl QB)'!$D:$L,5,0),\"\")","v":""},{"$f":"IFERROR(VLOOKUP($X46,'Total Rankings (excl QB)'!$D:$L,6,0),\"\")","v":""},{"$f":"IFERROR(VLOOKUP($X46,'Total Rankings (excl QB)'!$D:$L,7,0),\"\")","v":""},{"$f":"IFERROR(VLOOKUP($X46,'Total Rankings (excl QB)'!$D:$L,8,0),\"\")","v":""},null,43,{"$f":"'QB Rankings'!C46","v":0},{"$f":"'QB Rankings'!D46","v":0},0,null,{"$f":"'QB Rankings'!E46","v":0},{"$f":"'QB Rankings'!F46","v":0},{"$f":"'QB Rankings'!G46","v":0},{"$f":"'QB Rankings'!H46","v":0},{"$f":"'QB Rankings'!I46","v":0}]
[44,{"$f":"IFERROR(INDEX('Total Rankings (excl QB)'!$D:$D,MATCH(1,(\"Wide Receiver\"='Total Rankings (excl QB)'!$C:$C)*(A47='Total Rankings (excl QB)'!$F:$F),0),1),\"\")","v":""},{"$f":"IFERROR(VLOOKUP($B47,'Total Rankings (excl QB)'!$D:$E,2,0),0)","v":0},0,null,{"$f":"IFERROR(VLOOKUP($B47,'Total Rankings (excl QB)'!$D:$L,4,0),\"\")","v":""},{"$f":"IFERROR(VLOOKUP($B47,'Total Rankings (excl QB)'!$D:$L,5,0),\"\")","v":""},{"$f":"IFERROR(VLOOKUP($B47,'Total Rankings (excl QB)'!$D:$L,6,0),\"\")","v":""},{"$f":"IFERROR(VLOOKUP($B47,'Total Rankings (excl QB)'!$D:$L,7,0),\"\")","v":""},{"$f":"IFERROR(VLOOKUP($B47,'Total Rankings (excl QB)'!$D:$L,8,0),\"\")","v":""},null,44,{"$f":"IFERROR(INDEX('Total Rankings (excl QB)'!$D:$D,MATCH(1,(\"Running Back\"='Total Rankings (excl QB)'!$C:$C)*(L47='Total Rankings (excl QB)'!$F:$F),0),1),\"\")","v":""},{"$f":"IFERROR(VLOOKUP($M47,'Total Rankings (excl QB)'!$D:$E,2,0),0)","v":0},0,null,{"$f":"IFERROR(VLOOKUP($M47,'Total Rankings (excl QB)'!$D:$L,4,0),\"\")","v":""},{"$f":"IFERROR(VLOOKUP($M47,'Total Rankings (excl QB)'!$D:$L,5,0),\"\")","v":""},{"$f":"IFERROR(VLOOKUP($M47,'Total Rankings (excl QB)'!$D:$L,6,0),\"\")","v":""},{"$f":"IFERROR(VLOOKUP($M47,'Total Rankings (excl QB)'!$D:$L,7,0),\"\")","v":""},{"$f":"IFERROR(VLOOKUP($M47,'Total Rankings (excl QB)'!$D:$L,8,0),\"\")","v":""},null,44,{"$f":"IFERROR(INDEX('Total Rankings (excl QB)'!$D:$D,MATCH(1,(\"Tight End\"='Total Rankings (excl QB)'!$C:$C)*(W47='Total Rankings (excl QB)'!$F:$F),0),1),\"\")","v":""},{"$f":"IFERROR(VLOOKUP($X47,'Total Rankings (excl QB)'!$D:$E,2,0),0)","v":0},0,null,{"$f":"IFERROR(VLOOKUP($X47,'Total Rankings (excl QB)'!$D:$L,4,0),\"\")","v":""},{"$f":"IFERROR(VLOOKUP($X47,'Total Rankings (excl QB)'!$D:$L,5,0),\"\")","v":""},{"$f":"IFERROR(VLOOKUP($X47,'Total Rankings (excl QB)'!$D:$L,6,0),\"\")","v":""},{"$f":"IFERROR(VLOOKUP($X47,'Total Rankings (excl QB)'!$D:$L,7,0),\"\")","v":""},{"$f":"IFERROR(VLOOKUP($X47,'Total Rankings (excl QB)'!$D:$L,8,0),\"\")","v":""},null,44,{"$f":"'QB Rankings'!C47","v":0},{"$f":"'QB Rankings'!D47","v":0},0,null,{"$f":"'QB Rankings'!E47","v":0},{"$f":"'QB Rankings'!F47","v":0},{"$f":"'QB Rankings'!G47","v":0},{"$f":"'QB Rankings'!H47","v":0},{"$f":"'QB Rankings'!I47","v":0}]
[45,{"$f":"IFERROR(INDEX('Total Rankings (excl QB)'!$D:$D,MATCH(1,(\"Wide Receiver\"='Total Rankings (excl QB)'!$C:$C)*(A48='Total Rankings (excl QB)'!$F:$F),0),1),\"\")","v":""},{"$f":"IFERROR(VLOOKUP($B48,'Total Rankings (excl QB)'!$D:$E,2,0),0)","v":0},0,null,{"$f":"IFERROR(VLOOKUP($B48,'Total Rankings (excl QB)'!$D:$L,4,0),\"\")","v":""},{"$f":"IFERROR(VLOOKUP($B48,'Total Rankings (excl QB)'!$D:$L,5,0),\"\")","v":""},{"$f":"IFERROR(VLOOKUP($B48,'Total Rankings (excl QB)'!$D:$L,6,0),\"\")","v":""},{"$f":"IFERROR(VLOOKUP($B48,'Total Rankings (excl QB)'!$D:$L,7,0),\"\")","v":""},{"$f":"IFERROR(VLOOKUP($B48,'Total Rankings (excl QB)'!$D:$L,8,0),\"\")","v":""},null,45,{"$f":"IFERROR(INDEX('Total Rankings (excl QB)'!$D:$D,MATCH(1,(\"Running Back\"='Total Rankings (excl QB)'!$C:$C)*(L48='Total Rankings (excl QB)'!$F:$F),0),1),\"\")","v":""},{"$f":"IFERROR(VLOOKUP($M48,'Total Rankings (excl QB)'!$D:$E,2,0),0)","v":0},0,null,{"$f":"IFERROR(VLOOKUP($M48,'Total Rankings (excl QB)'!$D:$L,4,0),\"\")","v":""},{"$f":"IFERROR(VLOOKUP($M48,'Total Rankings (excl QB)'!$D:$L,5,0),\"\")","v":""},{"$f":"IFERROR(VLOOKUP($M48,'Total Rankings (excl QB)'!$D:$L,6,0),\"\")","v":""},{"$f":"IFERROR(VLOOKUP($M48,'Total Rankings (excl QB)'!$D:$L,7,0),\"\")","v":""},{"$f":"IFERROR(VLOOKUP($M48,'Total Rankings (excl QB)'!$D:$L,8,0),\"\")","v":""},null,45,{"$f":"IFERROR(INDEX('Total Rankings (excl QB)'!$D:$D,MATCH(1,(\"Tight End\"='Total Rankings (excl QB)'!$C:$C)*(W48='Total Rankings (excl QB)'!$F:$F),0),1),\"\")","v":""},{"$f":"IFERROR(VLOOKUP($X48,'Total Rankings (excl QB)'!$D:$E,2,0),0)","v":0},0,null,{"$f":"IFERROR(VLOOKUP($X48,'Total Rankings (excl QB)'!$D:$L,4,0),\"\")","v":""},{"$f":"IFERROR(VLOOKUP($X48,'Total Rankings (excl QB)'!$D:$L,5,0),\"\")","v":""},{"$f":"IFERROR(VLOOKUP($X48,'Total Rankings (excl QB)'!$D:$L,6,0),\"\")","v":""},{"$f":"IFERROR(VLOOKUP($X48,'Total Rankings (excl QB)'!$D:$L,7,0),\"\")","v":""},{"$f":"IFERROR(VLOOKUP($X48,'Total Rankings (excl QB)'!$D:$L,8,0),\"\")","v":""},null,45,{"$f":"'QB Rankings'!C48","v":0},{"$f":"'QB Rankings'!D48","v":0},0,null,{"$f":"'QB Rankings'!E48","v":0},{"$f":"'QB Rankings'!F48","v":0},{"$f":"'QB Rankings'!G48","v":0},{"$f":"'QB Rankings'!H48","v":0},{"$f":"'QB Rankings'!I48","v":0}]
[46,{"$f":"IFERROR(INDEX('Total Rankings (excl QB)'!$D:$D,MATCH(1,(\"Wide Receiver\"='Total Rankings (excl QB)'!$C:$C)*(A49='Total Rankings (excl QB)'!$F:$F),0),1),\"\")","v":""},{"$f":"IFERROR(VLOOKUP($B49,'Total Rankings (excl QB)'!$D:$E,2,0),0)","v":0},0,null,{"$f":"IFERROR(VLOOKUP($B49,'Total Rankings (excl QB)'!$D:$L,4,0),\"\")","v":""},{"$f":"IFERROR(VLOOKUP($B49,'Total Rankings (excl QB)'!$D:$L,5,0),\"\")","v":""},{"$f":"IFERROR(VLOOKUP($B49,'Total Rankings (excl QB)'!$D:$L,6,0),\"\")","v":""},{"$f":"IFERROR(VLOOKUP($B49,'Total Rankings (excl QB)'!$D:$L,7,0),\"\")","v":""},{"$f":"IFERROR(VLOOKUP($B49,'Total Rankings (excl QB)'!$D:$L,8,0),\"\")","v":""},null,46,{"$f":"IFERROR(INDEX('Total Rankings (excl QB)'!$D:$D,MATCH(1,(\"Running Back\"='Total Rankings (excl QB)'!$C:$C)*(L49='Total Rankings (excl QB)'!$F:$F),0),1),\"\")","v":""},{"$f":"IFERROR(VLOOKUP($M49,'Total Rankings (excl QB)'!$D:$E,2,0),0)","v":0},0,null,{"$f":"IFERROR(VLOOKUP($M49,'Total Rankings (excl QB)'!$D:$L,4,0),\"\")","v":""},{"$f":"IFERROR(VLOOKUP($M49,'Total Rankings (excl QB)'!$D:$L,5,0),\"\")","v":""},{"$f":"IFERROR(VLOOKUP($M49,'Total Rankings (excl QB)'!$D:$L,6,0),\"\")","v":""},{"$f":"IFERROR(VLOOKUP($M49,'Total Rankings (excl QB)'!$D:$L,7,0),\"\")","v":""},{"$f":"IFERROR(VLOOKUP($M49,'Total Rankings (excl QB)'!$D:$L,8,0),\"\")","v":""},null,46,{"$f":"IFERROR(INDEX('Total Rankings (excl QB)'!$D:$D,MATCH(1,(\"Tight End\"='Total Rankings (excl QB)'!$C:$C)*(W49='Total Rankings (excl QB)'!$F:$F),0),1),\"\")","v":""},{"$f":"IFERROR(VLOOKUP($X49,'Total Rankings (excl QB)'!$D:$E,2,0),0)","v":0},0,null,{"$f":"IFERROR(VLOOKUP($X49,'Total Rankings (excl QB)'!$D:$L,4,0),\"\")","v":""},{"$f":"IFERROR(VLOOKUP($X49,'Total Rankings (excl QB)'!$D:$L,5,0),\"\")","v":""},{"$f":"IFERROR(VLOOKUP($X49,'Total Rankings (excl QB)'!$D:$L,6,0),\"\")","v":""},{"$f":"IFERROR(VLOOKUP($X49,'Total Rankings (excl QB)'!$D:$L,7,0),\"\")","v":""},{"$f":"IFERROR(VLOOKUP($X49,'Total Rankings (excl QB)'!$D:$L,8,0),\"\")","v":""},null,46,{"$f":"'QB Rankings'!C49","v":0},{"$f":"'QB Rankings'!D49","v":0},0,null,{"$f":"'QB Rankings'!E49","v":0},{"$f":"'QB Rankings'!F49","v":0},{"$f":"'QB Rankings'!G49","v":0},{"$f":"'QB Rankings'!H49","v":0},{"$f":"'QB Rankings'!I49","v":0}]
[47,{"$f":"IFERROR(INDEX('Total Rankings (excl QB)'!$D:$D,MATCH(1,(\"Wide Receiver\"='Total Rankings (excl QB)'!$C:$C)*(A50='Total Rankings (excl QB)'!$F:$F),0),1),\"\")","v":""},{"$f":"IFERROR(VLOOKUP($B50,'Total Rankings (excl QB)'!$D:$E,2,0),0)","v":0},0,null,{"$f":"IFERROR(VLOOKUP($B50,'Total Rankings (excl QB)'!$D:$L,4,0),\"\")","v":""},{"$f":"IFERROR(VLOOKUP($B50,'Total Rankings (excl QB)'!$D:$L,5,0),\"\")","v":""},{"$f":"IFERROR(VLOOKUP($B50,'Total Rankings (excl QB)'!$D:$L,6,0),\"\")","v":""},{"$f":"IFERROR(VLOOKUP($B50,'Total Rankings (excl QB)'!$D:$L,7,0),\"\")","v":""},{"$f":"IFERROR(VLOOKUP($B50,'Total Rankings (excl QB)'!$D:$L,8,0),\"\")","v":""},null,47,{"$f":"IFERROR(INDEX('Total Rankings (excl QB)'!$D:$D,MATCH(1,(\"Running Back\"='Total Rankings (excl QB)'!$C:$C)*(L50='Total Rankings (excl QB)'!$F:$F),0),1),\"\")","v":""},{"$f":"IFERROR(VLOOKUP($M50,'Total Rankings (excl QB)'!$D:$E,2,0),0)","v":0},0,null,{"$f":"IFERROR(VLOOKUP($M50,'Total Rankings (excl QB)'!$D:$L,4,0),\"\")","v":""},{"$f":"IFERROR(VLOOKUP($M50,'Total Rankings (excl QB)'!$D:$L,5,0),\"\")","v":""},{"$f":"IFERROR(VLOOKUP($M50,'Total Rankings (excl QB)'!$D:$L,6,0),\"\")","v":""},{"$f":"IFERROR(VLOOKUP($M50,'Total Rankings (excl QB)'!$D:$L,7,0),\"\")","v":""},{"$f":"IFERROR(VLOOKUP($M50,'Total Rankings (excl QB)'!$D:$L,8,0),\"\")","v":""},null,47,{"$f":"IFERROR(INDEX('Total Rankings (excl QB)'!$D:$D,MATCH(1,(\"Tight End\"='Total Rankings (excl QB)'!$C:$C)*(W50='Total Rankings (excl QB)'!$F:$F),0),1),\"\")","v":""},{"$f":"IFERROR(VLOOKUP($X50,'Total Rankings (excl QB)'!$D:$E,2,0),0)","v":0},0,null,{"$f":"IFERROR(VLOOKUP($X50,'Total Rankings (excl QB)'!$D:$L,4,0),\"\")","v":""},{"$f":"IFERROR(VLOOKUP($X50,'Total Rankings (excl QB)'!$D:$L,5,0),\"\")","v":""},{"$f":"IFERROR(VLOOKUP($X50,'Total Rankings (excl QB)'!$D:$L,6,0),\"\")","v":""},{"$f":"IFERROR(VLOOKUP($X50,'Total Rankings (excl QB)'!$D:$L,7,0),\"\")","v":""},{"$f":"IFERROR(VLOOKUP($X50,'Total Rankings (excl QB)'!$D:$L,8,0),\"\")","v":""},null,47,{"$f":"'QB Rankings'!C50","v":0},{"$f":"'QB Rankings'!D50","v":0},0,null,{"$f":"'QB Rankings'!E50","v":0},{"$f":"'QB Rankings'!F50","v":0},{"$f":"'QB Rankings'!G50","v":0},{"$f":"'QB Rankings'!H50","v":0},{"$f":"'QB Rankings'!I50","v":0}]
[48,{"$f":"IFERROR(INDEX('Total Rankings (excl QB)'!$D:$D,MATCH(1,(\"Wide Receiver\"='Total Rankings (excl QB)'!$C:$C)*(A51='Total Rankings (excl QB)'!$F:$F),0),1),\"\")","v":""},{"$f":"IFERROR(VLOOKUP($B51,'Total Rankings (excl QB)'!$D:$E,2,0),0)","v":0},0,null,{"$f":"IFERROR(VLOOKUP($B51,'Total Rankings (excl QB)'!$D:$L,4,0),\"\")","v":""},{"$f":"IFERROR(VLOOKUP($B51,'Total Rankings (excl QB)'!$D:$L,5,0),\"\")","v":""},{"$f":"IFERROR(VLOOKUP($B51,'Total Rankings (excl QB)'!$D:$L,6,0),\"\")","v":""},{"$f":"IFERROR(VLOOKUP($B51,'Total Rankings (excl QB)'!$D:$L,7,0),\"\")","v":""},{"$f":"IFERROR(VLOOKUP($B51,'Total Rankings (excl QB)'!$D:$L,8,0),\"\")","v":""},null,48,{"$f":"IFERROR(INDEX('Total Rankings (excl QB)'!$D:$D,MATCH(1,(\"Running Back\"='Total Rankings (excl QB)'!$C:$C)*(L51='Total Rankings (excl QB)'!$F:$F),0),1),\"\")","v":""},{"$f":"IFERROR(VLOOKUP($M51,'Total Rankings (excl QB)'!$D:$E,2,0),0)","v":0},0,null,{"$f":"IFERROR(VLOOKUP($M51,'Total Rankings (excl QB)'!$D:$L,4,0),\"\")","v":""},{"$f":"IFERROR(VLOOKUP($M51,'Total Rankings (excl QB)'!$D:$L,5,0),\"\")","v":""},{"$f":"IFERROR(VLOOKUP($M51,'Total Rankings (excl QB)'!$D:$L,6,0),\"\")","v":""},{"$f":"IFERROR(VLOOKUP($M51,'Total Rankings (excl QB)'!$D:$L,7,0),\"\")","v":""},{"$f":"IFERROR(VLOOKUP($M51,'Total Rankings (excl QB)'!$D:$L,8,0),\"\")","v":""},null,48,{"$f":"IFERROR(INDEX('Total Rankings (excl QB)'!$D:$D,MATCH(1,(\"Tight End\"='Total Rankings (excl QB)'!$C:$C)*(W51='Total Rankings (excl QB)'!$F:$F),0),1),\"\")","v":""},{"$f":"IFERROR(VLOOKUP($X51,'Total Rankings (excl QB)'!$D:$E,2,0),0)","v":0},0,null,{"$f":"IFERROR(VLOOKUP($X51,'Total Rankings (excl QB)'!$D:$L,4,0),\"\")","v":""},{"$f":"IFERROR(VLOOKUP($X51,'Total Rankings (excl QB)'!$D:$L,5,0),\"\")","v":""},{"$f":"IFERROR(VLOOKUP($X51,'Total Rankings (excl QB)'!$D:$L,6,0),\"\")","v":""},{"$f":"IFERROR(VLOOKUP($X51,'Total Rankings (excl QB)'!$D:$L,7,0),\"\")","v":""},{"$f":"IFERROR(VLOOKUP($X51,'Total Rankings (excl QB)'!$D:$L,8,0),\"\")","v":""},null,48,{"$f":"'QB Rankings'!C51","v":0},{"$f":"'QB Rankings'!D51","v":0},0,null,{"$f":"'QB Rankings'!E51","v":0},{"$f":"'QB Rankings'!F51","v":0},{"$f":"'QB Rankings'!G51","v":0},{"$f":"'QB Rankings'!H51","v":0},{"$f":"'QB Rankings'!I51","v":0}]
[49,{"$f":"IFERROR(INDEX('Total Rankings (excl QB)'!$D:$D,MATCH(1,(\"Wide Receiver\"='Total Rankings (excl QB)'!$C:$C)*(A52='Total Rankings (excl QB)'!$F:$F),0),1),\"\")","v":""},{"$f":"IFERROR(VLOOKUP($B52,'Total Rankings (excl QB)'!$D:$E,2,0),0)","v":0},0,null,{"$f":"IFERROR(VLOOKUP($B52,'Total Rankings (excl QB)'!$D:$L,4,0),\"\")","v":""},{"$f":"IFERROR(VLOOKUP($B52,'Total Rankings (excl QB)'!$D:$L,5,0),\"\")","v":""},{"$f":"IFERROR(VLOOKUP($B52,'Total Rankings (excl QB)'!$D:$L,6,0),\"\")","v":""},{"$f":"IFERROR(VLOOKUP($B52,'Total Rankings (excl QB)'!$D:$L,7,0),\"\")","v":""},{"$f":"IFERROR(VLOOKUP($B52,'Total Rankings (excl QB)'!$D:$L,8,0),\"\")","v":""},null,49,{"$f":"IFERROR(INDEX('Total Rankings (excl QB)'!$D:$D,MATCH(1,(\"Running Back\"='Total Rankings (excl QB)'!$C:$C)*(L52='Total Rankings (excl QB)'!$F:$F),0),1),\"\")","v":""},{"$f":"IFERROR(VLOOKUP($M52,'Total Rankings (excl QB)'!$D:$E,2,0),0)","v":0},0,null,{"$f":"IFERROR(VLOOKUP($M52,'Total Rankings (excl QB)'!$D:$L,4,0),\"\")","v":""},{"$f":"IFERROR(VLOOKUP($M52,'Total Rankings (excl QB)'!$D:$L,5,0),\"\")","v":""},{"$f":"IFERROR(VLOOKUP($M52,'Total Rankings (excl QB)'!$D:$L,6,0),\"\")","v":""},{"$f":"IFERROR(VLOOKUP($M52,'Total Rankings (excl QB)'!$D:$L,7,0),\"\")","v":""},{"$f":"IFERROR(VLOOKUP($M52,'Total Rankings (excl QB)'!$D:$L,8,0),\"\")","v":""},null,49,{"$f":"IFERROR(INDEX('Total Rankings (excl QB)'!$D:$D,MATCH(1,(\"Tight End\"='Total Rankings (excl QB)'!$C:$C)*(W52='Total Rankings (excl QB)'!$F:$F),0),1),\"\")","v":""},{"$f":"IFERROR(VLOOKUP($X52,'Total Rankings (excl QB)'!$D:$E,2,0),0)","v":0},0,null,{"$f":"IFERROR(VLOOKUP($X52,'Total Rankings (excl QB)'!$D:$L,4,0),\"\")","v":""},{"$f":"IFERROR(VLOOKUP($X52,'Total Rankings (excl QB)'!$D:$L,5,0),\"\")","v":""},{"$f":"IFERROR(VLOOKUP($X52,'Total Rankings (excl QB)'!$D:$L,6,0),\"\")","v":""},{"$f":"IFERROR(VLOOKUP($X52,'Total Rankings (excl QB)'!$D:$L,7,0),\"\")","v":""},{"$f":"IFERROR(VLOOKUP($X52,'Total Rankings (excl QB)'!$D:$L,8,0),\"\")","v":""},null,49,{"$f":"'QB Rankings'!C52","v":0},{"$f":"'QB Rankings'!D52","v":0},0,null,{"$f":"'QB Rankings'!E52","v":0},{"$f":"'QB Rankings'!F52","v":0},{"$f":"'QB Rankings'!G52","v":0},{"$f":"'QB Rankings'!H52","v":0},{"$f":"'QB Rankings'!I52","v":0}]
[50,{"$f":"IFERROR(INDEX('Total Rankings (excl QB)'!$D:$D,MATCH(1,(\"Wide Receiver\"='Total Rankings (excl QB)'!$C:$C)*(A53='Total Rankings (excl QB)'!$F:$F),0),1),\"\")","v":""},{"$f":"IFERROR(VLOOKUP($B53,'Total Rankings (excl QB)'!$D:$E,2,0),0)","v":0},0,null,{"$f":"IFERROR(VLOOKUP($B53,'Total Rankings (excl QB)'!$D:$L,4,0),\"\")","v":""},{"$f":"IFERROR(VLOOKUP($B53,'Total Rankings (excl QB)'!$D:$L,5,0),\"\")","v":""},{"$f":"IFERROR(VLOOKUP($B53,'Total Rankings (excl QB)'!$D:$L,6,0),\"\")","v":""},{"$f":"IFERROR(VLOOKUP($B53,'Total Rankings (excl QB)'!$D:$L,7,0),\"\")","v":""},{"$f":"IFERROR(VLOOKUP($B53,'Total Rankings (excl QB)'!$D:$L,8,0),\"\")","v":""},null,50,{"$f":"IFERROR(INDEX('Total Rankings (excl QB)'!$D:$D,MATCH(1,(\"Running Back\"='Total Rankings (excl QB)'!$C:$C)*(L53='Total Rankings (excl QB)'!$F:$F),0),1),\"\")","v":""},{"$f":"IFERROR(VLOOKUP($M53,'Total Rankings (excl QB)'!$D:$E,2,0),0)","v":0},0,null,{"$f":"IFERROR(VLOOKUP($M53,'Total Rankings (excl QB)'!$D:$L,4,0),\"\")","v":""},{"$f":"IFERROR(VLOOKUP($M53,'Total Rankings (excl QB)'!$D:$L,5,0),\"\")","v":""},{"$f":"IFERROR(VLOOKUP($M53,'Total Rankings (excl QB)'!$D:$L,6,0),\"\")","v":""},{"$f":"IFERROR(VLOOKUP($M53,'Total Rankings (excl QB)'!$D:$L,7,0),\"\")","v":""},{"$f":"IFERROR(VLOOKUP($M53,'Total Rankings (excl QB)'!$D:$L,8,0),\"\")","v":""},null,50,{"$f":"IFERROR(INDEX('Total Rankings (excl QB)'!$D:$D,MATCH(1,(\"Tight End\"='Total Rankings (excl QB)'!$C:$C)*(W53='Total Rankings (excl QB)'!$F:$F),0),1),\"\")","v":""},{"$f":"IFERROR(VLOOKUP($X53,'Total Rankings (excl QB)'!$D:$E,2,0),0)","v":0},0,null,{"$f":"IFERROR(VLOOKUP($X53,'Total Rankings (excl QB)'!$D:$L,4,0),\"\")","v":""},{"$f":"IFERROR(VLOOKUP($X53,'Total Rankings (excl QB)'!$D:$L,5,0),\"\")","v":""},{"$f":"IFERROR(VLOOKUP($X53,'Total Rankings (excl QB)'!$D:$L,6,0),\"\")","v":""},{"$f":"IFERROR(VLOOKUP($X53,'Total Rankings (excl QB)'!$D:$L,7,0),\"\")","v":""},{"$f":"IFERROR(VLOOKUP($X53,'Total Rankings (excl QB)'!$D:$L,8,0),\"\")","v":""},null,50,{"$f":"'QB Rankings'!C53","v":0},{"$f":"'QB Rankings'!D53","v":0},0,null,{"$f":"'QB Rankings'!E53","v":0},{"$f":"'QB Rankings'!F53","v":0},{"$f":"'QB Rankings'!G53","v":0},{"$f":"'QB Rankings'!H53","v":0},{"$f":"'QB Rankings'!I53","v":0}]
[51,{"$f":"IFERROR(INDEX('Total Rankings (excl QB)'!$D:$D,MATCH(1,(\"Wide Receiver\"='Total Rankings (excl QB)'!$C:$C)*(A54='Total Rankings (excl QB)'!$F:$F),0),1),\"\")","v":""},{"$f":"IFERROR(VLOOKUP($B54,'Total Rankings (excl QB)'!$D:$E,2,0),0)","v":0},0,null,{"$f":"IFERROR(VLOOKUP($B54,'Total Rankings (excl QB)'!$D:$L,4,0),\"\")","v":""},{"$f":"IFERROR(VLOOKUP($B54,'Total Rankings (excl QB)'!$D:$L,5,0),\"\")","v":""},{"$f":"IFERROR(VLOOKUP($B54,'Total Rankings (excl QB)'!$D:$L,6,0),\"\")","v":""},{"$f":"IFERROR(VLOOKUP($B54,'Total Rankings (excl QB)'!$D:$L,7,0),\"\")","v":""},{"$f":"IFERROR(VLOOKUP($B54,'Total Rankings (excl QB)'!$D:$L,8,0),\"\")","v":""},null,51,{"$f":"IFERROR(INDEX('Total Rankings (excl QB)'!$D:$D,MATCH(1,(\"Running Back\"='Total Rankings (excl QB)'!$C:$C)*(L54='Total Rankings (excl QB)'!$F:$F),0),1),\"\")","v":""},{"$f":"IFERROR(VLOOKUP($M54,'Total Rankings (excl QB)'!$D:$E,2,0),0)","v":0},0,null,{"$f":"IFERROR(VLOOKUP($M54,'Total Rankings (excl QB)'!$D:$L,4,0),\"\")","v":""},{"$f":"IFERROR(VLOOKUP($M54,'Total Rankings (excl QB)'!$D:$L,5,0),\"\")","v":""},{"$f":"IFERROR(VLOOKUP($M54,'Total Rankings (excl QB)'!$D:$L,6,0),\"\")","v":""},{"$f":"IFERROR(VLOOKUP($M54,'Total Rankings (excl QB)'!$D:$L,7,0),\"\")","v":""},{"$f":"IFERROR(VLOOKUP($M54,'Total Rankings (excl QB)'!$D:$L,8,0),\"\")","v":""},null,51,{"$f":"IFERROR(INDEX('Total Rankings (excl QB)'!$D:$D,MATCH(1,(\"Tight End\"='Total Rankings (excl QB)'!$C:$C)*(W54='Total Rankings (excl QB)'!$F:$F),0),1),\"\")","v":""},{"$f":"IFERROR(VLOOKUP($X54,'Total Rankings (excl QB)'!$D:$E,2,0),0)","v":0},0,null,{"$f":"IFERROR(VLOOKUP($X54,'Total Rankings (excl QB)'!$D:$L,4,0),\"\")","v":""},{"$f":"IFERROR(VLOOKUP($X54,'Total Rankings (excl QB)'!$D:$L,5,0),\"\")","v":""},{"$f":"IFERROR(VLOOKUP($X54,'Total Rankings (excl QB)'!$D:$L,6,0),\"\")","v":""},{"$f":"IFERROR(VLOOKUP($X54,'Total Rankings (excl QB)'!$D:$L,7,0),\"\")","v":""},{"$f":"IFERROR(VLOOKUP($X54,'Total Rankings (excl QB)'!$D:$L,8,0),\"\")","v":""},null,51,{"$f":"'QB Rankings'!C54","v":0},{"$f":"'QB Rankings'!D54","v":0},0,null,{"$f":"'QB Rankings'!E54","v":0},{"$f":"'QB Rankings'!F54","v":0},{"$f":"'QB Rankings'!G54","v":0},{"$f":"'QB Rankings'!H54","v":0},{"$f":"'QB Rankings'!I54","v":0}]
[52,{"$f":"IFERROR(INDEX('Total Rankings (excl QB)'!$D:$D,MATCH(1,(\"Wide Receiver\"='Total Rankings (excl QB)'!$C:$C)*(A55='Total Rankings (excl QB)'!$F:$F),0),1),\"\")","v":""},{"$f":"IFERROR(VLOOKUP($B55,'Total Rankings (excl QB)'!$D:$E,2,0),0)","v":0},0,null,{"$f":"IFERROR(VLOOKUP($B55,'Total Rankings (excl QB)'!$D:$L,4,0),\"\")","v":""},{"$f":"IFERROR(VLOOKUP($B55,'Total Rankings (excl QB)'!$D:$L,5,0),\"\")","v":""},{"$f":"IFERROR(VLOOKUP($B55,'Total Rankings (excl QB)'!$D:$L,6,0),\"\")","v":""},{"$f":"IFERROR(VLOOKUP($B55,'Total Rankings (excl QB)'!$D:$L,7,0),\"\")","v":""},{"$f":"IFERROR(VLOOKUP($B55,'Total Rankings (excl QB)'!$D:$L,8,0),\"\")","v":""},null,52,{"$f":"IFERROR(INDEX('Total Rankings (excl QB)'!$D:$D,MATCH(1,(\"Running Back\"='Total Rankings (excl QB)'!$C:$C)*(L55='Total Rankings (excl QB)'!$F:$F),0),1),\"\")","v":""},{"$f":"IFERROR(VLOOKUP($M55,'Total Rankings (excl QB)'!$D:$E,2,0),0)","v":0},0,null,{"$f":"IFERROR(VLOOKUP($M55,'Total Rankings (excl QB)'!$D:$L,4,0),\"\")","v":""},{"$f":"IFERROR(VLOOKUP($M55,'Total Rankings (excl QB)'!$D:$L,5,0),\"\")","v":""},{"$f":"IFERROR(VLOOKUP($M55,'Total Rankings (excl QB)'!$D:$L,6,0),\"\")","v":""},{"$f":"IFERROR(VLOOKUP($M55,'Total Rankings (excl QB)'!$D:$L,7,0),\"\")","v":""},{"$f":"IFERROR(VLOOKUP($M55,'Total Rankings (excl QB)'!$D:$L,8,0),\"\")","v":""},null,52,{"$f":"IFERROR(INDEX('Total Rankings (excl QB)'!$D:$D,MATCH(1,(\"Tight End\"='Total Rankings (excl QB)'!$C:$C)*(W55='Total Rankings (excl QB)'!$F:$F),0),1),\"\")","v":""},{"$f":"IFERROR(VLOOKUP($X55,'Total Rankings (excl QB)'!$D:$E,2,0),0)","v":0},0,null,{"$f":"IFERROR(VLOOKUP($X55,'Total Rankings (excl QB)'!$D:$L,4,0),\"\")","v":""},{"$f":"IFERROR(VLOOKUP($X55,'Total Rankings (excl QB)'!$D:$L,5,0),\"\")","v":""},{"$f":"IFERROR(VLOOKUP($X55,'Total Rankings (excl QB)'!$D:$L,6,0),\"\")","v":""},{"$f":"IFERROR(VLOOKUP($X55,'Total Rankings (excl QB)'!$D:$L,7,0),\"\")","v":""},{"$f":"IFERROR(VLOOKUP($X55,'Total Rankings (excl QB)'!$D:$L,8,0),\"\")","v":""},null,52,{"$f":"'QB Rankings'!C55","v":0},{"$f":"'QB Rankings'!D55","v":0},0,null,{"$f":"'QB Rankings'!E55","v":0},{"$f":"'QB Rankings'!F55","v":0},{"$f":"'QB Rankings'!G55","v":0},{"$f":"'QB Rankings'!H55","v":0},{"$f":"'QB Rankings'!I55","v":0}]
[53,{"$f":"IFERROR(INDEX('Total Rankings (excl QB)'!$D:$D,MATCH(1,(\"Wide Receiver\"='Total Rankings (excl QB)'!$C:$C)*(A56='Total Rankings (excl QB)'!$F:$F),0),1),\"\")","v":""},{"$f":"IFERROR(VLOOKUP($B56,'Total Rankings (excl QB)'!$D:$E,2,0),0)","v":0},0,null,{"$f":"IFERROR(VLOOKUP($B56,'Total Rankings (excl QB)'!$D:$L,4,0),\"\")","v":""},{"$f":"IFERROR(VLOOKUP($B56,'Total Rankings (excl QB)'!$D:$L,5,0),\"\")","v":""},{"$f":"IFERROR(VLOOKUP($B56,'Total Rankings (excl QB)'!$D:$L,6,0),\"\")","v":""},{"$f":"IFERROR(VLOOKUP($B56,'Total Rankings (excl QB)'!$D:$L,7,0),\"\")","v":""},{"$f":"IFERROR(VLOOKUP($B56,'Total Rankings (excl QB)'!$D:$L,8,0),\"\")","v":""},null,53,{"$f":"IFERROR(INDEX('Total Rankings (excl QB)'!$D:$D,MATCH(1,(\"Running Back\"='Total Rankings (excl QB)'!$C:$C)*(L56='Total Rankings (excl QB)'!$F:$F),0),1),\"\")","v":""},{"$f":"IFERROR(VLOOKUP($M56,'Total Rankings (excl QB)'!$D:$E,2,0),0)","v":0},0,null,{"$f":"IFERROR(VLOOKUP($M56,'Total Rankings (excl QB)'!$D:$L,4,0),\"\")","v":""},{"$f":"IFERROR(VLOOKUP($M56,'Total Rankings (excl QB)'!$D:$L,5,0),\"\")","v":""},{"$f":"IFERROR(VLOOKUP($M56,'Total Rankings (excl QB)'!$D:$L,6,0),\"\")","v":""},{"$f":"IFERROR(VLOOKUP($M56,'Total Rankings (excl QB)'!$D:$L,7,0),\"\")","v":""},{"$f":"IFERROR(VLOOKUP($M56,'Total Rankings (excl QB)'!$D:$L,8,0),\"\")","v":""},null,53,{"$f":"IFERROR(INDEX('Total Rankings (excl QB)'!$D:$D,MATCH(1,(\"Tight End\"='Total Rankings (excl QB)'!$C:$C)*(W56='Total Rankings (excl QB)'!$F:$F),0),1),\"\")","v":""},{"$f":"IFERROR(VLOOKUP($X56,'Total Rankings (excl QB)'!$D:$E,2,0),0)","v":0},0,null,{"$f":"IFERROR(VLOOKUP($X56,'Total Rankings (excl QB)'!$D:$L,4,0),\"\")","v":""},{"$f":"IFERROR(VLOOKUP($X56,'Total Rankings (excl QB)'!$D:$L,5,0),\"\")","v":""},{"$f":"IFERROR(VLOOKUP($X56,'Total Rankings (excl QB)'!$D:$L,6,0),\"\")","v":""},{"$f":"IFERROR(VLOOKUP($X56,'Total Rankings (excl QB)'!$D:$L,7,0),\"\")","v":""},{"$f":"IFERROR(VLOOKUP($X56,'Total Rankings (excl QB)'!$D:$L,8,0),\"\")","v":""},null,53,{"$f":"'QB Rankings'!C56","v":0},{"$f":"'QB Rankings'!D56","v":0},0,null,{"$f":"'QB Rankings'!E56","v":0},{"$f":"'QB Rankings'!F56","v":0},{"$f":"'QB Rankings'!G56","v":0},{"$f":"'QB Rankings'!H56","v":0},{"$f":"'QB Rankings'!I56","v":0}]
[54,{"$f":"IFERROR(INDEX('Total Rankings (excl QB)'!$D:$D,MATCH(1,(\"Wide Receiver\"='Total Rankings (excl QB)'!$C:$C)*(A57='Total Rankings (excl QB)'!$F:$F),0),1),\"\")","v":""},{"$f":"IFERROR(VLOOKUP($B57,'Total Rankings (excl QB)'!$D:$E,2,0),0)","v":0},0,null,{"$f":"IFERROR(VLOOKUP($B57,'Total Rankings (excl QB)'!$D:$L,4,0),\"\")","v":""},{"$f":"IFERROR(VLOOKUP($B57,'Total Rankings (excl QB)'!$D:$L,5,0),\"\")","v":""},{"$f":"IFERROR(VLOOKUP($B57,'Total Rankings (excl QB)'!$D:$L,6,0),\"\")","v":""},{"$f":"IFERROR(VLOOKUP($B57,'Total Rankings (excl QB)'!$D:$L,7,0),\"\")","v":""},{"$f":"IFERROR(VLOOKUP($B57,'Total Rankings (excl QB)'!$D:$L,8,0),\"\")","v":""},null,54,{"$f":"IFERROR(INDEX('Total Rankings (excl QB)'!$D:$D,MATCH(1,(\"Running Back\"='Total Rankings (excl QB)'!$C:$C)*(L57='Total Rankings (excl QB)'!$F:$F),0),1),\"\")","v":""},{"$f":"IFERROR(VLOOKUP($M57,'Total Rankings (excl QB)'!$D:$E,2,0),0)","v":0},0,null,{"$f":"IFERROR(VLOOKUP($M57,'Total Rankings (excl QB)'!$D:$L,4,0),\"\")","v":""},{"$f":"IFERROR(VLOOKUP($M57,'Total Rankings (excl QB)'!$D:$L,5,0),\"\")","v":""},{"$f":"IFERROR(VLOOKUP($M57,'Total Rankings (excl QB)'!$D:$L,6,0),\"\")","v":""},{"$f":"IFERROR(VLOOKUP($M57,'Total Rankings (excl QB)'!$D:$L,7,0),\"\")","v":""},{"$f":"IFERROR(VLOOKUP($M57,'Total Rankings (excl QB)'!$D:$L,8,0),\"\")","v":""},null,54,{"$f":"IFERROR(INDEX('Total Rankings (excl QB)'!$D:$D,MATCH(1,(\"Tight End\"='Total Rankings (excl QB)'!$C:$C)*(W57='Total Rankings (excl QB)'!$F:$F),0),1),\"\")","v":""},{"$f":"IFERROR(VLOOKUP($X57,'Total Rankings (excl QB)'!$D:$E,2,0),0)","v":0},0,null,{"$f":"IFERROR(VLOOKUP($X57,'Total Rankings (excl QB)'!$D:$L,4,0),\"\")","v":""},{"$f":"IFERROR(VLOOKUP($X57,'Total Rankings (excl QB)'!$D:$L,5,0),\"\")","v":""},{"$f":"IFERROR(VLOOKUP($X57,'Total Rankings (excl QB)'!$D:$L,6,0),\"\")","v":""},{"$f":"IFERROR(VLOOKUP($X57,'Total Rankings (excl QB)'!$D:$L,7,0),\"\")","v":""},{"$f":"IFERROR(VLOOKUP($X57,'Total Rankings (excl QB)'!$D:$L,8,0),\"\")","v":""},null,54,{"$f":"'QB Rankings'!C57","v":0},{"$f":"'QB Rankings'!D57","v":0},0,null,{"$f":"'QB Rankings'!E57","v":0},{"$f":"'QB Rankings'!F57","v":0},{"$f":"'QB Rankings'!G57","v":0},{"$f":"'QB Rankings'!H57","v":0},{"$f":"'QB Rankings'!I57","v":0}]
[55,{"$f":"IFERROR(INDEX('Total Rankings (excl QB)'!$D:$D,MATCH(1,(\"Wide Receiver\"='Total Rankings (excl QB)'!$C:$C)*(A58='Total Rankings (excl QB)'!$F:$F),0),1),\"\")","v":""},{"$f":"IFERROR(VLOOKUP($B58,'Total Rankings (excl QB)'!$D:$E,2,0),0)","v":0},0,null,{"$f":"IFERROR(VLOOKUP($B58,'Total Rankings (excl QB)'!$D:$L,4,0),\"\")","v":""},{"$f":"IFERROR(VLOOKUP($B58,'Total Rankings (excl QB)'!$D:$L,5,0),\"\")","v":""},{"$f":"IFERROR(VLOOKUP($B58,'Total Rankings (excl QB)'!$D:$L,6,0),\"\")","v":""},{"$f":"IFERROR(VLOOKUP($B58,'Total Rankings (excl QB)'!$D:$L,7,0),\"\")","v":""},{"$f":"IFERROR(VLOOKUP($B58,'Total Rankings (excl QB)'!$D:$L,8,0),\"\")","v":""},null,55,{"$f":"IFERROR(INDEX('Total Rankings (excl QB)'!$D:$D,MATCH(1,(\"Running Back\"='Total Rankings (excl QB)'!$C:$C)*(L58='Total Rankings (excl QB)'!$F:$F),0),1),\"\")","v":""},{"$f":"IFERROR(VLOOKUP($M58,'Total Rankings (excl QB)'!$D:$E,2,0),0)","v":0},0,null,{"$f":"IFERROR(VLOOKUP($M58,'Total Rankings (excl QB)'!$D:$L,4,0),\"\")","v":""},{"$f":"IFERROR(VLOOKUP($M58,'Total Rankings (excl QB)'!$D:$L,5,0),\"\")","v":""},{"$f":"IFERROR(VLOOKUP($M58,'Total Rankings (excl QB)'!$D:$L,6,0),\"\")","v":""},{"$f":"IFERROR(VLOOKUP($M58,'Total Rankings (excl QB)'!$D:$L,7,0),\"\")","v":""},{"$f":"IFERROR(VLOOKUP($M58,'Total Rankings (excl QB)'!$D:$L,8,0),\"\")","v":""},null,55,{"$f":"IFERROR(INDEX('Total Rankings (excl QB)'!$D:$D,MATCH(1,(\"Tight End\"='Total Rankings (excl QB)'!$C:$C)*(W58='Total Rankings (excl QB)'!$F:$F),0),1),\"\")","v":""},{"$f":"IFERROR(VLOOKUP($X58,'Total Rankings (excl QB)'!$D:$E,2,0),0)","v":0},0,null,{"$f":"IFERROR(VLOOKUP($X58,'Total Rankings (excl QB)'!$D:$L,4,0),\"\")","v":""},{"$f":"IFERROR(VLOOKUP($X58,'Total Rankings (excl QB)'!$D:$L,5,0),\"\")","v":""},{"$f":"IFERROR(VLOOKUP($X58,'Total Rankings (excl QB)'!$D:$L,6,0),\"\")","v":""},{"$f":"IFERROR(VLOOKUP($X58,'Total Rankings (excl QB)'!$D:$L,7,0),\"\")","v":""},{"$f":"IFERROR(VLOOKUP($X58,'Total Rankings (excl QB)'!$D:$L,8,0),\"\")","v":""},null,55,{"$f":"'QB Rankings'!C58","v":0},{"$f":"'QB Rankings'!D58","v":0},0,null,{"$f":"'QB Rankings'!E58","v":0},{"$f":"'QB Rankings'!F58","v":0},{"$f":"'QB Rankings'!G58","v":0},{"$f":"'QB Rankings'!H58","v":0},{"$f":"'QB Rankings'!I58","v":0}]
[56,{"$f":"IFERROR(INDEX('Total Rankings (excl QB)'!$D:$D,MATCH(1,(\"Wide Receiver\"='Total Rankings (excl QB)'!$C:$C)*(A59='Total Rankings (excl QB)'!$F:$F),0),1),\"\")","v":""},{"$f":"IFERROR(VLOOKUP($B59,'Total Rankings (excl QB)'!$D:$E,2,0),0)","v":0},0,null,{"$f":"IFERROR(VLOOKUP($B59,'Total Rankings (excl QB)'!$D:$L,4,0),\"\")","v":""},{"$f":"IFERROR(VLOOKUP($B59,'Total Rankings (excl QB)'!$D:$L,5,0),\"\")","v":""},{"$f":"IFERROR(VLOOKUP($B59,'Total Rankings (excl QB)'!$D:$L,6,0),\"\")","v":""},{"$f":"IFERROR(VLOOKUP($B59,'Total Rankings (excl QB)'!$D:$L,7,0),\"\")","v":""},{"$f":"IFERROR(VLOOKUP($B59,'Total Rankings (excl QB)'!$D:$L,8,0),\"\")","v":""},null,56,{"$f":"IFERROR(INDEX('Total Rankings (excl QB)'!$D:$D,MATCH(1,(\"Running Back\"='Total Rankings (excl QB)'!$C:$C)*(L59='Total Rankings (excl QB)'!$F:$F),0),1),\"\")","v":""},{"$f":"IFERROR(VLOOKUP($M59,'Total Rankings (excl QB)'!$D:$E,2,0),0)","v":0},0,null,{"$f":"IFERROR(VLOOKUP($M59,'Total Rankings (excl QB)'!$D:$L,4,0),\"\")","v":""},{"$f":"IFERROR(VLOOKUP($M59,'Total Rankings (excl QB)'!$D:$L,5,0),\"\")","v":""},{"$f":"IFERROR(VLOOKUP($M59,'Total Rankings (excl QB)'!$D:$L,6,0),\"\")","v":""},{"$f":"IFERROR(VLOOKUP($M59,'Total Rankings (excl QB)'!$D:$L,7,0),\"\")","v":""},{"$f":"IFERROR(VLOOKUP($M59,'Total Rankings (excl QB)'!$D:$L,8,0),\"\")","v":""},null,56,{"$f":"IFERROR(INDEX('Total Rankings (excl QB)'!$D:$D,MATCH(1,(\"Tight End\"='Total Rankings (excl QB)'!$C:$C)*(W59='Total Rankings (excl QB)'!$F:$F),0),1),\"\")","v":""},{"$f":"IFERROR(VLOOKUP($X59,'Total Rankings (excl QB)'!$D:$E,2,0),0)","v":0},0,null,{"$f":"IFERROR(VLOOKUP($X59,'Total Rankings (excl QB)'!$D:$L,4,0),\"\")","v":""},{"$f":"IFERROR(VLOOKUP($X59,'Total Rankings (excl QB)'!$D:$L,5,0),\"\")","v":""},{"$f":"IFERROR(VLOOKUP($X59,'Total Rankings (excl QB)'!$D:$L,6,0),\"\")","v":""},{"$f":"IFERROR(VLOOKUP($X59,'Total Rankings (excl QB)'!$D:$L,7,0),\"\")","v":""},{"$f":"IFERROR(VLOOKUP($X59,'Total Rankings (excl QB)'!$D:$L,8,0),\"\")","v":""},null,56,{"$f":"'QB Rankings'!C59","v":0},{"$f":"'QB Rankings'!D59","v":0},0,null,{"$f":"'QB Rankings'!E59","v":0},{"$f":"'QB Rankings'!F59","v":0},{"$f":"'QB Rankings'!G59","v":0},{"$f":"'QB Rankings'!H59","v":0},{"$f":"'QB Rankings'!I59","v":0}]
[57,{"$f":"IFERROR(INDEX('Total Rankings (excl QB)'!$D:$D,MATCH(1,(\"Wide Receiver\"='Total Rankings (excl QB)'!$C:$C)*(A60='Total Rankings (excl QB)'!$F:$F),0),1),\"\")","v":""},{"$f":"IFERROR(VLOOKUP($B60,'Total Rankings (excl QB)'!$D:$E,2,0),0)","v":0},0,null,{"$f":"IFERROR(VLOOKUP($B60,'Total Rankings (excl QB)'!$D:$L,4,0),\"\")","v":""},{"$f":"IFERROR(VLOOKUP($B60,'Total Rankings (excl QB)'!$D:$L,5,0),\"\")","v":""},{"$f":"IFERROR(VLOOKUP($B60,'Total Rankings (excl QB)'!$D:$L,6,0),\"\")","v":""},{"$f":"IFERROR(VLOOKUP($B60,'Total Rankings (excl QB)'!$D:$L,7,0),\"\")","v":""},{"$f":"IFERROR(VLOOKUP($B60,'Total Rankings (excl QB)'!$D:$L,8,0),\"\")","v":""},null,57,{"$f":"IFERROR(INDEX('Total Rankings (excl QB)'!$D:$D,MATCH(1,(\"Running Back\"='Total Rankings (excl QB)'!$C:$C)*(L60='Total Rankings (excl QB)'!$F:$F),0),1),\"\")","v":""},{"$f":"IFERROR(VLOOKUP($M60,'Total Rankings (excl QB)'!$D:$E,2,0),0)","v":0},0,null,{"$f":"IFERROR(VLOOKUP($M60,'Total Rankings (excl QB)'!$D:$L,4,0),\"\")","v":""},{"$f":"IFERROR(VLOOKUP($M60,'Total Rankings (excl QB)'!$D:$L,5,0),\"\")","v":""},{"$f":"IFERROR(VLOOKUP($M60,'Total Rankings (excl QB)'!$D:$L,6,0),\"\")","v":""},{"$f":"IFERROR(VLOOKUP($M60,'Total Rankings (excl QB)'!$D:$L,7,0),\"\")","v":""},{"$f":"IFERROR(VLOOKUP($M60,'Total Rankings (excl QB)'!$D:$L,8,0),\"\")","v":""},null,57,{"$f":"IFERROR(INDEX('Total Rankings (excl QB)'!$D:$D,MATCH(1,(\"Tight End\"='Total Rankings (excl QB)'!$C:$C)*(W60='Total Rankings (excl QB)'!$F:$F),0),1),\"\")","v":""},{"$f":"IFERROR(VLOOKUP($X60,'Total Rankings (excl QB)'!$D:$E,2,0),0)","v":0},0,null,{"$f":"IFERROR(VLOOKUP($X60,'Total Rankings (excl QB)'!$D:$L,4,0),\"\")","v":""},{"$f":"IFERROR(VLOOKUP($X60,'Total Rankings (excl QB)'!$D:$L,5,0),\"\")","v":""},{"$f":"IFERROR(VLOOKUP($X60,'Total Rankings (excl QB)'!$D:$L,6,0),\"\")","v":""},{"$f":"IFERROR(VLOOKUP($X60,'Total Rankings (excl QB)'!$D:$L,7,0),\"\")","v":""},{"$f":"IFERROR(VLOOKUP($X60,'Total Rankings (excl QB)'!$D:$L,8,0),\"\")","v":""},null,57,{"$f":"'QB Rankings'!C60","v":0},{"$f":"'QB Rankings'!D60","v":0},0,null,{"$f":"'QB Rankings'!E60","v":0},{"$f":"'QB Rankings'!F60","v":0},{"$f":"'QB Rankings'!G60","v":0},{"$f":"'QB Rankings'!H60","v":0},{"$f":"'QB Rankings'!I60","v":0}]
[58,{"$f":"IFERROR(INDEX('Total Rankings (excl QB)'!$D:$D,MATCH(1,(\"Wide Receiver\"='Total Rankings (excl QB)'!$C:$C)*(A61='Total Rankings (excl QB)'!$F:$F),0),1),\"\")","v":""},{"$f":"IFERROR(VLOOKUP($B61,'Total Rankings (excl QB)'!$D:$E,2,0),0)","v":0},0,null,{"$f":"IFERROR(VLOOKUP($B61,'Total Rankings (excl QB)'!$D:$L,4,0),\"\")","v":""},{"$f":"IFERROR(VLOOKUP($B61,'Total Rankings (excl QB)'!$D:$L,5,0),\"\")","v":""},{"$f":"IFERROR(VLOOKUP($B61,'Total Rankings (excl QB)'!$D:$L,6,0),\"\")","v":""},{"$f":"IFERROR(VLOOKUP($B61,'Total Rankings (excl QB)'!$D:$L,7,0),\"\")","v":""},{"$f":"IFERROR(VLOOKUP($B61,'Total Rankings (excl QB)'!$D:$L,8,0),\"\")","v":""},null,58,{"$f":"IFERROR(INDEX('Total Rankings (excl QB)'!$D:$D,MATCH(1,(\"Running Back\"='Total Rankings (excl QB)'!$C:$C)*(L61='Total Rankings (excl QB)'!$F:$F),0),1),\"\")","v":""},{"$f":"IFERROR(VLOOKUP($M61,'Total Rankings (excl QB)'!$D:$E,2,0),0)","v":0},0,null,{"$f":"IFERROR(VLOOKUP($M61,'Total Rankings (excl QB)'!$D:$L,4,0),\"\")","v":""},{"$f":"IFERROR(VLOOKUP($M61,'Total Rankings (excl QB)'!$D:$L,5,0),\"\")","v":""},{"$f":"IFERROR(VLOOKUP($M61,'Total Rankings (excl QB)'!$D:$L,6,0),\"\")","v":""},{"$f":"IFERROR(VLOOKUP($M61,'Total Rankings (excl QB)'!$D:$L,7,0),\"\")","v":""},{"$f":"IFERROR(VLOOKUP($M61,'Total Rankings (excl QB)'!$D:$L,8,0),\"\")","v":""},null,58,{"$f":"IFERROR(INDEX('Total Rankings (excl QB)'!$D:$D,MATCH(1,(\"Tight End\"='Total Rankings (excl QB)'!$C:$C)*(W61='Total Rankings (excl QB)'!$F:$F),0),1),\"\")","v":""},{"$f":"IFERROR(VLOOKUP($X61,'Total Rankings (excl QB)'!$D:$E,2,0),0)","v":0},0,null,{"$f":"IFERROR(VLOOKUP($X61,'Total Rankings (excl QB)'!$D:$L,4,0),\"\")","v":""},{"$f":"IFERROR(VLOOKUP($X61,'Total Rankings (excl QB)'!$D:$L,5,0),\"\")","v":""},{"$f":"IFERROR(VLOOKUP($X61,'Total Rankings (excl QB)'!$D:$L,6,0),\"\")","v":""},{"$f":"IFERROR(VLOOKUP($X61,'Total Rankings (excl QB)'!$D:$L,7,0),\"\")","v":""},{"$f":"IFERROR(VLOOKUP($X61,'Total Rankings (excl QB)'!$D:$L,8,0),\"\")","v":""},null,58,{"$f":"'QB Rankings'!C61","v":0},{"$f":"'QB Rankings'!D61","v":0},0,null,{"$f":"'QB Rankings'!E61","v":0},{"$f":"'QB Rankings'!F61","v":0},{"$f":"'QB Rankings'!G61","v":0},{"$f":"'QB Rankings'!H61","v":0},{"$f":"'QB Rankings'!I61","v":0}]
[59,{"$f":"IFERROR(INDEX('Total Rankings (excl QB)'!$D:$D,MATCH(1,(\"Wide Receiver\"='Total Rankings (excl QB)'!$C:$C)*(A62='Total Rankings (excl QB)'!$F:$F),0),1),\"\")","v":""},{"$f":"IFERROR(VLOOKUP($B62,'Total Rankings (excl QB)'!$D:$E,2,0),0)","v":0},0,null,{"$f":"IFERROR(VLOOKUP($B62,'Total Rankings (excl QB)'!$D:$L,4,0),\"\")","v":""},{"$f":"IFERROR(VLOOKUP($B62,'Total Rankings (excl QB)'!$D:$L,5,0),\"\")","v":""},{"$f":"IFERROR(VLOOKUP($B62,'Total Rankings (excl QB)'!$D:$L,6,0),\"\")","v":""},{"$f":"IFERROR(VLOOKUP($B62,'Total Rankings (excl QB)'!$D:$L,7,0),\"\")","v":""},{"$f":"IFERROR(VLOOKUP($B62,'Total Rankings (excl QB)'!$D:$L,8,0),\"\")","v":""},null,59,{"$f":"IFERROR(INDEX('Total Rankings (excl QB)'!$D:$D,MATCH(1,(\"Running Back\"='Total Rankings (excl QB)'!$C:$C)*(L62='Total Rankings (excl QB)'!$F:$F),0),1),\"\")","v":""},{"$f":"IFERROR(VLOOKUP($M62,'Total Rankings (excl QB)'!$D:$E,2,0),0)","v":0},0,null,{"$f":"IFERROR(VLOOKUP($M62,'Total Rankings (excl QB)'!$D:$L,4,0),\"\")","v":""},{"$f":"IFERROR(VLOOKUP($M62,'Total Rankings (excl QB)'!$D:$L,5,0),\"\")","v":""},{"$f":"IFERROR(VLOOKUP($M62,'Total Rankings (excl QB)'!$D:$L,6,0),\"\")","v":""},{"$f":"IFERROR(VLOOKUP($M62,'Total Rankings (excl QB)'!$D:$L,7,0),\"\")","v":""},{"$f":"IFERROR(VLOOKUP($M62,'Total Rankings (excl QB)'!$D:$L,8,0),\"\")","v":""},null,59,{"$f":"IFERROR(INDEX('Total Rankings (excl QB)'!$D:$D,MATCH(1,(\"Tight End\"='Total Rankings (excl QB)'!$C:$C)*(W62='Total Rankings (excl QB)'!$F:$F),0),1),\"\")","v":""},{"$f":"IFERROR(VLOOKUP($X62,'Total Rankings (excl QB)'!$D:$E,2,0),0)","v":0},0,null,{"$f":"IFERROR(VLOOKUP($X62,'Total Rankings (excl QB)'!$D:$L,4,0),\"\")","v":""},{"$f":"IFERROR(VLOOKUP($X62,'Total Rankings (excl QB)'!$D:$L,5,0),\"\")","v":""},{"$f":"IFERROR(VLOOKUP($X62,'Total Rankings (excl QB)'!$D:$L,6,0),\"\")","v":""},{"$f":"IFERROR(VLOOKUP($X62,'Total Rankings (excl QB)'!$D:$L,7,0),\"\")","v":""},{"$f":"IFERROR(VLOOKUP($X62,'Total Rankings (excl QB)'!$D:$L,8,0),\"\")","v":""},null,59,{"$f":"'QB Rankings'!C62","v":0},{"$f":"'QB Rankings'!D62","v":0},0,null,{"$f":"'QB Rankings'!E62","v":0},{"$f":"'QB Rankings'!F62","v":0},{"$f":"'QB Rankings'!G62","v":0},{"$f":"'QB Rankings'!H62","v":0},{"$f":"'QB Rankings'!I62","v":0}]
[60,{"$f":"IFERROR(INDEX('Total Rankings (excl QB)'!$D:$D,MATCH(1,(\"Wide Receiver\"='Total Rankings (excl QB)'!$C:$C)*(A63='Total Rankings (excl QB)'!$F:$F),0),1),\"\")","v":""},{"$f":"IFERROR(VLOOKUP($B63,'Total Rankings (excl QB)'!$D:$E,2,0),0)","v":0},0,null,{"$f":"IFERROR(VLOOKUP($B63,'Total Rankings (excl QB)'!$D:$L,4,0),\"\")","v":""},{"$f":"IFERROR(VLOOKUP($B63,'Total Rankings (excl QB)'!$D:$L,5,0),\"\")","v":""},{"$f":"IFERROR(VLOOKUP($B63,'Total Rankings (excl QB)'!$D:$L,6,0),\"\")","v":""},{"$f":"IFERROR(VLOOKUP($B63,'Total Rankings (excl QB)'!$D:$L,7,0),\"\")","v":""},{"$f":"IFERROR(VLOOKUP($B63,'Total Rankings (excl QB)'!$D:$L,8,0),\"\")","v":""},null,60,{"$f":"IFERROR(INDEX('Total Rankings (excl QB)'!$D:$D,MATCH(1,(\"Running Back\"='Total Rankings (excl QB)'!$C:$C)*(L63='Total Rankings (excl QB)'!$F:$F),0),1),\"\")","v":""},{"$f":"IFERROR(VLOOKUP($M63,'Total Rankings (excl QB)'!$D:$E,2,0),0)","v":0},0,null,{"$f":"IFERROR(VLOOKUP($M63,'Total Rankings (excl QB)'!$D:$L,4,0),\"\")","v":""},{"$f":"IFERROR(VLOOKUP($M63,'Total Rankings (excl QB)'!$D:$L,5,0),\"\")","v":""},{"$f":"IFERROR(VLOOKUP($M63,'Total Rankings (excl QB)'!$D:$L,6,0),\"\")","v":""},{"$f":"IFERROR(VLOOKUP($M63,'Total Rankings (excl QB)'!$D:$L,7,0),\"\")","v":""},{"$f":"IFERROR(VLOOKUP($M63,'Total Rankings (excl QB)'!$D:$L,8,0),\"\")","v":""},null,60,{"$f":"IFERROR(INDEX('Total Rankings (excl QB)'!$D:$D,MATCH(1,(\"Tight End\"='Total Rankings (excl QB)'!$C:$C)*(W63='Total Rankings (excl QB)'!$F:$F),0),1),\"\")","v":""},{"$f":"IFERROR(VLOOKUP($X63,'Total Rankings (excl QB)'!$D:$E,2,0),0)","v":0},0,null,{"$f":"IFERROR(VLOOKUP($X63,'Total Rankings (excl QB)'!$D:$L,4,0),\"\")","v":""},{"$f":"IFERROR(VLOOKUP($X63,'Total Rankings (excl QB)'!$D:$L,5,0),\"\")","v":""},{"$f":"IFERROR(VLOOKUP($X63,'Total Rankings (excl QB)'!$D:$L,6,0),\"\")","v":""},{"$f":"IFERROR(VLOOKUP($X63,'Total Rankings (excl QB)'!$D:$L,7,0),\"\")","v":""},{"$f":"IFERROR(VLOOKUP($X63,'Total Rankings (excl QB)'!$D:$L,8,0),\"\")","v":""},null,60,{"$f":"'QB Rankings'!C63","v":0},{"$f":"'QB Rankings'!D63","v":0},0,null,{"$f":"'QB Rankings'!E63","v":0},{"$f":"'QB Rankings'!F63","v":0},{"$f":"'QB Rankings'!G63","v":0},{"$f":"'QB Rankings'!H63","v":0},{"$f":"'QB Rankings'!I63","v":0}]
[61,{"$f":"IFERROR(INDEX('Total Rankings (excl QB)'!$D:$D,MATCH(1,(\"Wide Receiver\"='Total Rankings (excl QB)'!$C:$C)*(A64='Total Rankings (excl QB)'!$F:$F),0),1),\"\")","v":""},{"$f":"IFERROR(VLOOKUP($B64,'Total Rankings (excl QB)'!$D:$E,2,0),0)","v":0},0,null,{"$f":"IFERROR(VLOOKUP($B64,'Total Rankings (excl QB)'!$D:$L,4,0),\"\")","v":""},{"$f":"IFERROR(VLOOKUP($B64,'Total Rankings (excl QB)'!$D:$L,5,0),\"\")","v":""},{"$f":"IFERROR(VLOOKUP($B64,'Total Rankings (excl QB)'!$D:$L,6,0),\"\")","v":""},{"$f":"IFERROR(VLOOKUP($B64,'Total Rankings (excl QB)'!$D:$L,7,0),\"\")","v":""},{"$f":"IFERROR(VLOOKUP($B64,'Total Rankings (excl QB)'!$D:$L,8,0),\"\")","v":""},null,61,{"$f":"IFERROR(INDEX('Total Rankings (excl QB)'!$D:$D,MATCH(1,(\"Running Back\"='Total Rankings (excl QB)'!$C:$C)*(L64='Total Rankings (excl QB)'!$F:$F),0),1),\"\")","v":""},{"$f":"IFERROR(VLOOKUP($M64,'Total Rankings (excl QB)'!$D:$E,2,0),0)","v":0},0,null,{"$f":"IFERROR(VLOOKUP($M64,'Total Rankings (excl QB)'!$D:$L,4,0),\"\")","v":""},{"$f":"IFERROR(VLOOKUP($M64,'Total Rankings (excl QB)'!$D:$L,5,0),\"\")","v":""},{"$f":"IFERROR(VLOOKUP($M64,'Total Rankings (excl QB)'!$D:$L,6,0),\"\")","v":""},{"$f":"IFERROR(VLOOKUP($M64,'Total Rankings (excl QB)'!$D:$L,7,0),\"\")","v":""},{"$f":"IFERROR(VLOOKUP($M64,'Total Rankings (excl QB)'!$D:$L,8,0),\"\")","v":""},null,61,{"$f":"IFERROR(INDEX('Total Rankings (excl QB)'!$D:$D,MATCH(1,(\"Tight End\"='Total Rankings (excl QB)'!$C:$C)*(W64='Total Rankings (excl QB)'!$F:$F),0),1),\"\")","v":""},{"$f":"IFERROR(VLOOKUP($X64,'Total Rankings (excl QB)'!$D:$E,2,0),0)","v":0},0,null,{"$f":"IFERROR(VLOOKUP($X64,'Total Rankings (excl QB)'!$D:$L,4,0),\"\")","v":""},{"$f":"IFERROR(VLOOKUP($X64,'Total Rankings (excl QB)'!$D:$L,5,0),\"\")","v":""},{"$f":"IFERROR(VLOOKUP($X64,'Total Rankings (excl QB)'!$D:$L,6,0),\"\")","v":""},{"$f":"IFERROR(VLOOKUP($X64,'Total Rankings (excl QB)'!$D:$L,7,0),\"\")","v":""},{"$f":"IFERROR(VLOOKUP($X64,'Total Rankings (excl QB)'!$D:$L,8,0),\"\")","v":""},null,61,{"$f":"'QB Rankings'!C64","v":0},{"$f":"'QB Rankings'!D64","v":0},0,null,{"$f":"'QB Rankings'!E64","v":0},{"$f":"'QB Rankings'!F64","v":0},{"$f":"'QB Rankings'!G64","v":0},{"$f":"'QB Rankings'!H64","v":0},{"$f":"'QB Rankings'!I64","v":0}]
[62,{"$f":"IFERROR(INDEX('Total Rankings (excl QB)'!$D:$D,MATCH(1,(\"Wide Receiver\"='Total Rankings (excl QB)'!$C:$C)*(A65='Total Rankings (excl QB)'!$F:$F),0),1),\"\")","v":""},{"$f":"IFERROR(VLOOKUP($B65,'Total Rankings (excl QB)'!$D:$E,2,0),0)","v":0},0,null,{"$f":"IFERROR(VLOOKUP($B65,'Total Rankings (excl QB)'!$D:$L,4,0),\"\")","v":""},{"$f":"IFERROR(VLOOKUP($B65,'Total Rankings (excl QB)'!$D:$L,5,0),\"\")","v":""},{"$f":"IFERROR(VLOOKUP($B65,'Total Rankings (excl QB)'!$D:$L,6,0),\"\")","v":""},{"$f":"IFERROR(VLOOKUP($B65,'Total Rankings (excl QB)'!$D:$L,7,0),\"\")","v":""},{"$f":"IFERROR(VLOOKUP($B65,'Total Rankings (excl QB)'!$D:$L,8,0),\"\")","v":""},null,62,{"$f":"IFERROR(INDEX('Total Rankings (excl QB)'!$D:$D,MATCH(1,(\"Running Back\"='Total Rankings (excl QB)'!$C:$C)*(L65='Total Rankings (excl QB)'!$F:$F),0),1),\"\")","v":""},{"$f":"IFERROR(VLOOKUP($M65,'Total Rankings (excl QB)'!$D:$E,2,0),0)","v":0},0,null,{"$f":"IFERROR(VLOOKUP($M65,'Total Rankings (excl QB)'!$D:$L,4,0),\"\")","v":""},{"$f":"IFERROR(VLOOKUP($M65,'Total Rankings (excl QB)'!$D:$L,5,0),\"\")","v":""},{"$f":"IFERROR(VLOOKUP($M65,'Total Rankings (excl QB)'!$D:$L,6,0),\"\")","v":""},{"$f":"IFERROR(VLOOKUP($M65,'Total Rankings (excl QB)'!$D:$L,7,0),\"\")","v":""},{"$f":"IFERROR(VLOOKUP($M65,'Total Rankings (excl QB)'!$D:$L,8,0),\"\")","v":""},null,62,{"$f":"IFERROR(INDEX('Total Rankings (excl QB)'!$D:$D,MATCH(1,(\"Tight End\"='Total Rankings (excl QB)'!$C:$C)*(W65='Total Rankings (excl QB)'!$F:$F),0),1),\"\")","v":""},{"$f":"IFERROR(VLOOKUP($X65,'Total Rankings (excl QB)'!$D:$E,2,0),0)","v":0},0,null,{"$f":"IFERROR(VLOOKUP($X65,'Total Rankings (excl QB)'!$D:$L,4,0),\"\")","v":""},{"$f":"IFERROR(VLOOKUP($X65,'Total Rankings (excl QB)'!$D:$L,5,0),\"\")","v":""},{"$f":"IFERROR(VLOOKUP($X65,'Total Rankings (excl QB)'!$D:$L,6,0),\"\")","v":""},{"$f":"IFERROR(VLOOKUP($X65,'Total Rankings (excl QB)'!$D:$L,7,0),\"\")","v":""},{"$f":"IFERROR(VLOOKUP($X65,'Total Rankings (excl QB)'!$D:$L,8,0),\"\")","v":""},null,62,{"$f":"'QB Rankings'!C65","v":0},{"$f":"'QB Rankings'!D65","v":0},0,null,{"$f":"'QB Rankings'!E65","v":0},{"$f":"'QB Rankings'!F65","v":0},{"$f":"'QB Rankings'!G65","v":0},{"$f":"'QB Rankings'!H65","v":0},{"$f":"'QB Rankings'!I65","v":0}]
[63,{"$f":"IFERROR(INDEX('Total Rankings (excl QB)'!$D:$D,MATCH(1,(\"Wide Receiver\"='Total Rankings (excl QB)'!$C:$C)*(A66='Total Rankings (excl QB)'!$F:$F),0),1),\"\")","v":""},{"$f":"IFERROR(VLOOKUP($B66,'Total Rankings (excl QB)'!$D:$E,2,0),0)","v":0},0,null,{"$f":"IFERROR(VLOOKUP($B66,'Total Rankings (excl QB)'!$D:$L,4,0),\"\")","v":""},{"$f":"IFERROR(VLOOKUP($B66,'Total Rankings (excl QB)'!$D:$L,5,0),\"\")","v":""},{"$f":"IFERROR(VLOOKUP($B66,'Total Rankings (excl QB)'!$D:$L,6,0),\"\")","v":""},{"$f":"IFERROR(VLOOKUP($B66,'Total Rankings (excl QB)'!$D:$L,7,0),\"\")","v":""},{"$f":"IFERROR(VLOOKUP($B66,'Total Rankings (excl QB)'!$D:$L,8,0),\"\")","v":""},null,63,{"$f":"IFERROR(INDEX('Total Rankings (excl QB)'!$D:$D,MATCH(1,(\"Running Back\"='Total Rankings (excl QB)'!$C:$C)*(L66='Total Rankings (excl QB)'!$F:$F),0),1),\"\")","v":""},{"$f":"IFERROR(VLOOKUP($M66,'Total Rankings (excl QB)'!$D:$E,2,0),0)","v":0},0,null,{"$f":"IFERROR(VLOOKUP($M66,'Total Rankings (excl QB)'!$D:$L,4,0),\"\")","v":""},{"$f":"IFERROR(VLOOKUP($M66,'Total Rankings (excl QB)'!$D:$L,5,0),\"\")","v":""},{"$f":"IFERROR(VLOOKUP($M66,'Total Rankings (excl QB)'!$D:$L,6,0),\"\")","v":""},{"$f":"IFERROR(VLOOKUP($M66,'Total Rankings (excl QB)'!$D:$L,7,0),\"\")","v":""},{"$f":"IFERROR(VLOOKUP($M66,'Total Rankings (excl QB)'!$D:$L,8,0),\"\")","v":""},null,63,{"$f":"IFERROR(INDEX('Total Rankings (excl QB)'!$D:$D,MATCH(1,(\"Tight End\"='Total Rankings (excl QB)'!$C:$C)*(W66='Total Rankings (excl QB)'!$F:$F),0),1),\"\")","v":""},{"$f":"IFERROR(VLOOKUP($X66,'Total Rankings (excl QB)'!$D:$E,2,0),0)","v":0},0,null,{"$f":"IFERROR(VLOOKUP($X66,'Total Rankings (excl QB)'!$D:$L,4,0),\"\")","v":""},{"$f":"IFERROR(VLOOKUP($X66,'Total Rankings (excl QB)'!$D:$L,5,0),\"\")","v":""},{"$f":"IFERROR(VLOOKUP($X66,'Total Rankings (excl QB)'!$D:$L,6,0),\"\")","v":""},{"$f":"IFERROR(VLOOKUP($X66,'Total Rankings (excl QB)'!$D:$L,7,0),\"\")","v":""},{"$f":"IFERROR(VLOOKUP($X66,'Total Rankings (excl QB)'!$D:$L,8,0),\"\")","v":""},null,63,{"$f":"'QB Rankings'!C66","v":0},{"$f":"'QB Rankings'!D66","v":0},0,null,{"$f":"'QB Rankings'!E66","v":0},{"$f":"'QB Rankings'!F66","v":0},{"$f":"'QB Rankings'!G66","v":0},{"$f":"'QB Rankings'!H66","v":0},{"$f":"'QB Rankings'!I66","v":0}]
[64,{"$f":"IFERROR(INDEX('Total Rankings (excl QB)'!$D:$D,MATCH(1,(\"Wide Receiver\"='Total Rankings (excl QB)'!$C:$C)*(A67='Total Rankings (excl QB)'!$F:$F),0),1),\"\")","v":""},{"$f":"IFERROR(VLOOKUP($B67,'Total Rankings (excl QB)'!$D:$E,2,0),0)","v":0},0,null,{"$f":"IFERROR(VLOOKUP($B67,'Total Rankings (excl QB)'!$D:$L,4,0),\"\")","v":""},{"$f":"IFERROR(VLOOKUP($B67,'Total Rankings (excl QB)'!$D:$L,5,0),\"\")","v":""},{"$f":"IFERROR(VLOOKUP($B67,'Total Rankings (excl QB)'!$D:$L,6,0),\"\")","v":""},{"$f":"IFERROR(VLOOKUP($B67,'Total Rankings (excl QB)'!$D:$L,7,0),\"\")","v":""},{"$f":"IFERROR(VLOOKUP($B67,'Total Rankings (excl QB)'!$D:$L,8,0),\"\")","v":""},null,64,{"$f":"IFERROR(INDEX('Total Rankings (excl QB)'!$D:$D,MATCH(1,(\"Running Back\"='Total Rankings (excl QB)'!$C:$C)*(L67='Total Rankings (excl QB)'!$F:$F),0),1),\"\")","v":""},{"$f":"IFERROR(VLOOKUP($M67,'Total Rankings (excl QB)'!$D:$E,2,0),0)","v":0},0,null,{"$f":"IFERROR(VLOOKUP($M67,'Total Rankings (excl QB)'!$D:$L,4,0),\"\")","v":""},{"$f":"IFERROR(VLOOKUP($M67,'Total Rankings (excl QB)'!$D:$L,5,0),\"\")","v":""},{"$f":"IFERROR(VLOOKUP($M67,'Total Rankings (excl QB)'!$D:$L,6,0),\"\")","v":""},{"$f":"IFERROR(VLOOKUP($M67,'Total Rankings (excl QB)'!$D:$L,7,0),\"\")","v":""},{"$f":"IFERROR(VLOOKUP($M67,'Total Rankings (excl QB)'!$D:$L,8,0),\"\")","v":""},null,64,{"$f":"IFERROR(INDEX('Total Rankings (excl QB)'!$D:$D,MATCH(1,(\"Tight End\"='Total Rankings (excl QB)'!$C:$C)*(W67='Total Rankings (excl QB)'!$F:$F),0),1),\"\")","v":""},{"$f":"IFERROR(VLOOKUP($X67,'Total Rankings (excl QB)'!$D:$E,2,0),0)","v":0},0,null,{"$f":"IFERROR(VLOOKUP($X67,'Total Rankings (excl QB)'!$D:$L,4,0),\"\")","v":""},{"$f":"IFERROR(VLOOKUP($X67,'Total Rankings (excl QB)'!$D:$L,5,0),\"\")","v":""},{"$f":"IFERROR(VLOOKUP($X67,'Total Rankings (excl QB)'!$D:$L,6,0),\"\")","v":""},{"$f":"IFERROR(VLOOKUP($X67,'Total Rankings (excl QB)'!$D:$L,7,0),\"\")","v":""},{"$f":"IFERROR(VLOOKUP($X67,'Total Rankings (excl QB)'!$D:$L,8,0),\"\")","v":""},null,64,{"$f":"'QB Rankings'!C67","v":0},{"$f":"'QB Rankings'!D67","v":0},0,null,{"$f":"'QB Rankings'!E67","v":0},{"$f":"'QB Rankings'!F67","v":0},{"$f":"'QB Rankings'!G67","v":0},{"$f":"'QB Rankings'!H67","v":0},{"$f":"'QB Rankings'!I67","v":0}]
[65,{"$f":"IFERROR(INDEX('Total Rankings (excl QB)'!$D:$D,MATCH(1,(\"Wide Receiver\"='Total Rankings (excl QB)'!$C:$C)*(A68='Total Rankings (excl QB)'!$F:$F),0),1),\"\")","v":""},{"$f":"IFERROR(VLOOKUP($B68,'Total Rankings (excl QB)'!$D:$E,2,0),0)","v":0},0,null,{"$f":"IFERROR(VLOOKUP($B68,'Total Rankings (excl QB)'!$D:$L,4,0),\"\")","v":""},{"$f":"IFERROR(VLOOKUP($B68,'Total Rankings (excl QB)'!$D:$L,5,0),\"\")","v":""},{"$f":"IFERROR(VLOOKUP($B68,'Total Rankings (excl QB)'!$D:$L,6,0),\"\")","v":""},{"$f":"IFERROR(VLOOKUP($B68,'Total Rankings (excl QB)'!$D:$L,7,0),\"\")","v":""},{"$f":"IFERROR(VLOOKUP($B68,'Total Rankings (excl QB)'!$D:$L,8,0),\"\")","v":""},null,65,{"$f":"IFERROR(INDEX('Total Rankings (excl QB)'!$D:$D,MATCH(1,(\"Running Back\"='Total Rankings (excl QB)'!$C:$C)*(L68='Total Rankings (excl QB)'!$F:$F),0),1),\"\")","v":""},{"$f":"IFERROR(VLOOKUP($M68,'Total Rankings (excl QB)'!$D:$E,2,0),0)","v":0},0,null,{"$f":"IFERROR(VLOOKUP($M68,'Total Rankings (excl QB)'!$D:$L,4,0),\"\")","v":""},{"$f":"IFERROR(VLOOKUP($M68,'Total Rankings (excl QB)'!$D:$L,5,0),\"\")","v":""},{"$f":"IFERROR(VLOOKUP($M68,'Total Rankings (excl QB)'!$D:$L,6,0),\"\")","v":""},{"$f":"IFERROR(VLOOKUP($M68,'Total Rankings (excl QB)'!$D:$L,7,0),\"\")","v":""},{"$f":"IFERROR(VLOOKUP($M68,'Total Rankings (excl QB)'!$D:$L,8,0),\"\")","v":""},null,65,{"$f":"IFERROR(INDEX('Total Rankings (excl QB)'!$D:$D,MATCH(1,(\"Tight End\"='Total Rankings (excl QB)'!$C:$C)*(W68='Total Rankings (excl QB)'!$F:$F),0),1),\"\")","v":""},{"$f":"IFERROR(VLOOKUP($X68,'Total Rankings (excl QB)'!$D:$E,2,0),0)","v":0},0,null,{"$f":"IFERROR(VLOOKUP($X68,'Total Rankings (excl QB)'!$D:$L,4,0),\"\")","v":""},{"$f":"IFERROR(VLOOKUP($X68,'Total Rankings (excl QB)'!$D:$L,5,0),\"\")","v":""},{"$f":"IFERROR(VLOOKUP($X68,'Total Rankings (excl QB)'!$D:$L,6,0),\"\")","v":""},{"$f":"IFERROR(VLOOKUP($X68,'Total Rankings (excl QB)'!$D:$L,7,0),\"\")","v":""},{"$f":"IFERROR(VLOOKUP($X68,'Total Rankings (excl QB)'!$D:$L,8,0),\"\")","v":""}]
[66,{"$f":"IFERROR(INDEX('Total Rankings (excl QB)'!$D:$D,MATCH(1,(\"Wide Receiver\"='Total Rankings (excl QB)'!$C:$C)*(A69='Total Rankings (excl QB)'!$F:$F),0),1),\"\")","v":""},{"$f":"IFERROR(VLOOKUP($B69,'Total Rankings (excl QB)'!$D:$E,2,0),0)","v":0},{"$f":"IFERROR(C69/17,0)","v":0},null,{"$f":"IFERROR(VLOOKUP($B69,'Total Rankings (excl QB)'!$D:$L,4,0),\"\")","v":""},{"$f":"IFERROR(VLOOKUP($B69,'Total Rankings (excl QB)'!$D:$L,5,0),\"\")","v":""},{"$f":"IFERROR(VLOOKUP($B69,'Total Rankings (excl QB)'!$D:$L,6,0),\"\")","v":""},{"$f":"IFERROR(VLOOKUP($B69,'Total Rankings (excl QB)'!$D:$L,7,0),\"\")","v":""},{"$f":"IFERROR(VLOOKUP($B69,'Total Rankings (excl QB)'!$D:$L,8,0),\"\")","v":""},null,66,{"$f":"IFERROR(INDEX('Total Rankings (excl QB)'!$D:$D,MATCH(1,(\"Running Back\"='Total Rankings (excl QB)'!$C:$C)*(L69='Total Rankings (excl QB)'!$F:$F),0),1),\"\")","v":""},{"$f":"IFERROR(VLOOKUP($M69,'Total Rankings (excl QB)'!$D:$E,2,0),0)","v":0},{"$f":"IFERROR(N69/17,0)","v":0},null,{"$f":"IFERROR(VLOOKUP($M69,'Total Rankings (excl QB)'!$D:$L,4,0),\"\")","v":""},{"$f":"IFERROR(VLOOKUP($M69,'Total Rankings (excl QB)'!$D:$L,5,0),\"\")","v":""},{"$f":"IFERROR(VLOOKUP($M69,'Total Rankings (excl QB)'!$D:$L,6,0),\"\")","v":""},{"$f":"IFERROR(VLOOKUP($M69,'Total Rankings (excl QB)'!$D:$L,7,0),\"\")","v":""},{"$f":"IFERROR(VLOOKUP($M69,'Total Rankings (excl QB)'!$D:$L,8,0),\"\")","v":""},null,66,{"$f":"IFERROR(INDEX('Total Rankings (excl QB)'!$D:$D,MATCH(1,(\"Tight End\"='Total Rankings (excl QB)'!$C:$C)*(W69='Total Rankings (excl QB)'!$F:$F),0),1),\"\")","v":""},{"$f":"IFERROR(VLOOKUP($X69,'Total Rankings (excl QB)'!$D:$E,2,0),0)","v":0},{"$f":"IFERROR(Y69/17,0)","v":0},null,{"$f":"IFERROR(VLOOKUP($X69,'Total Rankings (excl QB)'!$D:$L,4,0),\"\")","v":""},{"$f":"IFERROR(VLOOKUP($X69,'Total Rankings (excl QB)'!$D:$L,5,0),\"\")","v":""},{"$f":"IFERROR(VLOOKUP($X69,'Total Rankings (excl QB)'!$D:$L,6,0),\"\")","v":""},{"$f":"IFERROR(VLOOKUP($X69,'Total Rankings (excl QB)'!$D:$L,7,0),\"\")","v":""},{"$f":"IFERROR(VLOOKUP($X69,'Total Rankings (excl QB)'!$D:$L,8,0),\"\")","v":""}]
[67,{"$f":"IFERROR(INDEX('Total Rankings (excl QB)'!$D:$D,MATCH(1,(\"Wide Receiver\"='Total Rankings (excl QB)'!$C:$C)*(A70='Total Rankings (excl QB)'!$F:$F),0),1),\"\")","v":""},{"$f":"IFERROR(VLOOKUP($B70,'Total Rankings (excl QB)'!$D:$E,2,0),0)","v":0},0,null,{"$f":"IFERROR(VLOOKUP($B70,'Total Rankings (excl QB)'!$D:$L,4,0),\"\")","v":""},{"$f":"IFERROR(VLOOKUP($B70,'Total Rankings (excl QB)'!$D:$L,5,0),\"\")","v":""},{"$f":"IFERROR(VLOOKUP($B70,'Total Rankings (excl QB)'!$D:$L,6,0),\"\")","v":""},{"$f":"IFERROR(VLOOKUP($B70,'Total Rankings (excl QB)'!$D:$L,7,0),\"\")","v":""},{"$f":"IFERROR(VLOOKUP($B70,'Total Rankings (excl QB)'!$D:$L,8,0),\"\")","v":""},null,67,{"$f":"IFERROR(INDEX('Total Rankings (excl QB)'!$D:$D,MATCH(1,(\"Running Back\"='Total Rankings (excl QB)'!$C:$C)*(L70='Total Rankings (excl QB)'!$F:$F),0),1),\"\")","v":""},{"$f":"IFERROR(VLOOKUP($M70,'Total Rankings (excl QB)'!$D:$E,2,0),0)","v":0},0,null,{"$f":"IFERROR(VLOOKUP($M70,'Total Rankings (excl QB)'!$D:$L,4,0),\"\")","v":""},{"$f":"IFERROR(VLOOKUP($M70,'Total Rankings (excl QB)'!$D:$L,5,0),\"\")","v":""},{"$f":"IFERROR(VLOOKUP($M70,'Total Rankings (excl QB)'!$D:$L,6,0),\"\")","v":""},{"$f":"IFERROR(VLOOKUP($M70,'Total Rankings (excl QB)'!$D:$L,7,0),\"\")","v":""},{"$f":"IFERROR(VLOOKUP($M70,'Total Rankings (excl QB)'!$D:$L,8,0),\"\")","v":""},null,67,{"$f":"IFERROR(INDEX('Total Rankings (excl QB)'!$D:$D,MATCH(1,(\"Tight End\"='Total Rankings (excl QB)'!$C:$C)*(W70='Total Rankings (excl QB)'!$F:$F),0),1),\"\")","v":""},{"$f":"IFERROR(VLOOKUP($X70,'Total Rankings (excl QB)'!$D:$E,2,0),0)","v":0},0,null,{"$f":"IFERROR(VLOOKUP($X70,'Total Rankings (excl QB)'!$D:$L,4,0),\"\")","v":""},{"$f":"IFERROR(VLOOKUP($X70,'Total Rankings (excl QB)'!$D:$L,5,0),\"\")","v":""},{"$f":"IFERROR(VLOOKUP($X70,'Total Rankings (excl QB)'!$D:$L,6,0),\"\")","v":""},{"$f":"IFERROR(VLOOKUP($X70,'Total Rankings (excl QB)'!$D:$L,7,0),\"\")","v":""},{"$f":"IFERROR(VLOOKUP($X70,'Total Rankings (excl QB)'!$D:$L,8,0),\"\")","v":""}]
[68,{"$f":"IFERROR(INDEX('Total Rankings (excl QB)'!$D:$D,MATCH(1,(\"Wide Receiver\"='Total Rankings (excl QB)'!$C:$C)*(A71='Total Rankings (excl QB)'!$F:$F),0),1),\"\")","v":""},{"$f":"IFERROR(VLOOKUP($B71,'Total Rankings (excl QB)'!$D:$E,2,0),0)","v":0},0,null,{"$f":"IFERROR(VLOOKUP($B71,'Total Rankings (excl QB)'!$D:$L,4,0),\"\")","v":""},{"$f":"IFERROR(VLOOKUP($B71,'Total Rankings (excl QB)'!$D:$L,5,0),\"\")","v":""},{"$f":"IFERROR(VLOOKUP($B71,'Total Rankings (excl QB)'!$D:$L,6,0),\"\")","v":""},{"$f":"IFERROR(VLOOKUP($B71,'Total Rankings (excl QB)'!$D:$L,7,0),\"\")","v":""},{"$f":"IFERROR(VLOOKUP($B71,'Total Rankings (excl QB)'!$D:$L,8,0),\"\")","v":""},null,68,{"$f":"IFERROR(INDEX('Total Rankings (excl QB)'!$D:$D,MATCH(1,(\"Running Back\"='Total Rankings (excl QB)'!$C:$C)*(L71='Total Rankings (excl QB)'!$F:$F),0),1),\"\")","v":""},{"$f":"IFERROR(VLOOKUP($M71,'Total Rankings (excl QB)'!$D:$E,2,0),0)","v":0},0,null,{"$f":"IFERROR(VLOOKUP($M71,'Total Rankings (excl QB)'!$D:$L,4,0),\"\")","v":""},{"$f":"IFERROR(VLOOKUP($M71,'Total Rankings (excl QB)'!$D:$L,5,0),\"\")","v":""},{"$f":"IFERROR(VLOOKUP($M71,'Total Rankings (excl QB)'!$D:$L,6,0),\"\")","v":""},{"$f":"IFERROR(VLOOKUP($M71,'Total Rankings (excl QB)'!$D:$L,7,0),\"\")","v":""},{"$f":"IFERROR(VLOOKUP($M71,'Total Rankings (excl QB)'!$D:$L,8,0),\"\")","v":""},null,68,{"$f":"IFERROR(INDEX('Total Rankings (excl QB)'!$D:$D,MATCH(1,(\"Tight End\"='Total Rankings (excl QB)'!$C:$C)*(W71='Total Rankings (excl QB)'!$F:$F),0),1),\"\")","v":""},{"$f":"IFERROR(VLOOKUP($X71,'Total Rankings (excl QB)'!$D:$E,2,0),0)","v":0},0,null,{"$f":"IFERROR(VLOOKUP($X71,'Total Rankings (excl QB)'!$D:$L,4,0),\"\")","v":""},{"$f":"IFERROR(VLOOKUP($X71,'Total Rankings (excl QB)'!$D:$L,5,0),\"\")","v":""},{"$f":"IFERROR(VLOOKUP($X71,'Total Rankings (excl QB)'!$D:$L,6,0),\"\")","v":""},{"$f":"IFERROR(VLOOKUP($X71,'Total Rankings (excl QB)'!$D:$L,7,0),\"\")","v":""},{"$f":"IFERROR(VLOOKUP($X71,'Total Rankings (excl QB)'!$D:$L,8,0),\"\")","v":""}]
[69,{"$f":"IFERROR(INDEX('Total Rankings (excl QB)'!$D:$D,MATCH(1,(\"Wide Receiver\"='Total Rankings (excl QB)'!$C:$C)*(A72='Total Rankings (excl QB)'!$F:$F),0),1),\"\")","v":""},{"$f":"IFERROR(VLOOKUP($B72,'Total Rankings (excl QB)'!$D:$E,2,0),0)","v":0},0,null,{"$f":"IFERROR(VLOOKUP($B72,'Total Rankings (excl QB)'!$D:$L,4,0),\"\")","v":""},{"$f":"IFERROR(VLOOKUP($B72,'Total Rankings (excl QB)'!$D:$L,5,0),\"\")","v":""},{"$f":"IFERROR(VLOOKUP($B72,'Total Rankings (excl QB)'!$D:$L,6,0),\"\")","v":""},{"$f":"IFERROR(VLOOKUP($B72,'Total Rankings (excl QB)'!$D:$L,7,0),\"\")","v":""},{"$f":"IFERROR(VLOOKUP($B72,'Total Rankings (excl QB)'!$D:$L,8,0),\"\")","v":""},null,69,{"$f":"IFERROR(INDEX('Total Rankings (excl QB)'!$D:$D,MATCH(1,(\"Running Back\"='Total Rankings (excl QB)'!$C:$C)*(L72='Total Rankings (excl QB)'!$F:$F),0),1),\"\")","v":""},{"$f":"IFERROR(VLOOKUP($M72,'Total Rankings (excl QB)'!$D:$E,2,0),0)","v":0},0,null,{"$f":"IFERROR(VLOOKUP($M72,'Total Rankings (excl QB)'!$D:$L,4,0),\"\")","v":""},{"$f":"IFERROR(VLOOKUP($M72,'Total Rankings (excl QB)'!$D:$L,5,0),\"\")","v":""},{"$f":"IFERROR(VLOOKUP($M72,'Total Rankings (excl QB)'!$D:$L,6,0),\"\")","v":""},{"$f":"IFERROR(VLOOKUP($M72,'Total Rankings (excl QB)'!$D:$L,7,0),\"\")","v":""},{"$f":"IFERROR(VLOOKUP($M72,'Total Rankings (excl QB)'!$D:$L,8,0),\"\")","v":""},null,69,{"$f":"IFERROR(INDEX('Total Rankings (excl QB)'!$D:$D,MATCH(1,(\"Tight End\"='Total Rankings (excl QB)'!$C:$C)*(W72='Total Rankings (excl QB)'!$F:$F),0),1),\"\")","v":""},{"$f":"IFERROR(VLOOKUP($X72,'Total Rankings (excl QB)'!$D:$E,2,0),0)","v":0},0,null,{"$f":"IFERROR(VLOOKUP($X72,'Total Rankings (excl QB)'!$D:$L,4,0),\"\")","v":""},{"$f":"IFERROR(VLOOKUP($X72,'Total Rankings (excl QB)'!$D:$L,5,0),\"\")","v":""},{"$f":"IFERROR(VLOOKUP($X72,'Total Rankings (excl QB)'!$D:$L,6,0),\"\")","v":""},{"$f":"IFERROR(VLOOKUP($X72,'Total Rankings (excl QB)'!$D:$L,7,0),\"\")","v":""},{"$f":"IFERROR(VLOOKUP($X72,'Total Rankings (excl QB)'!$D:$L,8,0),\"\")","v":""}]
[70,{"$f":"IFERROR(INDEX('Total Rankings (excl QB)'!$D:$D,MATCH(1,(\"Wide Receiver\"='Total Rankings (excl QB)'!$C:$C)*(A73='Total Rankings (excl QB)'!$F:$F),0),1),\"\")","v":""},{"$f":"IFERROR(VLOOKUP($B73,'Total Rankings (excl QB)'!$D:$E,2,0),0)","v":0},0,null,{"$f":"IFERROR(VLOOKUP($B73,'Total Rankings (excl QB)'!$D:$L,4,0),\"\")","v":""},{"$f":"IFERROR(VLOOKUP($B73,'Total Rankings (excl QB)'!$D:$L,5,0),\"\")","v":""},{"$f":"IFERROR(VLOOKUP($B73,'Total Rankings (excl QB)'!$D:$L,6,0),\"\")","v":""},{"$f":"IFERROR(VLOOKUP($B73,'Total Rankings (excl QB)'!$D:$L,7,0),\"\")","v":""},{"$f":"IFERROR(VLOOKUP($B73,'Total Rankings (excl QB)'!$D:$L,8,0),\"\")","v":""},null,70,{"$f":"IFERROR(INDEX('Total Rankings (excl QB)'!$D:$D,MATCH(1,(\"Running Back\"='Total Rankings (excl QB)'!$C:$C)*(L73='Total Rankings (excl QB)'!$F:$F),0),1),\"\")","v":""},{"$f":"IFERROR(VLOOKUP($M73,'Total Rankings (excl QB)'!$D:$E,2,0),0)","v":0},0,null,{"$f":"IFERROR(VLOOKUP($M73,'Total Rankings (excl QB)'!$D:$L,4,0),\"\")","v":""},{"$f":"IFERROR(VLOOKUP($M73,'Total Rankings (excl QB)'!$D:$L,5,0),\"\")","v":""},{"$f":"IFERROR(VLOOKUP($M73,'Total Rankings (excl QB)'!$D:$L,6,0),\"\")","v":""},{"$f":"IFERROR(VLOOKUP($M73,'Total Rankings (excl QB)'!$D:$L,7,0),\"\")","v":""},{"$f":"IFERROR(VLOOKUP($M73,'Total Rankings (excl QB)'!$D:$L,8,0),\"\")","v":""},null,70,{"$f":"IFERROR(INDEX('Total Rankings (excl QB)'!$D:$D,MATCH(1,(\"Tight End\"='Total Rankings (excl QB)'!$C:$C)*(W73='Total Rankings (excl QB)'!$F:$F),0),1),\"\")","v":""},{"$f":"IFERROR(VLOOKUP($X73,'Total Rankings (excl QB)'!$D:$E,2,0),0)","v":0},0,null,{"$f":"IFERROR(VLOOKUP($X73,'Total Rankings (excl QB)'!$D:$L,4,0),\"\")","v":""},{"$f":"IFERROR(VLOOKUP($X73,'Total Rankings (excl QB)'!$D:$L,5,0),\"\")","v":""},{"$f":"IFERROR(VLOOKUP($X73,'Total Rankings (excl QB)'!$D:$L,6,0),\"\")","v":""},{"$f":"IFERROR(VLOOKUP($X73,'Total Rankings (excl QB)'!$D:$L,7,0),\"\")","v":""},{"$f":"IFERROR(VLOOKUP($X73,'Total Rankings (excl QB)'!$D:$L,8,0),\"\")","v":""}]
[71,{"$f":"IFERROR(INDEX('Total Rankings (excl QB)'!$D:$D,MATCH(1,(\"Wide Receiver\"='Total Rankings (excl QB)'!$C:$C)*(A74='Total Rankings (excl QB)'!$F:$F),0),1),\"\")","v":""},{"$f":"IFERROR(VLOOKUP($B74,'Total Rankings (excl QB)'!$D:$E,2,0),0)","v":0},0,null,{"$f":"IFERROR(VLOOKUP($B74,'Total Rankings (excl QB)'!$D:$L,4,0),\"\")","v":""},{"$f":"IFERROR(VLOOKUP($B74,'Total Rankings (excl QB)'!$D:$L,5,0),\"\")","v":""},{"$f":"IFERROR(VLOOKUP($B74,'Total Rankings (excl QB)'!$D:$L,6,0),\"\")","v":""},{"$f":"IFERROR(VLOOKUP($B74,'Total Rankings (excl QB)'!$D:$L,7,0),\"\")","v":""},{"$f":"IFERROR(VLOOKUP($B74,'Total Rankings (excl QB)'!$D:$L,8,0),\"\")","v":""},null,71,{"$f":"IFERROR(INDEX('Total Rankings (excl QB)'!$D:$D,MATCH(1,(\"Running Back\"='Total Rankings (excl QB)'!$C:$C)*(L74='Total Rankings (excl QB)'!$F:$F),0),1),\"\")","v":""},{"$f":"IFERROR(VLOOKUP($M74,'Total Rankings (excl QB)'!$D:$E,2,0),0)","v":0},0,null,{"$f":"IFERROR(VLOOKUP($M74,'Total Rankings (excl QB)'!$D:$L,4,0),\"\")","v":""},{"$f":"IFERROR(VLOOKUP($M74,'Total Rankings (excl QB)'!$D:$L,5,0),\"\")","v":""},{"$f":"IFERROR(VLOOKUP($M74,'Total Rankings (excl QB)'!$D:$L,6,0),\"\")","v":""},{"$f":"IFERROR(VLOOKUP($M74,'Total Rankings (excl QB)'!$D:$L,7,0),\"\")","v":""},{"$f":"IFERROR(VLOOKUP($M74,'Total Rankings (excl QB)'!$D:$L,8,0),\"\")","v":""},null,71,{"$f":"IFERROR(INDEX('Total Rankings (excl QB)'!$D:$D,MATCH(1,(\"Tight End\"='Total Rankings (excl QB)'!$C:$C)*(W74='Total Rankings (excl QB)'!$F:$F),0),1),\"\")","v":""},{"$f":"IFERROR(VLOOKUP($X74,'Total Rankings (excl QB)'!$D:$E,2,0),0)","v":0},0,null,{"$f":"IFERROR(VLOOKUP($X74,'Total Rankings (excl QB)'!$D:$L,4,0),\"\")","v":""},{"$f":"IFERROR(VLOOKUP($X74,'Total Rankings (excl QB)'!$D:$L,5,0),\"\")","v":""},{"$f":"IFERROR(VLOOKUP($X74,'Total Rankings (excl QB)'!$D:$L,6,0),\"\")","v":""},{"$f":"IFERROR(VLOOKUP($X74,'Total Rankings (excl QB)'!$D:$L,7,0),\"\")","v":""},{"$f":"IFERROR(VLOOKUP($X74,'Total Rankings (excl QB)'!$D:$L,8,0),\"\")","v":""}]
[72,{"$f":"IFERROR(INDEX('Total Rankings (excl QB)'!$D:$D,MATCH(1,(\"Wide Receiver\"='Total Rankings (excl QB)'!$C:$C)*(A75='Total Rankings (excl QB)'!$F:$F),0),1),\"\")","v":""},{"$f":"IFERROR(VLOOKUP($B75,'Total Rankings (excl QB)'!$D:$E,2,0),0)","v":0},0,null,{"$f":"IFERROR(VLOOKUP($B75,'Total Rankings (excl QB)'!$D:$L,4,0),\"\")","v":""},{"$f":"IFERROR(VLOOKUP($B75,'Total Rankings (excl QB)'!$D:$L,5,0),\"\")","v":""},{"$f":"IFERROR(VLOOKUP($B75,'Total Rankings (excl QB)'!$D:$L,6,0),\"\")","v":""},{"$f":"IFERROR(VLOOKUP($B75,'Total Rankings (excl QB)'!$D:$L,7,0),\"\")","v":""},{"$f":"IFERROR(VLOOKUP($B75,'Total Rankings (excl QB)'!$D:$L,8,0),\"\")","v":""},null,72,{"$f":"IFERROR(INDEX('Total Rankings (excl QB)'!$D:$D,MATCH(1,(\"Running Back\"='Total Rankings (excl QB)'!$C:$C)*(L75='Total Rankings (excl QB)'!$F:$F),0),1),\"\")","v":""},{"$f":"IFERROR(VLOOKUP($M75,'Total Rankings (excl QB)'!$D:$E,2,0),0)","v":0},0,null,{"$f":"IFERROR(VLOOKUP($M75,'Total Rankings (excl QB)'!$D:$L,4,0),\"\")","v":""},{"$f":"IFERROR(VLOOKUP($M75,'Total Rankings (excl QB)'!$D:$L,5,0),\"\")","v":""},{"$f":"IFERROR(VLOOKUP($M75,'Total Rankings (excl QB)'!$D:$L,6,0),\"\")","v":""},{"$f":"IFERROR(VLOOKUP($M75,'Total Rankings (excl QB)'!$D:$L,7,0),\"\")","v":""},{"$f":"IFERROR(VLOOKUP($M75,'Total Rankings (excl QB)'!$D:$L,8,0),\"\")","v":""},null,72,{"$f":"IFERROR(INDEX('Total Rankings (excl QB)'!$D:$D,MATCH(1,(\"Tight End\"='Total Rankings (excl QB)'!$C:$C)*(W75='Total Rankings (excl QB)'!$F:$F),0),1),\"\")","v":""},{"$f":"IFERROR(VLOOKUP($X75,'Total Rankings (excl QB)'!$D:$E,2,0),0)","v":0},0,null,{"$f":"IFERROR(VLOOKUP($X75,'Total Rankings (excl QB)'!$D:$L,4,0),\"\")","v":""},{"$f":"IFERROR(VLOOKUP($X75,'Total Rankings (excl QB)'!$D:$L,5,0),\"\")","v":""},{"$f":"IFERROR(VLOOKUP($X75,'Total Rankings (excl QB)'!$D:$L,6,0),\"\")","v":""},{"$f":"IFERROR(VLOOKUP($X75,'Total Rankings (excl QB)'!$D:$L,7,0),\"\")","v":""},{"$f":"IFERROR(VLOOKUP($X75,'Total Rankings (excl QB)'!$D:$L,8,0),\"\")","v":""}]
[73,{"$f":"IFERROR(INDEX('Total Rankings (excl QB)'!$D:$D,MATCH(1,(\"Wide Receiver\"='Total Rankings (excl QB)'!$C:$C)*(A76='Total Rankings (excl QB)'!$F:$F),0),1),\"\")","v":""},{"$f":"IFERROR(VLOOKUP($B76,'Total Rankings (excl QB)'!$D:$E,2,0),0)","v":0},0,null,{"$f":"IFERROR(VLOOKUP($B76,'Total Rankings (excl QB)'!$D:$L,4,0),\"\")","v":""},{"$f":"IFERROR(VLOOKUP($B76,'Total Rankings (excl QB)'!$D:$L,5,0),\"\")","v":""},{"$f":"IFERROR(VLOOKUP($B76,'Total Rankings (excl QB)'!$D:$L,6,0),\"\")","v":""},{"$f":"IFERROR(VLOOKUP($B76,'Total Rankings (excl QB)'!$D:$L,7,0),\"\")","v":""},{"$f":"IFERROR(VLOOKUP($B76,'Total Rankings (excl QB)'!$D:$L,8,0),\"\")","v":""},null,73,{"$f":"IFERROR(INDEX('Total Rankings (excl QB)'!$D:$D,MATCH(1,(\"Running Back\"='Total Rankings (excl QB)'!$C:$C)*(L76='Total Rankings (excl QB)'!$F:$F),0),1),\"\")","v":""},{"$f":"IFERROR(VLOOKUP($M76,'Total Rankings (excl QB)'!$D:$E,2,0),0)","v":0},0,null,{"$f":"IFERROR(VLOOKUP($M76,'Total Rankings (excl QB)'!$D:$L,4,0),\"\")","v":""},{"$f":"IFERROR(VLOOKUP($M76,'Total Rankings (excl QB)'!$D:$L,5,0),\"\")","v":""},{"$f":"IFERROR(VLOOKUP($M76,'Total Rankings (excl QB)'!$D:$L,6,0),\"\")","v":""},{"$f":"IFERROR(VLOOKUP($M76,'Total Rankings (excl QB)'!$D:$L,7,0),\"\")","v":""},{"$f":"IFERROR(VLOOKUP($M76,'Total Rankings (excl QB)'!$D:$L,8,0),\"\")","v":""},null,73,{"$f":"IFERROR(INDEX('Total Rankings (excl QB)'!$D:$D,MATCH(1,(\"Tight End\"='Total Rankings (excl QB)'!$C:$C)*(W76='Total Rankings (excl QB)'!$F:$F),0),1),\"\")","v":""},{"$f":"IFERROR(VLOOKUP($X76,'Total Rankings (excl QB)'!$D:$E,2,0),0)","v":0},0,null,{"$f":"IFERROR(VLOOKUP($X76,'Total Rankings (excl QB)'!$D:$L,4,0),\"\")","v":""},{"$f":"IFERROR(VLOOKUP($X76,'Total Rankings (excl QB)'!$D:$L,5,0),\"\")","v":""},{"$f":"IFERROR(VLOOKUP($X76,'Total Rankings (excl QB)'!$D:$L,6,0),\"\")","v":""},{"$f":"IFERROR(VLOOKUP($X76,'Total Rankings (excl QB)'!$D:$L,7,0),\"\")","v":""},{"$f":"IFERROR(VLOOKUP($X76,'Total Rankings (excl QB)'!$D:$L,8,0),\"\")","v":""}]
[74,{"$f":"IFERROR(INDEX('Total Rankings (excl QB)'!$D:$D,MATCH(1,(\"Wide Receiver\"='Total Rankings (excl QB)'!$C:$C)*(A77='Total Rankings (excl QB)'!$F:$F),0),1),\"\")","v":""},{"$f":"IFERROR(VLOOKUP($B77,'Total Rankings (excl QB)'!$D:$E,2,0),0)","v":0},0,null,{"$f":"IFERROR(VLOOKUP($B77,'Total Rankings (excl QB)'!$D:$L,4,0),\"\")","v":""},{"$f":"IFERROR(VLOOKUP($B77,'Total Rankings (excl QB)'!$D:$L,5,0),\"\")","v":""},{"$f":"IFERROR(VLOOKUP($B77,'Total Rankings (excl QB)'!$D:$L,6,0),\"\")","v":""},{"$f":"IFERROR(VLOOKUP($B77,'Total Rankings (excl QB)'!$D:$L,7,0),\"\")","v":""},{"$f":"IFERROR(VLOOKUP($B77,'Total Rankings (excl QB)'!$D:$L,8,0),\"\")","v":""},null,74,{"$f":"IFERROR(INDEX('Total Rankings (excl QB)'!$D:$D,MATCH(1,(\"Running Back\"='Total Rankings (excl QB)'!$C:$C)*(L77='Total Rankings (excl QB)'!$F:$F),0),1),\"\")","v":""},{"$f":"IFERROR(VLOOKUP($M77,'Total Rankings (excl QB)'!$D:$E,2,0),0)","v":0},0,null,{"$f":"IFERROR(VLOOKUP($M77,'Total Rankings (excl QB)'!$D:$L,4,0),\"\")","v":""},{"$f":"IFERROR(VLOOKUP($M77,'Total Rankings (excl QB)'!$D:$L,5,0),\"\")","v":""},{"$f":"IFERROR(VLOOKUP($M77,'Total Rankings (excl QB)'!$D:$L,6,0),\"\")","v":""},{"$f":"IFERROR(VLOOKUP($M77,'Total Rankings (excl QB)'!$D:$L,7,0),\"\")","v":""},{"$f":"IFERROR(VLOOKUP($M77,'Total Rankings (excl QB)'!$D:$L,8,0),\"\")","v":""},null,74,{"$f":"IFERROR(INDEX('Total Rankings (excl QB)'!$D:$D,MATCH(1,(\"Tight End\"='Total Rankings (excl QB)'!$C:$C)*(W77='Total Rankings (excl QB)'!$F:$F),0),1),\"\")","v":""},{"$f":"IFERROR(VLOOKUP($X77,'Total Rankings (excl QB)'!$D:$E,2,0),0)","v":0},0,null,{"$f":"IFERROR(VLOOKUP($X77,'Total Rankings (excl QB)'!$D:$L,4,0),\"\")","v":""},{"$f":"IFERROR(VLOOKUP($X77,'Total Rankings (excl QB)'!$D:$L,5,0),\"\")","v":""},{"$f":"IFERROR(VLOOKUP($X77,'Total Rankings (excl QB)'!$D:$L,6,0),\"\")","v":""},{"$f":"IFERROR(VLOOKUP($X77,'Total Rankings (excl QB)'!$D:$L,7,0),\"\")","v":""},{"$f":"IFERROR(VLOOKUP($X77,'Total Rankings (excl QB)'!$D:$L,8,0),\"\")","v":""}]
[75,{"$f":"IFERROR(INDEX('Total Rankings (excl QB)'!$D:$D,MATCH(1,(\"Wide Receiver\"='Total Rankings (excl QB)'!$C:$C)*(A78='Total Rankings (excl QB)'!$F:$F),0),1),\"\")","v":""},{"$f":"IFERROR(VLOOKUP($B78,'Total Rankings (excl QB)'!$D:$E,2,0),0)","v":0},0,null,{"$f":"IFERROR(VLOOKUP($B78,'Total Rankings (excl QB)'!$D:$L,4,0),\"\")","v":""},{"$f":"IFERROR(VLOOKUP($B78,'Total Rankings (excl QB)'!$D:$L,5,0),\"\")","v":""},{"$f":"IFERROR(VLOOKUP($B78,'Total Rankings (excl QB)'!$D:$L,6,0),\"\")","v":""},{"$f":"IFERROR(VLOOKUP($B78,'Total Rankings (excl QB)'!$D:$L,7,0),\"\")","v":""},{"$f":"IFERROR(VLOOKUP($B78,'Total Rankings (excl QB)'!$D:$L,8,0),\"\")","v":""},null,75,{"$f":"IFERROR(INDEX('Total Rankings (excl QB)'!$D:$D,MATCH(1,(\"Running Back\"='Total Rankings (excl QB)'!$C:$C)*(L78='Total Rankings (excl QB)'!$F:$F),0),1),\"\")","v":""},{"$f":"IFERROR(VLOOKUP($M78,'Total Rankings (excl QB)'!$D:$E,2,0),0)","v":0},0,null,{"$f":"IFERROR(VLOOKUP($M78,'Total Rankings (excl QB)'!$D:$L,4,0),\"\")","v":""},{"$f":"IFERROR(VLOOKUP($M78,'Total Rankings (excl QB)'!$D:$L,5,0),\"\")","v":""},{"$f":"IFERROR(VLOOKUP($M78,'Total Rankings (excl QB)'!$D:$L,6,0),\"\")","v":""},{"$f":"IFERROR(VLOOKUP($M78,'Total Rankings (excl QB)'!$D:$L,7,0),\"\")","v":""},{"$f":"IFERROR(VLOOKUP($M78,'Total Rankings (excl QB)'!$D:$L,8,0),\"\")","v":""},null,75,{"$f":"IFERROR(INDEX('Total Rankings (excl QB)'!$D:$D,MATCH(1,(\"Tight End\"='Total Rankings (excl QB)'!$C:$C)*(W78='Total Rankings (excl QB)'!$F:$F),0),1),\"\")","v":""},{"$f":"IFERROR(VLOOKUP($X78,'Total Rankings (excl QB)'!$D:$E,2,0),0)","v":0},0,null,{"$f":"IFERROR(VLOOKUP($X78,'Total Rankings (excl QB)'!$D:$L,4,0),\"\")","v":""},{"$f":"IFERROR(VLOOKUP($X78,'Total Rankings (excl QB)'!$D:$L,5,0),\"\")","v":""},{"$f":"IFERROR(VLOOKUP($X78,'Total Rankings (excl QB)'!$D:$L,6,0),\"\")","v":""},{"$f":"IFERROR(VLOOKUP($X78,'Total Rankings (excl QB)'!$D:$L,7,0),\"\")","v":""},{"$f":"IFERROR(VLOOKUP($X78,'Total Rankings (excl QB)'!$D:$L,8,0),\"\")","v":""}]
[76,{"$f":"IFERROR(INDEX('Total Rankings (excl QB)'!$D:$D,MATCH(1,(\"Wide Receiver\"='Total Rankings (excl QB)'!$C:$C)*(A79='Total Rankings (excl QB)'!$F:$F),0),1),\"\")","v":""},{"$f":"IFERROR(VLOOKUP($B79,'Total Rankings (excl QB)'!$D:$E,2,0),0)","v":0},0,null,{"$f":"IFERROR(VLOOKUP($B79,'Total Rankings (excl QB)'!$D:$L,4,0),\"\")","v":""},{"$f":"IFERROR(VLOOKUP($B79,'Total Rankings (excl QB)'!$D:$L,5,0),\"\")","v":""},{"$f":"IFERROR(VLOOKUP($B79,'Total Rankings (excl QB)'!$D:$L,6,0),\"\")","v":""},{"$f":"IFERROR(VLOOKUP($B79,'Total Rankings (excl QB)'!$D:$L,7,0),\"\")","v":""},{"$f":"IFERROR(VLOOKUP($B79,'Total Rankings (excl QB)'!$D:$L,8,0),\"\")","v":""},null,76,{"$f":"IFERROR(INDEX('Total Rankings (excl QB)'!$D:$D,MATCH(1,(\"Running Back\"='Total Rankings (excl QB)'!$C:$C)*(L79='Total Rankings (excl QB)'!$F:$F),0),1),\"\")","v":""},{"$f":"IFERROR(VLOOKUP($M79,'Total Rankings (excl QB)'!$D:$E,2,0),0)","v":0},0,null,{"$f":"IFERROR(VLOOKUP($M79,'Total Rankings (excl QB)'!$D:$L,4,0),\"\")","v":""},{"$f":"IFERROR(VLOOKUP($M79,'Total Rankings (excl QB)'!$D:$L,5,0),\"\")","v":""},{"$f":"IFERROR(VLOOKUP($M79,'Total Rankings (excl QB)'!$D:$L,6,0),\"\")","v":""},{"$f":"IFERROR(VLOOKUP($M79,'Total Rankings (excl QB)'!$D:$L,7,0),\"\")","v":""},{"$f":"IFERROR(VLOOKUP($M79,'Total Rankings (excl QB)'!$D:$L,8,0),\"\")","v":""},null,76,{"$f":"IFERROR(INDEX('Total Rankings (excl QB)'!$D:$D,MATCH(1,(\"Tight End\"='Total Rankings (excl QB)'!$C:$C)*(W79='Total Rankings (excl QB)'!$F:$F),0),1),\"\")","v":""},{"$f":"IFERROR(VLOOKUP($X79,'Total Rankings (excl QB)'!$D:$E,2,0),0)","v":0},0,null,{"$f":"IFERROR(VLOOKUP($X79,'Total Rankings (excl QB)'!$D:$L,4,0),\"\")","v":""},{"$f":"IFERROR(VLOOKUP($X79,'Total Rankings (excl QB)'!$D:$L,5,0),\"\")","v":""},{"$f":"IFERROR(VLOOKUP($X79,'Total Rankings (excl QB)'!$D:$L,6,0),\"\")","v":""},{"$f":"IFERROR(VLOOKUP($X79,'Total Rankings (excl QB)'!$D:$L,7,0),\"\")","v":""},{"$f":"IFERROR(VLOOKUP($X79,'Total Rankings (excl QB)'!$D:$L,8,0),\"\")","v":""}]
[77,{"$f":"IFERROR(INDEX('Total Rankings (excl QB)'!$D:$D,MATCH(1,(\"Wide Receiver\"='Total Rankings (excl QB)'!$C:$C)*(A80='Total Rankings (excl QB)'!$F:$F),0),1),\"\")","v":""},{"$f":"IFERROR(VLOOKUP($B80,'Total Rankings (excl QB)'!$D:$E,2,0),0)","v":0},0,null,{"$f":"IFERROR(VLOOKUP($B80,'Total Rankings (excl QB)'!$D:$L,4,0),\"\")","v":""},{"$f":"IFERROR(VLOOKUP($B80,'Total Rankings (excl QB)'!$D:$L,5,0),\"\")","v":""},{"$f":"IFERROR(VLOOKUP($B80,'Total Rankings (excl QB)'!$D:$L,6,0),\"\")","v":""},{"$f":"IFERROR(VLOOKUP($B80,'Total Rankings (excl QB)'!$D:$L,7,0),\"\")","v":""},{"$f":"IFERROR(VLOOKUP($B80,'Total Rankings (excl QB)'!$D:$L,8,0),\"\")","v":""},null,77,{"$f":"IFERROR(INDEX('Total Rankings (excl QB)'!$D:$D,MATCH(1,(\"Running Back\"='Total Rankings (excl QB)'!$C:$C)*(L80='Total Rankings (excl QB)'!$F:$F),0),1),\"\")","v":""},{"$f":"IFERROR(VLOOKUP($M80,'Total Rankings (excl QB)'!$D:$E,2,0),0)","v":0},0,null,{"$f":"IFERROR(VLOOKUP($M80,'Total Rankings (excl QB)'!$D:$L,4,0),\"\")","v":""},{"$f":"IFERROR(VLOOKUP($M80,'Total Rankings (excl QB)'!$D:$L,5,0),\"\")","v":""},{"$f":"IFERROR(VLOOKUP($M80,'Total Rankings (excl QB)'!$D:$L,6,0),\"\")","v":""},{"$f":"IFERROR(VLOOKUP($M80,'Total Rankings (excl QB)'!$D:$L,7,0),\"\")","v":""},{"$f":"IFERROR(VLOOKUP($M80,'Total Rankings (excl QB)'!$D:$L,8,0),\"\")","v":""},null,77,{"$f":"IFERROR(INDEX('Total Rankings (excl QB)'!$D:$D,MATCH(1,(\"Tight End\"='Total Rankings (excl QB)'!$C:$C)*(W80='Total Rankings (excl QB)'!$F:$F),0),1),\"\")","v":""},{"$f":"IFERROR(VLOOKUP($X80,'Total Rankings (excl QB)'!$D:$E,2,0),0)","v":0},0,null,{"$f":"IFERROR(VLOOKUP($X80,'Total Rankings (excl QB)'!$D:$L,4,0),\"\")","v":""},{"$f":"IFERROR(VLOOKUP($X80,'Total Rankings (excl QB)'!$D:$L,5,0),\"\")","v":""},{"$f":"IFERROR(VLOOKUP($X80,'Total Rankings (excl QB)'!$D:$L,6,0),\"\")","v":""},{"$f":"IFERROR(VLOOKUP($X80,'Total Rankings (excl QB)'!$D:$L,7,0),\"\")","v":""},{"$f":"IFERROR(VLOOKUP($X80,'Total Rankings (excl QB)'!$D:$L,8,0),\"\")","v":""}]
[78,{"$f":"IFERROR(INDEX('Total Rankings (excl QB)'!$D:$D,MATCH(1,(\"Wide Receiver\"='Total Rankings (excl QB)'!$C:$C)*(A81='Total Rankings (excl QB)'!$F:$F),0),1),\"\")","v":""},{"$f":"IFERROR(VLOOKUP($B81,'Total Rankings (excl QB)'!$D:$E,2,0),0)","v":0},0,null,{"$f":"IFERROR(VLOOKUP($B81,'Total Rankings (excl QB)'!$D:$L,4,0),\"\")","v":""},{"$f":"IFERROR(VLOOKUP($B81,'Total Rankings (excl QB)'!$D:$L,5,0),\"\")","v":""},{"$f":"IFERROR(VLOOKUP($B81,'Total Rankings (excl QB)'!$D:$L,6,0),\"\")","v":""},{"$f":"IFERROR(VLOOKUP($B81,'Total Rankings (excl QB)'!$D:$L,7,0),\"\")","v":""},{"$f":"IFERROR(VLOOKUP($B81,'Total Rankings (excl QB)'!$D:$L,8,0),\"\")","v":""},null,78,{"$f":"IFERROR(INDEX('Total Rankings (excl QB)'!$D:$D,MATCH(1,(\"Running Back\"='Total Rankings (excl QB)'!$C:$C)*(L81='Total Rankings (excl QB)'!$F:$F),0),1),\"\")","v":""},{"$f":"IFERROR(VLOOKUP($M81,'Total Rankings (excl QB)'!$D:$E,2,0),0)","v":0},0,null,{"$f":"IFERROR(VLOOKUP($M81,'Total Rankings (excl QB)'!$D:$L,4,0),\"\")","v":""},{"$f":"IFERROR(VLOOKUP($M81,'Total Rankings (excl QB)'!$D:$L,5,0),\"\")","v":""},{"$f":"IFERROR(VLOOKUP($M81,'Total Rankings (excl QB)'!$D:$L,6,0),\"\")","v":""},{"$f":"IFERROR(VLOOKUP($M81,'Total Rankings (excl QB)'!$D:$L,7,0),\"\")","v":""},{"$f":"IFERROR(VLOOKUP($M81,'Total Rankings (excl QB)'!$D:$L,8,0),\"\")","v":""},null,78,{"$f":"IFERROR(INDEX('Total Rankings (excl QB)'!$D:$D,MATCH(1,(\"Tight End\"='Total Rankings (excl QB)'!$C:$C)*(W81='Total Rankings (excl QB)'!$F:$F),0),1),\"\")","v":""},{"$f":"IFERROR(VLOOKUP($X81,'Total Rankings (excl QB)'!$D:$E,2,0),0)","v":0},0,null,{"$f":"IFERROR(VLOOKUP($X81,'Total Rankings (excl QB)'!$D:$L,4,0),\"\")","v":""},{"$f":"IFERROR(VLOOKUP($X81,'Total Rankings (excl QB)'!$D:$L,5,0),\"\")","v":""},{"$f":"IFERROR(VLOOKUP($X81,'Total Rankings (excl QB)'!$D:$L,6,0),\"\")","v":""},{"$f":"IFERROR(VLOOKUP($X81,'Total Rankings (excl QB)'!$D:$L,7,0),\"\")","v":""},{"$f":"IFERROR(VLOOKUP($X81,'Total Rankings (excl QB)'!$D:$L,8,0),\"\")","v":""}]
[79,{"$f":"IFERROR(INDEX('Total Rankings (excl QB)'!$D:$D,MATCH(1,(\"Wide Receiver\"='Total Rankings (excl QB)'!$C:$C)*(A82='Total Rankings (excl QB)'!$F:$F),0),1),\"\")","v":""},{"$f":"IFERROR(VLOOKUP($B82,'Total Rankings (excl QB)'!$D:$E,2,0),0)","v":0},0,null,{"$f":"IFERROR(VLOOKUP($B82,'Total Rankings (excl QB)'!$D:$L,4,0),\"\")","v":""},{"$f":"IFERROR(VLOOKUP($B82,'Total Rankings (excl QB)'!$D:$L,5,0),\"\")","v":""},{"$f":"IFERROR(VLOOKUP($B82,'Total Rankings (excl QB)'!$D:$L,6,0),\"\")","v":""},{"$f":"IFERROR(VLOOKUP($B82,'Total Rankings (excl QB)'!$D:$L,7,0),\"\")","v":""},{"$f":"IFERROR(VLOOKUP($B82,'Total Rankings (excl QB)'!$D:$L,8,0),\"\")","v":""},null,79,{"$f":"IFERROR(INDEX('Total Rankings (excl QB)'!$D:$D,MATCH(1,(\"Running Back\"='Total Rankings (excl QB)'!$C:$C)*(L82='Total Rankings (excl QB)'!$F:$F),0),1),\"\")","v":""},{"$f":"IFERROR(VLOOKUP($M82,'Total Rankings (excl QB)'!$D:$E,2,0),0)","v":0},0,null,{"$f":"IFERROR(VLOOKUP($M82,'Total Rankings (excl QB)'!$D:$L,4,0),\"\")","v":""},{"$f":"IFERROR(VLOOKUP($M82,'Total Rankings (excl QB)'!$D:$L,5,0),\"\")","v":""},{"$f":"IFERROR(VLOOKUP($M82,'Total Rankings (excl QB)'!$D:$L,6,0),\"\")","v":""},{"$f":"IFERROR(VLOOKUP($M82,'Total Rankings (excl QB)'!$D:$L,7,0),\"\")","v":""},{"$f":"IFERROR(VLOOKUP($M82,'Total Rankings (excl QB)'!$D:$L,8,0),\"\")","v":""},null,79,{"$f":"IFERROR(INDEX('Total Rankings (excl QB)'!$D:$D,MATCH(1,(\"Tight End\"='Total Rankings (excl QB)'!$C:$C)*(W82='Total Rankings (excl QB)'!$F:$F),0),1),\"\")","v":""},{"$f":"IFERROR(VLOOKUP($X82,'Total Rankings (excl QB)'!$D:$E,2,0),0)","v":0},0,null,{"$f":"IFERROR(VLOOKUP($X82,'Total Rankings (excl QB)'!$D:$L,4,0),\"\")","v":""},{"$f":"IFERROR(VLOOKUP($X82,'Total Rankings (excl QB)'!$D:$L,5,0),\"\")","v":""},{"$f":"IFERROR(VLOOKUP($X82,'Total Rankings (excl QB)'!$D:$L,6,0),\"\")","v":""},{"$f":"IFERROR(VLOOKUP($X82,'Total Rankings (excl QB)'!$D:$L,7,0),\"\")","v":""},{"$f":"IFERROR(VLOOKUP($X82,'Total Rankings (excl QB)'!$D:$L,8,0),\"\")","v":""}]
[80,{"$f":"IFERROR(INDEX('Total Rankings (excl QB)'!$D:$D,MATCH(1,(\"Wide Receiver\"='Total Rankings (excl QB)'!$C:$C)*(A83='Total Rankings (excl QB)'!$F:$F),0),1),\"\")","v":""},{"$f":"IFERROR(VLOOKUP($B83,'Total Rankings (excl QB)'!$D:$E,2,0),0)","v":0},0,null,{"$f":"IFERROR(VLOOKUP($B83,'Total Rankings (excl QB)'!$D:$L,4,0),\"\")","v":""},{"$f":"IFERROR(VLOOKUP($B83,'Total Rankings (excl QB)'!$D:$L,5,0),\"\")","v":""},{"$f":"IFERROR(VLOOKUP($B83,'Total Rankings (excl QB)'!$D:$L,6,0),\"\")","v":""},{"$f":"IFERROR(VLOOKUP($B83,'Total Rankings (excl QB)'!$D:$L,7,0),\"\")","v":""},{"$f":"IFERROR(VLOOKUP($B83,'Total Rankings (excl QB)'!$D:$L,8,0),\"\")","v":""},null,80,{"$f":"IFERROR(INDEX('Total Rankings (excl QB)'!$D:$D,MATCH(1,(\"Running Back\"='Total Rankings (excl QB)'!$C:$C)*(L83='Total Rankings (excl QB)'!$F:$F),0),1),\"\")","v":""},{"$f":"IFERROR(VLOOKUP($M83,'Total Rankings (excl QB)'!$D:$E,2,0),0)","v":0},0,null,{"$f":"IFERROR(VLOOKUP($M83,'Total Rankings (excl QB)'!$D:$L,4,0),\"\")","v":""},{"$f":"IFERROR(VLOOKUP($M83,'Total Rankings (excl QB)'!$D:$L,5,0),\"\")","v":""},{"$f":"IFERROR(VLOOKUP($M83,'Total Rankings (excl QB)'!$D:$L,6,0),\"\")","v":""},{"$f":"IFERROR(VLOOKUP($M83,'Total Rankings (excl QB)'!$D:$L,7,0),\"\")","v":""},{"$f":"IFERROR(VLOOKUP($M83,'Total Rankings (excl QB)'!$D:$L,8,0),\"\")","v":""},null,80,{"$f":"IFERROR(INDEX('Total Rankings (excl QB)'!$D:$D,MATCH(1,(\"Tight End\"='Total Rankings (excl QB)'!$C:$C)*(W83='Total Rankings (excl QB)'!$F:$F),0),1),\"\")","v":""},{"$f":"IFERROR(VLOOKUP($X83,'Total Rankings (excl QB)'!$D:$E,2,0),0)","v":0},0,null,{"$f":"IFERROR(VLOOKUP($X83,'Total Rankings (excl QB)'!$D:$L,4,0),\"\")","v":""},{"$f":"IFERROR(VLOOKUP($X83,'Total Rankings (excl QB)'!$D:$L,5,0),\"\")","v":""},{"$f":"IFERROR(VLOOKUP($X83,'Total Rankings (excl QB)'!$D:$L,6,0),\"\")","v":""},{"$f":"IFERROR(VLOOKUP($X83,'Total Rankings (excl QB)'!$D:$L,7,0),\"\")","v":""},{"$f":"IFERROR(VLOOKUP($X83,'Total Rankings (excl QB)'!$D:$L,8,0),\"\")","v":""}]
[81,{"$f":"IFERROR(INDEX('Total Rankings (excl QB)'!$D:$D,MATCH(1,(\"Wide Receiver\"='Total Rankings (excl QB)'!$C:$C)*(A84='Total Rankings (excl QB)'!$F:$F),0),1),\"\")","v":""},{"$f":"IFERROR(VLOOKUP($B84,'Total Rankings (excl QB)'!$D:$E,2,0),0)","v":0},0,null,{"$f":"IFERROR(VLOOKUP($B84,'Total Rankings (excl QB)'!$D:$L,4,0),\"\")","v":""},{"$f":"IFERROR(VLOOKUP($B84,'Total Rankings (excl QB)'!$D:$L,5,0),\"\")","v":""},{"$f":"IFERROR(VLOOKUP($B84,'Total Rankings (excl QB)'!$D:$L,6,0),\"\")","v":""},{"$f":"IFERROR(VLOOKUP($B84,'Total Rankings (excl QB)'!$D:$L,7,0),\"\")","v":""},{"$f":"IFERROR(VLOOKUP($B84,'Total Rankings (excl QB)'!$D:$L,8,0),\"\")","v":""},null,81,{"$f":"IFERROR(INDEX('Total Rankings (excl QB)'!$D:$D,MATCH(1,(\"Running Back\"='Total Rankings (excl QB)'!$C:$C)*(L84='Total Rankings (excl QB)'!$F:$F),0),1),\"\")","v":""},{"$f":"IFERROR(VLOOKUP($M84,'Total Rankings (excl QB)'!$D:$E,2,0),0)","v":0},0,null,{"$f":"IFERROR(VLOOKUP($M84,'Total Rankings (excl QB)'!$D:$L,4,0),\"\")","v":""},{"$f":"IFERROR(VLOOKUP($M84,'Total Rankings (excl QB)'!$D:$L,5,0),\"\")","v":""},{"$f":"IFERROR(VLOOKUP($M84,'Total Rankings (excl QB)'!$D:$L,6,0),\"\")","v":""},{"$f":"IFERROR(VLOOKUP($M84,'Total Rankings (excl QB)'!$D:$L,7,0),\"\")","v":""},{"$f":"IFERROR(VLOOKUP($M84,'Total Rankings (excl QB)'!$D:$L,8,0),\"\")","v":""},null,81,{"$f":"IFERROR(INDEX('Total Rankings (excl QB)'!$D:$D,MATCH(1,(\"Tight End\"='Total Rankings (excl QB)'!$C:$C)*(W84='Total Rankings (excl QB)'!$F:$F),0),1),\"\")","v":""},{"$f":"IFERROR(VLOOKUP($X84,'Total Rankings (excl QB)'!$D:$E,2,0),0)","v":0},0,null,{"$f":"IFERROR(VLOOKUP($X84,'Total Rankings (excl QB)'!$D:$L,4,0),\"\")","v":""},{"$f":"IFERROR(VLOOKUP($X84,'Total Rankings (excl QB)'!$D:$L,5,0),\"\")","v":""},{"$f":"IFERROR(VLOOKUP($X84,'Total Rankings (excl QB)'!$D:$L,6,0),\"\")","v":""},{"$f":"IFERROR(VLOOKUP($X84,'Total Rankings (excl QB)'!$D:$L,7,0),\"\")","v":""},{"$f":"IFERROR(VLOOKUP($X84,'Total Rankings (excl QB)'!$D:$L,8,0),\"\")","v":""}]
[82,{"$f":"IFERROR(INDEX('Total Rankings (excl QB)'!$D:$D,MATCH(1,(\"Wide Receiver\"='Total Rankings (excl QB)'!$C:$C)*(A85='Total Rankings (excl QB)'!$F:$F),0),1),\"\")","v":""},{"$f":"IFERROR(VLOOKUP($B85,'Total Rankings (excl QB)'!$D:$E,2,0),0)","v":0},0,null,{"$f":"IFERROR(VLOOKUP($B85,'Total Rankings (excl QB)'!$D:$L,4,0),\"\")","v":""},{"$f":"IFERROR(VLOOKUP($B85,'Total Rankings (excl QB)'!$D:$L,5,0),\"\")","v":""},{"$f":"IFERROR(VLOOKUP($B85,'Total Rankings (excl QB)'!$D:$L,6,0),\"\")","v":""},{"$f":"IFERROR(VLOOKUP($B85,'Total Rankings (excl QB)'!$D:$L,7,0),\"\")","v":""},{"$f":"IFERROR(VLOOKUP($B85,'Total Rankings (excl QB)'!$D:$L,8,0),\"\")","v":""},null,82,{"$f":"IFERROR(INDEX('Total Rankings (excl QB)'!$D:$D,MATCH(1,(\"Running Back\"='Total Rankings (excl QB)'!$C:$C)*(L85='Total Rankings (excl QB)'!$F:$F),0),1),\"\")","v":""},{"$f":"IFERROR(VLOOKUP($M85,'Total Rankings (excl QB)'!$D:$E,2,0),0)","v":0},0,null,{"$f":"IFERROR(VLOOKUP($M85,'Total Rankings (excl QB)'!$D:$L,4,0),\"\")","v":""},{"$f":"IFERROR(VLOOKUP($M85,'Total Rankings (excl QB)'!$D:$L,5,0),\"\")","v":""},{"$f":"IFERROR(VLOOKUP($M85,'Total Rankings (excl QB)'!$D:$L,6,0),\"\")","v":""},{"$f":"IFERROR(VLOOKUP($M85,'Total Rankings (excl QB)'!$D:$L,7,0),\"\")","v":""},{"$f":"IFERROR(VLOOKUP($M85,'Total Rankings (excl QB)'!$D:$L,8,0),\"\")","v":""},null,82,{"$f":"IFERROR(INDEX('Total Rankings (excl QB)'!$D:$D,MATCH(1,(\"Tight End\"='Total Rankings (excl QB)'!$C:$C)*(W85='Total Rankings (excl QB)'!$F:$F),0),1),\"\")","v":""},{"$f":"IFERROR(VLOOKUP($X85,'Total Rankings (excl QB)'!$D:$E,2,0),0)","v":0},0,null,{"$f":"IFERROR(VLOOKUP($X85,'Total Rankings (excl QB)'!$D:$L,4,0),\"\")","v":""},{"$f":"IFERROR(VLOOKUP($X85,'Total Rankings (excl QB)'!$D:$L,5,0),\"\")","v":""},{"$f":"IFERROR(VLOOKUP($X85,'Total Rankings (excl QB)'!$D:$L,6,0),\"\")","v":""},{"$f":"IFERROR(VLOOKUP($X85,'Total Rankings (excl QB)'!$D:$L,7,0),\"\")","v":""},{"$f":"IFERROR(VLOOKUP($X85,'Total Rankings (excl QB)'!$D:$L,8,0),\"\")","v":""}]
[83,{"$f":"IFERROR(INDEX('Total Rankings (excl QB)'!$D:$D,MATCH(1,(\"Wide Receiver\"='Total Rankings (excl QB)'!$C:$C)*(A86='Total Rankings (excl QB)'!$F:$F),0),1),\"\")","v":""},{"$f":"IFERROR(VLOOKUP($B86,'Total Rankings (excl QB)'!$D:$E,2,0),0)","v":0},0,null,{"$f":"IFERROR(VLOOKUP($B86,'Total Rankings (excl QB)'!$D:$L,4,0),\"\")","v":""},{"$f":"IFERROR(VLOOKUP($B86,'Total Rankings (excl QB)'!$D:$L,5,0),\"\")","v":""},{"$f":"IFERROR(VLOOKUP($B86,'Total Rankings (excl QB)'!$D:$L,6,0),\"\")","v":""},{"$f":"IFERROR(VLOOKUP($B86,'Total Rankings (excl QB)'!$D:$L,7,0),\"\")","v":""},{"$f":"IFERROR(VLOOKUP($B86,'Total Rankings (excl QB)'!$D:$L,8,0),\"\")","v":""},null,83,{"$f":"IFERROR(INDEX('Total Rankings (excl QB)'!$D:$D,MATCH(1,(\"Running Back\"='Total Rankings (excl QB)'!$C:$C)*(L86='Total Rankings (excl QB)'!$F:$F),0),1),\"\")","v":""},{"$f":"IFERROR(VLOOKUP($M86,'Total Rankings (excl QB)'!$D:$E,2,0),0)","v":0},0,null,{"$f":"IFERROR(VLOOKUP($M86,'Total Rankings (excl QB)'!$D:$L,4,0),\"\")","v":""},{"$f":"IFERROR(VLOOKUP($M86,'Total Rankings (excl QB)'!$D:$L,5,0),\"\")","v":""},{"$f":"IFERROR(VLOOKUP($M86,'Total Rankings (excl QB)'!$D:$L,6,0),\"\")","v":""},{"$f":"IFERROR(VLOOKUP($M86,'Total Rankings (excl QB)'!$D:$L,7,0),\"\")","v":""},{"$f":"IFERROR(VLOOKUP($M86,'Total Rankings (excl QB)'!$D:$L,8,0),\"\")","v":""},null,83,{"$f":"IFERROR(INDEX('Total Rankings (excl QB)'!$D:$D,MATCH(1,(\"Tight End\"='Total Rankings (excl QB)'!$C:$C)*(W86='Total Rankings (excl QB)'!$F:$F),0),1),\"\")","v":""},{"$f":"IFERROR(VLOOKUP($X86,'Total Rankings (excl QB)'!$D:$E,2,0),0)","v":0},0,null,{"$f":"IFERROR(VLOOKUP($X86,'Total Rankings (excl QB)'!$D:$L,4,0),\"\")","v":""},{"$f":"IFERROR(VLOOKUP($X86,'Total Rankings (excl QB)'!$D:$L,5,0),\"\")","v":""},{"$f":"IFERROR(VLOOKUP($X86,'Total Rankings (excl QB)'!$D:$L,6,0),\"\")","v":""},{"$f":"IFERROR(VLOOKUP($X86,'Total Rankings (excl QB)'!$D:$L,7,0),\"\")","v":""},{"$f":"IFERROR(VLOOKUP($X86,'Total Rankings (excl QB)'!$D:$L,8,0),\"\")","v":""}]
[84,{"$f":"IFERROR(INDEX('Total Rankings (excl QB)'!$D:$D,MATCH(1,(\"Wide Receiver\"='Total Rankings (excl QB)'!$C:$C)*(A87='Total Rankings (excl QB)'!$F:$F),0),1),\"\")","v":""},{"$f":"IFERROR(VLOOKUP($B87,'Total Rankings (excl QB)'!$D:$E,2,0),0)","v":0},0,null,{"$f":"IFERROR(VLOOKUP($B87,'Total Rankings (excl QB)'!$D:$L,4,0),\"\")","v":""},{"$f":"IFERROR(VLOOKUP($B87,'Total Rankings (excl QB)'!$D:$L,5,0),\"\")","v":""},{"$f":"IFERROR(VLOOKUP($B87,'Total Rankings (excl QB)'!$D:$L,6,0),\"\")","v":""},{"$f":"IFERROR(VLOOKUP($B87,'Total Rankings (excl QB)'!$D:$L,7,0),\"\")","v":""},{"$f":"IFERROR(VLOOKUP($B87,'Total Rankings (excl QB)'!$D:$L,8,0),\"\")","v":""},null,84,{"$f":"IFERROR(INDEX('Total Rankings (excl QB)'!$D:$D,MATCH(1,(\"Running Back\"='Total Rankings (excl QB)'!$C:$C)*(L87='Total Rankings (excl QB)'!$F:$F),0),1),\"\")","v":""},{"$f":"IFERROR(VLOOKUP($M87,'Total Rankings (excl QB)'!$D:$E,2,0),0)","v":0},0,null,{"$f":"IFERROR(VLOOKUP($M87,'Total Rankings (excl QB)'!$D:$L,4,0),\"\")","v":""},{"$f":"IFERROR(VLOOKUP($M87,'Total Rankings (excl QB)'!$D:$L,5,0),\"\")","v":""},{"$f":"IFERROR(VLOOKUP($M87,'Total Rankings (excl QB)'!$D:$L,6,0),\"\")","v":""},{"$f":"IFERROR(VLOOKUP($M87,'Total Rankings (excl QB)'!$D:$L,7,0),\"\")","v":""},{"$f":"IFERROR(VLOOKUP($M87,'Total Rankings (excl QB)'!$D:$L,8,0),\"\")","v":""},null,84,{"$f":"IFERROR(INDEX('Total Rankings (excl QB)'!$D:$D,MATCH(1,(\"Tight End\"='Total Rankings (excl QB)'!$C:$C)*(W87='Total Rankings (excl QB)'!$F:$F),0),1),\"\")","v":""},{"$f":"IFERROR(VLOOKUP($X87,'Total Rankings (excl QB)'!$D:$E,2,0),0)","v":0},0,null,{"$f":"IFERROR(VLOOKUP($X87,'Total Rankings (excl QB)'!$D:$L,4,0),\"\")","v":""},{"$f":"IFERROR(VLOOKUP($X87,'Total Rankings (excl QB)'!$D:$L,5,0),\"\")","v":""},{"$f":"IFERROR(VLOOKUP($X87,'Total Rankings (excl QB)'!$D:$L,6,0),\"\")","v":""},{"$f":"IFERROR(VLOOKUP($X87,'Total Rankings (excl QB)'!$D:$L,7,0),\"\")","v":""},{"$f":"IFERROR(VLOOKUP($X87,'Total Rankings (excl QB)'!$D:$L,8,0),\"\")","v":""}]
[85,{"$f":"IFERROR(INDEX('Total Rankings (excl QB)'!$D:$D,MATCH(1,(\"Wide Receiver\"='Total Rankings (excl QB)'!$C:$C)*(A88='Total Rankings (excl QB)'!$F:$F),0),1),\"\")","v":""},{"$f":"IFERROR(VLOOKUP($B88,'Total Rankings (excl QB)'!$D:$E,2,0),0)","v":0},0,null,{"$f":"IFERROR(VLOOKUP($B88,'Total Rankings (excl QB)'!$D:$L,4,0),\"\")","v":""},{"$f":"IFERROR(VLOOKUP($B88,'Total Rankings (excl QB)'!$D:$L,5,0),\"\")","v":""},{"$f":"IFERROR(VLOOKUP($B88,'Total Rankings (excl QB)'!$D:$L,6,0),\"\")","v":""},{"$f":"IFERROR(VLOOKUP($B88,'Total Rankings (excl QB)'!$D:$L,7,0),\"\")","v":""},{"$f":"IFERROR(VLOOKUP($B88,'Total Rankings (excl QB)'!$D:$L,8,0),\"\")","v":""},null,85,{"$f":"IFERROR(INDEX('Total Rankings (excl QB)'!$D:$D,MATCH(1,(\"Running Back\"='Total Rankings (excl QB)'!$C:$C)*(L88='Total Rankings (excl QB)'!$F:$F),0),1),\"\")","v":""},{"$f":"IFERROR(VLOOKUP($M88,'Total Rankings (excl QB)'!$D:$E,2,0),0)","v":0},0,null,{"$f":"IFERROR(VLOOKUP($M88,'Total Rankings (excl QB)'!$D:$L,4,0),\"\")","v":""},{"$f":"IFERROR(VLOOKUP($M88,'Total Rankings (excl QB)'!$D:$L,5,0),\"\")","v":""},{"$f":"IFERROR(VLOOKUP($M88,'Total Rankings (excl QB)'!$D:$L,6,0),\"\")","v":""},{"$f":"IFERROR(VLOOKUP($M88,'Total Rankings (excl QB)'!$D:$L,7,0),\"\")","v":""},{"$f":"IFERROR(VLOOKUP($M88,'Total Rankings (excl QB)'!$D:$L,8,0),\"\")","v":""},null,85,{"$f":"IFERROR(INDEX('Total Rankings (excl QB)'!$D:$D,MATCH(1,(\"Tight End\"='Total Rankings (excl QB)'!$C:$C)*(W88='Total Rankings (excl QB)'!$F:$F),0),1),\"\")","v":""},{"$f":"IFERROR(VLOOKUP($X88,'Total Rankings (excl QB)'!$D:$E,2,0),0)","v":0},0,null,{"$f":"IFERROR(VLOOKUP($X88,'Total Rankings (excl QB)'!$D:$L,4,0),\"\")","v":""},{"$f":"IFERROR(VLOOKUP($X88,'Total Rankings (excl QB)'!$D:$L,5,0),\"\")","v":""},{"$f":"IFERROR(VLOOKUP($X88,'Total Rankings (excl QB)'!$D:$L,6,0),\"\")","v":""},{"$f":"IFERROR(VLOOKUP($X88,'Total Rankings (excl QB)'!$D:$L,7,0),\"\")","v":""},{"$f":"IFERROR(VLOOKUP($X88,'Total Rankings (excl QB)'!$D:$L,8,0),\"\")","v":""}]
[86,{"$f":"IFERROR(INDEX('Total Rankings (excl QB)'!$D:$D,MATCH(1,(\"Wide Receiver\"='Total Rankings (excl QB)'!$C:$C)*(A89='Total Rankings (excl QB)'!$F:$F),0),1),\"\")","v":""},{"$f":"IFERROR(VLOOKUP($B89,'Total Rankings (excl QB)'!$D:$E,2,0),0)","v":0},0,null,{"$f":"IFERROR(VLOOKUP($B89,'Total Rankings (excl QB)'!$D:$L,4,0),\"\")","v":""},{"$f":"IFERROR(VLOOKUP($B89,'Total Rankings (excl QB)'!$D:$L,5,0),\"\")","v":""},{"$f":"IFERROR(VLOOKUP($B89,'Total Rankings (excl QB)'!$D:$L,6,0),\"\")","v":""},{"$f":"IFERROR(VLOOKUP($B89,'Total Rankings (excl QB)'!$D:$L,7,0),\"\")","v":""},{"$f":"IFERROR(VLOOKUP($B89,'Total Rankings (excl QB)'!$D:$L,8,0),\"\")","v":""},null,86,{"$f":"IFERROR(INDEX('Total Rankings (excl QB)'!$D:$D,MATCH(1,(\"Running Back\"='Total Rankings (excl QB)'!$C:$C)*(L89='Total Rankings (excl QB)'!$F:$F),0),1),\"\")","v":""},{"$f":"IFERROR(VLOOKUP($M89,'Total Rankings (excl QB)'!$D:$E,2,0),0)","v":0},0,null,{"$f":"IFERROR(VLOOKUP($M89,'Total Rankings (excl QB)'!$D:$L,4,0),\"\")","v":""},{"$f":"IFERROR(VLOOKUP($M89,'Total Rankings (excl QB)'!$D:$L,5,0),\"\")","v":""},{"$f":"IFERROR(VLOOKUP($M89,'Total Rankings (excl QB)'!$D:$L,6,0),\"\")","v":""},{"$f":"IFERROR(VLOOKUP($M89,'Total Rankings (excl QB)'!$D:$L,7,0),\"\")","v":""},{"$f":"IFERROR(VLOOKUP($M89,'Total Rankings (excl QB)'!$D:$L,8,0),\"\")","v":""},null,86,{"$f":"IFERROR(INDEX('Total Rankings (excl QB)'!$D:$D,MATCH(1,(\"Tight End\"='Total Rankings (excl QB)'!$C:$C)*(W89='Total Rankings (excl QB)'!$F:$F),0),1),\"\")","v":""},{"$f":"IFERROR(VLOOKUP($X89,'Total Rankings (excl QB)'!$D:$E,2,0),0)","v":0},0,null,{"$f":"IFERROR(VLOOKUP($X89,'Total Rankings (excl QB)'!$D:$L,4,0),\"\")","v":""},{"$f":"IFERROR(VLOOKUP($X89,'Total Rankings (excl QB)'!$D:$L,5,0),\"\")","v":""},{"$f":"IFERROR(VLOOKUP($X89,'Total Rankings (excl QB)'!$D:$L,6,0),\"\")","v":""},{"$f":"IFERROR(VLOOKUP($X89,'Total Rankings (excl QB)'!$D:$L,7,0),\"\")","v":""},{"$f":"IFERROR(VLOOKUP($X89,'Total Rankings (excl QB)'!$D:$L,8,0),\"\")","v":""}]
[87,{"$f":"IFERROR(INDEX('Total Rankings (excl QB)'!$D:$D,MATCH(1,(\"Wide Receiver\"='Total Rankings (excl QB)'!$C:$C)*(A90='Total Rankings (excl QB)'!$F:$F),0),1),\"\")","v":""},{"$f":"IFERROR(VLOOKUP($B90,'Total Rankings (excl QB)'!$D:$E,2,0),0)","v":0},0,null,{"$f":"IFERROR(VLOOKUP($B90,'Total Rankings (excl QB)'!$D:$L,4,0),\"\")","v":""},{"$f":"IFERROR(VLOOKUP($B90,'Total Rankings (excl QB)'!$D:$L,5,0),\"\")","v":""},{"$f":"IFERROR(VLOOKUP($B90,'Total Rankings (excl QB)'!$D:$L,6,0),\"\")","v":""},{"$f":"IFERROR(VLOOKUP($B90,'Total Rankings (excl QB)'!$D:$L,7,0),\"\")","v":""},{"$f":"IFERROR(VLOOKUP($B90,'Total Rankings (excl QB)'!$D:$L,8,0),\"\")","v":""},null,87,{"$f":"IFERROR(INDEX('Total Rankings (excl QB)'!$D:$D,MATCH(1,(\"Running Back\"='Total Rankings (excl QB)'!$C:$C)*(L90='Total Rankings (excl QB)'!$F:$F),0),1),\"\")","v":""},{"$f":"IFERROR(VLOOKUP($M90,'Total Rankings (excl QB)'!$D:$E,2,0),0)","v":0},0,null,{"$f":"IFERROR(VLOOKUP($M90,'Total Rankings (excl QB)'!$D:$L,4,0),\"\")","v":""},{"$f":"IFERROR(VLOOKUP($M90,'Total Rankings (excl QB)'!$D:$L,5,0),\"\")","v":""},{"$f":"IFERROR(VLOOKUP($M90,'Total Rankings (excl QB)'!$D:$L,6,0),\"\")","v":""},{"$f":"IFERROR(VLOOKUP($M90,'Total Rankings (excl QB)'!$D:$L,7,0),\"\")","v":""},{"$f":"IFERROR(VLOOKUP($M90,'Total Rankings (excl QB)'!$D:$L,8,0),\"\")","v":""},null,87,{"$f":"IFERROR(INDEX('Total Rankings (excl QB)'!$D:$D,MATCH(1,(\"Tight End\"='Total Rankings (excl QB)'!$C:$C)*(W90='Total Rankings (excl QB)'!$F:$F),0),1),\"\")","v":""},{"$f":"IFERROR(VLOOKUP($X90,'Total Rankings (excl QB)'!$D:$E,2,0),0)","v":0},0,null,{"$f":"IFERROR(VLOOKUP($X90,'Total Rankings (excl QB)'!$D:$L,4,0),\"\")","v":""},{"$f":"IFERROR(VLOOKUP($X90,'Total Rankings (excl QB)'!$D:$L,5,0),\"\")","v":""},{"$f":"IFERROR(VLOOKUP($X90,'Total Rankings (excl QB)'!$D:$L,6,0),\"\")","v":""},{"$f":"IFERROR(VLOOKUP($X90,'Total Rankings (excl QB)'!$D:$L,7,0),\"\")","v":""},{"$f":"IFERROR(VLOOKUP($X90,'Total Rankings (excl QB)'!$D:$L,8,0),\"\")","v":""}]
[88,{"$f":"IFERROR(INDEX('Total Rankings (excl QB)'!$D:$D,MATCH(1,(\"Wide Receiver\"='Total Rankings (excl QB)'!$C:$C)*(A91='Total Rankings (excl QB)'!$F:$F),0),1),\"\")","v":""},{"$f":"IFERROR(VLOOKUP($B91,'Total Rankings (excl QB)'!$D:$E,2,0),0)","v":0},0,null,{"$f":"IFERROR(VLOOKUP($B91,'Total Rankings (excl QB)'!$D:$L,4,0),\"\")","v":""},{"$f":"IFERROR(VLOOKUP($B91,'Total Rankings (excl QB)'!$D:$L,5,0),\"\")","v":""},{"$f":"IFERROR(VLOOKUP($B91,'Total Rankings (excl QB)'!$D:$L,6,0),\"\")","v":""},{"$f":"IFERROR(VLOOKUP($B91,'Total Rankings (excl QB)'!$D:$L,7,0),\"\")","v":""},{"$f":"IFERROR(VLOOKUP($B91,'Total Rankings (excl QB)'!$D:$L,8,0),\"\")","v":""},null,88,{"$f":"IFERROR(INDEX('Total Rankings (excl QB)'!$D:$D,MATCH(1,(\"Running Back\"='Total Rankings (excl QB)'!$C:$C)*(L91='Total Rankings (excl QB)'!$F:$F),0),1),\"\")","v":""},{"$f":"IFERROR(VLOOKUP($M91,'Total Rankings (excl QB)'!$D:$E,2,0),0)","v":0},0,null,{"$f":"IFERROR(VLOOKUP($M91,'Total Rankings (excl QB)'!$D:$L,4,0),\"\")","v":""},{"$f":"IFERROR(VLOOKUP($M91,'Total Rankings (excl QB)'!$D:$L,5,0),\"\")","v":""},{"$f":"IFERROR(VLOOKUP($M91,'Total Rankings (excl QB)'!$D:$L,6,0),\"\")","v":""},{"$f":"IFERROR(VLOOKUP($M91,'Total Rankings (excl QB)'!$D:$L,7,0),\"\")","v":""},{"$f":"IFERROR(VLOOKUP($M91,'Total Rankings (excl QB)'!$D:$L,8,0),\"\")","v":""},null,88,{"$f":"IFERROR(INDEX('Total Rankings (excl QB)'!$D:$D,MATCH(1,(\"Tight End\"='Total Rankings (excl QB)'!$C:$C)*(W91='Total Rankings (excl QB)'!$F:$F),0),1),\"\")","v":""},{"$f":"IFERROR(VLOOKUP($X91,'Total Rankings (excl QB)'!$D:$E,2,0),0)","v":0},0,null,{"$f":"IFERROR(VLOOKUP($X91,'Total Rankings (excl QB)'!$D:$L,4,0),\"\")","v":""},{"$f":"IFERROR(VLOOKUP($X91,'Total Rankings (excl QB)'!$D:$L,5,0),\"\")","v":""},{"$f":"IFERROR(VLOOKUP($X91,'Total Rankings (excl QB)'!$D:$L,6,0),\"\")","v":""},{"$f":"IFERROR(VLOOKUP($X91,'Total Rankings (excl QB)'!$D:$L,7,0),\"\")","v":""},{"$f":"IFERROR(VLOOKUP($X91,'Total Rankings (excl QB)'!$D:$L,8,0),\"\")","v":""}]
[89,{"$f":"IFERROR(INDEX('Total Rankings (excl QB)'!$D:$D,MATCH(1,(\"Wide Receiver\"='Total Rankings (excl QB)'!$C:$C)*(A92='Total Rankings (excl QB)'!$F:$F),0),1),\"\")","v":""},{"$f":"IFERROR(VLOOKUP($B92,'Total Rankings (excl QB)'!$D:$E,2,0),0)","v":0},0,null,{"$f":"IFERROR(VLOOKUP($B92,'Total Rankings (excl QB)'!$D:$L,4,0),\"\")","v":""},{"$f":"IFERROR(VLOOKUP($B92,'Total Rankings (excl QB)'!$D:$L,5,0),\"\")","v":""},{"$f":"IFERROR(VLOOKUP($B92,'Total Rankings (excl QB)'!$D:$L,6,0),\"\")","v":""},{"$f":"IFERROR(VLOOKUP($B92,'Total Rankings (excl QB)'!$D:$L,7,0),\"\")","v":""},{"$f":"IFERROR(VLOOKUP($B92,'Total Rankings (excl QB)'!$D:$L,8,0),\"\")","v":""},null,89,{"$f":"IFERROR(INDEX('Total Rankings (excl QB)'!$D:$D,MATCH(1,(\"Running Back\"='Total Rankings (excl QB)'!$C:$C)*(L92='Total Rankings (excl QB)'!$F:$F),0),1),\"\")","v":""},{"$f":"IFERROR(VLOOKUP($M92,'Total Rankings (excl QB)'!$D:$E,2,0),0)","v":0},0,null,{"$f":"IFERROR(VLOOKUP($M92,'Total Rankings (excl QB)'!$D:$L,4,0),\"\")","v":""},{"$f":"IFERROR(VLOOKUP($M92,'Total Rankings (excl QB)'!$D:$L,5,0),\"\")","v":""},{"$f":"IFERROR(VLOOKUP($M92,'Total Rankings (excl QB)'!$D:$L,6,0),\"\")","v":""},{"$f":"IFERROR(VLOOKUP($M92,'Total Rankings (excl QB)'!$D:$L,7,0),\"\")","v":""},{"$f":"IFERROR(VLOOKUP($M92,'Total Rankings (excl QB)'!$D:$L,8,0),\"\")","v":""},null,89,{"$f":"IFERROR(INDEX('Total Rankings (excl QB)'!$D:$D,MATCH(1,(\"Tight End\"='Total Rankings (excl QB)'!$C:$C)*(W92='Total Rankings (excl QB)'!$F:$F),0),1),\"\")","v":""},{"$f":"IFERROR(VLOOKUP($X92,'Total Rankings (excl QB)'!$D:$E,2,0),0)","v":0},0,null,{"$f":"IFERROR(VLOOKUP($X92,'Total Rankings (excl QB)'!$D:$L,4,0),\"\")","v":""},{"$f":"IFERROR(VLOOKUP($X92,'Total Rankings (excl QB)'!$D:$L,5,0),\"\")","v":""},{"$f":"IFERROR(VLOOKUP($X92,'Total Rankings (excl QB)'!$D:$L,6,0),\"\")","v":""},{"$f":"IFERROR(VLOOKUP($X92,'Total Rankings (excl QB)'!$D:$L,7,0),\"\")","v":""},{"$f":"IFERROR(VLOOKUP($X92,'Total Rankings (excl QB)'!$D:$L,8,0),\"\")","v":""}]
[90,{"$f":"IFERROR(INDEX('Total Rankings (excl QB)'!$D:$D,MATCH(1,(\"Wide Receiver\"='Total Rankings (excl QB)'!$C:$C)*(A93='Total Rankings (excl QB)'!$F:$F),0),1),\"\")","v":""},{"$f":"IFERROR(VLOOKUP($B93,'Total Rankings (excl QB)'!$D:$E,2,0),0)","v":0},0,null,{"$f":"IFERROR(VLOOKUP($B93,'Total Rankings (excl QB)'!$D:$L,4,0),\"\")","v":""},{"$f":"IFERROR(VLOOKUP($B93,'Total Rankings (excl QB)'!$D:$L,5,0),\"\")","v":""},{"$f":"IFERROR(VLOOKUP($B93,'Total Rankings (excl QB)'!$D:$L,6,0),\"\")","v":""},{"$f":"IFERROR(VLOOKUP($B93,'Total Rankings (excl QB)'!$D:$L,7,0),\"\")","v":""},{"$f":"IFERROR(VLOOKUP($B93,'Total Rankings (excl QB)'!$D:$L,8,0),\"\")","v":""},null,90,{"$f":"IFERROR(INDEX('Total Rankings (excl QB)'!$D:$D,MATCH(1,(\"Running Back\"='Total Rankings (excl QB)'!$C:$C)*(L93='Total Rankings (excl QB)'!$F:$F),0),1),\"\")","v":""},{"$f":"IFERROR(VLOOKUP($M93,'Total Rankings (excl QB)'!$D:$E,2,0),0)","v":0},0,null,{"$f":"IFERROR(VLOOKUP($M93,'Total Rankings (excl QB)'!$D:$L,4,0),\"\")","v":""},{"$f":"IFERROR(VLOOKUP($M93,'Total Rankings (excl QB)'!$D:$L,5,0),\"\")","v":""},{"$f":"IFERROR(VLOOKUP($M93,'Total Rankings (excl QB)'!$D:$L,6,0),\"\")","v":""},{"$f":"IFERROR(VLOOKUP($M93,'Total Rankings (excl QB)'!$D:$L,7,0),\"\")","v":""},{"$f":"IFERROR(VLOOKUP($M93,'Total Rankings (excl QB)'!$D:$L,8,0),\"\")","v":""},null,90,{"$f":"IFERROR(INDEX('Total Rankings (excl QB)'!$D:$D,MATCH(1,(\"Tight End\"='Total Rankings (excl QB)'!$C:$C)*(W93='Total Rankings (excl QB)'!$F:$F),0),1),\"\")","v":""},{"$f":"IFERROR(VLOOKUP($X93,'Total Rankings (excl QB)'!$D:$E,2,0),0)","v":0},0,null,{"$f":"IFERROR(VLOOKUP($X93,'Total Rankings (excl QB)'!$D:$L,4,0),\"\")","v":""},{"$f":"IFERROR(VLOOKUP($X93,'Total Rankings (excl QB)'!$D:$L,5,0),\"\")","v":""},{"$f":"IFERROR(VLOOKUP($X93,'Total Rankings (excl QB)'!$D:$L,6,0),\"\")","v":""},{"$f":"IFERROR(VLOOKUP($X93,'Total Rankings (excl QB)'!$D:$L,7,0),\"\")","v":""},{"$f":"IFERROR(VLOOKUP($X93,'Total Rankings (excl QB)'!$D:$L,8,0),\"\")","v":""}]
[91,{"$f":"IFERROR(INDEX('Total Rankings (excl QB)'!$D:$D,MATCH(1,(\"Wide Receiver\"='Total Rankings (excl QB)'!$C:$C)*(A94='Total Rankings (excl QB)'!$F:$F),0),1),\"\")","v":""},{"$f":"IFERROR(VLOOKUP($B94,'Total Rankings (excl QB)'!$D:$E,2,0),0)","v":0},0,null,{"$f":"IFERROR(VLOOKUP($B94,'Total Rankings (excl QB)'!$D:$L,4,0),\"\")","v":""},{"$f":"IFERROR(VLOOKUP($B94,'Total Rankings (excl QB)'!$D:$L,5,0),\"\")","v":""},{"$f":"IFERROR(VLOOKUP($B94,'Total Rankings (excl QB)'!$D:$L,6,0),\"\")","v":""},{"$f":"IFERROR(VLOOKUP($B94,'Total Rankings (excl QB)'!$D:$L,7,0),\"\")","v":""},{"$f":"IFERROR(VLOOKUP($B94,'Total Rankings (excl QB)'!$D:$L,8,0),\"\")","v":""},null,91,{"$f":"IFERROR(INDEX('Total Rankings (excl QB)'!$D:$D,MATCH(1,(\"Running Back\"='Total Rankings (excl QB)'!$C:$C)*(L94='Total Rankings (excl QB)'!$F:$F),0),1),\"\")","v":""},{"$f":"IFERROR(VLOOKUP($M94,'Total Rankings (excl QB)'!$D:$E,2,0),0)","v":0},0,null,{"$f":"IFERROR(VLOOKUP($M94,'Total Rankings (excl QB)'!$D:$L,4,0),\"\")","v":""},{"$f":"IFERROR(VLOOKUP($M94,'Total Rankings (excl QB)'!$D:$L,5,0),\"\")","v":""},{"$f":"IFERROR(VLOOKUP($M94,'Total Rankings (excl QB)'!$D:$L,6,0),\"\")","v":""},{"$f":"IFERROR(VLOOKUP($M94,'Total Rankings (excl QB)'!$D:$L,7,0),\"\")","v":""},{"$f":"IFERROR(VLOOKUP($M94,'Total Rankings (excl QB)'!$D:$L,8,0),\"\")","v":""},null,91,{"$f":"IFERROR(INDEX('Total Rankings (excl QB)'!$D:$D,MATCH(1,(\"Tight End\"='Total Rankings (excl QB)'!$C:$C)*(W94='Total Rankings (excl QB)'!$F:$F),0),1),\"\")","v":""},{"$f":"IFERROR(VLOOKUP($X94,'Total Rankings (excl QB)'!$D:$E,2,0),0)","v":0},0,null,{"$f":"IFERROR(VLOOKUP($X94,'Total Rankings (excl QB)'!$D:$L,4,0),\"\")","v":""},{"$f":"IFERROR(VLOOKUP($X94,'Total Rankings (excl QB)'!$D:$L,5,0),\"\")","v":""},{"$f":"IFERROR(VLOOKUP($X94,'Total Rankings (excl QB)'!$D:$L,6,0),\"\")","v":""},{"$f":"IFERROR(VLOOKUP($X94,'Total Rankings (excl QB)'!$D:$L,7,0),\"\")","v":""},{"$f":"IFERROR(VLOOKUP($X94,'Total Rankings (excl QB)'!$D:$L,8,0),\"\")","v":""}]
[92,{"$f":"IFERROR(INDEX('Total Rankings (excl QB)'!$D:$D,MATCH(1,(\"Wide Receiver\"='Total Rankings (excl QB)'!$C:$C)*(A95='Total Rankings (excl QB)'!$F:$F),0),1),\"\")","v":""},{"$f":"IFERROR(VLOOKUP($B95,'Total Rankings (excl QB)'!$D:$E,2,0),0)","v":0},0,null,{"$f":"IFERROR(VLOOKUP($B95,'Total Rankings (excl QB)'!$D:$L,4,0),\"\")","v":""},{"$f":"IFERROR(VLOOKUP($B95,'Total Rankings (excl QB)'!$D:$L,5,0),\"\")","v":""},{"$f":"IFERROR(VLOOKUP($B95,'Total Rankings (excl QB)'!$D:$L,6,0),\"\")","v":""},{"$f":"IFERROR(VLOOKUP($B95,'Total Rankings (excl QB)'!$D:$L,7,0),\"\")","v":""},{"$f":"IFERROR(VLOOKUP($B95,'Total Rankings (excl QB)'!$D:$L,8,0),\"\")","v":""},null,92,{"$f":"IFERROR(INDEX('Total Rankings (excl QB)'!$D:$D,MATCH(1,(\"Running Back\"='Total Rankings (excl QB)'!$C:$C)*(L95='Total Rankings (excl QB)'!$F:$F),0),1),\"\")","v":""},{"$f":"IFERROR(VLOOKUP($M95,'Total Rankings (excl QB)'!$D:$E,2,0),0)","v":0},0,null,{"$f":"IFERROR(VLOOKUP($M95,'Total Rankings (excl QB)'!$D:$L,4,0),\"\")","v":""},{"$f":"IFERROR(VLOOKUP($M95,'Total Rankings (excl QB)'!$D:$L,5,0),\"\")","v":""},{"$f":"IFERROR(VLOOKUP($M95,'Total Rankings (excl QB)'!$D:$L,6,0),\"\")","v":""},{"$f":"IFERROR(VLOOKUP($M95,'Total Rankings (excl QB)'!$D:$L,7,0),\"\")","v":""},{"$f":"IFERROR(VLOOKUP($M95,'Total Rankings (excl QB)'!$D:$L,8,0),\"\")","v":""},null,92,{"$f":"IFERROR(INDEX('Total Rankings (excl QB)'!$D:$D,MATCH(1,(\"Tight End\"='Total Rankings (excl QB)'!$C:$C)*(W95='Total Rankings (excl QB)'!$F:$F),0),1),\"\")","v":""},{"$f":"IFERROR(VLOOKUP($X95,'Total Rankings (excl QB)'!$D:$E,2,0),0)","v":0},0,null,{"$f":"IFERROR(VLOOKUP($X95,'Total Rankings (excl QB)'!$D:$L,4,0),\"\")","v":""},{"$f":"IFERROR(VLOOKUP($X95,'Total Rankings (excl QB)'!$D:$L,5,0),\"\")","v":""},{"$f":"IFERROR(VLOOKUP($X95,'Total Rankings (excl QB)'!$D:$L,6,0),\"\")","v":""},{"$f":"IFERROR(VLOOKUP($X95,'Total Rankings (excl QB)'!$D:$L,7,0),\"\")","v":""},{"$f":"IFERROR(VLOOKUP($X95,'Total Rankings (excl QB)'!$D:$L,8,0),\"\")","v":""}]
[93,{"$f":"IFERROR(INDEX('Total Rankings (excl QB)'!$D:$D,MATCH(1,(\"Wide Receiver\"='Total Rankings (excl QB)'!$C:$C)*(A96='Total Rankings (excl QB)'!$F:$F),0),1),\"\")","v":""},{"$f":"IFERROR(VLOOKUP($B96,'Total Rankings (excl QB)'!$D:$E,2,0),0)","v":0},0,null,{"$f":"IFERROR(VLOOKUP($B96,'Total Rankings (excl QB)'!$D:$L,4,0),\"\")","v":""},{"$f":"IFERROR(VLOOKUP($B96,'Total Rankings (excl QB)'!$D:$L,5,0),\"\")","v":""},{"$f":"IFERROR(VLOOKUP($B96,'Total Rankings (excl QB)'!$D:$L,6,0),\"\")","v":""},{"$f":"IFERROR(VLOOKUP($B96,'Total Rankings (excl QB)'!$D:$L,7,0),\"\")","v":""},{"$f":"IFERROR(VLOOKUP($B96,'Total Rankings (excl QB)'!$D:$L,8,0),\"\")","v":""},null,93,{"$f":"IFERROR(INDEX('Total Rankings (excl QB)'!$D:$D,MATCH(1,(\"Running Back\"='Total Rankings (excl QB)'!$C:$C)*(L96='Total Rankings (excl QB)'!$F:$F),0),1),\"\")","v":""},{"$f":"IFERROR(VLOOKUP($M96,'Total Rankings (excl QB)'!$D:$E,2,0),0)","v":0},0,null,{"$f":"IFERROR(VLOOKUP($M96,'Total Rankings (excl QB)'!$D:$L,4,0),\"\")","v":""},{"$f":"IFERROR(VLOOKUP($M96,'Total Rankings (excl QB)'!$D:$L,5,0),\"\")","v":""},{"$f":"IFERROR(VLOOKUP($M96,'Total Rankings (excl QB)'!$D:$L,6,0),\"\")","v":""},{"$f":"IFERROR(VLOOKUP($M96,'Total Rankings (excl QB)'!$D:$L,7,0),\"\")","v":""},{"$f":"IFERROR(VLOOKUP($M96,'Total Rankings (excl QB)'!$D:$L,8,0),\"\")","v":""},null,93,{"$f":"IFERROR(INDEX('Total Rankings (excl QB)'!$D:$D,MATCH(1,(\"Tight End\"='Total Rankings (excl QB)'!$C:$C)*(W96='Total Rankings (excl QB)'!$F:$F),0),1),\"\")","v":""},{"$f":"IFERROR(VLOOKUP($X96,'Total Rankings (excl QB)'!$D:$E,2,0),0)","v":0},0,null,{"$f":"IFERROR(VLOOKUP($X96,'Total Rankings (excl QB)'!$D:$L,4,0),\"\")","v":""},{"$f":"IFERROR(VLOOKUP($X96,'Total Rankings (excl QB)'!$D:$L,5,0),\"\")","v":""},{"$f":"IFERROR(VLOOKUP($X96,'Total Rankings (excl QB)'!$D:$L,6,0),\"\")","v":""},{"$f":"IFERROR(VLOOKUP($X96,'Total Rankings (excl QB)'!$D:$L,7,0),\"\")","v":""},{"$f":"IFERROR(VLOOKUP($X96,'Total Rankings (excl QB)'!$D:$L,8,0),\"\")","v":""}]
[94,{"$f":"IFERROR(INDEX('Total Rankings (excl QB)'!$D:$D,MATCH(1,(\"Wide Receiver\"='Total Rankings (excl QB)'!$C:$C)*(A97='Total Rankings (excl QB)'!$F:$F),0),1),\"\")","v":""},{"$f":"IFERROR(VLOOKUP($B97,'Total Rankings (excl QB)'!$D:$E,2,0),0)","v":0},0,null,{"$f":"IFERROR(VLOOKUP($B97,'Total Rankings (excl QB)'!$D:$L,4,0),\"\")","v":""},{"$f":"IFERROR(VLOOKUP($B97,'Total Rankings (excl QB)'!$D:$L,5,0),\"\")","v":""},{"$f":"IFERROR(VLOOKUP($B97,'Total Rankings (excl QB)'!$D:$L,6,0),\"\")","v":""},{"$f":"IFERROR(VLOOKUP($B97,'Total Rankings (excl QB)'!$D:$L,7,0),\"\")","v":""},{"$f":"IFERROR(VLOOKUP($B97,'Total Rankings (excl QB)'!$D:$L,8,0),\"\")","v":""},null,94,{"$f":"IFERROR(INDEX('Total Rankings (excl QB)'!$D:$D,MATCH(1,(\"Running Back\"='Total Rankings (excl QB)'!$C:$C)*(L97='Total Rankings (excl QB)'!$F:$F),0),1),\"\")","v":""},{"$f":"IFERROR(VLOOKUP($M97,'Total Rankings (excl QB)'!$D:$E,2,0),0)","v":0},0,null,{"$f":"IFERROR(VLOOKUP($M97,'Total Rankings (excl QB)'!$D:$L,4,0),\"\")","v":""},{"$f":"IFERROR(VLOOKUP($M97,'Total Rankings (excl QB)'!$D:$L,5,0),\"\")","v":""},{"$f":"IFERROR(VLOOKUP($M97,'Total Rankings (excl QB)'!$D:$L,6,0),\"\")","v":""},{"$f":"IFERROR(VLOOKUP($M97,'Total Rankings (excl QB)'!$D:$L,7,0),\"\")","v":""},{"$f":"IFERROR(VLOOKUP($M97,'Total Rankings (excl QB)'!$D:$L,8,0),\"\")","v":""},null,94,{"$f":"IFERROR(INDEX('Total Rankings (excl QB)'!$D:$D,MATCH(1,(\"Tight End\"='Total Rankings (excl QB)'!$C:$C)*(W97='Total Rankings (excl QB)'!$F:$F),0),1),\"\")","v":""},{"$f":"IFERROR(VLOOKUP($X97,'Total Rankings (excl QB)'!$D:$E,2,0),0)","v":0},0,null,{"$f":"IFERROR(VLOOKUP($X97,'Total Rankings (excl QB)'!$D:$L,4,0),\"\")","v":""},{"$f":"IFERROR(VLOOKUP($X97,'Total Rankings (excl QB)'!$D:$L,5,0),\"\")","v":""},{"$f":"IFERROR(VLOOKUP($X97,'Total Rankings (excl QB)'!$D:$L,6,0),\"\")","v":""},{"$f":"IFERROR(VLOOKUP($X97,'Total Rankings (excl QB)'!$D:$L,7,0),\"\")","v":""},{"$f":"IFERROR(VLOOKUP($X97,'Total Rankings (excl QB)'!$D:$L,8,0),\"\")","v":""}]
[95,{"$f":"IFERROR(INDEX('Total Rankings (excl QB)'!$D:$D,MATCH(1,(\"Wide Receiver\"='Total Rankings (excl QB)'!$C:$C)*(A98='Total Rankings (excl QB)'!$F:$F),0),1),\"\")","v":""},{"$f":"IFERROR(VLOOKUP($B98,'Total Rankings (excl QB)'!$D:$E,2,0),0)","v":0},0,null,{"$f":"IFERROR(VLOOKUP($B98,'Total Rankings (excl QB)'!$D:$L,4,0),\"\")","v":""},{"$f":"IFERROR(VLOOKUP($B98,'Total Rankings (excl QB)'!$D:$L,5,0),\"\")","v":""},{"$f":"IFERROR(VLOOKUP($B98,'Total Rankings (excl QB)'!$D:$L,6,0),\"\")","v":""},{"$f":"IFERROR(VLOOKUP($B98,'Total Rankings (excl QB)'!$D:$L,7,0),\"\")","v":""},{"$f":"IFERROR(VLOOKUP($B98,'Total Rankings (excl QB)'!$D:$L,8,0),\"\")","v":""},null,95,{"$f":"IFERROR(INDEX('Total Rankings (excl QB)'!$D:$D,MATCH(1,(\"Running Back\"='Total Rankings (excl QB)'!$C:$C)*(L98='Total Rankings (excl QB)'!$F:$F),0),1),\"\")","v":""},{"$f":"IFERROR(VLOOKUP($M98,'Total Rankings (excl QB)'!$D:$E,2,0),0)","v":0},0,null,{"$f":"IFERROR(VLOOKUP($M98,'Total Rankings (excl QB)'!$D:$L,4,0),\"\")","v":""},{"$f":"IFERROR(VLOOKUP($M98,'Total Rankings (excl QB)'!$D:$L,5,0),\"\")","v":""},{"$f":"IFERROR(VLOOKUP($M98,'Total Rankings (excl QB)'!$D:$L,6,0),\"\")","v":""},{"$f":"IFERROR(VLOOKUP($M98,'Total Rankings (excl QB)'!$D:$L,7,0),\"\")","v":""},{"$f":"IFERROR(VLOOKUP($M98,'Total Rankings (excl QB)'!$D:$L,8,0),\"\")","v":""},null,95,{"$f":"IFERROR(INDEX('Total Rankings (excl QB)'!$D:$D,MATCH(1,(\"Tight End\"='Total Rankings (excl QB)'!$C:$C)*(W98='Total Rankings (excl QB)'!$F:$F),0),1),\"\")","v":""},{"$f":"IFERROR(VLOOKUP($X98,'Total Rankings (excl QB)'!$D:$E,2,0),0)","v":0},0,null,{"$f":"IFERROR(VLOOKUP($X98,'Total Rankings (excl QB)'!$D:$L,4,0),\"\")","v":""},{"$f":"IFERROR(VLOOKUP($X98,'Total Rankings (excl QB)'!$D:$L,5,0),\"\")","v":""},{"$f":"IFERROR(VLOOKUP($X98,'Total Rankings (excl QB)'!$D:$L,6,0),\"\")","v":""},{"$f":"IFERROR(VLOOKUP($X98,'Total Rankings (excl QB)'!$D:$L,7,0),\"\")","v":""},{"$f":"IFERROR(VLOOKUP($X98,'Total Rankings (excl QB)'!$D:$L,8,0),\"\")","v":""}]
[96,{"$f":"IFERROR(INDEX('Total Rankings (excl QB)'!$D:$D,MATCH(1,(\"Wide Receiver\"='Total Rankings (excl QB)'!$C:$C)*(A99='Total Rankings (excl QB)'!$F:$F),0),1),\"\")","v":""},{"$f":"IFERROR(VLOOKUP($B99,'Total Rankings (excl QB)'!$D:$E,2,0),0)","v":0},0,null,{"$f":"IFERROR(VLOOKUP($B99,'Total Rankings (excl QB)'!$D:$L,4,0),\"\")","v":""},{"$f":"IFERROR(VLOOKUP($B99,'Total Rankings (excl QB)'!$D:$L,5,0),\"\")","v":""},{"$f":"IFERROR(VLOOKUP($B99,'Total Rankings (excl QB)'!$D:$L,6,0),\"\")","v":""},{"$f":"IFERROR(VLOOKUP($B99,'Total Rankings (excl QB)'!$D:$L,7,0),\"\")","v":""},{"$f":"IFERROR(VLOOKUP($B99,'Total Rankings (excl QB)'!$D:$L,8,0),\"\")","v":""},null,96,{"$f":"IFERROR(INDEX('Total Rankings (excl QB)'!$D:$D,MATCH(1,(\"Running Back\"='Total Rankings (excl QB)'!$C:$C)*(L99='Total Rankings (excl QB)'!$F:$F),0),1),\"\")","v":""},{"$f":"IFERROR(VLOOKUP($M99,'Total Rankings (excl QB)'!$D:$E,2,0),0)","v":0},0,null,{"$f":"IFERROR(VLOOKUP($M99,'Total Rankings (excl QB)'!$D:$L,4,0),\"\")","v":""},{"$f":"IFERROR(VLOOKUP($M99,'Total Rankings (excl QB)'!$D:$L,5,0),\"\")","v":""},{"$f":"IFERROR(VLOOKUP($M99,'Total Rankings (excl QB)'!$D:$L,6,0),\"\")","v":""},{"$f":"IFERROR(VLOOKUP($M99,'Total Rankings (excl QB)'!$D:$L,7,0),\"\")","v":""},{"$f":"IFERROR(VLOOKUP($M99,'Total Rankings (excl QB)'!$D:$L,8,0),\"\")","v":""},null,96,{"$f":"IFERROR(INDEX('Total Rankings (excl QB)'!$D:$D,MATCH(1,(\"Tight End\"='Total Rankings (excl QB)'!$C:$C)*(W99='Total Rankings (excl QB)'!$F:$F),0),1),\"\")","v":""},{"$f":"IFERROR(VLOOKUP($X99,'Total Rankings (excl QB)'!$D:$E,2,0),0)","v":0},0,null,{"$f":"IFERROR(VLOOKUP($X99,'Total Rankings (excl QB)'!$D:$L,4,0),\"\")","v":""},{"$f":"IFERROR(VLOOKUP($X99,'Total Rankings (excl QB)'!$D:$L,5,0),\"\")","v":""},{"$f":"IFERROR(VLOOKUP($X99,'Total Rankings (excl QB)'!$D:$L,6,0),\"\")","v":""},{"$f":"IFERROR(VLOOKUP($X99,'Total Rankings (excl QB)'!$D:$L,7,0),\"\")","v":""},{"$f":"IFERROR(VLOOKUP($X99,'Total Rankings (excl QB)'!$D:$L,8,0),\"\")","v":""}]
[97,{"$f":"IFERROR(INDEX('Total Rankings (excl QB)'!$D:$D,MATCH(1,(\"Wide Receiver\"='Total Rankings (excl QB)'!$C:$C)*(A100='Total Rankings (excl QB)'!$F:$F),0),1),\"\")","v":""},{"$f":"IFERROR(VLOOKUP($B100,'Total Rankings (excl QB)'!$D:$E,2,0),0)","v":0},0,null,{"$f":"IFERROR(VLOOKUP($B100,'Total Rankings (excl QB)'!$D:$L,4,0),\"\")","v":""},{"$f":"IFERROR(VLOOKUP($B100,'Total Rankings (excl QB)'!$D:$L,5,0),\"\")","v":""},{"$f":"IFERROR(VLOOKUP($B100,'Total Rankings (excl QB)'!$D:$L,6,0),\"\")","v":""},{"$f":"IFERROR(VLOOKUP($B100,'Total Rankings (excl QB)'!$D:$L,7,0),\"\")","v":""},{"$f":"IFERROR(VLOOKUP($B100,'Total Rankings (excl QB)'!$D:$L,8,0),\"\")","v":""},null,97,{"$f":"IFERROR(INDEX('Total Rankings (excl QB)'!$D:$D,MATCH(1,(\"Running Back\"='Total Rankings (excl QB)'!$C:$C)*(L100='Total Rankings (excl QB)'!$F:$F),0),1),\"\")","v":""},{"$f":"IFERROR(VLOOKUP($M100,'Total Rankings (excl QB)'!$D:$E,2,0),0)","v":0},0,null,{"$f":"IFERROR(VLOOKUP($M100,'Total Rankings (excl QB)'!$D:$L,4,0),\"\")","v":""},{"$f":"IFERROR(VLOOKUP($M100,'Total Rankings (excl QB)'!$D:$L,5,0),\"\")","v":""},{"$f":"IFERROR(VLOOKUP($M100,'Total Rankings (excl QB)'!$D:$L,6,0),\"\")","v":""},{"$f":"IFERROR(VLOOKUP($M100,'Total Rankings (excl QB)'!$D:$L,7,0),\"\")","v":""},{"$f":"IFERROR(VLOOKUP($M100,'Total Rankings (excl QB)'!$D:$L,8,0),\"\")","v":""},null,97,{"$f":"IFERROR(INDEX('Total Rankings (excl QB)'!$D:$D,MATCH(1,(\"Tight End\"='Total Rankings (excl QB)'!$C:$C)*(W100='Total Rankings (excl QB)'!$F:$F),0),1),\"\")","v":""},{"$f":"IFERROR(VLOOKUP($X100,'Total Rankings (excl QB)'!$D:$E,2,0),0)","v":0},0,null,{"$f":"IFERROR(VLOOKUP($X100,'Total Rankings (excl QB)'!$D:$L,4,0),\"\")","v":""},{"$f":"IFERROR(VLOOKUP($X100,'Total Rankings (excl QB)'!$D:$L,5,0),\"\")","v":""},{"$f":"IFERROR(VLOOKUP($X100,'Total Rankings (excl QB)'!$D:$L,6,0),\"\")","v":""},{"$f":"IFERROR(VLOOKUP($X100,'Total Rankings (excl QB)'!$D:$L,7,0),\"\")","v":""},{"$f":"IFERROR(VLOOKUP($X100,'Total Rankings (excl QB)'!$D:$L,8,0),\"\")","v":""}]
[98,{"$f":"IFERROR(INDEX('Total Rankings (excl QB)'!$D:$D,MATCH(1,(\"Wide Receiver\"='Total Rankings (excl QB)'!$C:$C)*(A101='Total Rankings (excl QB)'!$F:$F),0),1),\"\")","v":""},{"$f":"IFERROR(VLOOKUP($B101,'Total Rankings (excl QB)'!$D:$E,2,0),0)","v":0},0,null,{"$f":"IFERROR(VLOOKUP($B101,'Total Rankings (excl QB)'!$D:$L,4,0),\"\")","v":""},{"$f":"IFERROR(VLOOKUP($B101,'Total Rankings (excl QB)'!$D:$L,5,0),\"\")","v":""},{"$f":"IFERROR(VLOOKUP($B101,'Total Rankings (excl QB)'!$D:$L,6,0),\"\")","v":""},{"$f":"IFERROR(VLOOKUP($B101,'Total Rankings (excl QB)'!$D:$L,7,0),\"\")","v":""},{"$f":"IFERROR(VLOOKUP($B101,'Total Rankings (excl QB)'!$D:$L,8,0),\"\")","v":""},null,98,{"$f":"IFERROR(INDEX('Total Rankings (excl QB)'!$D:$D,MATCH(1,(\"Running Back\"='Total Rankings (excl QB)'!$C:$C)*(L101='Total Rankings (excl QB)'!$F:$F),0),1),\"\")","v":""},{"$f":"IFERROR(VLOOKUP($M101,'Total Rankings (excl QB)'!$D:$E,2,0),0)","v":0},0,null,{"$f":"IFERROR(VLOOKUP($M101,'Total Rankings (excl QB)'!$D:$L,4,0),\"\")","v":""},{"$f":"IFERROR(VLOOKUP($M101,'Total Rankings (excl QB)'!$D:$L,5,0),\"\")","v":""},{"$f":"IFERROR(VLOOKUP($M101,'Total Rankings (excl QB)'!$D:$L,6,0),\"\")","v":""},{"$f":"IFERROR(VLOOKUP($M101,'Total Rankings (excl QB)'!$D:$L,7,0),\"\")","v":""},{"$f":"IFERROR(VLOOKUP($M101,'Total Rankings (excl QB)'!$D:$L,8,0),\"\")","v":""},null,98,{"$f":"IFERROR(INDEX('Total Rankings (excl QB)'!$D:$D,MATCH(1,(\"Tight End\"='Total Rankings (excl QB)'!$C:$C)*(W101='Total Rankings (excl QB)'!$F:$F),0),1),\"\")","v":""},{"$f":"IFERROR(VLOOKUP($X101,'Total Rankings (excl QB)'!$D:$E,2,0),0)","v":0},0,null,{"$f":"IFERROR(VLOOKUP($X101,'Total Rankings (excl QB)'!$D:$L,4,0),\"\")","v":""},{"$f":"IFERROR(VLOOKUP($X101,'Total Rankings (excl QB)'!$D:$L,5,0),\"\")","v":""},{"$f":"IFERROR(VLOOKUP($X101,'Total Rankings (excl QB)'!$D:$L,6,0),\"\")","v":""},{"$f":"IFERROR(VLOOKUP($X101,'Total Rankings (excl QB)'!$D:$L,7,0),\"\")","v":""},{"$f":"IFERROR(VLOOKUP($X101,'Total Rankings (excl QB)'!$D:$L,8,0),\"\")","v":""}]
[99,{"$f":"IFERROR(INDEX('Total Rankings (excl QB)'!$D:$D,MATCH(1,(\"Wide Receiver\"='Total Rankings (excl QB)'!$C:$C)*(A102='Total Rankings (excl QB)'!$F:$F),0),1),\"\")","v":""},{"$f":"IFERROR(VLOOKUP($B102,'Total Rankings (excl QB)'!$D:$E,2,0),0)","v":0},0,null,{"$f":"IFERROR(VLOOKUP($B102,'Total Rankings (excl QB)'!$D:$L,4,0),\"\")","v":""},{"$f":"IFERROR(VLOOKUP($B102,'Total Rankings (excl QB)'!$D:$L,5,0),\"\")","v":""},{"$f":"IFERROR(VLOOKUP($B102,'Total Rankings (excl QB)'!$D:$L,6,0),\"\")","v":""},{"$f":"IFERROR(VLOOKUP($B102,'Total Rankings (excl QB)'!$D:$L,7,0),\"\")","v":""},{"$f":"IFERROR(VLOOKUP($B102,'Total Rankings (excl QB)'!$D:$L,8,0),\"\")","v":""},null,99,{"$f":"IFERROR(INDEX('Total Rankings (excl QB)'!$D:$D,MATCH(1,(\"Running Back\"='Total Rankings (excl QB)'!$C:$C)*(L102='Total Rankings (excl QB)'!$F:$F),0),1),\"\")","v":""},{"$f":"IFERROR(VLOOKUP($M102,'Total Rankings (excl QB)'!$D:$E,2,0),0)","v":0},0,null,{"$f":"IFERROR(VLOOKUP($M102,'Total Rankings (excl QB)'!$D:$L,4,0),\"\")","v":""},{"$f":"IFERROR(VLOOKUP($M102,'Total Rankings (excl QB)'!$D:$L,5,0),\"\")","v":""},{"$f":"IFERROR(VLOOKUP($M102,'Total Rankings (excl QB)'!$D:$L,6,0),\"\")","v":""},{"$f":"IFERROR(VLOOKUP($M102,'Total Rankings (excl QB)'!$D:$L,7,0),\"\")","v":""},{"$f":"IFERROR(VLOOKUP($M102,'Total Rankings (excl QB)'!$D:$L,8,0),\"\")","v":""},null,99,{"$f":"IFERROR(INDEX('Total Rankings (excl QB)'!$D:$D,MATCH(1,(\"Tight End\"='Total Rankings (excl QB)'!$C:$C)*(W102='Total Rankings (excl QB)'!$F:$F),0),1),\"\")","v":""},{"$f":"IFERROR(VLOOKUP($X102,'Total Rankings (excl QB)'!$D:$E,2,0),0)","v":0},0,null,{"$f":"IFERROR(VLOOKUP($X102,'Total Rankings (excl QB)'!$D:$L,4,0),\"\")","v":""},{"$f":"IFERROR(VLOOKUP($X102,'Total Rankings (excl QB)'!$D:$L,5,0),\"\")","v":""},{"$f":"IFERROR(VLOOKUP($X102,'Total Rankings (excl QB)'!$D:$L,6,0),\"\")","v":""},{"$f":"IFERROR(VLOOKUP($X102,'Total Rankings (excl QB)'!$D:$L,7,0),\"\")","v":""},{"$f":"IFERROR(VLOOKUP($X102,'Total Rankings (excl QB)'!$D:$L,8,0),\"\")","v":""}]
[100,{"$f":"IFERROR(INDEX('Total Rankings (excl QB)'!$D:$D,MATCH(1,(\"Wide Receiver\"='Total Rankings (excl QB)'!$C:$C)*(A103='Total Rankings (excl QB)'!$F:$F),0),1),\"\")","v":""},{"$f":"IFERROR(VLOOKUP($B103,'Total Rankings (excl QB)'!$D:$E,2,0),0)","v":0},0,null,{"$f":"IFERROR(VLOOKUP($B103,'Total Rankings (excl QB)'!$D:$L,4,0),\"\")","v":""},{"$f":"IFERROR(VLOOKUP($B103,'Total Rankings (excl QB)'!$D:$L,5,0),\"\")","v":""},{"$f":"IFERROR(VLOOKUP($B103,'Total Rankings (excl QB)'!$D:$L,6,0),\"\")","v":""},{"$f":"IFERROR(VLOOKUP($B103,'Total Rankings (excl QB)'!$D:$L,7,0),\"\")","v":""},{"$f":"IFERROR(VLOOKUP($B103,'Total Rankings (excl QB)'!$D:$L,8,0),\"\")","v":""},null,100,{"$f":"IFERROR(INDEX('Total Rankings (excl QB)'!$D:$D,MATCH(1,(\"Running Back\"='Total Rankings (excl QB)'!$C:$C)*(L103='Total Rankings (excl QB)'!$F:$F),0),1),\"\")","v":""},{"$f":"IFERROR(VLOOKUP($M103,'Total Rankings (excl QB)'!$D:$E,2,0),0)","v":0},0,null,{"$f":"IFERROR(VLOOKUP($M103,'Total Rankings (excl QB)'!$D:$L,4,0),\"\")","v":""},{"$f":"IFERROR(VLOOKUP($M103,'Total Rankings (excl QB)'!$D:$L,5,0),\"\")","v":""},{"$f":"IFERROR(VLOOKUP($M103,'Total Rankings (excl QB)'!$D:$L,6,0),\"\")","v":""},{"$f":"IFERROR(VLOOKUP($M103,'Total Rankings (excl QB)'!$D:$L,7,0),\"\")","v":""},{"$f":"IFERROR(VLOOKUP($M103,'Total Rankings (excl QB)'!$D:$L,8,0),\"\")","v":""},null,100,{"$f":"IFERROR(INDEX('Total Rankings (excl QB)'!$D:$D,MATCH(1,(\"Tight End\"='Total Rankings (excl QB)'!$C:$C)*(W103='Total Rankings (excl QB)'!$F:$F),0),1),\"\")","v":""},{"$f":"IFERROR(VLOOKUP($X103,'Total Rankings (excl QB)'!$D:$E,2,0),0)","v":0},0,null,{"$f":"IFERROR(VLOOKUP($X103,'Total Rankings (excl QB)'!$D:$L,4,0),\"\")","v":""},{"$f":"IFERROR(VLOOKUP($X103,'Total Rankings (excl QB)'!$D:$L,5,0),\"\")","v":""},{"$f":"IFERROR(VLOOKUP($X103,'Total Rankings (excl QB)'!$D:$L,6,0),\"\")","v":""},{"$f":"IFERROR(VLOOKUP($X103,'Total Rankings (excl QB)'!$D:$L,7,0),\"\")","v":""},{"$f":"IFERROR(VLOOKUP($X103,'Total Rankings (excl QB)'!$D:$L,8,0),\"\")","v":""}]
[101,{"$f":"IFERROR(INDEX('Total Rankings (excl QB)'!$D:$D,MATCH(1,(\"Wide Receiver\"='Total Rankings (excl QB)'!$C:$C)*(A104='Total Rankings (excl QB)'!$F:$F),0),1),\"\")","v":""},{"$f":"IFERROR(VLOOKUP($B104,'Total Rankings (excl QB)'!$D:$E,2,0),0)","v":0},0,null,{"$f":"IFERROR(VLOOKUP($B104,'Total Rankings (excl QB)'!$D:$L,4,0),\"\")","v":""},{"$f":"IFERROR(VLOOKUP($B104,'Total Rankings (excl QB)'!$D:$L,5,0),\"\")","v":""},{"$f":"IFERROR(VLOOKUP($B104,'Total Rankings (excl QB)'!$D:$L,6,0),\"\")","v":""},{"$f":"IFERROR(VLOOKUP($B104,'Total Rankings (excl QB)'!$D:$L,7,0),\"\")","v":""},{"$f":"IFERROR(VLOOKUP($B104,'Total Rankings (excl QB)'!$D:$L,8,0),\"\")","v":""},null,101,{"$f":"IFERROR(INDEX('Total Rankings (excl QB)'!$D:$D,MATCH(1,(\"Running Back\"='Total Rankings (excl QB)'!$C:$C)*(L104='Total Rankings (excl QB)'!$F:$F),0),1),\"\")","v":""},{"$f":"IFERROR(VLOOKUP($M104,'Total Rankings (excl QB)'!$D:$E,2,0),0)","v":0},0,null,{"$f":"IFERROR(VLOOKUP($M104,'Total Rankings (excl QB)'!$D:$L,4,0),\"\")","v":""},{"$f":"IFERROR(VLOOKUP($M104,'Total Rankings (excl QB)'!$D:$L,5,0),\"\")","v":""},{"$f":"IFERROR(VLOOKUP($M104,'Total Rankings (excl QB)'!$D:$L,6,0),\"\")","v":""},{"$f":"IFERROR(VLOOKUP($M104,'Total Rankings (excl QB)'!$D:$L,7,0),\"\")","v":""},{"$f":"IFERROR(VLOOKUP($M104,'Total Rankings (excl QB)'!$D:$L,8,0),\"\")","v":""},null,101,{"$f":"IFERROR(INDEX('Total Rankings (excl QB)'!$D:$D,MATCH(1,(\"Tight End\"='Total Rankings (excl QB)'!$C:$C)*(W104='Total Rankings (excl QB)'!$F:$F),0),1),\"\")","v":""},{"$f":"IFERROR(VLOOKUP($X104,'Total Rankings (excl QB)'!$D:$E,2,0),0)","v":0},0,null,{"$f":"IFERROR(VLOOKUP($X104,'Total Rankings (excl QB)'!$D:$L,4,0),\"\")","v":""},{"$f":"IFERROR(VLOOKUP($X104,'Total Rankings (excl QB)'!$D:$L,5,0),\"\")","v":""},{"$f":"IFERROR(VLOOKUP($X104,'Total Rankings (excl QB)'!$D:$L,6,0),\"\")","v":""},{"$f":"IFERROR(VLOOKUP($X104,'Total Rankings (excl QB)'!$D:$L,7,0),\"\")","v":""},{"$f":"IFERROR(VLOOKUP($X104,'Total Rankings (excl QB)'!$D:$L,8,0),\"\")","v":""}]
[102,{"$f":"IFERROR(INDEX('Total Rankings (excl QB)'!$D:$D,MATCH(1,(\"Wide Receiver\"='Total Rankings (excl QB)'!$C:$C)*(A105='Total Rankings (excl QB)'!$F:$F),0),1),\"\")","v":""},{"$f":"IFERROR(VLOOKUP($B105,'Total Rankings (excl QB)'!$D:$E,2,0),0)","v":0},0,null,{"$f":"IFERROR(VLOOKUP($B105,'Total Rankings (excl QB)'!$D:$L,4,0),\"\")","v":""},{"$f":"IFERROR(VLOOKUP($B105,'Total Rankings (excl QB)'!$D:$L,5,0),\"\")","v":""},{"$f":"IFERROR(VLOOKUP($B105,'Total Rankings (excl QB)'!$D:$L,6,0),\"\")","v":""},{"$f":"IFERROR(VLOOKUP($B105,'Total Rankings (excl QB)'!$D:$L,7,0),\"\")","v":""},{"$f":"IFERROR(VLOOKUP($B105,'Total Rankings (excl QB)'!$D:$L,8,0),\"\")","v":""},null,102,{"$f":"IFERROR(INDEX('Total Rankings (excl QB)'!$D:$D,MATCH(1,(\"Running Back\"='Total Rankings (excl QB)'!$C:$C)*(L105='Total Rankings (excl QB)'!$F:$F),0),1),\"\")","v":""},{"$f":"IFERROR(VLOOKUP($M105,'Total Rankings (excl QB)'!$D:$E,2,0),0)","v":0},0,null,{"$f":"IFERROR(VLOOKUP($M105,'Total Rankings (excl QB)'!$D:$L,4,0),\"\")","v":""},{"$f":"IFERROR(VLOOKUP($M105,'Total Rankings (excl QB)'!$D:$L,5,0),\"\")","v":""},{"$f":"IFERROR(VLOOKUP($M105,'Total Rankings (excl QB)'!$D:$L,6,0),\"\")","v":""},{"$f":"IFERROR(VLOOKUP($M105,'Total Rankings (excl QB)'!$D:$L,7,0),\"\")","v":""},{"$f":"IFERROR(VLOOKUP($M105,'Total Rankings (excl QB)'!$D:$L,8,0),\"\")","v":""},null,102,{"$f":"IFERROR(INDEX('Total Rankings (excl QB)'!$D:$D,MATCH(1,(\"Tight End\"='Total Rankings (excl QB)'!$C:$C)*(W105='Total Rankings (excl QB)'!$F:$F),0),1),\"\")","v":""},{"$f":"IFERROR(VLOOKUP($X105,'Total Rankings (excl QB)'!$D:$E,2,0),0)","v":0},0,null,{"$f":"IFERROR(VLOOKUP($X105,'Total Rankings (excl QB)'!$D:$L,4,0),\"\")","v":""},{"$f":"IFERROR(VLOOKUP($X105,'Total Rankings (excl QB)'!$D:$L,5,0),\"\")","v":""},{"$f":"IFERROR(VLOOKUP($X105,'Total Rankings (excl QB)'!$D:$L,6,0),\"\")","v":""},{"$f":"IFERROR(VLOOKUP($X105,'Total Rankings (excl QB)'!$D:$L,7,0),\"\")","v":""},{"$f":"IFERROR(VLOOKUP($X105,'Total Rankings (excl QB)'!$D:$L,8,0),\"\")","v":""}]
[103,{"$f":"IFERROR(INDEX('Total Rankings (excl QB)'!$D:$D,MATCH(1,(\"Wide Receiver\"='Total Rankings (excl QB)'!$C:$C)*(A106='Total Rankings (excl QB)'!$F:$F),0),1),\"\")","v":""},{"$f":"IFERROR(VLOOKUP($B106,'Total Rankings (excl QB)'!$D:$E,2,0),0)","v":0},0,null,{"$f":"IFERROR(VLOOKUP($B106,'Total Rankings (excl QB)'!$D:$L,4,0),\"\")","v":""},{"$f":"IFERROR(VLOOKUP($B106,'Total Rankings (excl QB)'!$D:$L,5,0),\"\")","v":""},{"$f":"IFERROR(VLOOKUP($B106,'Total Rankings (excl QB)'!$D:$L,6,0),\"\")","v":""},{"$f":"IFERROR(VLOOKUP($B106,'Total Rankings (excl QB)'!$D:$L,7,0),\"\")","v":""},{"$f":"IFERROR(VLOOKUP($B106,'Total Rankings (excl QB)'!$D:$L,8,0),\"\")","v":""},null,103,{"$f":"IFERROR(INDEX('Total Rankings (excl QB)'!$D:$D,MATCH(1,(\"Running Back\"='Total Rankings (excl QB)'!$C:$C)*(L106='Total Rankings (excl QB)'!$F:$F),0),1),\"\")","v":""},{"$f":"IFERROR(VLOOKUP($M106,'Total Rankings (excl QB)'!$D:$E,2,0),0)","v":0},0,null,{"$f":"IFERROR(VLOOKUP($M106,'Total Rankings (excl QB)'!$D:$L,4,0),\"\")","v":""},{"$f":"IFERROR(VLOOKUP($M106,'Total Rankings (excl QB)'!$D:$L,5,0),\"\")","v":""},{"$f":"IFERROR(VLOOKUP($M106,'Total Rankings (excl QB)'!$D:$L,6,0),\"\")","v":""},{"$f":"IFERROR(VLOOKUP($M106,'Total Rankings (excl QB)'!$D:$L,7,0),\"\")","v":""},{"$f":"IFERROR(VLOOKUP($M106,'Total Rankings (excl QB)'!$D:$L,8,0),\"\")","v":""},null,103,{"$f":"IFERROR(INDEX('Total Rankings (excl QB)'!$D:$D,MATCH(1,(\"Tight End\"='Total Rankings (excl QB)'!$C:$C)*(W106='Total Rankings (excl QB)'!$F:$F),0),1),\"\")","v":""},{"$f":"IFERROR(VLOOKUP($X106,'Total Rankings (excl QB)'!$D:$E,2,0),0)","v":0},0,null,{"$f":"IFERROR(VLOOKUP($X106,'Total Rankings (excl QB)'!$D:$L,4,0),\"\")","v":""},{"$f":"IFERROR(VLOOKUP($X106,'Total Rankings (excl QB)'!$D:$L,5,0),\"\")","v":""},{"$f":"IFERROR(VLOOKUP($X106,'Total Rankings (excl QB)'!$D:$L,6,0),\"\")","v":""},{"$f":"IFERROR(VLOOKUP($X106,'Total Rankings (excl QB)'!$D:$L,7,0),\"\")","v":""},{"$f":"IFERROR(VLOOKUP($X106,'Total Rankings (excl QB)'!$D:$L,8,0),\"\")","v":""}]
[104,{"$f":"IFERROR(INDEX('Total Rankings (excl QB)'!$D:$D,MATCH(1,(\"Wide Receiver\"='Total Rankings (excl QB)'!$C:$C)*(A107='Total Rankings (excl QB)'!$F:$F),0),1),\"\")","v":""},{"$f":"IFERROR(VLOOKUP($B107,'Total Rankings (excl QB)'!$D:$E,2,0),0)","v":0},0,null,{"$f":"IFERROR(VLOOKUP($B107,'Total Rankings (excl QB)'!$D:$L,4,0),\"\")","v":""},{"$f":"IFERROR(VLOOKUP($B107,'Total Rankings (excl QB)'!$D:$L,5,0),\"\")","v":""},{"$f":"IFERROR(VLOOKUP($B107,'Total Rankings (excl QB)'!$D:$L,6,0),\"\")","v":""},{"$f":"IFERROR(VLOOKUP($B107,'Total Rankings (excl QB)'!$D:$L,7,0),\"\")","v":""},{"$f":"IFERROR(VLOOKUP($B107,'Total Rankings (excl QB)'!$D:$L,8,0),\"\")","v":""},null,104,{"$f":"IFERROR(INDEX('Total Rankings (excl QB)'!$D:$D,MATCH(1,(\"Running Back\"='Total Rankings (excl QB)'!$C:$C)*(L107='Total Rankings (excl QB)'!$F:$F),0),1),\"\")","v":""},{"$f":"IFERROR(VLOOKUP($M107,'Total Rankings (excl QB)'!$D:$E,2,0),0)","v":0},0,null,{"$f":"IFERROR(VLOOKUP($M107,'Total Rankings (excl QB)'!$D:$L,4,0),\"\")","v":""},{"$f":"IFERROR(VLOOKUP($M107,'Total Rankings (excl QB)'!$D:$L,5,0),\"\")","v":""},{"$f":"IFERROR(VLOOKUP($M107,'Total Rankings (excl QB)'!$D:$L,6,0),\"\")","v":""},{"$f":"IFERROR(VLOOKUP($M107,'Total Rankings (excl QB)'!$D:$L,7,0),\"\")","v":""},{"$f":"IFERROR(VLOOKUP($M107,'Total Rankings (excl QB)'!$D:$L,8,0),\"\")","v":""},null,104,{"$f":"IFERROR(INDEX('Total Rankings (excl QB)'!$D:$D,MATCH(1,(\"Tight End\"='Total Rankings (excl QB)'!$C:$C)*(W107='Total Rankings (excl QB)'!$F:$F),0),1),\"\")","v":""},{"$f":"IFERROR(VLOOKUP($X107,'Total Rankings (excl QB)'!$D:$E,2,0),0)","v":0},0,null,{"$f":"IFERROR(VLOOKUP($X107,'Total Rankings (excl QB)'!$D:$L,4,0),\"\")","v":""},{"$f":"IFERROR(VLOOKUP($X107,'Total Rankings (excl QB)'!$D:$L,5,0),\"\")","v":""},{"$f":"IFERROR(VLOOKUP($X107,'Total Rankings (excl QB)'!$D:$L,6,0),\"\")","v":""},{"$f":"IFERROR(VLOOKUP($X107,'Total Rankings (excl QB)'!$D:$L,7,0),\"\")","v":""},{"$f":"IFERROR(VLOOKUP($X107,'Total Rankings (excl QB)'!$D:$L,8,0),\"\")","v":""}]
[105,{"$f":"IFERROR(INDEX('Total Rankings (excl QB)'!$D:$D,MATCH(1,(\"Wide Receiver\"='Total Rankings (excl QB)'!$C:$C)*(A108='Total Rankings (excl QB)'!$F:$F),0),1),\"\")","v":""},{"$f":"IFERROR(VLOOKUP($B108,'Total Rankings (excl QB)'!$D:$E,2,0),0)","v":0},0,null,{"$f":"IFERROR(VLOOKUP($B108,'Total Rankings (excl QB)'!$D:$L,4,0),\"\")","v":""},{"$f":"IFERROR(VLOOKUP($B108,'Total Rankings (excl QB)'!$D:$L,5,0),\"\")","v":""},{"$f":"IFERROR(VLOOKUP($B108,'Total Rankings (excl QB)'!$D:$L,6,0),\"\")","v":""},{"$f":"IFERROR(VLOOKUP($B108,'Total Rankings (excl QB)'!$D:$L,7,0),\"\")","v":""},{"$f":"IFERROR(VLOOKUP($B108,'Total Rankings (excl QB)'!$D:$L,8,0),\"\")","v":""},null,105,{"$f":"IFERROR(INDEX('Total Rankings (excl QB)'!$D:$D,MATCH(1,(\"Running Back\"='Total Rankings (excl QB)'!$C:$C)*(L108='Total Rankings (excl QB)'!$F:$F),0),1),\"\")","v":""},{"$f":"IFERROR(VLOOKUP($M108,'Total Rankings (excl QB)'!$D:$E,2,0),0)","v":0},0,null,{"$f":"IFERROR(VLOOKUP($M108,'Total Rankings (excl QB)'!$D:$L,4,0),\"\")","v":""},{"$f":"IFERROR(VLOOKUP($M108,'Total Rankings (excl QB)'!$D:$L,5,0),\"\")","v":""},{"$f":"IFERROR(VLOOKUP($M108,'Total Rankings (excl QB)'!$D:$L,6,0),\"\")","v":""},{"$f":"IFERROR(VLOOKUP($M108,'Total Rankings (excl QB)'!$D:$L,7,0),\"\")","v":""},{"$f":"IFERROR(VLOOKUP($M108,'Total Rankings (excl QB)'!$D:$L,8,0),\"\")","v":""},null,105,{"$f":"IFERROR(INDEX('Total Rankings (excl QB)'!$D:$D,MATCH(1,(\"Tight End\"='Total Rankings (excl QB)'!$C:$C)*(W108='Total Rankings (excl QB)'!$F:$F),0),1),\"\")","v":""},{"$f":"IFERROR(VLOOKUP($X108,'Total Rankings (excl QB)'!$D:$E,2,0),0)","v":0},0,null,{"$f":"IFERROR(VLOOKUP($X108,'Total Rankings (excl QB)'!$D:$L,4,0),\"\")","v":""},{"$f":"IFERROR(VLOOKUP($X108,'Total Rankings (excl QB)'!$D:$L,5,0),\"\")","v":""},{"$f":"IFERROR(VLOOKUP($X108,'Total Rankings (excl QB)'!$D:$L,6,0),\"\")","v":""},{"$f":"IFERROR(VLOOKUP($X108,'Total Rankings (excl QB)'!$D:$L,7,0),\"\")","v":""},{"$f":"IFERROR(VLOOKUP($X108,'Total Rankings (excl QB)'!$D:$L,8,0),\"\")","v":""}]
[106,{"$f":"IFERROR(INDEX('Total Rankings (excl QB)'!$D:$D,MATCH(1,(\"Wide Receiver\"='Total Rankings (excl QB)'!$C:$C)*(A109='Total Rankings (excl QB)'!$F:$F),0),1),\"\")","v":""},{"$f":"IFERROR(VLOOKUP($B109,'Total Rankings (excl QB)'!$D:$E,2,0),0)","v":0},0,null,{"$f":"IFERROR(VLOOKUP($B109,'Total Rankings (excl QB)'!$D:$L,4,0),\"\")","v":""},{"$f":"IFERROR(VLOOKUP($B109,'Total Rankings (excl QB)'!$D:$L,5,0),\"\")","v":""},{"$f":"IFERROR(VLOOKUP($B109,'Total Rankings (excl QB)'!$D:$L,6,0),\"\")","v":""},{"$f":"IFERROR(VLOOKUP($B109,'Total Rankings (excl QB)'!$D:$L,7,0),\"\")","v":""},{"$f":"IFERROR(VLOOKUP($B109,'Total Rankings (excl QB)'!$D:$L,8,0),\"\")","v":""},null,106,{"$f":"IFERROR(INDEX('Total Rankings (excl QB)'!$D:$D,MATCH(1,(\"Running Back\"='Total Rankings (excl QB)'!$C:$C)*(L109='Total Rankings (excl QB)'!$F:$F),0),1),\"\")","v":""},{"$f":"IFERROR(VLOOKUP($M109,'Total Rankings (excl QB)'!$D:$E,2,0),0)","v":0},0,null,{"$f":"IFERROR(VLOOKUP($M109,'Total Rankings (excl QB)'!$D:$L,4,0),\"\")","v":""},{"$f":"IFERROR(VLOOKUP($M109,'Total Rankings (excl QB)'!$D:$L,5,0),\"\")","v":""},{"$f":"IFERROR(VLOOKUP($M109,'Total Rankings (excl QB)'!$D:$L,6,0),\"\")","v":""},{"$f":"IFERROR(VLOOKUP($M109,'Total Rankings (excl QB)'!$D:$L,7,0),\"\")","v":""},{"$f":"IFERROR(VLOOKUP($M109,'Total Rankings (excl QB)'!$D:$L,8,0),\"\")","v":""},null,106,{"$f":"IFERROR(INDEX('Total Rankings (excl QB)'!$D:$D,MATCH(1,(\"Tight End\"='Total Rankings (excl QB)'!$C:$C)*(W109='Total Rankings (excl QB)'!$F:$F),0),1),\"\")","v":""},{"$f":"IFERROR(VLOOKUP($X109,'Total Rankings (excl QB)'!$D:$E,2,0),0)","v":0},0,null,{"$f":"IFERROR(VLOOKUP($X109,'Total Rankings (excl QB)'!$D:$L,4,0),\"\")","v":""},{"$f":"IFERROR(VLOOKUP($X109,'Total Rankings (excl QB)'!$D:$L,5,0),\"\")","v":""},{"$f":"IFERROR(VLOOKUP($X109,'Total Rankings (excl QB)'!$D:$L,6,0),\"\")","v":""},{"$f":"IFERROR(VLOOKUP($X109,'Total Rankings (excl QB)'!$D:$L,7,0),\"\")","v":""},{"$f":"IFERROR(VLOOKUP($X109,'Total Rankings (excl QB)'!$D:$L,8,0),\"\")","v":""}]
[107,{"$f":"IFERROR(INDEX('Total Rankings (excl QB)'!$D:$D,MATCH(1,(\"Wide Receiver\"='Total Rankings (excl QB)'!$C:$C)*(A110='Total Rankings (excl QB)'!$F:$F),0),1),\"\")","v":""},{"$f":"IFERROR(VLOOKUP($B110,'Total Rankings (excl QB)'!$D:$E,2,0),0)","v":0},0,null,{"$f":"IFERROR(VLOOKUP($B110,'Total Rankings (excl QB)'!$D:$L,4,0),\"\")","v":""},{"$f":"IFERROR(VLOOKUP($B110,'Total Rankings (excl QB)'!$D:$L,5,0),\"\")","v":""},{"$f":"IFERROR(VLOOKUP($B110,'Total Rankings (excl QB)'!$D:$L,6,0),\"\")","v":""},{"$f":"IFERROR(VLOOKUP($B110,'Total Rankings (excl QB)'!$D:$L,7,0),\"\")","v":""},{"$f":"IFERROR(VLOOKUP($B110,'Total Rankings (excl QB)'!$D:$L,8,0),\"\")","v":""},null,107,{"$f":"IFERROR(INDEX('Total Rankings (excl QB)'!$D:$D,MATCH(1,(\"Running Back\"='Total Rankings (excl QB)'!$C:$C)*(L110='Total Rankings (excl QB)'!$F:$F),0),1),\"\")","v":""},{"$f":"IFERROR(VLOOKUP($M110,'Total Rankings (excl QB)'!$D:$E,2,0),0)","v":0},0,null,{"$f":"IFERROR(VLOOKUP($M110,'Total Rankings (excl QB)'!$D:$L,4,0),\"\")","v":""},{"$f":"IFERROR(VLOOKUP($M110,'Total Rankings (excl QB)'!$D:$L,5,0),\"\")","v":""},{"$f":"IFERROR(VLOOKUP($M110,'Total Rankings (excl QB)'!$D:$L,6,0),\"\")","v":""},{"$f":"IFERROR(VLOOKUP($M110,'Total Rankings (excl QB)'!$D:$L,7,0),\"\")","v":""},{"$f":"IFERROR(VLOOKUP($M110,'Total Rankings (excl QB)'!$D:$L,8,0),\"\")","v":""},null,107,{"$f":"IFERROR(INDEX('Total Rankings (excl QB)'!$D:$D,MATCH(1,(\"Tight End\"='Total Rankings (excl QB)'!$C:$C)*(W110='Total Rankings (excl QB)'!$F:$F),0),1),\"\")","v":""},{"$f":"IFERROR(VLOOKUP($X110,'Total Rankings (excl QB)'!$D:$E,2,0),0)","v":0},0,null,{"$f":"IFERROR(VLOOKUP($X110,'Total Rankings (excl QB)'!$D:$L,4,0),\"\")","v":""},{"$f":"IFERROR(VLOOKUP($X110,'Total Rankings (excl QB)'!$D:$L,5,0),\"\")","v":""},{"$f":"IFERROR(VLOOKUP($X110,'Total Rankings (excl QB)'!$D:$L,6,0),\"\")","v":""},{"$f":"IFERROR(VLOOKUP($X110,'Total Rankings (excl QB)'!$D:$L,7,0),\"\")","v":""},{"$f":"IFERROR(VLOOKUP($X110,'Total Rankings (excl QB)'!$D:$L,8,0),\"\")","v":""}]
[108,{"$f":"IFERROR(INDEX('Total Rankings (excl QB)'!$D:$D,MATCH(1,(\"Wide Receiver\"='Total Rankings (excl QB)'!$C:$C)*(A111='Total Rankings (excl QB)'!$F:$F),0),1),\"\")","v":""},{"$f":"IFERROR(VLOOKUP($B111,'Total Rankings (excl QB)'!$D:$E,2,0),0)","v":0},0,null,{"$f":"IFERROR(VLOOKUP($B111,'Total Rankings (excl QB)'!$D:$L,4,0),\"\")","v":""},{"$f":"IFERROR(VLOOKUP($B111,'Total Rankings (excl QB)'!$D:$L,5,0),\"\")","v":""},{"$f":"IFERROR(VLOOKUP($B111,'Total Rankings (excl QB)'!$D:$L,6,0),\"\")","v":""},{"$f":"IFERROR(VLOOKUP($B111,'Total Rankings (excl QB)'!$D:$L,7,0),\"\")","v":""},{"$f":"IFERROR(VLOOKUP($B111,'Total Rankings (excl QB)'!$D:$L,8,0),\"\")","v":""},null,108,{"$f":"IFERROR(INDEX('Total Rankings (excl QB)'!$D:$D,MATCH(1,(\"Running Back\"='Total Rankings (excl QB)'!$C:$C)*(L111='Total Rankings (excl QB)'!$F:$F),0),1),\"\")","v":""},{"$f":"IFERROR(VLOOKUP($M111,'Total Rankings (excl QB)'!$D:$E,2,0),0)","v":0},0,null,{"$f":"IFERROR(VLOOKUP($M111,'Total Rankings (excl QB)'!$D:$L,4,0),\"\")","v":""},{"$f":"IFERROR(VLOOKUP($M111,'Total Rankings (excl QB)'!$D:$L,5,0),\"\")","v":""},{"$f":"IFERROR(VLOOKUP($M111,'Total Rankings (excl QB)'!$D:$L,6,0),\"\")","v":""},{"$f":"IFERROR(VLOOKUP($M111,'Total Rankings (excl QB)'!$D:$L,7,0),\"\")","v":""},{"$f":"IFERROR(VLOOKUP($M111,'Total Rankings (excl QB)'!$D:$L,8,0),\"\")","v":""},null,108,{"$f":"IFERROR(INDEX('Total Rankings (excl QB)'!$D:$D,MATCH(1,(\"Tight End\"='Total Rankings (excl QB)'!$C:$C)*(W111='Total Rankings (excl QB)'!$F:$F),0),1),\"\")","v":""},{"$f":"IFERROR(VLOOKUP($X111,'Total Rankings (excl QB)'!$D:$E,2,0),0)","v":0},0,null,{"$f":"IFERROR(VLOOKUP($X111,'Total Rankings (excl QB)'!$D:$L,4,0),\"\")","v":""},{"$f":"IFERROR(VLOOKUP($X111,'Total Rankings (excl QB)'!$D:$L,5,0),\"\")","v":""},{"$f":"IFERROR(VLOOKUP($X111,'Total Rankings (excl QB)'!$D:$L,6,0),\"\")","v":""},{"$f":"IFERROR(VLOOKUP($X111,'Total Rankings (excl QB)'!$D:$L,7,0),\"\")","v":""},{"$f":"IFERROR(VLOOKUP($X111,'Total Rankings (excl QB)'!$D:$L,8,0),\"\")","v":""}]
[109,{"$f":"IFERROR(INDEX('Total Rankings (excl QB)'!$D:$D,MATCH(1,(\"Wide Receiver\"='Total Rankings (excl QB)'!$C:$C)*(A112='Total Rankings (excl QB)'!$F:$F),0),1),\"\")","v":""},{"$f":"IFERROR(VLOOKUP($B112,'Total Rankings (excl QB)'!$D:$E,2,0),0)","v":0},0,null,{"$f":"IFERROR(VLOOKUP($B112,'Total Rankings (excl QB)'!$D:$L,4,0),\"\")","v":""},{"$f":"IFERROR(VLOOKUP($B112,'Total Rankings (excl QB)'!$D:$L,5,0),\"\")","v":""},{"$f":"IFERROR(VLOOKUP($B112,'Total Rankings (excl QB)'!$D:$L,6,0),\"\")","v":""},{"$f":"IFERROR(VLOOKUP($B112,'Total Rankings (excl QB)'!$D:$L,7,0),\"\")","v":""},{"$f":"IFERROR(VLOOKUP($B112,'Total Rankings (excl QB)'!$D:$L,8,0),\"\")","v":""},null,109,{"$f":"IFERROR(INDEX('Total Rankings (excl QB)'!$D:$D,MATCH(1,(\"Running Back\"='Total Rankings (excl QB)'!$C:$C)*(L112='Total Rankings (excl QB)'!$F:$F),0),1),\"\")","v":""},{"$f":"IFERROR(VLOOKUP($M112,'Total Rankings (excl QB)'!$D:$E,2,0),0)","v":0},0,null,{"$f":"IFERROR(VLOOKUP($M112,'Total Rankings (excl QB)'!$D:$L,4,0),\"\")","v":""},{"$f":"IFERROR(VLOOKUP($M112,'Total Rankings (excl QB)'!$D:$L,5,0),\"\")","v":""},{"$f":"IFERROR(VLOOKUP($M112,'Total Rankings (excl QB)'!$D:$L,6,0),\"\")","v":""},{"$f":"IFERROR(VLOOKUP($M112,'Total Rankings (excl QB)'!$D:$L,7,0),\"\")","v":""},{"$f":"IFERROR(VLOOKUP($M112,'Total Rankings (excl QB)'!$D:$L,8,0),\"\")","v":""},null,109,{"$f":"IFERROR(INDEX('Total Rankings (excl QB)'!$D:$D,MATCH(1,(\"Tight End\"='Total Rankings (excl QB)'!$C:$C)*(W112='Total Rankings (excl QB)'!$F:$F),0),1),\"\")","v":""},{"$f":"IFERROR(VLOOKUP($X112,'Total Rankings (excl QB)'!$D:$E,2,0),0)","v":0},0,null,{"$f":"IFERROR(VLOOKUP($X112,'Total Rankings (excl QB)'!$D:$L,4,0),\"\")","v":""},{"$f":"IFERROR(VLOOKUP($X112,'Total Rankings (excl QB)'!$D:$L,5,0),\"\")","v":""},{"$f":"IFERROR(VLOOKUP($X112,'Total Rankings (excl QB)'!$D:$L,6,0),\"\")","v":""},{"$f":"IFERROR(VLOOKUP($X112,'Total Rankings (excl QB)'!$D:$L,7,0),\"\")","v":""},{"$f":"IFERROR(VLOOKUP($X112,'Total Rankings (excl QB)'!$D:$L,8,0),\"\")","v":""}]
[110,{"$f":"IFERROR(INDEX('Total Rankings (excl QB)'!$D:$D,MATCH(1,(\"Wide Receiver\"='Total Rankings (excl QB)'!$C:$C)*(A113='Total Rankings (excl QB)'!$F:$F),0),1),\"\")","v":""},{"$f":"IFERROR(VLOOKUP($B113,'Total Rankings (excl QB)'!$D:$E,2,0),0)","v":0},0,null,{"$f":"IFERROR(VLOOKUP($B113,'Total Rankings (excl QB)'!$D:$L,4,0),\"\")","v":""},{"$f":"IFERROR(VLOOKUP($B113,'Total Rankings (excl QB)'!$D:$L,5,0),\"\")","v":""},{"$f":"IFERROR(VLOOKUP($B113,'Total Rankings (excl QB)'!$D:$L,6,0),\"\")","v":""},{"$f":"IFERROR(VLOOKUP($B113,'Total Rankings (excl QB)'!$D:$L,7,0),\"\")","v":""},{"$f":"IFERROR(VLOOKUP($B113,'Total Rankings (excl QB)'!$D:$L,8,0),\"\")","v":""},null,110,{"$f":"IFERROR(INDEX('Total Rankings (excl QB)'!$D:$D,MATCH(1,(\"Running Back\"='Total Rankings (excl QB)'!$C:$C)*(L113='Total Rankings (excl QB)'!$F:$F),0),1),\"\")","v":""},{"$f":"IFERROR(VLOOKUP($M113,'Total Rankings (excl QB)'!$D:$E,2,0),0)","v":0},0,null,{"$f":"IFERROR(VLOOKUP($M113,'Total Rankings (excl QB)'!$D:$L,4,0),\"\")","v":""},{"$f":"IFERROR(VLOOKUP($M113,'Total Rankings (excl QB)'!$D:$L,5,0),\"\")","v":""},{"$f":"IFERROR(VLOOKUP($M113,'Total Rankings (excl QB)'!$D:$L,6,0),\"\")","v":""},{"$f":"IFERROR(VLOOKUP($M113,'Total Rankings (excl QB)'!$D:$L,7,0),\"\")","v":""},{"$f":"IFERROR(VLOOKUP($M113,'Total Rankings (excl QB)'!$D:$L,8,0),\"\")","v":""},null,110,{"$f":"IFERROR(INDEX('Total Rankings (excl QB)'!$D:$D,MATCH(1,(\"Tight End\"='Total Rankings (excl QB)'!$C:$C)*(W113='Total Rankings (excl QB)'!$F:$F),0),1),\"\")","v":""},{"$f":"IFERROR(VLOOKUP($X113,'Total Rankings (excl QB)'!$D:$E,2,0),0)","v":0},0,null,{"$f":"IFERROR(VLOOKUP($X113,'Total Rankings (excl QB)'!$D:$L,4,0),\"\")","v":""},{"$f":"IFERROR(VLOOKUP($X113,'Total Rankings (excl QB)'!$D:$L,5,0),\"\")","v":""},{"$f":"IFERROR(VLOOKUP($X113,'Total Rankings (excl QB)'!$D:$L,6,0),\"\")","v":""},{"$f":"IFERROR(VLOOKUP($X113,'Total Rankings (excl QB)'!$D:$L,7,0),\"\")","v":""},{"$f":"IFERROR(VLOOKUP($X113,'Total Rankings (excl QB)'!$D:$L,8,0),\"\")","v":""}]
[111,{"$f":"IFERROR(INDEX('Total Rankings (excl QB)'!$D:$D,MATCH(1,(\"Wide Receiver\"='Total Rankings (excl QB)'!$C:$C)*(A114='Total Rankings (excl QB)'!$F:$F),0),1),\"\")","v":""},{"$f":"IFERROR(VLOOKUP($B114,'Total Rankings (excl QB)'!$D:$E,2,0),0)","v":0},0,null,{"$f":"IFERROR(VLOOKUP($B114,'Total Rankings (excl QB)'!$D:$L,4,0),\"\")","v":""},{"$f":"IFERROR(VLOOKUP($B114,'Total Rankings (excl QB)'!$D:$L,5,0),\"\")","v":""},{"$f":"IFERROR(VLOOKUP($B114,'Total Rankings (excl QB)'!$D:$L,6,0),\"\")","v":""},{"$f":"IFERROR(VLOOKUP($B114,'Total Rankings (excl QB)'!$D:$L,7,0),\"\")","v":""},{"$f":"IFERROR(VLOOKUP($B114,'Total Rankings (excl QB)'!$D:$L,8,0),\"\")","v":""},null,111,{"$f":"IFERROR(INDEX('Total Rankings (excl QB)'!$D:$D,MATCH(1,(\"Running Back\"='Total Rankings (excl QB)'!$C:$C)*(L114='Total Rankings (excl QB)'!$F:$F),0),1),\"\")","v":""},{"$f":"IFERROR(VLOOKUP($M114,'Total Rankings (excl QB)'!$D:$E,2,0),0)","v":0},0,null,{"$f":"IFERROR(VLOOKUP($M114,'Total Rankings (excl QB)'!$D:$L,4,0),\"\")","v":""},{"$f":"IFERROR(VLOOKUP($M114,'Total Rankings (excl QB)'!$D:$L,5,0),\"\")","v":""},{"$f":"IFERROR(VLOOKUP($M114,'Total Rankings (excl QB)'!$D:$L,6,0),\"\")","v":""},{"$f":"IFERROR(VLOOKUP($M114,'Total Rankings (excl QB)'!$D:$L,7,0),\"\")","v":""},{"$f":"IFERROR(VLOOKUP($M114,'Total Rankings (excl QB)'!$D:$L,8,0),\"\")","v":""},null,111,{"$f":"IFERROR(INDEX('Total Rankings (excl QB)'!$D:$D,MATCH(1,(\"Tight End\"='Total Rankings (excl QB)'!$C:$C)*(W114='Total Rankings (excl QB)'!$F:$F),0),1),\"\")","v":""},{"$f":"IFERROR(VLOOKUP($X114,'Total Rankings (excl QB)'!$D:$E,2,0),0)","v":0},0,null,{"$f":"IFERROR(VLOOKUP($X114,'Total Rankings (excl QB)'!$D:$L,4,0),\"\")","v":""},{"$f":"IFERROR(VLOOKUP($X114,'Total Rankings (excl QB)'!$D:$L,5,0),\"\")","v":""},{"$f":"IFERROR(VLOOKUP($X114,'Total Rankings (excl QB)'!$D:$L,6,0),\"\")","v":""},{"$f":"IFERROR(VLOOKUP($X114,'Total Rankings (excl QB)'!$D:$L,7,0),\"\")","v":""},{"$f":"IFERROR(VLOOKUP($X114,'Total Rankings (excl QB)'!$D:$L,8,0),\"\")","v":""}]
[112,{"$f":"IFERROR(INDEX('Total Rankings (excl QB)'!$D:$D,MATCH(1,(\"Wide Receiver\"='Total Rankings (excl QB)'!$C:$C)*(A115='Total Rankings (excl QB)'!$F:$F),0),1),\"\")","v":""},{"$f":"IFERROR(VLOOKUP($B115,'Total Rankings (excl QB)'!$D:$E,2,0),0)","v":0},0,null,{"$f":"IFERROR(VLOOKUP($B115,'Total Rankings (excl QB)'!$D:$L,4,0),\"\")","v":""},{"$f":"IFERROR(VLOOKUP($B115,'Total Rankings (excl QB)'!$D:$L,5,0),\"\")","v":""},{"$f":"IFERROR(VLOOKUP($B115,'Total Rankings (excl QB)'!$D:$L,6,0),\"\")","v":""},{"$f":"IFERROR(VLOOKUP($B115,'Total Rankings (excl QB)'!$D:$L,7,0),\"\")","v":""},{"$f":"IFERROR(VLOOKUP($B115,'Total Rankings (excl QB)'!$D:$L,8,0),\"\")","v":""},null,112,{"$f":"IFERROR(INDEX('Total Rankings (excl QB)'!$D:$D,MATCH(1,(\"Running Back\"='Total Rankings (excl QB)'!$C:$C)*(L115='Total Rankings (excl QB)'!$F:$F),0),1),\"\")","v":""},{"$f":"IFERROR(VLOOKUP($M115,'Total Rankings (excl QB)'!$D:$E,2,0),0)","v":0},0,null,{"$f":"IFERROR(VLOOKUP($M115,'Total Rankings (excl QB)'!$D:$L,4,0),\"\")","v":""},{"$f":"IFERROR(VLOOKUP($M115,'Total Rankings (excl QB)'!$D:$L,5,0),\"\")","v":""},{"$f":"IFERROR(VLOOKUP($M115,'Total Rankings (excl QB)'!$D:$L,6,0),\"\")","v":""},{"$f":"IFERROR(VLOOKUP($M115,'Total Rankings (excl QB)'!$D:$L,7,0),\"\")","v":""},{"$f":"IFERROR(VLOOKUP($M115,'Total Rankings (excl QB)'!$D:$L,8,0),\"\")","v":""},null,112,{"$f":"IFERROR(INDEX('Total Rankings (excl QB)'!$D:$D,MATCH(1,(\"Tight End\"='Total Rankings (excl QB)'!$C:$C)*(W115='Total Rankings (excl QB)'!$F:$F),0),1),\"\")","v":""},{"$f":"IFERROR(VLOOKUP($X115,'Total Rankings (excl QB)'!$D:$E,2,0),0)","v":0},0,null,{"$f":"IFERROR(VLOOKUP($X115,'Total Rankings (excl QB)'!$D:$L,4,0),\"\")","v":""},{"$f":"IFERROR(VLOOKUP($X115,'Total Rankings (excl QB)'!$D:$L,5,0),\"\")","v":""},{"$f":"IFERROR(VLOOKUP($X115,'Total Rankings (excl QB)'!$D:$L,6,0),\"\")","v":""},{"$f":"IFERROR(VLOOKUP($X115,'Total Rankings (excl QB)'!$D:$L,7,0),\"\")","v":""},{"$f":"IFERROR(VLOOKUP($X115,'Total Rankings (excl QB)'!$D:$L,8,0),\"\")","v":""}]
[113,{"$f":"IFERROR(INDEX('Total Rankings (excl QB)'!$D:$D,MATCH(1,(\"Wide Receiver\"='Total Rankings (excl QB)'!$C:$C)*(A116='Total Rankings (excl QB)'!$F:$F),0),1),\"\")","v":""},{"$f":"IFERROR(VLOOKUP($B116,'Total Rankings (excl QB)'!$D:$E,2,0),0)","v":0},0,null,{"$f":"IFERROR(VLOOKUP($B116,'Total Rankings (excl QB)'!$D:$L,4,0),\"\")","v":""},{"$f":"IFERROR(VLOOKUP($B116,'Total Rankings (excl QB)'!$D:$L,5,0),\"\")","v":""},{"$f":"IFERROR(VLOOKUP($B116,'Total Rankings (excl QB)'!$D:$L,6,0),\"\")","v":""},{"$f":"IFERROR(VLOOKUP($B116,'Total Rankings (excl QB)'!$D:$L,7,0),\"\")","v":""},{"$f":"IFERROR(VLOOKUP($B116,'Total Rankings (excl QB)'!$D:$L,8,0),\"\")","v":""},null,113,{"$f":"IFERROR(INDEX('Total Rankings (excl QB)'!$D:$D,MATCH(1,(\"Running Back\"='Total Rankings (excl QB)'!$C:$C)*(L116='Total Rankings (excl QB)'!$F:$F),0),1),\"\")","v":""},{"$f":"IFERROR(VLOOKUP($M116,'Total Rankings (excl QB)'!$D:$E,2,0),0)","v":0},0,null,{"$f":"IFERROR(VLOOKUP($M116,'Total Rankings (excl QB)'!$D:$L,4,0),\"\")","v":""},{"$f":"IFERROR(VLOOKUP($M116,'Total Rankings (excl QB)'!$D:$L,5,0),\"\")","v":""},{"$f":"IFERROR(VLOOKUP($M116,'Total Rankings (excl QB)'!$D:$L,6,0),\"\")","v":""},{"$f":"IFERROR(VLOOKUP($M116,'Total Rankings (excl QB)'!$D:$L,7,0),\"\")","v":""},{"$f":"IFERROR(VLOOKUP($M116,'Total Rankings (excl QB)'!$D:$L,8,0),\"\")","v":""},null,113,{"$f":"IFERROR(INDEX('Total Rankings (excl QB)'!$D:$D,MATCH(1,(\"Tight End\"='Total Rankings (excl QB)'!$C:$C)*(W116='Total Rankings (excl QB)'!$F:$F),0),1),\"\")","v":""},{"$f":"IFERROR(VLOOKUP($X116,'Total Rankings (excl QB)'!$D:$E,2,0),0)","v":0},0,null,{"$f":"IFERROR(VLOOKUP($X116,'Total Rankings (excl QB)'!$D:$L,4,0),\"\")","v":""},{"$f":"IFERROR(VLOOKUP($X116,'Total Rankings (excl QB)'!$D:$L,5,0),\"\")","v":""},{"$f":"IFERROR(VLOOKUP($X116,'Total Rankings (excl QB)'!$D:$L,6,0),\"\")","v":""},{"$f":"IFERROR(VLOOKUP($X116,'Total Rankings (excl QB)'!$D:$L,7,0),\"\")","v":""},{"$f":"IFERROR(VLOOKUP($X116,'Total Rankings (excl QB)'!$D:$L,8,0),\"\")","v":""}]
[114,{"$f":"IFERROR(INDEX('Total Rankings (excl QB)'!$D:$D,MATCH(1,(\"Wide Receiver\"='Total Rankings (excl QB)'!$C:$C)*(A117='Total Rankings (excl QB)'!$F:$F),0),1),\"\")","v":""},{"$f":"IFERROR(VLOOKUP($B117,'Total Rankings (excl QB)'!$D:$E,2,0),0)","v":0},0,null,{"$f":"IFERROR(VLOOKUP($B117,'Total Rankings (excl QB)'!$D:$L,4,0),\"\")","v":""},{"$f":"IFERROR(VLOOKUP($B117,'Total Rankings (excl QB)'!$D:$L,5,0),\"\")","v":""},{"$f":"IFERROR(VLOOKUP($B117,'Total Rankings (excl QB)'!$D:$L,6,0),\"\")","v":""},{"$f":"IFERROR(VLOOKUP($B117,'Total Rankings (excl QB)'!$D:$L,7,0),\"\")","v":""},{"$f":"IFERROR(VLOOKUP($B117,'Total Rankings (excl QB)'!$D:$L,8,0),\"\")","v":""},null,114,{"$f":"IFERROR(INDEX('Total Rankings (excl QB)'!$D:$D,MATCH(1,(\"Running Back\"='Total Rankings (excl QB)'!$C:$C)*(L117='Total Rankings (excl QB)'!$F:$F),0),1),\"\")","v":""},{"$f":"IFERROR(VLOOKUP($M117,'Total Rankings (excl QB)'!$D:$E,2,0),0)","v":0},0,null,{"$f":"IFERROR(VLOOKUP($M117,'Total Rankings (excl QB)'!$D:$L,4,0),\"\")","v":""},{"$f":"IFERROR(VLOOKUP($M117,'Total Rankings (excl QB)'!$D:$L,5,0),\"\")","v":""},{"$f":"IFERROR(VLOOKUP($M117,'Total Rankings (excl QB)'!$D:$L,6,0),\"\")","v":""},{"$f":"IFERROR(VLOOKUP($M117,'Total Rankings (excl QB)'!$D:$L,7,0),\"\")","v":""},{"$f":"IFERROR(VLOOKUP($M117,'Total Rankings (excl QB)'!$D:$L,8,0),\"\")","v":""},null,114,{"$f":"IFERROR(INDEX('Total Rankings (excl QB)'!$D:$D,MATCH(1,(\"Tight End\"='Total Rankings (excl QB)'!$C:$C)*(W117='Total Rankings (excl QB)'!$F:$F),0),1),\"\")","v":""},{"$f":"IFERROR(VLOOKUP($X117,'Total Rankings (excl QB)'!$D:$E,2,0),0)","v":0},0,null,{"$f":"IFERROR(VLOOKUP($X117,'Total Rankings (excl QB)'!$D:$L,4,0),\"\")","v":""},{"$f":"IFERROR(VLOOKUP($X117,'Total Rankings (excl QB)'!$D:$L,5,0),\"\")","v":""},{"$f":"IFERROR(VLOOKUP($X117,'Total Rankings (excl QB)'!$D:$L,6,0),\"\")","v":""},{"$f":"IFERROR(VLOOKUP($X117,'Total Rankings (excl QB)'!$D:$L,7,0),\"\")","v":""},{"$f":"IFERROR(VLOOKUP($X117,'Total Rankings (excl QB)'!$D:$L,8,0),\"\")","v":""}]
[115,{"$f":"IFERROR(INDEX('Total Rankings (excl QB)'!$D:$D,MATCH(1,(\"Wide Receiver\"='Total Rankings (excl QB)'!$C:$C)*(A118='Total Rankings (excl QB)'!$F:$F),0),1),\"\")","v":""},{"$f":"IFERROR(VLOOKUP($B118,'Total Rankings (excl QB)'!$D:$E,2,0),0)","v":0},0,null,{"$f":"IFERROR(VLOOKUP($B118,'Total Rankings (excl QB)'!$D:$L,4,0),\"\")","v":""},{"$f":"IFERROR(VLOOKUP($B118,'Total Rankings (excl QB)'!$D:$L,5,0),\"\")","v":""},{"$f":"IFERROR(VLOOKUP($B118,'Total Rankings (excl QB)'!$D:$L,6,0),\"\")","v":""},{"$f":"IFERROR(VLOOKUP($B118,'Total Rankings (excl QB)'!$D:$L,7,0),\"\")","v":""},{"$f":"IFERROR(VLOOKUP($B118,'Total Rankings (excl QB)'!$D:$L,8,0),\"\")","v":""},null,115,{"$f":"IFERROR(INDEX('Total Rankings (excl QB)'!$D:$D,MATCH(1,(\"Running Back\"='Total Rankings (excl QB)'!$C:$C)*(L118='Total Rankings (excl QB)'!$F:$F),0),1),\"\")","v":""},{"$f":"IFERROR(VLOOKUP($M118,'Total Rankings (excl QB)'!$D:$E,2,0),0)","v":0},0,null,{"$f":"IFERROR(VLOOKUP($M118,'Total Rankings (excl QB)'!$D:$L,4,0),\"\")","v":""},{"$f":"IFERROR(VLOOKUP($M118,'Total Rankings (excl QB)'!$D:$L,5,0),\"\")","v":""},{"$f":"IFERROR(VLOOKUP($M118,'Total Rankings (excl QB)'!$D:$L,6,0),\"\")","v":""},{"$f":"IFERROR(VLOOKUP($M118,'Total Rankings (excl QB)'!$D:$L,7,0),\"\")","v":""},{"$f":"IFERROR(VLOOKUP($M118,'Total Rankings (excl QB)'!$D:$L,8,0),\"\")","v":""},null,115,{"$f":"IFERROR(INDEX('Total Rankings (excl QB)'!$D:$D,MATCH(1,(\"Tight End\"='Total Rankings (excl QB)'!$C:$C)*(W118='Total Rankings (excl QB)'!$F:$F),0),1),\"\")","v":""},{"$f":"IFERROR(VLOOKUP($X118,'Total Rankings (excl QB)'!$D:$E,2,0),0)","v":0},0,null,{"$f":"IFERROR(VLOOKUP($X118,'Total Rankings (excl QB)'!$D:$L,4,0),\"\")","v":""},{"$f":"IFERROR(VLOOKUP($X118,'Total Rankings (excl QB)'!$D:$L,5,0),\"\")","v":""},{"$f":"IFERROR(VLOOKUP($X118,'Total Rankings (excl QB)'!$D:$L,6,0),\"\")","v":""},{"$f":"IFERROR(VLOOKUP($X118,'Total Rankings (excl QB)'!$D:$L,7,0),\"\")","v":""},{"$f":"IFERROR(VLOOKUP($X118,'Total Rankings (excl QB)'!$D:$L,8,0),\"\")","v":""}]
[116,{"$f":"IFERROR(INDEX('Total Rankings (excl QB)'!$D:$D,MATCH(1,(\"Wide Receiver\"='Total Rankings (excl QB)'!$C:$C)*(A119='Total Rankings (excl QB)'!$F:$F),0),1),\"\")","v":""},{"$f":"IFERROR(VLOOKUP($B119,'Total Rankings (excl QB)'!$D:$E,2,0),0)","v":0},0,null,{"$f":"IFERROR(VLOOKUP($B119,'Total Rankings (excl QB)'!$D:$L,4,0),\"\")","v":""},{"$f":"IFERROR(VLOOKUP($B119,'Total Rankings (excl QB)'!$D:$L,5,0),\"\")","v":""},{"$f":"IFERROR(VLOOKUP($B119,'Total Rankings (excl QB)'!$D:$L,6,0),\"\")","v":""},{"$f":"IFERROR(VLOOKUP($B119,'Total Rankings (excl QB)'!$D:$L,7,0),\"\")","v":""},{"$f":"IFERROR(VLOOKUP($B119,'Total Rankings (excl QB)'!$D:$L,8,0),\"\")","v":""},null,116,{"$f":"IFERROR(INDEX('Total Rankings (excl QB)'!$D:$D,MATCH(1,(\"Running Back\"='Total Rankings (excl QB)'!$C:$C)*(L119='Total Rankings (excl QB)'!$F:$F),0),1),\"\")","v":""},{"$f":"IFERROR(VLOOKUP($M119,'Total Rankings (excl QB)'!$D:$E,2,0),0)","v":0},0,null,{"$f":"IFERROR(VLOOKUP($M119,'Total Rankings (excl QB)'!$D:$L,4,0),\"\")","v":""},{"$f":"IFERROR(VLOOKUP($M119,'Total Rankings (excl QB)'!$D:$L,5,0),\"\")","v":""},{"$f":"IFERROR(VLOOKUP($M119,'Total Rankings (excl QB)'!$D:$L,6,0),\"\")","v":""},{"$f":"IFERROR(VLOOKUP($M119,'Total Rankings (excl QB)'!$D:$L,7,0),\"\")","v":""},{"$f":"IFERROR(VLOOKUP($M119,'Total Rankings (excl QB)'!$D:$L,8,0),\"\")","v":""},null,116,{"$f":"IFERROR(INDEX('Total Rankings (excl QB)'!$D:$D,MATCH(1,(\"Tight End\"='Total Rankings (excl QB)'!$C:$C)*(W119='Total Rankings (excl QB)'!$F:$F),0),1),\"\")","v":""},{"$f":"IFERROR(VLOOKUP($X119,'Total Rankings (excl QB)'!$D:$E,2,0),0)","v":0},0,null,{"$f":"IFERROR(VLOOKUP($X119,'Total Rankings (excl QB)'!$D:$L,4,0),\"\")","v":""},{"$f":"IFERROR(VLOOKUP($X119,'Total Rankings (excl QB)'!$D:$L,5,0),\"\")","v":""},{"$f":"IFERROR(VLOOKUP($X119,'Total Rankings (excl QB)'!$D:$L,6,0),\"\")","v":""},{"$f":"IFERROR(VLOOKUP($X119,'Total Rankings (excl QB)'!$D:$L,7,0),\"\")","v":""},{"$f":"IFERROR(VLOOKUP($X119,'Total Rankings (excl QB)'!$D:$L,8,0),\"\")","v":""}]
[117,{"$f":"IFERROR(INDEX('Total Rankings (excl QB)'!$D:$D,MATCH(1,(\"Wide Receiver\"='Total Rankings (excl QB)'!$C:$C)*(A120='Total Rankings (excl QB)'!$F:$F),0),1),\"\")","v":""},{"$f":"IFERROR(VLOOKUP($B120,'Total Rankings (excl QB)'!$D:$E,2,0),0)","v":0},0,null,{"$f":"IFERROR(VLOOKUP($B120,'Total Rankings (excl QB)'!$D:$L,4,0),\"\")","v":""},{"$f":"IFERROR(VLOOKUP($B120,'Total Rankings (excl QB)'!$D:$L,5,0),\"\")","v":""},{"$f":"IFERROR(VLOOKUP($B120,'Total Rankings (excl QB)'!$D:$L,6,0),\"\")","v":""},{"$f":"IFERROR(VLOOKUP($B120,'Total Rankings (excl QB)'!$D:$L,7,0),\"\")","v":""},{"$f":"IFERROR(VLOOKUP($B120,'Total Rankings (excl QB)'!$D:$L,8,0),\"\")","v":""},null,117,{"$f":"IFERROR(INDEX('Total Rankings (excl QB)'!$D:$D,MATCH(1,(\"Running Back\"='Total Rankings (excl QB)'!$C:$C)*(L120='Total Rankings (excl QB)'!$F:$F),0),1),\"\")","v":""},{"$f":"IFERROR(VLOOKUP($M120,'Total Rankings (excl QB)'!$D:$E,2,0),0)","v":0},0,null,{"$f":"IFERROR(VLOOKUP($M120,'Total Rankings (excl QB)'!$D:$L,4,0),\"\")","v":""},{"$f":"IFERROR(VLOOKUP($M120,'Total Rankings (excl QB)'!$D:$L,5,0),\"\")","v":""},{"$f":"IFERROR(VLOOKUP($M120,'Total Rankings (excl QB)'!$D:$L,6,0),\"\")","v":""},{"$f":"IFERROR(VLOOKUP($M120,'Total Rankings (excl QB)'!$D:$L,7,0),\"\")","v":""},{"$f":"IFERROR(VLOOKUP($M120,'Total Rankings (excl QB)'!$D:$L,8,0),\"\")","v":""},null,117,{"$f":"IFERROR(INDEX('Total Rankings (excl QB)'!$D:$D,MATCH(1,(\"Tight End\"='Total Rankings (excl QB)'!$C:$C)*(W120='Total Rankings (excl QB)'!$F:$F),0),1),\"\")","v":""},{"$f":"IFERROR(VLOOKUP($X120,'Total Rankings (excl QB)'!$D:$E,2,0),0)","v":0},0,null,{"$f":"IFERROR(VLOOKUP($X120,'Total Rankings (excl QB)'!$D:$L,4,0),\"\")","v":""},{"$f":"IFERROR(VLOOKUP($X120,'Total Rankings (excl QB)'!$D:$L,5,0),\"\")","v":""},{"$f":"IFERROR(VLOOKUP($X120,'Total Rankings (excl QB)'!$D:$L,6,0),\"\")","v":""},{"$f":"IFERROR(VLOOKUP($X120,'Total Rankings (excl QB)'!$D:$L,7,0),\"\")","v":""},{"$f":"IFERROR(VLOOKUP($X120,'Total Rankings (excl QB)'!$D:$L,8,0),\"\")","v":""}]
[118,{"$f":"IFERROR(INDEX('Total Rankings (excl QB)'!$D:$D,MATCH(1,(\"Wide Receiver\"='Total Rankings (excl QB)'!$C:$C)*(A121='Total Rankings (excl QB)'!$F:$F),0),1),\"\")","v":""},{"$f":"IFERROR(VLOOKUP($B121,'Total Rankings (excl QB)'!$D:$E,2,0),0)","v":0},0,null,{"$f":"IFERROR(VLOOKUP($B121,'Total Rankings (excl QB)'!$D:$L,4,0),\"\")","v":""},{"$f":"IFERROR(VLOOKUP($B121,'Total Rankings (excl QB)'!$D:$L,5,0),\"\")","v":""},{"$f":"IFERROR(VLOOKUP($B121,'Total Rankings (excl QB)'!$D:$L,6,0),\"\")","v":""},{"$f":"IFERROR(VLOOKUP($B121,'Total Rankings (excl QB)'!$D:$L,7,0),\"\")","v":""},{"$f":"IFERROR(VLOOKUP($B121,'Total Rankings (excl QB)'!$D:$L,8,0),\"\")","v":""},null,118,{"$f":"IFERROR(INDEX('Total Rankings (excl QB)'!$D:$D,MATCH(1,(\"Running Back\"='Total Rankings (excl QB)'!$C:$C)*(L121='Total Rankings (excl QB)'!$F:$F),0),1),\"\")","v":""},{"$f":"IFERROR(VLOOKUP($M121,'Total Rankings (excl QB)'!$D:$E,2,0),0)","v":0},0,null,{"$f":"IFERROR(VLOOKUP($M121,'Total Rankings (excl QB)'!$D:$L,4,0),\"\")","v":""},{"$f":"IFERROR(VLOOKUP($M121,'Total Rankings (excl QB)'!$D:$L,5,0),\"\")","v":""},{"$f":"IFERROR(VLOOKUP($M121,'Total Rankings (excl QB)'!$D:$L,6,0),\"\")","v":""},{"$f":"IFERROR(VLOOKUP($M121,'Total Rankings (excl QB)'!$D:$L,7,0),\"\")","v":""},{"$f":"IFERROR(VLOOKUP($M121,'Total Rankings (excl QB)'!$D:$L,8,0),\"\")","v":""},null,118,{"$f":"IFERROR(INDEX('Total Rankings (excl QB)'!$D:$D,MATCH(1,(\"Tight End\"='Total Rankings (excl QB)'!$C:$C)*(W121='Total Rankings (excl QB)'!$F:$F),0),1),\"\")","v":""},{"$f":"IFERROR(VLOOKUP($X121,'Total Rankings (excl QB)'!$D:$E,2,0),0)","v":0},0,null,{"$f":"IFERROR(VLOOKUP($X121,'Total Rankings (excl QB)'!$D:$L,4,0),\"\")","v":""},{"$f":"IFERROR(VLOOKUP($X121,'Total Rankings (excl QB)'!$D:$L,5,0),\"\")","v":""},{"$f":"IFERROR(VLOOKUP($X121,'Total Rankings (excl QB)'!$D:$L,6,0),\"\")","v":""},{"$f":"IFERROR(VLOOKUP($X121,'Total Rankings (excl QB)'!$D:$L,7,0),\"\")","v":""},{"$f":"IFERROR(VLOOKUP($X121,'Total Rankings (excl QB)'!$D:$L,8,0),\"\")","v":""}]
[119,{"$f":"IFERROR(INDEX('Total Rankings (excl QB)'!$D:$D,MATCH(1,(\"Wide Receiver\"='Total Rankings (excl QB)'!$C:$C)*(A122='Total Rankings (excl QB)'!$F:$F),0),1),\"\")","v":""},{"$f":"IFERROR(VLOOKUP($B122,'Total Rankings (excl QB)'!$D:$E,2,0),0)","v":0},0,null,{"$f":"IFERROR(VLOOKUP($B122,'Total Rankings (excl QB)'!$D:$L,4,0),\"\")","v":""},{"$f":"IFERROR(VLOOKUP($B122,'Total Rankings (excl QB)'!$D:$L,5,0),\"\")","v":""},{"$f":"IFERROR(VLOOKUP($B122,'Total Rankings (excl QB)'!$D:$L,6,0),\"\")","v":""},{"$f":"IFERROR(VLOOKUP($B122,'Total Rankings (excl QB)'!$D:$L,7,0),\"\")","v":""},{"$f":"IFERROR(VLOOKUP($B122,'Total Rankings (excl QB)'!$D:$L,8,0),\"\")","v":""},null,119,{"$f":"IFERROR(INDEX('Total Rankings (excl QB)'!$D:$D,MATCH(1,(\"Running Back\"='Total Rankings (excl QB)'!$C:$C)*(L122='Total Rankings (excl QB)'!$F:$F),0),1),\"\")","v":""},{"$f":"IFERROR(VLOOKUP($M122,'Total Rankings (excl QB)'!$D:$E,2,0),0)","v":0},0,null,{"$f":"IFERROR(VLOOKUP($M122,'Total Rankings (excl QB)'!$D:$L,4,0),\"\")","v":""},{"$f":"IFERROR(VLOOKUP($M122,'Total Rankings (excl QB)'!$D:$L,5,0),\"\")","v":""},{"$f":"IFERROR(VLOOKUP($M122,'Total Rankings (excl QB)'!$D:$L,6,0),\"\")","v":""},{"$f":"IFERROR(VLOOKUP($M122,'Total Rankings (excl QB)'!$D:$L,7,0),\"\")","v":""},{"$f":"IFERROR(VLOOKUP($M122,'Total Rankings (excl QB)'!$D:$L,8,0),\"\")","v":""},null,119,{"$f":"IFERROR(INDEX('Total Rankings (excl QB)'!$D:$D,MATCH(1,(\"Tight End\"='Total Rankings (excl QB)'!$C:$C)*(W122='Total Rankings (excl QB)'!$F:$F),0),1),\"\")","v":""},{"$f":"IFERROR(VLOOKUP($X122,'Total Rankings (excl QB)'!$D:$E,2,0),0)","v":0},0,null,{"$f":"IFERROR(VLOOKUP($X122,'Total Rankings (excl QB)'!$D:$L,4,0),\"\")","v":""},{"$f":"IFERROR(VLOOKUP($X122,'Total Rankings (excl QB)'!$D:$L,5,0),\"\")","v":""},{"$f":"IFERROR(VLOOKUP($X122,'Total Rankings (excl QB)'!$D:$L,6,0),\"\")","v":""},{"$f":"IFERROR(VLOOKUP($X122,'Total Rankings (excl QB)'!$D:$L,7,0),\"\")","v":""},{"$f":"IFERROR(VLOOKUP($X122,'Total Rankings (excl QB)'!$D:$L,8,0),\"\")","v":""}]
[120,{"$f":"IFERROR(INDEX('Total Rankings (excl QB)'!$D:$D,MATCH(1,(\"Wide Receiver\"='Total Rankings (excl QB)'!$C:$C)*(A123='Total Rankings (excl QB)'!$F:$F),0),1),\"\")","v":""},{"$f":"IFERROR(VLOOKUP($B123,'Total Rankings (excl QB)'!$D:$E,2,0),0)","v":0},0,null,{"$f":"IFERROR(VLOOKUP($B123,'Total Rankings (excl QB)'!$D:$L,4,0),\"\")","v":""},{"$f":"IFERROR(VLOOKUP($B123,'Total Rankings (excl QB)'!$D:$L,5,0),\"\")","v":""},{"$f":"IFERROR(VLOOKUP($B123,'Total Rankings (excl QB)'!$D:$L,6,0),\"\")","v":""},{"$f":"IFERROR(VLOOKUP($B123,'Total Rankings (excl QB)'!$D:$L,7,0),\"\")","v":""},{"$f":"IFERROR(VLOOKUP($B123,'Total Rankings (excl QB)'!$D:$L,8,0),\"\")","v":""},null,120,{"$f":"IFERROR(INDEX('Total Rankings (excl QB)'!$D:$D,MATCH(1,(\"Running Back\"='Total Rankings (excl QB)'!$C:$C)*(L123='Total Rankings (excl QB)'!$F:$F),0),1),\"\")","v":""},{"$f":"IFERROR(VLOOKUP($M123,'Total Rankings (excl QB)'!$D:$E,2,0),0)","v":0},0,null,{"$f":"IFERROR(VLOOKUP($M123,'Total Rankings (excl QB)'!$D:$L,4,0),\"\")","v":""},{"$f":"IFERROR(VLOOKUP($M123,'Total Rankings (excl QB)'!$D:$L,5,0),\"\")","v":""},{"$f":"IFERROR(VLOOKUP($M123,'Total Rankings (excl QB)'!$D:$L,6,0),\"\")","v":""},{"$f":"IFERROR(VLOOKUP($M123,'Total Rankings (excl QB)'!$D:$L,7,0),\"\")","v":""},{"$f":"IFERROR(VLOOKUP($M123,'Total Rankings (excl QB)'!$D:$L,8,0),\"\")","v":""},null,120,{"$f":"IFERROR(INDEX('Total Rankings (excl QB)'!$D:$D,MATCH(1,(\"Tight End\"='Total Rankings (excl QB)'!$C:$C)*(W123='Total Rankings (excl QB)'!$F:$F),0),1),\"\")","v":""},{"$f":"IFERROR(VLOOKUP($X123,'Total Rankings (excl QB)'!$D:$E,2,0),0)","v":0},0,null,{"$f":"IFERROR(VLOOKUP($X123,'Total Rankings (excl QB)'!$D:$L,4,0),\"\")","v":""},{"$f":"IFERROR(VLOOKUP($X123,'Total Rankings (excl QB)'!$D:$L,5,0),\"\")","v":""},{"$f":"IFERROR(VLOOKUP($X123,'Total Rankings (excl QB)'!$D:$L,6,0),\"\")","v":""},{"$f":"IFERROR(VLOOKUP($X123,'Total Rankings (excl QB)'!$D:$L,7,0),\"\")","v":""},{"$f":"IFERROR(VLOOKUP($X123,'Total Rankings (excl QB)'!$D:$L,8,0),\"\")","v":""}]
[121,{"$f":"IFERROR(INDEX('Total Rankings (excl QB)'!$D:$D,MATCH(1,(\"Wide Receiver\"='Total Rankings (excl QB)'!$C:$C)*(A124='Total Rankings (excl QB)'!$F:$F),0),1),\"\")","v":""},{"$f":"IFERROR(VLOOKUP($B124,'Total Rankings (excl QB)'!$D:$E,2,0),0)","v":0},0,null,{"$f":"IFERROR(VLOOKUP($B124,'Total Rankings (excl QB)'!$D:$L,4,0),\"\")","v":""},{"$f":"IFERROR(VLOOKUP($B124,'Total Rankings (excl QB)'!$D:$L,5,0),\"\")","v":""},{"$f":"IFERROR(VLOOKUP($B124,'Total Rankings (excl QB)'!$D:$L,6,0),\"\")","v":""},{"$f":"IFERROR(VLOOKUP($B124,'Total Rankings (excl QB)'!$D:$L,7,0),\"\")","v":""},{"$f":"IFERROR(VLOOKUP($B124,'Total Rankings (excl QB)'!$D:$L,8,0),\"\")","v":""},null,121,{"$f":"IFERROR(INDEX('Total Rankings (excl QB)'!$D:$D,MATCH(1,(\"Running Back\"='Total Rankings (excl QB)'!$C:$C)*(L124='Total Rankings (excl QB)'!$F:$F),0),1),\"\")","v":""},{"$f":"IFERROR(VLOOKUP($M124,'Total Rankings (excl QB)'!$D:$E,2,0),0)","v":0},0,null,{"$f":"IFERROR(VLOOKUP($M124,'Total Rankings (excl QB)'!$D:$L,4,0),\"\")","v":""},{"$f":"IFERROR(VLOOKUP($M124,'Total Rankings (excl QB)'!$D:$L,5,0),\"\")","v":""},{"$f":"IFERROR(VLOOKUP($M124,'Total Rankings (excl QB)'!$D:$L,6,0),\"\")","v":""},{"$f":"IFERROR(VLOOKUP($M124,'Total Rankings (excl QB)'!$D:$L,7,0),\"\")","v":""},{"$f":"IFERROR(VLOOKUP($M124,'Total Rankings (excl QB)'!$D:$L,8,0),\"\")","v":""},null,121,{"$f":"IFERROR(INDEX('Total Rankings (excl QB)'!$D:$D,MATCH(1,(\"Tight End\"='Total Rankings (excl QB)'!$C:$C)*(W124='Total Rankings (excl QB)'!$F:$F),0),1),\"\")","v":""},{"$f":"IFERROR(VLOOKUP($X124,'Total Rankings (excl QB)'!$D:$E,2,0),0)","v":0},0,null,{"$f":"IFERROR(VLOOKUP($X124,'Total Rankings (excl QB)'!$D:$L,4,0),\"\")","v":""},{"$f":"IFERROR(VLOOKUP($X124,'Total Rankings (excl QB)'!$D:$L,5,0),\"\")","v":""},{"$f":"IFERROR(VLOOKUP($X124,'Total Rankings (excl QB)'!$D:$L,6,0),\"\")","v":""},{"$f":"IFERROR(VLOOKUP($X124,'Total Rankings (excl QB)'!$D:$L,7,0),\"\")","v":""},{"$f":"IFERROR(VLOOKUP($X124,'Total Rankings (excl QB)'!$D:$L,8,0),\"\")","v":""}]
[122,{"$f":"IFERROR(INDEX('Total Rankings (excl QB)'!$D:$D,MATCH(1,(\"Wide Receiver\"='Total Rankings (excl QB)'!$C:$C)*(A125='Total Rankings (excl QB)'!$F:$F),0),1),\"\")","v":""},{"$f":"IFERROR(VLOOKUP($B125,'Total Rankings (excl QB)'!$D:$E,2,0),0)","v":0},0,null,{"$f":"IFERROR(VLOOKUP($B125,'Total Rankings (excl QB)'!$D:$L,4,0),\"\")","v":""},{"$f":"IFERROR(VLOOKUP($B125,'Total Rankings (excl QB)'!$D:$L,5,0),\"\")","v":""},{"$f":"IFERROR(VLOOKUP($B125,'Total Rankings (excl QB)'!$D:$L,6,0),\"\")","v":""},{"$f":"IFERROR(VLOOKUP($B125,'Total Rankings (excl QB)'!$D:$L,7,0),\"\")","v":""},{"$f":"IFERROR(VLOOKUP($B125,'Total Rankings (excl QB)'!$D:$L,8,0),\"\")","v":""},null,122,{"$f":"IFERROR(INDEX('Total Rankings (excl QB)'!$D:$D,MATCH(1,(\"Running Back\"='Total Rankings (excl QB)'!$C:$C)*(L125='Total Rankings (excl QB)'!$F:$F),0),1),\"\")","v":""},{"$f":"IFERROR(VLOOKUP($M125,'Total Rankings (excl QB)'!$D:$E,2,0),0)","v":0},0,null,{"$f":"IFERROR(VLOOKUP($M125,'Total Rankings (excl QB)'!$D:$L,4,0),\"\")","v":""},{"$f":"IFERROR(VLOOKUP($M125,'Total Rankings (excl QB)'!$D:$L,5,0),\"\")","v":""},{"$f":"IFERROR(VLOOKUP($M125,'Total Rankings (excl QB)'!$D:$L,6,0),\"\")","v":""},{"$f":"IFERROR(VLOOKUP($M125,'Total Rankings (excl QB)'!$D:$L,7,0),\"\")","v":""},{"$f":"IFERROR(VLOOKUP($M125,'Total Rankings (excl QB)'!$D:$L,8,0),\"\")","v":""},null,122,{"$f":"IFERROR(INDEX('Total Rankings (excl QB)'!$D:$D,MATCH(1,(\"Tight End\"='Total Rankings (excl QB)'!$C:$C)*(W125='Total Rankings (excl QB)'!$F:$F),0),1),\"\")","v":""},{"$f":"IFERROR(VLOOKUP($X125,'Total Rankings (excl QB)'!$D:$E,2,0),0)","v":0},0,null,{"$f":"IFERROR(VLOOKUP($X125,'Total Rankings (excl QB)'!$D:$L,4,0),\"\")","v":""},{"$f":"IFERROR(VLOOKUP($X125,'Total Rankings (excl QB)'!$D:$L,5,0),\"\")","v":""},{"$f":"IFERROR(VLOOKUP($X125,'Total Rankings (excl QB)'!$D:$L,6,0),\"\")","v":""},{"$f":"IFERROR(VLOOKUP($X125,'Total Rankings (excl QB)'!$D:$L,7,0),\"\")","v":""},{"$f":"IFERROR(VLOOKUP($X125,'Total Rankings (excl QB)'!$D:$L,8,0),\"\")","v":""}]
[123,{"$f":"IFERROR(INDEX('Total Rankings (excl QB)'!$D:$D,MATCH(1,(\"Wide Receiver\"='Total Rankings (excl QB)'!$C:$C)*(A126='Total Rankings (excl QB)'!$F:$F),0),1),\"\")","v":""},{"$f":"IFERROR(VLOOKUP($B126,'Total Rankings (excl QB)'!$D:$E,2,0),0)","v":0},0,null,{"$f":"IFERROR(VLOOKUP($B126,'Total Rankings (excl QB)'!$D:$L,4,0),\"\")","v":""},{"$f":"IFERROR(VLOOKUP($B126,'Total Rankings (excl QB)'!$D:$L,5,0),\"\")","v":""},{"$f":"IFERROR(VLOOKUP($B126,'Total Rankings (excl QB)'!$D:$L,6,0),\"\")","v":""},{"$f":"IFERROR(VLOOKUP($B126,'Total Rankings (excl QB)'!$D:$L,7,0),\"\")","v":""},{"$f":"IFERROR(VLOOKUP($B126,'Total Rankings (excl QB)'!$D:$L,8,0),\"\")","v":""},null,123,{"$f":"IFERROR(INDEX('Total Rankings (excl QB)'!$D:$D,MATCH(1,(\"Running Back\"='Total Rankings (excl QB)'!$C:$C)*(L126='Total Rankings (excl QB)'!$F:$F),0),1),\"\")","v":""},{"$f":"IFERROR(VLOOKUP($M126,'Total Rankings (excl QB)'!$D:$E,2,0),0)","v":0},0,null,{"$f":"IFERROR(VLOOKUP($M126,'Total Rankings (excl QB)'!$D:$L,4,0),\"\")","v":""},{"$f":"IFERROR(VLOOKUP($M126,'Total Rankings (excl QB)'!$D:$L,5,0),\"\")","v":""},{"$f":"IFERROR(VLOOKUP($M126,'Total Rankings (excl QB)'!$D:$L,6,0),\"\")","v":""},{"$f":"IFERROR(VLOOKUP($M126,'Total Rankings (excl QB)'!$D:$L,7,0),\"\")","v":""},{"$f":"IFERROR(VLOOKUP($M126,'Total Rankings (excl QB)'!$D:$L,8,0),\"\")","v":""},null,123,{"$f":"IFERROR(INDEX('Total Rankings (excl QB)'!$D:$D,MATCH(1,(\"Tight End\"='Total Rankings (excl QB)'!$C:$C)*(W126='Total Rankings (excl QB)'!$F:$F),0),1),\"\")","v":""},{"$f":"IFERROR(VLOOKUP($X126,'Total Rankings (excl QB)'!$D:$E,2,0),0)","v":0},0,null,{"$f":"IFERROR(VLOOKUP($X126,'Total Rankings (excl QB)'!$D:$L,4,0),\"\")","v":""},{"$f":"IFERROR(VLOOKUP($X126,'Total Rankings (excl QB)'!$D:$L,5,0),\"\")","v":""},{"$f":"IFERROR(VLOOKUP($X126,'Total Rankings (excl QB)'!$D:$L,6,0),\"\")","v":""},{"$f":"IFERROR(VLOOKUP($X126,'Total Rankings (excl QB)'!$D:$L,7,0),\"\")","v":""},{"$f":"IFERROR(VLOOKUP($X126,'Total Rankings (excl QB)'!$D:$L,8,0),\"\")","v":""}]
[124,{"$f":"IFERROR(INDEX('Total Rankings (excl QB)'!$D:$D,MATCH(1,(\"Wide Receiver\"='Total Rankings (excl QB)'!$C:$C)*(A127='Total Rankings (excl QB)'!$F:$F),0),1),\"\")","v":""},{"$f":"IFERROR(VLOOKUP($B127,'Total Rankings (excl QB)'!$D:$E,2,0),0)","v":0},0,null,{"$f":"IFERROR(VLOOKUP($B127,'Total Rankings (excl QB)'!$D:$L,4,0),\"\")","v":""},{"$f":"IFERROR(VLOOKUP($B127,'Total Rankings (excl QB)'!$D:$L,5,0),\"\")","v":""},{"$f":"IFERROR(VLOOKUP($B127,'Total Rankings (excl QB)'!$D:$L,6,0),\"\")","v":""},{"$f":"IFERROR(VLOOKUP($B127,'Total Rankings (excl QB)'!$D:$L,7,0),\"\")","v":""},{"$f":"IFERROR(VLOOKUP($B127,'Total Rankings (excl QB)'!$D:$L,8,0),\"\")","v":""},null,124,{"$f":"IFERROR(INDEX('Total Rankings (excl QB)'!$D:$D,MATCH(1,(\"Running Back\"='Total Rankings (excl QB)'!$C:$C)*(L127='Total Rankings (excl QB)'!$F:$F),0),1),\"\")","v":""},{"$f":"IFERROR(VLOOKUP($M127,'Total Rankings (excl QB)'!$D:$E,2,0),0)","v":0},0,null,{"$f":"IFERROR(VLOOKUP($M127,'Total Rankings (excl QB)'!$D:$L,4,0),\"\")","v":""},{"$f":"IFERROR(VLOOKUP($M127,'Total Rankings (excl QB)'!$D:$L,5,0),\"\")","v":""},{"$f":"IFERROR(VLOOKUP($M127,'Total Rankings (excl QB)'!$D:$L,6,0),\"\")","v":""},{"$f":"IFERROR(VLOOKUP($M127,'Total Rankings (excl QB)'!$D:$L,7,0),\"\")","v":""},{"$f":"IFERROR(VLOOKUP($M127,'Total Rankings (excl QB)'!$D:$L,8,0),\"\")","v":""},null,124,{"$f":"IFERROR(INDEX('Total Rankings (excl QB)'!$D:$D,MATCH(1,(\"Tight End\"='Total Rankings (excl QB)'!$C:$C)*(W127='Total Rankings (excl QB)'!$F:$F),0),1),\"\")","v":""},{"$f":"IFERROR(VLOOKUP($X127,'Total Rankings (excl QB)'!$D:$E,2,0),0)","v":0},0,null,{"$f":"IFERROR(VLOOKUP($X127,'Total Rankings (excl QB)'!$D:$L,4,0),\"\")","v":""},{"$f":"IFERROR(VLOOKUP($X127,'Total Rankings (excl QB)'!$D:$L,5,0),\"\")","v":""},{"$f":"IFERROR(VLOOKUP($X127,'Total Rankings (excl QB)'!$D:$L,6,0),\"\")","v":""},{"$f":"IFERROR(VLOOKUP($X127,'Total Rankings (excl QB)'!$D:$L,7,0),\"\")","v":""},{"$f":"IFERROR(VLOOKUP($X127,'Total Rankings (excl QB)'!$D:$L,8,0),\"\")","v":""}]
[125,{"$f":"IFERROR(INDEX('Total Rankings (excl QB)'!$D:$D,MATCH(1,(\"Wide Receiver\"='Total Rankings (excl QB)'!$C:$C)*(A128='Total Rankings (excl QB)'!$F:$F),0),1),\"\")","v":""},{"$f":"IFERROR(VLOOKUP($B128,'Total Rankings (excl QB)'!$D:$E,2,0),0)","v":0},0,null,{"$f":"IFERROR(VLOOKUP($B128,'Total Rankings (excl QB)'!$D:$L,4,0),\"\")","v":""},{"$f":"IFERROR(VLOOKUP($B128,'Total Rankings (excl QB)'!$D:$L,5,0),\"\")","v":""},{"$f":"IFERROR(VLOOKUP($B128,'Total Rankings (excl QB)'!$D:$L,6,0),\"\")","v":""},{"$f":"IFERROR(VLOOKUP($B128,'Total Rankings (excl QB)'!$D:$L,7,0),\"\")","v":""},{"$f":"IFERROR(VLOOKUP($B128,'Total Rankings (excl QB)'!$D:$L,8,0),\"\")","v":""},null,125,{"$f":"IFERROR(INDEX('Total Rankings (excl QB)'!$D:$D,MATCH(1,(\"Running Back\"='Total Rankings (excl QB)'!$C:$C)*(L128='Total Rankings (excl QB)'!$F:$F),0),1),\"\")","v":""},{"$f":"IFERROR(VLOOKUP($M128,'Total Rankings (excl QB)'!$D:$E,2,0),0)","v":0},0,null,{"$f":"IFERROR(VLOOKUP($M128,'Total Rankings (excl QB)'!$D:$L,4,0),\"\")","v":""},{"$f":"IFERROR(VLOOKUP($M128,'Total Rankings (excl QB)'!$D:$L,5,0),\"\")","v":""},{"$f":"IFERROR(VLOOKUP($M128,'Total Rankings (excl QB)'!$D:$L,6,0),\"\")","v":""},{"$f":"IFERROR(VLOOKUP($M128,'Total Rankings (excl QB)'!$D:$L,7,0),\"\")","v":""},{"$f":"IFERROR(VLOOKUP($M128,'Total Rankings (excl QB)'!$D:$L,8,0),\"\")","v":""},null,125,{"$f":"IFERROR(INDEX('Total Rankings (excl QB)'!$D:$D,MATCH(1,(\"Tight End\"='Total Rankings (excl QB)'!$C:$C)*(W128='Total Rankings (excl QB)'!$F:$F),0),1),\"\")","v":""},{"$f":"IFERROR(VLOOKUP($X128,'Total Rankings (excl QB)'!$D:$E,2,0),0)","v":0},0,null,{"$f":"IFERROR(VLOOKUP($X128,'Total Rankings (excl QB)'!$D:$L,4,0),\"\")","v":""},{"$f":"IFERROR(VLOOKUP($X128,'Total Rankings (excl QB)'!$D:$L,5,0),\"\")","v":""},{"$f":"IFERROR(VLOOKUP($X128,'Total Rankings (excl QB)'!$D:$L,6,0),\"\")","v":""},{"$f":"IFERROR(VLOOKUP($X128,'Total Rankings (excl QB)'!$D:$L,7,0),\"\")","v":""},{"$f":"IFERROR(VLOOKUP($X128,'Total Rankings (excl QB)'!$D:$L,8,0),\"\")","v":""}]
[126,{"$f":"IFERROR(INDEX('Total Rankings (excl QB)'!$D:$D,MATCH(1,(\"Wide Receiver\"='Total Rankings (excl QB)'!$C:$C)*(A129='Total Rankings (excl QB)'!$F:$F),0),1),\"\")","v":""},{"$f":"IFERROR(VLOOKUP($B129,'Total Rankings (excl QB)'!$D:$E,2,0),0)","v":0},0,null,{"$f":"IFERROR(VLOOKUP($B129,'Total Rankings (excl QB)'!$D:$L,4,0),\"\")","v":""},{"$f":"IFERROR(VLOOKUP($B129,'Total Rankings (excl QB)'!$D:$L,5,0),\"\")","v":""},{"$f":"IFERROR(VLOOKUP($B129,'Total Rankings (excl QB)'!$D:$L,6,0),\"\")","v":""},{"$f":"IFERROR(VLOOKUP($B129,'Total Rankings (excl QB)'!$D:$L,7,0),\"\")","v":""},{"$f":"IFERROR(VLOOKUP($B129,'Total Rankings (excl QB)'!$D:$L,8,0),\"\")","v":""},null,126,{"$f":"IFERROR(INDEX('Total Rankings (excl QB)'!$D:$D,MATCH(1,(\"Running Back\"='Total Rankings (excl QB)'!$C:$C)*(L129='Total Rankings (excl QB)'!$F:$F),0),1),\"\")","v":""},{"$f":"IFERROR(VLOOKUP($M129,'Total Rankings (excl QB)'!$D:$E,2,0),0)","v":0},0,null,{"$f":"IFERROR(VLOOKUP($M129,'Total Rankings (excl QB)'!$D:$L,4,0),\"\")","v":""},{"$f":"IFERROR(VLOOKUP($M129,'Total Rankings (excl QB)'!$D:$L,5,0),\"\")","v":""},{"$f":"IFERROR(VLOOKUP($M129,'Total Rankings (excl QB)'!$D:$L,6,0),\"\")","v":""},{"$f":"IFERROR(VLOOKUP($M129,'Total Rankings (excl QB)'!$D:$L,7,0),\"\")","v":""},{"$f":"IFERROR(VLOOKUP($M129,'Total Rankings (excl QB)'!$D:$L,8,0),\"\")","v":""},null,126,{"$f":"IFERROR(INDEX('Total Rankings (excl QB)'!$D:$D,MATCH(1,(\"Tight End\"='Total Rankings (excl QB)'!$C:$C)*(W129='Total Rankings (excl QB)'!$F:$F),0),1),\"\")","v":""},{"$f":"IFERROR(VLOOKUP($X129,'Total Rankings (excl QB)'!$D:$E,2,0),0)","v":0},0,null,{"$f":"IFERROR(VLOOKUP($X129,'Total Rankings (excl QB)'!$D:$L,4,0),\"\")","v":""},{"$f":"IFERROR(VLOOKUP($X129,'Total Rankings (excl QB)'!$D:$L,5,0),\"\")","v":""},{"$f":"IFERROR(VLOOKUP($X129,'Total Rankings (excl QB)'!$D:$L,6,0),\"\")","v":""},{"$f":"IFERROR(VLOOKUP($X129,'Total Rankings (excl QB)'!$D:$L,7,0),\"\")","v":""},{"$f":"IFERROR(VLOOKUP($X129,'Total Rankings (excl QB)'!$D:$L,8,0),\"\")","v":""}]
[127,{"$f":"IFERROR(INDEX('Total Rankings (excl QB)'!$D:$D,MATCH(1,(\"Wide Receiver\"='Total Rankings (excl QB)'!$C:$C)*(A130='Total Rankings (excl QB)'!$F:$F),0),1),\"\")","v":""},{"$f":"IFERROR(VLOOKUP($B130,'Total Rankings (excl QB)'!$D:$E,2,0),0)","v":0},0,null,{"$f":"IFERROR(VLOOKUP($B130,'Total Rankings (excl QB)'!$D:$L,4,0),\"\")","v":""},{"$f":"IFERROR(VLOOKUP($B130,'Total Rankings (excl QB)'!$D:$L,5,0),\"\")","v":""},{"$f":"IFERROR(VLOOKUP($B130,'Total Rankings (excl QB)'!$D:$L,6,0),\"\")","v":""},{"$f":"IFERROR(VLOOKUP($B130,'Total Rankings (excl QB)'!$D:$L,7,0),\"\")","v":""},{"$f":"IFERROR(VLOOKUP($B130,'Total Rankings (excl QB)'!$D:$L,8,0),\"\")","v":""},null,127,{"$f":"IFERROR(INDEX('Total Rankings (excl QB)'!$D:$D,MATCH(1,(\"Running Back\"='Total Rankings (excl QB)'!$C:$C)*(L130='Total Rankings (excl QB)'!$F:$F),0),1),\"\")","v":""},{"$f":"IFERROR(VLOOKUP($M130,'Total Rankings (excl QB)'!$D:$E,2,0),0)","v":0},0,null,{"$f":"IFERROR(VLOOKUP($M130,'Total Rankings (excl QB)'!$D:$L,4,0),\"\")","v":""},{"$f":"IFERROR(VLOOKUP($M130,'Total Rankings (excl QB)'!$D:$L,5,0),\"\")","v":""},{"$f":"IFERROR(VLOOKUP($M130,'Total Rankings (excl QB)'!$D:$L,6,0),\"\")","v":""},{"$f":"IFERROR(VLOOKUP($M130,'Total Rankings (excl QB)'!$D:$L,7,0),\"\")","v":""},{"$f":"IFERROR(VLOOKUP($M130,'Total Rankings (excl QB)'!$D:$L,8,0),\"\")","v":""},null,127,{"$f":"IFERROR(INDEX('Total Rankings (excl QB)'!$D:$D,MATCH(1,(\"Tight End\"='Total Rankings (excl QB)'!$C:$C)*(W130='Total Rankings (excl QB)'!$F:$F),0),1),\"\")","v":""},{"$f":"IFERROR(VLOOKUP($X130,'Total Rankings (excl QB)'!$D:$E,2,0),0)","v":0},0,null,{"$f":"IFERROR(VLOOKUP($X130,'Total Rankings (excl QB)'!$D:$L,4,0),\"\")","v":""},{"$f":"IFERROR(VLOOKUP($X130,'Total Rankings (excl QB)'!$D:$L,5,0),\"\")","v":""},{"$f":"IFERROR(VLOOKUP($X130,'Total Rankings (excl QB)'!$D:$L,6,0),\"\")","v":""},{"$f":"IFERROR(VLOOKUP($X130,'Total Rankings (excl QB)'!$D:$L,7,0),\"\")","v":""},{"$f":"IFERROR(VLOOKUP($X130,'Total Rankings (excl QB)'!$D:$L,8,0),\"\")","v":""}]
[128,{"$f":"IFERROR(INDEX('Total Rankings (excl QB)'!$D:$D,MATCH(1,(\"Wide Receiver\"='Total Rankings (excl QB)'!$C:$C)*(A131='Total Rankings (excl QB)'!$F:$F),0),1),\"\")","v":""},{"$f":"IFERROR(VLOOKUP($B131,'Total Rankings (excl QB)'!$D:$E,2,0),0)","v":0},0,null,{"$f":"IFERROR(VLOOKUP($B131,'Total Rankings (excl QB)'!$D:$L,4,0),\"\")","v":""},{"$f":"IFERROR(VLOOKUP($B131,'Total Rankings (excl QB)'!$D:$L,5,0),\"\")","v":""},{"$f":"IFERROR(VLOOKUP($B131,'Total Rankings (excl QB)'!$D:$L,6,0),\"\")","v":""},{"$f":"IFERROR(VLOOKUP($B131,'Total Rankings (excl QB)'!$D:$L,7,0),\"\")","v":""},{"$f":"IFERROR(VLOOKUP($B131,'Total Rankings (excl QB)'!$D:$L,8,0),\"\")","v":""},null,128,{"$f":"IFERROR(INDEX('Total Rankings (excl QB)'!$D:$D,MATCH(1,(\"Running Back\"='Total Rankings (excl QB)'!$C:$C)*(L131='Total Rankings (excl QB)'!$F:$F),0),1),\"\")","v":""},{"$f":"IFERROR(VLOOKUP($M131,'Total Rankings (excl QB)'!$D:$E,2,0),0)","v":0},0,null,{"$f":"IFERROR(VLOOKUP($M131,'Total Rankings (excl QB)'!$D:$L,4,0),\"\")","v":""},{"$f":"IFERROR(VLOOKUP($M131,'Total Rankings (excl QB)'!$D:$L,5,0),\"\")","v":""},{"$f":"IFERROR(VLOOKUP($M131,'Total Rankings (excl QB)'!$D:$L,6,0),\"\")","v":""},{"$f":"IFERROR(VLOOKUP($M131,'Total Rankings (excl QB)'!$D:$L,7,0),\"\")","v":""},{"$f":"IFERROR(VLOOKUP($M131,'Total Rankings (excl QB)'!$D:$L,8,0),\"\")","v":""},null,128,{"$f":"IFERROR(INDEX('Total Rankings (excl QB)'!$D:$D,MATCH(1,(\"Tight End\"='Total Rankings (excl QB)'!$C:$C)*(W131='Total Rankings (excl QB)'!$F:$F),0),1),\"\")","v":""},{"$f":"IFERROR(VLOOKUP($X131,'Total Rankings (excl QB)'!$D:$E,2,0),0)","v":0},0,null,{"$f":"IFERROR(VLOOKUP($X131,'Total Rankings (excl QB)'!$D:$L,4,0),\"\")","v":""},{"$f":"IFERROR(VLOOKUP($X131,'Total Rankings (excl QB)'!$D:$L,5,0),\"\")","v":""},{"$f":"IFERROR(VLOOKUP($X131,'Total Rankings (excl QB)'!$D:$L,6,0),\"\")","v":""},{"$f":"IFERROR(VLOOKUP($X131,'Total Rankings (excl QB)'!$D:$L,7,0),\"\")","v":""},{"$f":"IFERROR(VLOOKUP($X131,'Total Rankings (excl QB)'!$D:$L,8,0),\"\")","v":""}]
[129,{"$f":"IFERROR(INDEX('Total Rankings (excl QB)'!$D:$D,MATCH(1,(\"Wide Receiver\"='Total Rankings (excl QB)'!$C:$C)*(A132='Total Rankings (excl QB)'!$F:$F),0),1),\"\")","v":""},{"$f":"IFERROR(VLOOKUP($B132,'Total Rankings (excl QB)'!$D:$E,2,0),0)","v":0},0,null,{"$f":"IFERROR(VLOOKUP($B132,'Total Rankings (excl QB)'!$D:$L,4,0),\"\")","v":""},{"$f":"IFERROR(VLOOKUP($B132,'Total Rankings (excl QB)'!$D:$L,5,0),\"\")","v":""},{"$f":"IFERROR(VLOOKUP($B132,'Total Rankings (excl QB)'!$D:$L,6,0),\"\")","v":""},{"$f":"IFERROR(VLOOKUP($B132,'Total Rankings (excl QB)'!$D:$L,7,0),\"\")","v":""},{"$f":"IFERROR(VLOOKUP($B132,'Total Rankings (excl QB)'!$D:$L,8,0),\"\")","v":""}]
[130,{"$f":"IFERROR(INDEX('Total Rankings (excl QB)'!$D:$D,MATCH(1,(\"Wide Receiver\"='Total Rankings (excl QB)'!$C:$C)*(A133='Total Rankings (excl QB)'!$F:$F),0),1),\"\")","v":""},{"$f":"IFERROR(VLOOKUP($B133,'Total Rankings (excl QB)'!$D:$E,2,0),0)","v":0},{"$f":"IFERROR(C133/17,0)","v":0},null,{"$f":"IFERROR(VLOOKUP($B133,'Total Rankings (excl QB)'!$D:$L,4,0),\"\")","v":""},{"$f":"IFERROR(VLOOKUP($B133,'Total Rankings (excl QB)'!$D:$L,5,0),\"\")","v":""},{"$f":"IFERROR(VLOOKUP($B133,'Total Rankings (excl QB)'!$D:$L,6,0),\"\")","v":""},{"$f":"IFERROR(VLOOKUP($B133,'Total Rankings (excl QB)'!$D:$L,7,0),\"\")","v":""},{"$f":"IFERROR(VLOOKUP($B133,'Total Rankings (excl QB)'!$D:$L,8,0),\"\")","v":""}]
[131,{"$f":"IFERROR(INDEX('Total Rankings (excl QB)'!$D:$D,MATCH(1,(\"Wide Receiver\"='Total Rankings (excl QB)'!$C:$C)*(A134='Total Rankings (excl QB)'!$F:$F),0),1),\"\")","v":""},{"$f":"IFERROR(VLOOKUP($B134,'Total Rankings (excl QB)'!$D:$E,2,0),0)","v":0},0,null,{"$f":"IFERROR(VLOOKUP($B134,'Total Rankings (excl QB)'!$D:$L,4,0),\"\")","v":""},{"$f":"IFERROR(VLOOKUP($B134,'Total Rankings (excl QB)'!$D:$L,5,0),\"\")","v":""},{"$f":"IFERROR(VLOOKUP($B134,'Total Rankings (excl QB)'!$D:$L,6,0),\"\")","v":""},{"$f":"IFERROR(VLOOKUP($B134,'Total Rankings (excl QB)'!$D:$L,7,0),\"\")","v":""},{"$f":"IFERROR(VLOOKUP($B134,'Total Rankings (excl QB)'!$D:$L,8,0),\"\")","v":""}]
[132,{"$f":"IFERROR(INDEX('Total Rankings (excl QB)'!$D:$D,MATCH(1,(\"Wide Receiver\"='Total Rankings (excl QB)'!$C:$C)*(A135='Total Rankings (excl QB)'!$F:$F),0),1),\"\")","v":""},{"$f":"IFERROR(VLOOKUP($B135,'Total Rankings (excl QB)'!$D:$E,2,0),0)","v":0},0,null,{"$f":"IFERROR(VLOOKUP($B135,'Total Rankings (excl QB)'!$D:$L,4,0),\"\")","v":""},{"$f":"IFERROR(VLOOKUP($B135,'Total Rankings (excl QB)'!$D:$L,5,0),\"\")","v":""},{"$f":"IFERROR(VLOOKUP($B135,'Total Rankings (excl QB)'!$D:$L,6,0),\"\")","v":""},{"$f":"IFERROR(VLOOKUP($B135,'Total Rankings (excl QB)'!$D:$L,7,0),\"\")","v":""},{"$f":"IFERROR(VLOOKUP($B135,'Total Rankings (excl QB)'!$D:$L,8,0),\"\")","v":""}]
[133,{"$f":"IFERROR(INDEX('Total Rankings (excl QB)'!$D:$D,MATCH(1,(\"Wide Receiver\"='Total Rankings (excl QB)'!$C:$C)*(A136='Total Rankings (excl QB)'!$F:$F),0),1),\"\")","v":""},{"$f":"IFERROR(VLOOKUP($B136,'Total Rankings (excl QB)'!$D:$E,2,0),0)","v":0},0,null,{"$f":"IFERROR(VLOOKUP($B136,'Total Rankings (excl QB)'!$D:$L,4,0),\"\")","v":""},{"$f":"IFERROR(VLOOKUP($B136,'Total Rankings (excl QB)'!$D:$L,5,0),\"\")","v":""},{"$f":"IFERROR(VLOOKUP($B136,'Total Rankings (excl QB)'!$D:$L,6,0),\"\")","v":""},{"$f":"IFERROR(VLOOKUP($B136,'Total Rankings (excl QB)'!$D:$L,7,0),\"\")","v":""},{"$f":"IFERROR(VLOOKUP($B136,'Total Rankings (excl QB)'!$D:$L,8,0),\"\")","v":""}]
[134,{"$f":"IFERROR(INDEX('Total Rankings (excl QB)'!$D:$D,MATCH(1,(\"Wide Receiver\"='Total Rankings (excl QB)'!$C:$C)*(A137='Total Rankings (excl QB)'!$F:$F),0),1),\"\")","v":""},{"$f":"IFERROR(VLOOKUP($B137,'Total Rankings (excl QB)'!$D:$E,2,0),0)","v":0},0,null,{"$f":"IFERROR(VLOOKUP($B137,'Total Rankings (excl QB)'!$D:$L,4,0),\"\")","v":""},{"$f":"IFERROR(VLOOKUP($B137,'Total Rankings (excl QB)'!$D:$L,5,0),\"\")","v":""},{"$f":"IFERROR(VLOOKUP($B137,'Total Rankings (excl QB)'!$D:$L,6,0),\"\")","v":""},{"$f":"IFERROR(VLOOKUP($B137,'Total Rankings (excl QB)'!$D:$L,7,0),\"\")","v":""},{"$f":"IFERROR(VLOOKUP($B137,'Total Rankings (excl QB)'!$D:$L,8,0),\"\")","v":""}]
[135,{"$f":"IFERROR(INDEX('Total Rankings (excl QB)'!$D:$D,MATCH(1,(\"Wide Receiver\"='Total Rankings (excl QB)'!$C:$C)*(A138='Total Rankings (excl QB)'!$F:$F),0),1),\"\")","v":""},{"$f":"IFERROR(VLOOKUP($B138,'Total Rankings (excl QB)'!$D:$E,2,0),0)","v":0},0,null,{"$f":"IFERROR(VLOOKUP($B138,'Total Rankings (excl QB)'!$D:$L,4,0),\"\")","v":""},{"$f":"IFERROR(VLOOKUP($B138,'Total Rankings (excl QB)'!$D:$L,5,0),\"\")","v":""},{"$f":"IFERROR(VLOOKUP($B138,'Total Rankings (excl QB)'!$D:$L,6,0),\"\")","v":""},{"$f":"IFERROR(VLOOKUP($B138,'Total Rankings (excl QB)'!$D:$L,7,0),\"\")","v":""},{"$f":"IFERROR(VLOOKUP($B138,'Total Rankings (excl QB)'!$D:$L,8,0),\"\")","v":""}]
[136,{"$f":"IFERROR(INDEX('Total Rankings (excl QB)'!$D:$D,MATCH(1,(\"Wide Receiver\"='Total Rankings (excl QB)'!$C:$C)*(A139='Total Rankings (excl QB)'!$F:$F),0),1),\"\")","v":""},{"$f":"IFERROR(VLOOKUP($B139,'Total Rankings (excl QB)'!$D:$E,2,0),0)","v":0},0,null,{"$f":"IFERROR(VLOOKUP($B139,'Total Rankings (excl QB)'!$D:$L,4,0),\"\")","v":""},{"$f":"IFERROR(VLOOKUP($B139,'Total Rankings (excl QB)'!$D:$L,5,0),\"\")","v":""},{"$f":"IFERROR(VLOOKUP($B139,'Total Rankings (excl QB)'!$D:$L,6,0),\"\")","v":""},{"$f":"IFERROR(VLOOKUP($B139,'Total Rankings (excl QB)'!$D:$L,7,0),\"\")","v":""},{"$f":"IFERROR(VLOOKUP($B139,'Total Rankings (excl QB)'!$D:$L,8,0),\"\")","v":""}]
[137,{"$f":"IFERROR(INDEX('Total Rankings (excl QB)'!$D:$D,MATCH(1,(\"Wide Receiver\"='Total Rankings (excl QB)'!$C:$C)*(A140='Total Rankings (excl QB)'!$F:$F),0),1),\"\")","v":""},{"$f":"IFERROR(VLOOKUP($B140,'Total Rankings (excl QB)'!$D:$E,2,0),0)","v":0},0,null,{"$f":"IFERROR(VLOOKUP($B140,'Total Rankings (excl QB)'!$D:$L,4,0),\"\")","v":""},{"$f":"IFERROR(VLOOKUP($B140,'Total Rankings (excl QB)'!$D:$L,5,0),\"\")","v":""},{"$f":"IFERROR(VLOOKUP($B140,'Total Rankings (excl QB)'!$D:$L,6,0),\"\")","v":""},{"$f":"IFERROR(VLOOKUP($B140,'Total Rankings (excl QB)'!$D:$L,7,0),\"\")","v":""},{"$f":"IFERROR(VLOOKUP($B140,'Total Rankings (excl QB)'!$D:$L,8,0),\"\")","v":""}]
[138,{"$f":"IFERROR(INDEX('Total Rankings (excl QB)'!$D:$D,MATCH(1,(\"Wide Receiver\"='Total Rankings (excl QB)'!$C:$C)*(A141='Total Rankings (excl QB)'!$F:$F),0),1),\"\")","v":""},{"$f":"IFERROR(VLOOKUP($B141,'Total Rankings (excl QB)'!$D:$E,2,0),0)","v":0},0,null,{"$f":"IFERROR(VLOOKUP($B141,'Total Rankings (excl QB)'!$D:$L,4,0),\"\")","v":""},{"$f":"IFERROR(VLOOKUP($B141,'Total Rankings (excl QB)'!$D:$L,5,0),\"\")","v":""},{"$f":"IFERROR(VLOOKUP($B141,'Total Rankings (excl QB)'!$D:$L,6,0),\"\")","v":""},{"$f":"IFERROR(VLOOKUP($B141,'Total Rankings (excl QB)'!$D:$L,7,0),\"\")","v":""},{"$f":"IFERROR(VLOOKUP($B141,'Total Rankings (excl QB)'!$D:$L,8,0),\"\")","v":""}]
[139,{"$f":"IFERROR(INDEX('Total Rankings (excl QB)'!$D:$D,MATCH(1,(\"Wide Receiver\"='Total Rankings (excl QB)'!$C:$C)*(A142='Total Rankings (excl QB)'!$F:$F),0),1),\"\")","v":""},{"$f":"IFERROR(VLOOKUP($B142,'Total Rankings (excl QB)'!$D:$E,2,0),0)","v":0},0,null,{"$f":"IFERROR(VLOOKUP($B142,'Total Rankings (excl QB)'!$D:$L,4,0),\"\")","v":""},{"$f":"IFERROR(VLOOKUP($B142,'Total Rankings (excl QB)'!$D:$L,5,0),\"\")","v":""},{"$f":"IFERROR(VLOOKUP($B142,'Total Rankings (excl QB)'!$D:$L,6,0),\"\")","v":""},{"$f":"IFERROR(VLOOKUP($B142,'Total Rankings (excl QB)'!$D:$L,7,0),\"\")","v":""},{"$f":"IFERROR(VLOOKUP($B142,'Total Rankings (excl QB)'!$D:$L,8,0),\"\")","v":""}]
[140,{"$f":"IFERROR(INDEX('Total Rankings (excl QB)'!$D:$D,MATCH(1,(\"Wide Receiver\"='Total Rankings (excl QB)'!$C:$C)*(A143='Total Rankings (excl QB)'!$F:$F),0),1),\"\")","v":""},{"$f":"IFERROR(VLOOKUP($B143,'Total Rankings (excl QB)'!$D:$E,2,0),0)","v":0},0,null,{"$f":"IFERROR(VLOOKUP($B143,'Total Rankings (excl QB)'!$D:$L,4,0),\"\")","v":""},{"$f":"IFERROR(VLOOKUP($B143,'Total Rankings (excl QB)'!$D:$L,5,0),\"\")","v":""},{"$f":"IFERROR(VLOOKUP($B143,'Total Rankings (excl QB)'!$D:$L,6,0),\"\")","v":""},{"$f":"IFERROR(VLOOKUP($B143,'Total Rankings (excl QB)'!$D:$L,7,0),\"\")","v":""},{"$f":"IFERROR(VLOOKUP($B143,'Total Rankings (excl QB)'!$D:$L,8,0),\"\")","v":""}]
[141,{"$f":"IFERROR(INDEX('Total Rankings (excl QB)'!$D:$D,MATCH(1,(\"Wide Receiver\"='Total Rankings (excl QB)'!$C:$C)*(A144='Total Rankings (excl QB)'!$F:$F),0),1),\"\")","v":""},{"$f":"IFERROR(VLOOKUP($B144,'Total Rankings (excl QB)'!$D:$E,2,0),0)","v":0},0,null,{"$f":"IFERROR(VLOOKUP($B144,'Total Rankings (excl QB)'!$D:$L,4,0),\"\")","v":""},{"$f":"IFERROR(VLOOKUP($B144,'Total Rankings (excl QB)'!$D:$L,5,0),\"\")","v":""},{"$f":"IFERROR(VLOOKUP($B144,'Total Rankings (excl QB)'!$D:$L,6,0),\"\")","v":""},{"$f":"IFERROR(VLOOKUP($B144,'Total Rankings (excl QB)'!$D:$L,7,0),\"\")","v":""},{"$f":"IFERROR(VLOOKUP($B144,'Total Rankings (excl QB)'!$D:$L,8,0),\"\")","v":""}]
[142,{"$f":"IFERROR(INDEX('Total Rankings (excl QB)'!$D:$D,MATCH(1,(\"Wide Receiver\"='Total Rankings (excl QB)'!$C:$C)*(A145='Total Rankings (excl QB)'!$F:$F),0),1),\"\")","v":""},{"$f":"IFERROR(VLOOKUP($B145,'Total Rankings (excl QB)'!$D:$E,2,0),0)","v":0},0,null,{"$f":"IFERROR(VLOOKUP($B145,'Total Rankings (excl QB)'!$D:$L,4,0),\"\")","v":""},{"$f":"IFERROR(VLOOKUP($B145,'Total Rankings (excl QB)'!$D:$L,5,0),\"\")","v":""},{"$f":"IFERROR(VLOOKUP($B145,'Total Rankings (excl QB)'!$D:$L,6,0),\"\")","v":""},{"$f":"IFERROR(VLOOKUP($B145,'Total Rankings (excl QB)'!$D:$L,7,0),\"\")","v":""},{"$f":"IFERROR(VLOOKUP($B145,'Total Rankings (excl QB)'!$D:$L,8,0),\"\")","v":""}]
[143,{"$f":"IFERROR(INDEX('Total Rankings (excl QB)'!$D:$D,MATCH(1,(\"Wide Receiver\"='Total Rankings (excl QB)'!$C:$C)*(A146='Total Rankings (excl QB)'!$F:$F),0),1),\"\")","v":""},{"$f":"IFERROR(VLOOKUP($B146,'Total Rankings (excl QB)'!$D:$E,2,0),0)","v":0},0,null,{"$f":"IFERROR(VLOOKUP($B146,'Total Rankings (excl QB)'!$D:$L,4,0),\"\")","v":""},{"$f":"IFERROR(VLOOKUP($B146,'Total Rankings (excl QB)'!$D:$L,5,0),\"\")","v":""},{"$f":"IFERROR(VLOOKUP($B146,'Total Rankings (excl QB)'!$D:$L,6,0),\"\")","v":""},{"$f":"IFERROR(VLOOKUP($B146,'Total Rankings (excl QB)'!$D:$L,7,0),\"\")","v":""},{"$f":"IFERROR(VLOOKUP($B146,'Total Rankings (excl QB)'!$D:$L,8,0),\"\")","v":""}]
[144,{"$f":"IFERROR(INDEX('Total Rankings (excl QB)'!$D:$D,MATCH(1,(\"Wide Receiver\"='Total Rankings (excl QB)'!$C:$C)*(A147='Total Rankings (excl QB)'!$F:$F),0),1),\"\")","v":""},{"$f":"IFERROR(VLOOKUP($B147,'Total Rankings (excl QB)'!$D:$E,2,0),0)","v":0},0,null,{"$f":"IFERROR(VLOOKUP($B147,'Total Rankings (excl QB)'!$D:$L,4,0),\"\")","v":""},{"$f":"IFERROR(VLOOKUP($B147,'Total Rankings (excl QB)'!$D:$L,5,0),\"\")","v":""},{"$f":"IFERROR(VLOOKUP($B147,'Total Rankings (excl QB)'!$D:$L,6,0),\"\")","v":""},{"$f":"IFERROR(VLOOKUP($B147,'Total Rankings (excl QB)'!$D:$L,7,0),\"\")","v":""},{"$f":"IFERROR(VLOOKUP($B147,'Total Rankings (excl QB)'!$D:$L,8,0),\"\")","v":""}]
[145,{"$f":"IFERROR(INDEX('Total Rankings (excl QB)'!$D:$D,MATCH(1,(\"Wide Receiver\"='Total Rankings (excl QB)'!$C:$C)*(A148='Total Rankings (excl QB)'!$F:$F),0),1),\"\")","v":""},{"$f":"IFERROR(VLOOKUP($B148,'Total Rankings (excl QB)'!$D:$E,2,0),0)","v":0},0,null,{"$f":"IFERROR(VLOOKUP($B148,'Total Rankings (excl QB)'!$D:$L,4,0),\"\")","v":""},{"$f":"IFERROR(VLOOKUP($B148,'Total Rankings (excl QB)'!$D:$L,5,0),\"\")","v":""},{"$f":"IFERROR(VLOOKUP($B148,'Total Rankings (excl QB)'!$D:$L,6,0),\"\")","v":""},{"$f":"IFERROR(VLOOKUP($B148,'Total Rankings (excl QB)'!$D:$L,7,0),\"\")","v":""},{"$f":"IFERROR(VLOOKUP($B148,'Total Rankings (excl QB)'!$D:$L,8,0),\"\")","v":""}]
[146,{"$f":"IFERROR(INDEX('Total Rankings (excl QB)'!$D:$D,MATCH(1,(\"Wide Receiver\"='Total Rankings (excl QB)'!$C:$C)*(A149='Total Rankings (excl QB)'!$F:$F),0),1),\"\")","v":""},{"$f":"IFERROR(VLOOKUP($B149,'Total Rankings (excl QB)'!$D:$E,2,0),0)","v":0},0,null,{"$f":"IFERROR(VLOOKUP($B149,'Total Rankings (excl QB)'!$D:$L,4,0),\"\")","v":""},{"$f":"IFERROR(VLOOKUP($B149,'Total Rankings (excl QB)'!$D:$L,5,0),\"\")","v":""},{"$f":"IFERROR(VLOOKUP($B149,'Total Rankings (excl QB)'!$D:$L,6,0),\"\")","v":""},{"$f":"IFERROR(VLOOKUP($B149,'Total Rankings (excl QB)'!$D:$L,7,0),\"\")","v":""},{"$f":"IFERROR(VLOOKUP($B149,'Total Rankings (excl QB)'!$D:$L,8,0),\"\")","v":""}]
[147,{"$f":"IFERROR(INDEX('Total Rankings (excl QB)'!$D:$D,MATCH(1,(\"Wide Receiver\"='Total Rankings (excl QB)'!$C:$C)*(A150='Total Rankings (excl QB)'!$F:$F),0),1),\"\")","v":""},{"$f":"IFERROR(VLOOKUP($B150,'Total Rankings (excl QB)'!$D:$E,2,0),0)","v":0},0,null,{"$f":"IFERROR(VLOOKUP($B150,'Total Rankings (excl QB)'!$D:$L,4,0),\"\")","v":""},{"$f":"IFERROR(VLOOKUP($B150,'Total Rankings (excl QB)'!$D:$L,5,0),\"\")","v":""},{"$f":"IFERROR(VLOOKUP($B150,'Total Rankings (excl QB)'!$D:$L,6,0),\"\")","v":""},{"$f":"IFERROR(VLOOKUP($B150,'Total Rankings (excl QB)'!$D:$L,7,0),\"\")","v":""},{"$f":"IFERROR(VLOOKUP($B150,'Total Rankings (excl QB)'!$D:$L,8,0),\"\")","v":""}]
[148,{"$f":"IFERROR(INDEX('Total Rankings (excl QB)'!$D:$D,MATCH(1,(\"Wide Receiver\"='Total Rankings (excl QB)'!$C:$C)*(A151='Total Rankings (excl QB)'!$F:$F),0),1),\"\")","v":""},{"$f":"IFERROR(VLOOKUP($B151,'Total Rankings (excl QB)'!$D:$E,2,0),0)","v":0},0,null,{"$f":"IFERROR(VLOOKUP($B151,'Total Rankings (excl QB)'!$D:$L,4,0),\"\")","v":""},{"$f":"IFERROR(VLOOKUP($B151,'Total Rankings (excl QB)'!$D:$L,5,0),\"\")","v":""},{"$f":"IFERROR(VLOOKUP($B151,'Total Rankings (excl QB)'!$D:$L,6,0),\"\")","v":""},{"$f":"IFERROR(VLOOKUP($B151,'Total Rankings (excl QB)'!$D:$L,7,0),\"\")","v":""},{"$f":"IFERROR(VLOOKUP($B151,'Total Rankings (excl QB)'!$D:$L,8,0),\"\")","v":""}]
[149,{"$f":"IFERROR(INDEX('Total Rankings (excl QB)'!$D:$D,MATCH(1,(\"Wide Receiver\"='Total Rankings (excl QB)'!$C:$C)*(A152='Total Rankings (excl QB)'!$F:$F),0),1),\"\")","v":""},{"$f":"IFERROR(VLOOKUP($B152,'Total Rankings (excl QB)'!$D:$E,2,0),0)","v":0},0,null,{"$f":"IFERROR(VLOOKUP($B152,'Total Rankings (excl QB)'!$D:$L,4,0),\"\")","v":""},{"$f":"IFERROR(VLOOKUP($B152,'Total Rankings (excl QB)'!$D:$L,5,0),\"\")","v":""},{"$f":"IFERROR(VLOOKUP($B152,'Total Rankings (excl QB)'!$D:$L,6,0),\"\")","v":""},{"$f":"IFERROR(VLOOKUP($B152,'Total Rankings (excl QB)'!$D:$L,7,0),\"\")","v":""},{"$f":"IFERROR(VLOOKUP($B152,'Total Rankings (excl QB)'!$D:$L,8,0),\"\")","v":""}]
[150,{"$f":"IFERROR(INDEX('Total Rankings (excl QB)'!$D:$D,MATCH(1,(\"Wide Receiver\"='Total Rankings (excl QB)'!$C:$C)*(A153='Total Rankings (excl QB)'!$F:$F),0),1),\"\")","v":""},{"$f":"IFERROR(VLOOKUP($B153,'Total Rankings (excl QB)'!$D:$E,2,0),0)","v":0},0,null,{"$f":"IFERROR(VLOOKUP($B153,'Total Rankings (excl QB)'!$D:$L,4,0),\"\")","v":""},{"$f":"IFERROR(VLOOKUP($B153,'Total Rankings (excl QB)'!$D:$L,5,0),\"\")","v":""},{"$f":"IFERROR(VLOOKUP($B153,'Total Rankings (excl QB)'!$D:$L,6,0),\"\")","v":""},{"$f":"IFERROR(VLOOKUP($B153,'Total Rankings (excl QB)'!$D:$L,7,0),\"\")","v":""},{"$f":"IFERROR(VLOOKUP($B153,'Total Rankings (excl QB)'!$D:$L,8,0),\"\")","v":""}]
[151,{"$f":"IFERROR(INDEX('Total Rankings (excl QB)'!$D:$D,MATCH(1,(\"Wide Receiver\"='Total Rankings (excl QB)'!$C:$C)*(A154='Total Rankings (excl QB)'!$F:$F),0),1),\"\")","v":""},{"$f":"IFERROR(VLOOKUP($B154,'Total Rankings (excl QB)'!$D:$E,2,0),0)","v":0},0,null,{"$f":"IFERROR(VLOOKUP($B154,'Total Rankings (excl QB)'!$D:$L,4,0),\"\")","v":""},{"$f":"IFERROR(VLOOKUP($B154,'Total Rankings (excl QB)'!$D:$L,5,0),\"\")","v":""},{"$f":"IFERROR(VLOOKUP($B154,'Total Rankings (excl QB)'!$D:$L,6,0),\"\")","v":""},{"$f":"IFERROR(VLOOKUP($B154,'Total Rankings (excl QB)'!$D:$L,7,0),\"\")","v":""},{"$f":"IFERROR(VLOOKUP($B154,'Total Rankings (excl QB)'!$D:$L,8,0),\"\")","v":""}]
[152,{"$f":"IFERROR(INDEX('Total Rankings (excl QB)'!$D:$D,MATCH(1,(\"Wide Receiver\"='Total Rankings (excl QB)'!$C:$C)*(A155='Total Rankings (excl QB)'!$F:$F),0),1),\"\")","v":""},{"$f":"IFERROR(VLOOKUP($B155,'Total Rankings (excl QB)'!$D:$E,2,0),0)","v":0},0,null,{"$f":"IFERROR(VLOOKUP($B155,'Total Rankings (excl QB)'!$D:$L,4,0),\"\")","v":""},{"$f":"IFERROR(VLOOKUP($B155,'Total Rankings (excl QB)'!$D:$L,5,0),\"\")","v":""},{"$f":"IFERROR(VLOOKUP($B155,'Total Rankings (excl QB)'!$D:$L,6,0),\"\")","v":""},{"$f":"IFERROR(VLOOKUP($B155,'Total Rankings (excl QB)'!$D:$L,7,0),\"\")","v":""},{"$f":"IFERROR(VLOOKUP($B155,'Total Rankings (excl QB)'!$D:$L,8,0),\"\")","v":""}]
[153,{"$f":"IFERROR(INDEX('Total Rankings (excl QB)'!$D:$D,MATCH(1,(\"Wide Receiver\"='Total Rankings (excl QB)'!$C:$C)*(A156='Total Rankings (excl QB)'!$F:$F),0),1),\"\")","v":""},{"$f":"IFERROR(VLOOKUP($B156,'Total Rankings (excl QB)'!$D:$E,2,0),0)","v":0},0,null,{"$f":"IFERROR(VLOOKUP($B156,'Total Rankings (excl QB)'!$D:$L,4,0),\"\")","v":""},{"$f":"IFERROR(VLOOKUP($B156,'Total Rankings (excl QB)'!$D:$L,5,0),\"\")","v":""},{"$f":"IFERROR(VLOOKUP($B156,'Total Rankings (excl QB)'!$D:$L,6,0),\"\")","v":""},{"$f":"IFERROR(VLOOKUP($B156,'Total Rankings (excl QB)'!$D:$L,7,0),\"\")","v":""},{"$f":"IFERROR(VLOOKUP($B156,'Total Rankings (excl QB)'!$D:$L,8,0),\"\")","v":""}]
[154,{"$f":"IFERROR(INDEX('Total Rankings (excl QB)'!$D:$D,MATCH(1,(\"Wide Receiver\"='Total Rankings (excl QB)'!$C:$C)*(A157='Total Rankings (excl QB)'!$F:$F),0),1),\"\")","v":""},{"$f":"IFERROR(VLOOKUP($B157,'Total Rankings (excl QB)'!$D:$E,2,0),0)","v":0},0,null,{"$f":"IFERROR(VLOOKUP($B157,'Total Rankings (excl QB)'!$D:$L,4,0),\"\")","v":""},{"$f":"IFERROR(VLOOKUP($B157,'Total Rankings (excl QB)'!$D:$L,5,0),\"\")","v":""},{"$f":"IFERROR(VLOOKUP($B157,'Total Rankings (excl QB)'!$D:$L,6,0),\"\")","v":""},{"$f":"IFERROR(VLOOKUP($B157,'Total Rankings (excl QB)'!$D:$L,7,0),\"\")","v":""},{"$f":"IFERROR(VLOOKUP($B157,'Total Rankings (excl QB)'!$D:$L,8,0),\"\")","v":""}]
[155,{"$f":"IFERROR(INDEX('Total Rankings (excl QB)'!$D:$D,MATCH(1,(\"Wide Receiver\"='Total Rankings (excl QB)'!$C:$C)*(A158='Total Rankings (excl QB)'!$F:$F),0),1),\"\")","v":""},{"$f":"IFERROR(VLOOKUP($B158,'Total Rankings (excl QB)'!$D:$E,2,0),0)","v":0},0,null,{"$f":"IFERROR(VLOOKUP($B158,'Total Rankings (excl QB)'!$D:$L,4,0),\"\")","v":""},{"$f":"IFERROR(VLOOKUP($B158,'Total Rankings (excl QB)'!$D:$L,5,0),\"\")","v":""},{"$f":"IFERROR(VLOOKUP($B158,'Total Rankings (excl QB)'!$D:$L,6,0),\"\")","v":""},{"$f":"IFERROR(VLOOKUP($B158,'Total Rankings (excl QB)'!$D:$L,7,0),\"\")","v":""},{"$f":"IFERROR(VLOOKUP($B158,'Total Rankings (excl QB)'!$D:$L,8,0),\"\")","v":""}]
[156,{"$f":"IFERROR(INDEX('Total Rankings (excl QB)'!$D:$D,MATCH(1,(\"Wide Receiver\"='Total Rankings (excl QB)'!$C:$C)*(A159='Total Rankings (excl QB)'!$F:$F),0),1),\"\")","v":""},{"$f":"IFERROR(VLOOKUP($B159,'Total Rankings (excl QB)'!$D:$E,2,0),0)","v":0},0,null,{"$f":"IFERROR(VLOOKUP($B159,'Total Rankings (excl QB)'!$D:$L,4,0),\"\")","v":""},{"$f":"IFERROR(VLOOKUP($B159,'Total Rankings (excl QB)'!$D:$L,5,0),\"\")","v":""},{"$f":"IFERROR(VLOOKUP($B159,'Total Rankings (excl QB)'!$D:$L,6,0),\"\")","v":""},{"$f":"IFERROR(VLOOKUP($B159,'Total Rankings (excl QB)'!$D:$L,7,0),\"\")","v":""},{"$f":"IFERROR(VLOOKUP($B159,'Total Rankings (excl QB)'!$D:$L,8,0),\"\")","v":""}]
[157,{"$f":"IFERROR(INDEX('Total Rankings (excl QB)'!$D:$D,MATCH(1,(\"Wide Receiver\"='Total Rankings (excl QB)'!$C:$C)*(A160='Total Rankings (excl QB)'!$F:$F),0),1),\"\")","v":""},{"$f":"IFERROR(VLOOKUP($B160,'Total Rankings (excl QB)'!$D:$E,2,0),0)","v":0},0,null,{"$f":"IFERROR(VLOOKUP($B160,'Total Rankings (excl QB)'!$D:$L,4,0),\"\")","v":""},{"$f":"IFERROR(VLOOKUP($B160,'Total Rankings (excl QB)'!$D:$L,5,0),\"\")","v":""},{"$f":"IFERROR(VLOOKUP($B160,'Total Rankings (excl QB)'!$D:$L,6,0),\"\")","v":""},{"$f":"IFERROR(VLOOKUP($B160,'Total Rankings (excl QB)'!$D:$L,7,0),\"\")","v":""},{"$f":"IFERROR(VLOOKUP($B160,'Total Rankings (excl QB)'!$D:$L,8,0),\"\")","v":""}]
[158,{"$f":"IFERROR(INDEX('Total Rankings (excl QB)'!$D:$D,MATCH(1,(\"Wide Receiver\"='Total Rankings (excl QB)'!$C:$C)*(A161='Total Rankings (excl QB)'!$F:$F),0),1),\"\")","v":""},{"$f":"IFERROR(VLOOKUP($B161,'Total Rankings (excl QB)'!$D:$E,2,0),0)","v":0},0,null,{"$f":"IFERROR(VLOOKUP($B161,'Total Rankings (excl QB)'!$D:$L,4,0),\"\")","v":""},{"$f":"IFERROR(VLOOKUP($B161,'Total Rankings (excl QB)'!$D:$L,5,0),\"\")","v":""},{"$f":"IFERROR(VLOOKUP($B161,'Total Rankings (excl QB)'!$D:$L,6,0),\"\")","v":""},{"$f":"IFERROR(VLOOKUP($B161,'Total Rankings (excl QB)'!$D:$L,7,0),\"\")","v":""},{"$f":"IFERROR(VLOOKUP($B161,'Total Rankings (excl QB)'!$D:$L,8,0),\"\")","v":""}]
[159,{"$f":"IFERROR(INDEX('Total Rankings (excl QB)'!$D:$D,MATCH(1,(\"Wide Receiver\"='Total Rankings (excl QB)'!$C:$C)*(A162='Total Rankings (excl QB)'!$F:$F),0),1),\"\")","v":""},{"$f":"IFERROR(VLOOKUP($B162,'Total Rankings (excl QB)'!$D:$E,2,0),0)","v":0},0,null,{"$f":"IFERROR(VLOOKUP($B162,'Total Rankings (excl QB)'!$D:$L,4,0),\"\")","v":""},{"$f":"IFERROR(VLOOKUP($B162,'Total Rankings (excl QB)'!$D:$L,5,0),\"\")","v":""},{"$f":"IFERROR(VLOOKUP($B162,'Total Rankings (excl QB)'!$D:$L,6,0),\"\")","v":""},{"$f":"IFERROR(VLOOKUP($B162,'Total Rankings (excl QB)'!$D:$L,7,0),\"\")","v":""},{"$f":"IFERROR(VLOOKUP($B162,'Total Rankings (excl QB)'!$D:$L,8,0),\"\")","v":""}]
[160,{"$f":"IFERROR(INDEX('Total Rankings (excl QB)'!$D:$D,MATCH(1,(\"Wide Receiver\"='Total Rankings (excl QB)'!$C:$C)*(A163='Total Rankings (excl QB)'!$F:$F),0),1),\"\")","v":""},{"$f":"IFERROR(VLOOKUP($B163,'Total Rankings (excl QB)'!$D:$E,2,0),0)","v":0},0,null,{"$f":"IFERROR(VLOOKUP($B163,'Total Rankings (excl QB)'!$D:$L,4,0),\"\")","v":""},{"$f":"IFERROR(VLOOKUP($B163,'Total Rankings (excl QB)'!$D:$L,5,0),\"\")","v":""},{"$f":"IFERROR(VLOOKUP($B163,'Total Rankings (excl QB)'!$D:$L,6,0),\"\")","v":""},{"$f":"IFERROR(VLOOKUP($B163,'Total Rankings (excl QB)'!$D:$L,7,0),\"\")","v":""},{"$f":"IFERROR(VLOOKUP($B163,'Total Rankings (excl QB)'!$D:$L,8,0),\"\")","v":""}]
[161,{"$f":"IFERROR(INDEX('Total Rankings (excl QB)'!$D:$D,MATCH(1,(\"Wide Receiver\"='Total Rankings (excl QB)'!$C:$C)*(A164='Total Rankings (excl QB)'!$F:$F),0),1),\"\")","v":""},{"$f":"IFERROR(VLOOKUP($B164,'Total Rankings (excl QB)'!$D:$E,2,0),0)","v":0},0,null,{"$f":"IFERROR(VLOOKUP($B164,'Total Rankings (excl QB)'!$D:$L,4,0),\"\")","v":""},{"$f":"IFERROR(VLOOKUP($B164,'Total Rankings (excl QB)'!$D:$L,5,0),\"\")","v":""},{"$f":"IFERROR(VLOOKUP($B164,'Total Rankings (excl QB)'!$D:$L,6,0),\"\")","v":""},{"$f":"IFERROR(VLOOKUP($B164,'Total Rankings (excl QB)'!$D:$L,7,0),\"\")","v":""},{"$f":"IFERROR(VLOOKUP($B164,'Total Rankings (excl QB)'!$D:$L,8,0),\"\")","v":""}]
[162,{"$f":"IFERROR(INDEX('Total Rankings (excl QB)'!$D:$D,MATCH(1,(\"Wide Receiver\"='Total Rankings (excl QB)'!$C:$C)*(A165='Total Rankings (excl QB)'!$F:$F),0),1),\"\")","v":""},{"$f":"IFERROR(VLOOKUP($B165,'Total Rankings (excl QB)'!$D:$E,2,0),0)","v":0},0,null,{"$f":"IFERROR(VLOOKUP($B165,'Total Rankings (excl QB)'!$D:$L,4,0),\"\")","v":""},{"$f":"IFERROR(VLOOKUP($B165,'Total Rankings (excl QB)'!$D:$L,5,0),\"\")","v":""},{"$f":"IFERROR(VLOOKUP($B165,'Total Rankings (excl QB)'!$D:$L,6,0),\"\")","v":""},{"$f":"IFERROR(VLOOKUP($B165,'Total Rankings (excl QB)'!$D:$L,7,0),\"\")","v":""},{"$f":"IFERROR(VLOOKUP($B165,'Total Rankings (excl QB)'!$D:$L,8,0),\"\")","v":""}]
[163,{"$f":"IFERROR(INDEX('Total Rankings (excl QB)'!$D:$D,MATCH(1,(\"Wide Receiver\"='Total Rankings (excl QB)'!$C:$C)*(A166='Total Rankings (excl QB)'!$F:$F),0),1),\"\")","v":""},{"$f":"IFERROR(VLOOKUP($B166,'Total Rankings (excl QB)'!$D:$E,2,0),0)","v":0},0,null,{"$f":"IFERROR(VLOOKUP($B166,'Total Rankings (excl QB)'!$D:$L,4,0),\"\")","v":""},{"$f":"IFERROR(VLOOKUP($B166,'Total Rankings (excl QB)'!$D:$L,5,0),\"\")","v":""},{"$f":"IFERROR(VLOOKUP($B166,'Total Rankings (excl QB)'!$D:$L,6,0),\"\")","v":""},{"$f":"IFERROR(VLOOKUP($B166,'Total Rankings (excl QB)'!$D:$L,7,0),\"\")","v":""},{"$f":"IFERROR(VLOOKUP($B166,'Total Rankings (excl QB)'!$D:$L,8,0),\"\")","v":""}]
[164,{"$f":"IFERROR(INDEX('Total Rankings (excl QB)'!$D:$D,MATCH(1,(\"Wide Receiver\"='Total Rankings (excl QB)'!$C:$C)*(A167='Total Rankings (excl QB)'!$F:$F),0),1),\"\")","v":""},{"$f":"IFERROR(VLOOKUP($B167,'Total Rankings (excl QB)'!$D:$E,2,0),0)","v":0},0,null,{"$f":"IFERROR(VLOOKUP($B167,'Total Rankings (excl QB)'!$D:$L,4,0),\"\")","v":""},{"$f":"IFERROR(VLOOKUP($B167,'Total Rankings (excl QB)'!$D:$L,5,0),\"\")","v":""},{"$f":"IFERROR(VLOOKUP($B167,'Total Rankings (excl QB)'!$D:$L,6,0),\"\")","v":""},{"$f":"IFERROR(VLOOKUP($B167,'Total Rankings (excl QB)'!$D:$L,7,0),\"\")","v":""},{"$f":"IFERROR(VLOOKUP($B167,'Total Rankings (excl QB)'!$D:$L,8,0),\"\")","v":""}]
[165,{"$f":"IFERROR(INDEX('Total Rankings (excl QB)'!$D:$D,MATCH(1,(\"Wide Receiver\"='Total Rankings (excl QB)'!$C:$C)*(A168='Total Rankings (excl QB)'!$F:$F),0),1),\"\")","v":""},{"$f":"IFERROR(VLOOKUP($B168,'Total Rankings (excl QB)'!$D:$E,2,0),0)","v":0},0,null,{"$f":"IFERROR(VLOOKUP($B168,'Total Rankings (excl QB)'!$D:$L,4,0),\"\")","v":""},{"$f":"IFERROR(VLOOKUP($B168,'Total Rankings (excl QB)'!$D:$L,5,0),\"\")","v":""},{"$f":"IFERROR(VLOOKUP($B168,'Total Rankings (excl QB)'!$D:$L,6,0),\"\")","v":""},{"$f":"IFERROR(VLOOKUP($B168,'Total Rankings (excl QB)'!$D:$L,7,0),\"\")","v":""},{"$f":"IFERROR(VLOOKUP($B168,'Total Rankings (excl QB)'!$D:$L,8,0),\"\")","v":""}]
[166,{"$f":"IFERROR(INDEX('Total Rankings (excl QB)'!$D:$D,MATCH(1,(\"Wide Receiver\"='Total Rankings (excl QB)'!$C:$C)*(A169='Total Rankings (excl QB)'!$F:$F),0),1),\"\")","v":""},{"$f":"IFERROR(VLOOKUP($B169,'Total Rankings (excl QB)'!$D:$E,2,0),0)","v":0},0,null,{"$f":"IFERROR(VLOOKUP($B169,'Total Rankings (excl QB)'!$D:$L,4,0),\"\")","v":""},{"$f":"IFERROR(VLOOKUP($B169,'Total Rankings (excl QB)'!$D:$L,5,0),\"\")","v":""},{"$f":"IFERROR(VLOOKUP($B169,'Total Rankings (excl QB)'!$D:$L,6,0),\"\")","v":""},{"$f":"IFERROR(VLOOKUP($B169,'Total Rankings (excl QB)'!$D:$L,7,0),\"\")","v":""},{"$f":"IFERROR(VLOOKUP($B169,'Total Rankings (excl QB)'!$D:$L,8,0),\"\")","v":""}]
[167,{"$f":"IFERROR(INDEX('Total Rankings (excl QB)'!$D:$D,MATCH(1,(\"Wide Receiver\"='Total Rankings (excl QB)'!$C:$C)*(A170='Total Rankings (excl QB)'!$F:$F),0),1),\"\")","v":""},{"$f":"IFERROR(VLOOKUP($B170,'Total Rankings (excl QB)'!$D:$E,2,0),0)","v":0},0,null,{"$f":"IFERROR(VLOOKUP($B170,'Total Rankings (excl QB)'!$D:$L,4,0),\"\")","v":""},{"$f":"IFERROR(VLOOKUP($B170,'Total Rankings (excl QB)'!$D:$L,5,0),\"\")","v":""},{"$f":"IFERROR(VLOOKUP($B170,'Total Rankings (excl QB)'!$D:$L,6,0),\"\")","v":""},{"$f":"IFERROR(VLOOKUP($B170,'Total Rankings (excl QB)'!$D:$L,7,0),\"\")","v":""},{"$f":"IFERROR(VLOOKUP($B170,'Total Rankings (excl QB)'!$D:$L,8,0),\"\")","v":""}]
[168,{"$f":"IFERROR(INDEX('Total Rankings (excl QB)'!$D:$D,MATCH(1,(\"Wide Receiver\"='Total Rankings (excl QB)'!$C:$C)*(A171='Total Rankings (excl QB)'!$F:$F),0),1),\"\")","v":""},{"$f":"IFERROR(VLOOKUP($B171,'Total Rankings (excl QB)'!$D:$E,2,0),0)","v":0},0,null,{"$f":"IFERROR(VLOOKUP($B171,'Total Rankings (excl QB)'!$D:$L,4,0),\"\")","v":""},{"$f":"IFERROR(VLOOKUP($B171,'Total Rankings (excl QB)'!$D:$L,5,0),\"\")","v":""},{"$f":"IFERROR(VLOOKUP($B171,'Total Rankings (excl QB)'!$D:$L,6,0),\"\")","v":""},{"$f":"IFERROR(VLOOKUP($B171,'Total Rankings (excl QB)'!$D:$L,7,0),\"\")","v":""},{"$f":"IFERROR(VLOOKUP($B171,'Total Rankings (excl QB)'!$D:$L,8,0),\"\")","v":""}]
[169,{"$f":"IFERROR(INDEX('Total Rankings (excl QB)'!$D:$D,MATCH(1,(\"Wide Receiver\"='Total Rankings (excl QB)'!$C:$C)*(A172='Total Rankings (excl QB)'!$F:$F),0),1),\"\")","v":""},{"$f":"IFERROR(VLOOKUP($B172,'Total Rankings (excl QB)'!$D:$E,2,0),0)","v":0},0,null,{"$f":"IFERROR(VLOOKUP($B172,'Total Rankings (excl QB)'!$D:$L,4,0),\"\")","v":""},{"$f":"IFERROR(VLOOKUP($B172,'Total Rankings (excl QB)'!$D:$L,5,0),\"\")","v":""},{"$f":"IFERROR(VLOOKUP($B172,'Total Rankings (excl QB)'!$D:$L,6,0),\"\")","v":""},{"$f":"IFERROR(VLOOKUP($B172,'Total Rankings (excl QB)'!$D:$L,7,0),\"\")","v":""},{"$f":"IFERROR(VLOOKUP($B172,'Total Rankings (excl QB)'!$D:$L,8,0),\"\")","v":""}]
[170,{"$f":"IFERROR(INDEX('Total Rankings (excl QB)'!$D:$D,MATCH(1,(\"Wide Receiver\"='Total Rankings (excl QB)'!$C:$C)*(A173='Total Rankings (excl QB)'!$F:$F),0),1),\"\")","v":""},{"$f":"IFERROR(VLOOKUP($B173,'Total Rankings (excl QB)'!$D:$E,2,0),0)","v":0},0,null,{"$f":"IFERROR(VLOOKUP($B173,'Total Rankings (excl QB)'!$D:$L,4,0),\"\")","v":""},{"$f":"IFERROR(VLOOKUP($B173,'Total Rankings (excl QB)'!$D:$L,5,0),\"\")","v":""},{"$f":"IFERROR(VLOOKUP($B173,'Total Rankings (excl QB)'!$D:$L,6,0),\"\")","v":""},{"$f":"IFERROR(VLOOKUP($B173,'Total Rankings (excl QB)'!$D:$L,7,0),\"\")","v":""},{"$f":"IFERROR(VLOOKUP($B173,'Total Rankings (excl QB)'!$D:$L,8,0),\"\")","v":""}]
[171,{"$f":"IFERROR(INDEX('Total Rankings (excl QB)'!$D:$D,MATCH(1,(\"Wide Receiver\"='Total Rankings (excl QB)'!$C:$C)*(A174='Total Rankings (excl QB)'!$F:$F),0),1),\"\")","v":""},{"$f":"IFERROR(VLOOKUP($B174,'Total Rankings (excl QB)'!$D:$E,2,0),0)","v":0},0,null,{"$f":"IFERROR(VLOOKUP($B174,'Total Rankings (excl QB)'!$D:$L,4,0),\"\")","v":""},{"$f":"IFERROR(VLOOKUP($B174,'Total Rankings (excl QB)'!$D:$L,5,0),\"\")","v":""},{"$f":"IFERROR(VLOOKUP($B174,'Total Rankings (excl QB)'!$D:$L,6,0),\"\")","v":""},{"$f":"IFERROR(VLOOKUP($B174,'Total Rankings (excl QB)'!$D:$L,7,0),\"\")","v":""},{"$f":"IFERROR(VLOOKUP($B174,'Total Rankings (excl QB)'!$D:$L,8,0),\"\")","v":""}]
[172,{"$f":"IFERROR(INDEX('Total Rankings (excl QB)'!$D:$D,MATCH(1,(\"Wide Receiver\"='Total Rankings (excl QB)'!$C:$C)*(A175='Total Rankings (excl QB)'!$F:$F),0),1),\"\")","v":""},{"$f":"IFERROR(VLOOKUP($B175,'Total Rankings (excl QB)'!$D:$E,2,0),0)","v":0},0,null,{"$f":"IFERROR(VLOOKUP($B175,'Total Rankings (excl QB)'!$D:$L,4,0),\"\")","v":""},{"$f":"IFERROR(VLOOKUP($B175,'Total Rankings (excl QB)'!$D:$L,5,0),\"\")","v":""},{"$f":"IFERROR(VLOOKUP($B175,'Total Rankings (excl QB)'!$D:$L,6,0),\"\")","v":""},{"$f":"IFERROR(VLOOKUP($B175,'Total Rankings (excl QB)'!$D:$L,7,0),\"\")","v":""},{"$f":"IFERROR(VLOOKUP($B175,'Total Rankings (excl QB)'!$D:$L,8,0),\"\")","v":""}]
[173,{"$f":"IFERROR(INDEX('Total Rankings (excl QB)'!$D:$D,MATCH(1,(\"Wide Receiver\"='Total Rankings (excl QB)'!$C:$C)*(A176='Total Rankings (excl QB)'!$F:$F),0),1),\"\")","v":""},{"$f":"IFERROR(VLOOKUP($B176,'Total Rankings (excl QB)'!$D:$E,2,0),0)","v":0},0,null,{"$f":"IFERROR(VLOOKUP($B176,'Total Rankings (excl QB)'!$D:$L,4,0),\"\")","v":""},{"$f":"IFERROR(VLOOKUP($B176,'Total Rankings (excl QB)'!$D:$L,5,0),\"\")","v":""},{"$f":"IFERROR(VLOOKUP($B176,'Total Rankings (excl QB)'!$D:$L,6,0),\"\")","v":""},{"$f":"IFERROR(VLOOKUP($B176,'Total Rankings (excl QB)'!$D:$L,7,0),\"\")","v":""},{"$f":"IFERROR(VLOOKUP($B176,'Total Rankings (excl QB)'!$D:$L,8,0),\"\")","v":""}]
[174,{"$f":"IFERROR(INDEX('Total Rankings (excl QB)'!$D:$D,MATCH(1,(\"Wide Receiver\"='Total Rankings (excl QB)'!$C:$C)*(A177='Total Rankings (excl QB)'!$F:$F),0),1),\"\")","v":""},{"$f":"IFERROR(VLOOKUP($B177,'Total Rankings (excl QB)'!$D:$E,2,0),0)","v":0},0,null,{"$f":"IFERROR(VLOOKUP($B177,'Total Rankings (excl QB)'!$D:$L,4,0),\"\")","v":""},{"$f":"IFERROR(VLOOKUP($B177,'Total Rankings (excl QB)'!$D:$L,5,0),\"\")","v":""},{"$f":"IFERROR(VLOOKUP($B177,'Total Rankings (excl QB)'!$D:$L,6,0),\"\")","v":""},{"$f":"IFERROR(VLOOKUP($B177,'Total Rankings (excl QB)'!$D:$L,7,0),\"\")","v":""},{"$f":"IFERROR(VLOOKUP($B177,'Total Rankings (excl QB)'!$D:$L,8,0),\"\")","v":""}]
[175,{"$f":"IFERROR(INDEX('Total Rankings (excl QB)'!$D:$D,MATCH(1,(\"Wide Receiver\"='Total Rankings (excl QB)'!$C:$C)*(A178='Total Rankings (excl QB)'!$F:$F),0),1),\"\")","v":""},{"$f":"IFERROR(VLOOKUP($B178,'Total Rankings (excl QB)'!$D:$E,2,0),0)","v":0},0,null,{"$f":"IFERROR(VLOOKUP($B178,'Total Rankings (excl QB)'!$D:$L,4,0),\"\")","v":""},{"$f":"IFERROR(VLOOKUP($B178,'Total Rankings (excl QB)'!$D:$L,5,0),\"\")","v":""},{"$f":"IFERROR(VLOOKUP($B178,'Total Rankings (excl QB)'!$D:$L,6,0),\"\")","v":""},{"$f":"IFERROR(VLOOKUP($B178,'Total Rankings (excl QB)'!$D:$L,7,0),\"\")","v":""},{"$f":"IFERROR(VLOOKUP($B178,'Total Rankings (excl QB)'!$D:$L,8,0),\"\")","v":""}]
[176,{"$f":"IFERROR(INDEX('Total Rankings (excl QB)'!$D:$D,MATCH(1,(\"Wide Receiver\"='Total Rankings (excl QB)'!$C:$C)*(A179='Total Rankings (excl QB)'!$F:$F),0),1),\"\")","v":""},{"$f":"IFERROR(VLOOKUP($B179,'Total Rankings (excl QB)'!$D:$E,2,0),0)","v":0},0,null,{"$f":"IFERROR(VLOOKUP($B179,'Total Rankings (excl QB)'!$D:$L,4,0),\"\")","v":""},{"$f":"IFERROR(VLOOKUP($B179,'Total Rankings (excl QB)'!$D:$L,5,0),\"\")","v":""},{"$f":"IFERROR(VLOOKUP($B179,'Total Rankings (excl QB)'!$D:$L,6,0),\"\")","v":""},{"$f":"IFERROR(VLOOKUP($B179,'Total Rankings (excl QB)'!$D:$L,7,0),\"\")","v":""},{"$f":"IFERROR(VLOOKUP($B179,'Total Rankings (excl QB)'!$D:$L,8,0),\"\")","v":""}]
[177,{"$f":"IFERROR(INDEX('Total Rankings (excl QB)'!$D:$D,MATCH(1,(\"Wide Receiver\"='Total Rankings (excl QB)'!$C:$C)*(A180='Total Rankings (excl QB)'!$F:$F),0),1),\"\")","v":""},{"$f":"IFERROR(VLOOKUP($B180,'Total Rankings (excl QB)'!$D:$E,2,0),0)","v":0},0,null,{"$f":"IFERROR(VLOOKUP($B180,'Total Rankings (excl QB)'!$D:$L,4,0),\"\")","v":""},{"$f":"IFERROR(VLOOKUP($B180,'Total Rankings (excl QB)'!$D:$L,5,0),\"\")","v":""},{"$f":"IFERROR(VLOOKUP($B180,'Total Rankings (excl QB)'!$D:$L,6,0),\"\")","v":""},{"$f":"IFERROR(VLOOKUP($B180,'Total Rankings (excl QB)'!$D:$L,7,0),\"\")","v":""},{"$f":"IFERROR(VLOOKUP($B180,'Total Rankings (excl QB)'!$D:$L,8,0),\"\")","v":""}]
[178,{"$f":"IFERROR(INDEX('Total Rankings (excl QB)'!$D:$D,MATCH(1,(\"Wide Receiver\"='Total Rankings (excl QB)'!$C:$C)*(A181='Total Rankings (excl QB)'!$F:$F),0),1),\"\")","v":""},{"$f":"IFERROR(VLOOKUP($B181,'Total Rankings (excl QB)'!$D:$E,2,0),0)","v":0},0,null,{"$f":"IFERROR(VLOOKUP($B181,'Total Rankings (excl QB)'!$D:$L,4,0),\"\")","v":""},{"$f":"IFERROR(VLOOKUP($B181,'Total Rankings (excl QB)'!$D:$L,5,0),\"\")","v":""},{"$f":"IFERROR(VLOOKUP($B181,'Total Rankings (excl QB)'!$D:$L,6,0),\"\")","v":""},{"$f":"IFERROR(VLOOKUP($B181,'Total Rankings (excl QB)'!$D:$L,7,0),\"\")","v":""},{"$f":"IFERROR(VLOOKUP($B181,'Total Rankings (excl QB)'!$D:$L,8,0),\"\")","v":""}]
[179,{"$f":"IFERROR(INDEX('Total Rankings (excl QB)'!$D:$D,MATCH(1,(\"Wide Receiver\"='Total Rankings (excl QB)'!$C:$C)*(A182='Total Rankings (excl QB)'!$F:$F),0),1),\"\")","v":""},{"$f":"IFERROR(VLOOKUP($B182,'Total Rankings (excl QB)'!$D:$E,2,0),0)","v":0},0,null,{"$f":"IFERROR(VLOOKUP($B182,'Total Rankings (excl QB)'!$D:$L,4,0),\"\")","v":""},{"$f":"IFERROR(VLOOKUP($B182,'Total Rankings (excl QB)'!$D:$L,5,0),\"\")","v":""},{"$f":"IFERROR(VLOOKUP($B182,'Total Rankings (excl QB)'!$D:$L,6,0),\"\")","v":""},{"$f":"IFERROR(VLOOKUP($B182,'Total Rankings (excl QB)'!$D:$L,7,0),\"\")","v":""},{"$f":"IFERROR(VLOOKUP($B182,'Total Rankings (excl QB)'!$D:$L,8,0),\"\")","v":""}]
[180,{"$f":"IFERROR(INDEX('Total Rankings (excl QB)'!$D:$D,MATCH(1,(\"Wide Receiver\"='Total Rankings (excl QB)'!$C:$C)*(A183='Total Rankings (excl QB)'!$F:$F),0),1),\"\")","v":""},{"$f":"IFERROR(VLOOKUP($B183,'Total Rankings (excl QB)'!$D:$E,2,0),0)","v":0},0,null,{"$f":"IFERROR(VLOOKUP($B183,'Total Rankings (excl QB)'!$D:$L,4,0),\"\")","v":""},{"$f":"IFERROR(VLOOKUP($B183,'Total Rankings (excl QB)'!$D:$L,5,0),\"\")","v":""},{"$f":"IFERROR(VLOOKUP($B183,'Total Rankings (excl QB)'!$D:$L,6,0),\"\")","v":""},{"$f":"IFERROR(VLOOKUP($B183,'Total Rankings (excl QB)'!$D:$L,7,0),\"\")","v":""},{"$f":"IFERROR(VLOOKUP($B183,'Total Rankings (excl QB)'!$D:$L,8,0),\"\")","v":""}]
[181,{"$f":"IFERROR(INDEX('Total Rankings (excl QB)'!$D:$D,MATCH(1,(\"Wide Receiver\"='Total Rankings (excl QB)'!$C:$C)*(A184='Total Rankings (excl QB)'!$F:$F),0),1),\"\")","v":""},{"$f":"IFERROR(VLOOKUP($B184,'Total Rankings (excl QB)'!$D:$E,2,0),0)","v":0},0,null,{"$f":"IFERROR(VLOOKUP($B184,'Total Rankings (excl QB)'!$D:$L,4,0),\"\")","v":""},{"$f":"IFERROR(VLOOKUP($B184,'Total Rankings (excl QB)'!$D:$L,5,0),\"\")","v":""},{"$f":"IFERROR(VLOOKUP($B184,'Total Rankings (excl QB)'!$D:$L,6,0),\"\")","v":""},{"$f":"IFERROR(VLOOKUP($B184,'Total Rankings (excl QB)'!$D:$L,7,0),\"\")","v":""},{"$f":"IFERROR(VLOOKUP($B184,'Total Rankings (excl QB)'!$D:$L,8,0),\"\")","v":""}]
[182,{"$f":"IFERROR(INDEX('Total Rankings (excl QB)'!$D:$D,MATCH(1,(\"Wide Receiver\"='Total Rankings (excl QB)'!$C:$C)*(A185='Total Rankings (excl QB)'!$F:$F),0),1),\"\")","v":""},{"$f":"IFERROR(VLOOKUP($B185,'Total Rankings (excl QB)'!$D:$E,2,0),0)","v":0},0,null,{"$f":"IFERROR(VLOOKUP($B185,'Total Rankings (excl QB)'!$D:$L,4,0),\"\")","v":""},{"$f":"IFERROR(VLOOKUP($B185,'Total Rankings (excl QB)'!$D:$L,5,0),\"\")","v":""},{"$f":"IFERROR(VLOOKUP($B185,'Total Rankings (excl QB)'!$D:$L,6,0),\"\")","v":""},{"$f":"IFERROR(VLOOKUP($B185,'Total Rankings (excl QB)'!$D:$L,7,0),\"\")","v":""},{"$f":"IFERROR(VLOOKUP($B185,'Total Rankings (excl QB)'!$D:$L,8,0),\"\")","v":""}]
[183,{"$f":"IFERROR(INDEX('Total Rankings (excl QB)'!$D:$D,MATCH(1,(\"Wide Receiver\"='Total Rankings (excl QB)'!$C:$C)*(A186='Total Rankings (excl QB)'!$F:$F),0),1),\"\")","v":""},{"$f":"IFERROR(VLOOKUP($B186,'Total Rankings (excl QB)'!$D:$E,2,0),0)","v":0},0,null,{"$f":"IFERROR(VLOOKUP($B186,'Total Rankings (excl QB)'!$D:$L,4,0),\"\")","v":""},{"$f":"IFERROR(VLOOKUP($B186,'Total Rankings (excl QB)'!$D:$L,5,0),\"\")","v":""},{"$f":"IFERROR(VLOOKUP($B186,'Total Rankings (excl QB)'!$D:$L,6,0),\"\")","v":""},{"$f":"IFERROR(VLOOKUP($B186,'Total Rankings (excl QB)'!$D:$L,7,0),\"\")","v":""},{"$f":"IFERROR(VLOOKUP($B186,'Total Rankings (excl QB)'!$D:$L,8,0),\"\")","v":""}]
[184,{"$f":"IFERROR(INDEX('Total Rankings (excl QB)'!$D:$D,MATCH(1,(\"Wide Receiver\"='Total Rankings (excl QB)'!$C:$C)*(A187='Total Rankings (excl QB)'!$F:$F),0),1),\"\")","v":""},{"$f":"IFERROR(VLOOKUP($B187,'Total Rankings (excl QB)'!$D:$E,2,0),0)","v":0},0,null,{"$f":"IFERROR(VLOOKUP($B187,'Total Rankings (excl QB)'!$D:$L,4,0),\"\")","v":""},{"$f":"IFERROR(VLOOKUP($B187,'Total Rankings (excl QB)'!$D:$L,5,0),\"\")","v":""},{"$f":"IFERROR(VLOOKUP($B187,'Total Rankings (excl QB)'!$D:$L,6,0),\"\")","v":""},{"$f":"IFERROR(VLOOKUP($B187,'Total Rankings (excl QB)'!$D:$L,7,0),\"\")","v":""},{"$f":"IFERROR(VLOOKUP($B187,'Total Rankings (excl QB)'!$D:$L,8,0),\"\")","v":""}]
[185,{"$f":"IFERROR(INDEX('Total Rankings (excl QB)'!$D:$D,MATCH(1,(\"Wide Receiver\"='Total Rankings (excl QB)'!$C:$C)*(A188='Total Rankings (excl QB)'!$F:$F),0),1),\"\")","v":""},{"$f":"IFERROR(VLOOKUP($B188,'Total Rankings (excl QB)'!$D:$E,2,0),0)","v":0},0,null,{"$f":"IFERROR(VLOOKUP($B188,'Total Rankings (excl QB)'!$D:$L,4,0),\"\")","v":""},{"$f":"IFERROR(VLOOKUP($B188,'Total Rankings (excl QB)'!$D:$L,5,0),\"\")","v":""},{"$f":"IFERROR(VLOOKUP($B188,'Total Rankings (excl QB)'!$D:$L,6,0),\"\")","v":""},{"$f":"IFERROR(VLOOKUP($B188,'Total Rankings (excl QB)'!$D:$L,7,0),\"\")","v":""},{"$f":"IFERROR(VLOOKUP($B188,'Total Rankings (excl QB)'!$D:$L,8,0),\"\")","v":""}]
[186,{"$f":"IFERROR(INDEX('Total Rankings (excl QB)'!$D:$D,MATCH(1,(\"Wide Receiver\"='Total Rankings (excl QB)'!$C:$C)*(A189='Total Rankings (excl QB)'!$F:$F),0),1),\"\")","v":""},{"$f":"IFERROR(VLOOKUP($B189,'Total Rankings (excl QB)'!$D:$E,2,0),0)","v":0},0,null,{"$f":"IFERROR(VLOOKUP($B189,'Total Rankings (excl QB)'!$D:$L,4,0),\"\")","v":""},{"$f":"IFERROR(VLOOKUP($B189,'Total Rankings (excl QB)'!$D:$L,5,0),\"\")","v":""},{"$f":"IFERROR(VLOOKUP($B189,'Total Rankings (excl QB)'!$D:$L,6,0),\"\")","v":""},{"$f":"IFERROR(VLOOKUP($B189,'Total Rankings (excl QB)'!$D:$L,7,0),\"\")","v":""},{"$f":"IFERROR(VLOOKUP($B189,'Total Rankings (excl QB)'!$D:$L,8,0),\"\")","v":""}]
[187,{"$f":"IFERROR(INDEX('Total Rankings (excl QB)'!$D:$D,MATCH(1,(\"Wide Receiver\"='Total Rankings (excl QB)'!$C:$C)*(A190='Total Rankings (excl QB)'!$F:$F),0),1),\"\")","v":""},{"$f":"IFERROR(VLOOKUP($B190,'Total Rankings (excl QB)'!$D:$E,2,0),0)","v":0},0,null,{"$f":"IFERROR(VLOOKUP($B190,'Total Rankings (excl QB)'!$D:$L,4,0),\"\")","v":""},{"$f":"IFERROR(VLOOKUP($B190,'Total Rankings (excl QB)'!$D:$L,5,0),\"\")","v":""},{"$f":"IFERROR(VLOOKUP($B190,'Total Rankings (excl QB)'!$D:$L,6,0),\"\")","v":""},{"$f":"IFERROR(VLOOKUP($B190,'Total Rankings (excl QB)'!$D:$L,7,0),\"\")","v":""},{"$f":"IFERROR(VLOOKUP($B190,'Total Rankings (excl QB)'!$D:$L,8,0),\"\")","v":""}]
[188,{"$f":"IFERROR(INDEX('Total Rankings (excl QB)'!$D:$D,MATCH(1,(\"Wide Receiver\"='Total Rankings (excl QB)'!$C:$C)*(A191='Total Rankings (excl QB)'!$F:$F),0),1),\"\")","v":""},{"$f":"IFERROR(VLOOKUP($B191,'Total Rankings (excl QB)'!$D:$E,2,0),0)","v":0},0,null,{"$f":"IFERROR(VLOOKUP($B191,'Total Rankings (excl QB)'!$D:$L,4,0),\"\")","v":""},{"$f":"IFERROR(VLOOKUP($B191,'Total Rankings (excl QB)'!$D:$L,5,0),\"\")","v":""},{"$f":"IFERROR(VLOOKUP($B191,'Total Rankings (excl QB)'!$D:$L,6,0),\"\")","v":""},{"$f":"IFERROR(VLOOKUP($B191,'Total Rankings (excl QB)'!$D:$L,7,0),\"\")","v":""},{"$f":"IFERROR(VLOOKUP($B191,'Total Rankings (excl QB)'!$D:$L,8,0),\"\")","v":""}]
[189,{"$f":"IFERROR(INDEX('Total Rankings (excl QB)'!$D:$D,MATCH(1,(\"Wide Receiver\"='Total Rankings (excl QB)'!$C:$C)*(A192='Total Rankings (excl QB)'!$F:$F),0),1),\"\")","v":""},{"$f":"IFERROR(VLOOKUP($B192,'Total Rankings (excl QB)'!$D:$E,2,0),0)","v":0},0,null,{"$f":"IFERROR(VLOOKUP($B192,'Total Rankings (excl QB)'!$D:$L,4,0),\"\")","v":""},{"$f":"IFERROR(VLOOKUP($B192,'Total Rankings (excl QB)'!$D:$L,5,0),\"\")","v":""},{"$f":"IFERROR(VLOOKUP($B192,'Total Rankings (excl QB)'!$D:$L,6,0),\"\")","v":""},{"$f":"IFERROR(VLOOKUP($B192,'Total Rankings (excl QB)'!$D:$L,7,0),\"\")","v":""},{"$f":"IFERROR(VLOOKUP($B192,'Total Rankings (excl QB)'!$D:$L,8,0),\"\")","v":""}]
[190,{"$f":"IFERROR(INDEX('Total Rankings (excl QB)'!$D:$D,MATCH(1,(\"Wide Receiver\"='Total Rankings (excl QB)'!$C:$C)*(A193='Total Rankings (excl QB)'!$F:$F),0),1),\"\")","v":""},{"$f":"IFERROR(VLOOKUP($B193,'Total Rankings (excl QB)'!$D:$E,2,0),0)","v":0},0,null,{"$f":"IFERROR(VLOOKUP($B193,'Total Rankings (excl QB)'!$D:$L,4,0),\"\")","v":""},{"$f":"IFERROR(VLOOKUP($B193,'Total Rankings (excl QB)'!$D:$L,5,0),\"\")","v":""},{"$f":"IFERROR(VLOOKUP($B193,'Total Rankings (excl QB)'!$D:$L,6,0),\"\")","v":""},{"$f":"IFERROR(VLOOKUP($B193,'Total Rankings (excl QB)'!$D:$L,7,0),\"\")","v":""},{"$f":"IFERROR(VLOOKUP($B193,'Total Rankings (excl QB)'!$D:$L,8,0),\"\")","v":""}]
[191,{"$f":"IFERROR(INDEX('Total Rankings (excl QB)'!$D:$D,MATCH(1,(\"Wide Receiver\"='Total Rankings (excl QB)'!$C:$C)*(A194='Total Rankings (excl QB)'!$F:$F),0),1),\"\")","v":""},{"$f":"IFERROR(VLOOKUP($B194,'Total Rankings (excl QB)'!$D:$E,2,0),0)","v":0},0,null,{"$f":"IFERROR(VLOOKUP($B194,'Total Rankings (excl QB)'!$D:$L,4,0),\"\")","v":""},{"$f":"IFERROR(VLOOKUP($B194,'Total Rankings (excl QB)'!$D:$L,5,0),\"\")","v":""},{"$f":"IFERROR(VLOOKUP($B194,'Total Rankings (excl QB)'!$D:$L,6,0),\"\")","v":""},{"$f":"IFERROR(VLOOKUP($B194,'Total Rankings (excl QB)'!$D:$L,7,0),\"\")","v":""},{"$f":"IFERROR(VLOOKUP($B194,'Total Rankings (excl QB)'!$D:$L,8,0),\"\")","v":""}]
[192,{"$f":"IFERROR(INDEX('Total Rankings (excl QB)'!$D:$D,MATCH(1,(\"Wide Receiver\"='Total Rankings (excl QB)'!$C:$C)*(A195='Total Rankings (excl QB)'!$F:$F),0),1),\"\")","v":""},{"$f":"IFERROR(VLOOKUP($B195,'Total Rankings (excl QB)'!$D:$E,2,0),0)","v":0},0,null,{"$f":"IFERROR(VLOOKUP($B195,'Total Rankings (excl QB)'!$D:$L,4,0),\"\")","v":""},{"$f":"IFERROR(VLOOKUP($B195,'Total Rankings (excl QB)'!$D:$L,5,0),\"\")","v":""},{"$f":"IFERROR(VLOOKUP($B195,'Total Rankings (excl QB)'!$D:$L,6,0),\"\")","v":""},{"$f":"IFERROR(VLOOKUP($B195,'Total Rankings (excl QB)'!$D:$L,7,0),\"\")","v":""},{"$f":"IFERROR(VLOOKUP($B195,'Total Rankings (excl QB)'!$D:$L,8,0),\"\")","v":""}]

{"sheet":"Tiered Rankings","index":7,"n_rows":197,"n_cols":39,"rows_kept":197,"cut":false,"hidden":false,"merged":[]}
["Wide Receiver",null,null,null,"Open '+' for Range of Outcomes","Range of Outcomes",null,null,null,null,"Running Back",null,null,null,"Open '+' for Range of Outcomes","Range of Outcomes",null,null,null,null,"Tight End",null,null,null,"Open '+' for Range of Outcomes","Range of Outcomes",null,null,null,null,"Quarterback",null,null,null,"Open '+' for Range of Outcomes","Range of Outcomes"]
[null,null,null,null,null,"Low",null,"High",null,null,null,null,null,null,null,"Low",null,"High",null,null,null,null,null,null,null,"Low",null,"High",null,null,null,null,null,null,null,"Low",null,"High"]
["Player","Fantasy Points","Points per Game","Manual Tier","Tier (Volume based)","Fantasy Points","Tier","Fantasy Points","Tier",null,"Player","Fantasy Points","Points per Game","Manual Tier","Tier (Volume based)","Fantasy Points","Tier","Fantasy Points","Tier",null,"Player","Fantasy Points","Points per Game","Manual Tier","Tier (Volume based)","Fantasy Points","Tier","Fantasy Points","Tier",null,"Player","Fantasy Points","Points per Game","Manual Tier","Tier (Volume based)","Fantasy Points","Tier","Fantasy Points","Tier"]
[{"$f":"IFERROR(INDEX('Positional Ranks'!B$4:B$195,_xlfn.AGGREGATE(15,6,ROW('Positional Ranks'!B$4:B$195)-ROW('Positional Ranks'!B$4)+1/('Positional Ranks'!B$4:F$195=\"Elite WR\"),ROWS('Tiered Rankings'!A$4:A4))),\"\")","v":""},{"$f":"IFERROR(VLOOKUP($A4,'Total Rankings (excl QB)'!$D:$E,2,0),0)","v":0},{"$f":"IFERROR(B4/17,0)","v":0},null,{"$f":"IFERROR(VLOOKUP($A4,'Total Rankings (excl QB)'!$D:$L,4,0),\"\")","v":""},{"$f":"IFERROR(VLOOKUP($A4,'Total Rankings (excl QB)'!$D:$L,5,0),\"\")","v":""},{"$f":"IFERROR(VLOOKUP($A4,'Total Rankings (excl QB)'!$D:$L,6,0),\"\")","v":""},{"$f":"IFERROR(VLOOKUP($A4,'Total Rankings (excl QB)'!$D:$L,7,0),\"\")","v":""},{"$f":"IFERROR(VLOOKUP($A4,'Total Rankings (excl QB)'!$D:$L,8,0),\"\")","v":""},null,{"$f":"IFERROR(INDEX('Positional Ranks'!M$4:M$195,_xlfn.AGGREGATE(15,6,ROW('Positional Ranks'!M$4:M$195)-ROW('Positional Ranks'!M$4)+1/('Positional Ranks'!M$4:Q$195=\"Elite RB\"),ROWS('Tiered Rankings'!K$4:K4))),\"\")","v":""},{"$f":"IFERROR(VLOOKUP($K4,'Total Rankings (excl QB)'!$D:$E,2,0),0)","v":0},{"$f":"IFERROR(L4/17,0)","v":0},null,{"$f":"IFERROR(VLOOKUP($K4,'Total Rankings (excl QB)'!$D:$L,4,0),\"\")","v":""},{"$f":"IFERROR(VLOOKUP($K4,'Total Rankings (excl QB)'!$D:$L,5,0),\"\")","v":""},{"$f":"IFERROR(VLOOKUP($K4,'Total Rankings (excl QB)'!$D:$L,6,0),\"\")","v":""},{"$f":"IFERROR(VLOOKUP($K4,'Total Rankings (excl QB)'!$D:$L,7,0),\"\")","v":""},{"$f":"IFERROR(VLOOKUP($K4,'Total Rankings (excl QB)'!$D:$L,8,0),\"\")","v":""},null,{"$f":"IFERROR(INDEX('Positional Ranks'!X$4:X$195,_xlfn.AGGREGATE(15,6,ROW('Positional Ranks'!X$4:X$195)-ROW('Positional Ranks'!X$4)+1/('Positional Ranks'!X$4:AB$195=\"Top TE\"),ROWS('Tiered Rankings'!U$4:U4))),\"\")","v":"Trey McBride"},{"$f":"IFERROR(VLOOKUP($U4,'Total Rankings (excl QB)'!$D:$E,2,0),0)","v":316.95150000000007},{"$f":"IFERROR(V4/17,0)","v":18.644205882352946},null,{"$f":"IFERROR(VLOOKUP($U4,'Total Rankings (excl QB)'!$D:$L,4,0),\"\")","v":"Top TE"},{"$f":"IFERROR(VLOOKUP($U4,'Total Rankings (excl QB)'!$D:$L,5,0),\"\")","v":292.37628571428581},{"$f":"IFERROR(VLOOKUP($U4,'Total Rankings (excl QB)'!$D:$L,6,0),\"\")","v":"Top TE"},{"$f":"IFERROR(VLOOKUP($U4,'Total Rankings (excl QB)'!$D:$L,7,0),\"\")","v":334.28046428571434},{"$f":"IFERROR(VLOOKUP($U4,'Total Rankings (excl QB)'!$D:$L,8,0),\"\")","v":"Top TE"},null,{"$f":"IFERROR(INDEX('Positional Ranks'!AI$4:AI$195,_xlfn.AGGREGATE(15,6,ROW('Positional Ranks'!AI$4:AI$195)-ROW('Positional Ranks'!AI$4)+1/('Positional Ranks'!AI$4:AM$195=\"Top QB\"),ROWS('Tiered Rankings'!AE$4:AE4))),\"\")","v":""},{"$f":"IFERROR(VLOOKUP($AE4,'Positional Ranks'!$AI$4:$AQ$67,2,0),0)","v":0},{"$f":"IFERROR(VLOOKUP($AE4,'Positional Ranks'!$AI$4:$AQ$67,3,0),0)","v":0},null,{"$f":"IFERROR(VLOOKUP($AE4,'Positional Ranks'!$AI$4:$AQ$67,5,0),\"\")","v":""},{"$f":"IFERROR(VLOOKUP($AE4,'Positional Ranks'!$AI$4:$AQ$67,6,0),0)","v":0},{"$f":"IFERROR(VLOOKUP($AE4,'Positional Ranks'!$AI$4:$AQ$67,7,0),\"\")","v":""},{"$f":"IFERROR(VLOOKUP($AE4,'Positional Ranks'!$AI$4:$AQ$67,8,0),0)","v":0},{"$f":"IFERROR(VLOOKUP($AE4,'Positional Ranks'!$AI$4:$AQ$67,9,0),\"\")","v":""}]
[{"$f":"IFERROR(INDEX('Positional Ranks'!B$4:B$195,_xlfn.AGGREGATE(15,6,ROW('Positional Ranks'!B$4:B$195)-ROW('Positional Ranks'!B$4)+1/('Positional Ranks'!B$4:F$195=\"Elite WR\"),ROWS('Tiered Rankings'!A$4:A5))),\"\")","v":""},{"$f":"IFERROR(VLOOKUP($A5,'Total Rankings (excl QB)'!$D:$E,2,0),0)","v":0},{"$f":"IFERROR(B5/17,0)","v":0},null,{"$f":"IFERROR(VLOOKUP($A5,'Total Rankings (excl QB)'!$D:$L,4,0),\"\")","v":""},{"$f":"IFERROR(VLOOKUP($A5,'Total Rankings (excl QB)'!$D:$L,5,0),\"\")","v":""},{"$f":"IFERROR(VLOOKUP($A5,'Total Rankings (excl QB)'!$D:$L,6,0),\"\")","v":""},{"$f":"IFERROR(VLOOKUP($A5,'Total Rankings (excl QB)'!$D:$L,7,0),\"\")","v":""},{"$f":"IFERROR(VLOOKUP($A5,'Total Rankings (excl QB)'!$D:$L,8,0),\"\")","v":""},null,{"$f":"IFERROR(INDEX('Positional Ranks'!M$4:M$195,_xlfn.AGGREGATE(15,6,ROW('Positional Ranks'!M$4:M$195)-ROW('Positional Ranks'!M$4)+1/('Positional Ranks'!M$4:Q$195=\"Elite RB\"),ROWS('Tiered Rankings'!K$4:K5))),\"\")","v":""},{"$f":"IFERROR(VLOOKUP($K5,'Total Rankings (excl QB)'!$D:$E,2,0),0)","v":0},{"$f":"IFERROR(L5/17,0)","v":0},null,{"$f":"IFERROR(VLOOKUP($K5,'Total Rankings (excl QB)'!$D:$L,4,0),\"\")","v":""},{"$f":"IFERROR(VLOOKUP($K5,'Total Rankings (excl QB)'!$D:$L,5,0),\"\")","v":""},{"$f":"IFERROR(VLOOKUP($K5,'Total Rankings (excl QB)'!$D:$L,6,0),\"\")","v":""},{"$f":"IFERROR(VLOOKUP($K5,'Total Rankings (excl QB)'!$D:$L,7,0),\"\")","v":""},{"$f":"IFERROR(VLOOKUP($K5,'Total Rankings (excl QB)'!$D:$L,8,0),\"\")","v":""},null,{"$f":"IFERROR(INDEX('Positional Ranks'!X$4:X$195,_xlfn.AGGREGATE(15,6,ROW('Positional Ranks'!X$4:X$195)-ROW('Positional Ranks'!X$4)+1/('Positional Ranks'!X$4:AB$195=\"Top TE\"),ROWS('Tiered Rankings'!U$4:U5))),\"\")","v":""},{"$f":"IFERROR(VLOOKUP($U5,'Total Rankings (excl QB)'!$D:$E,2,0),0)","v":0},{"$f":"IFERROR(V5/17,0)","v":0},null,{"$f":"IFERROR(VLOOKUP($U5,'Total Rankings (excl QB)'!$D:$L,4,0),\"\")","v":""},{"$f":"IFERROR(VLOOKUP($U5,'Total Rankings (excl QB)'!$D:$L,5,0),\"\")","v":""},{"$f":"IFERROR(VLOOKUP($U5,'Total Rankings (excl QB)'!$D:$L,6,0),\"\")","v":""},{"$f":"IFERROR(VLOOKUP($U5,'Total Rankings (excl QB)'!$D:$L,7,0),\"\")","v":""},{"$f":"IFERROR(VLOOKUP($U5,'Total Rankings (excl QB)'!$D:$L,8,0),\"\")","v":""},null,{"$f":"IFERROR(INDEX('Positional Ranks'!AI$4:AI$195,_xlfn.AGGREGATE(15,6,ROW('Positional Ranks'!AI$4:AI$195)-ROW('Positional Ranks'!AI$4)+1/('Positional Ranks'!AI$4:AM$195=\"Top QB\"),ROWS('Tiered Rankings'!AE$4:AE5))),\"\")","v":""},{"$f":"IFERROR(VLOOKUP($AE5,'Positional Ranks'!$AI$4:$AQ$67,2,0),0)","v":0},{"$f":"IFERROR(VLOOKUP($AE5,'Positional Ranks'!$AI$4:$AQ$67,3,0),0)","v":0},null,{"$f":"IFERROR(VLOOKUP($AE5,'Positional Ranks'!$AI$4:$AQ$67,5,0),\"\")","v":""},{"$f":"IFERROR(VLOOKUP($AE5,'Positional Ranks'!$AI$4:$AQ$67,6,0),0)","v":0},{"$f":"IFERROR(VLOOKUP($AE5,'Positional Ranks'!$AI$4:$AQ$67,7,0),\"\")","v":""},{"$f":"IFERROR(VLOOKUP($AE5,'Positional Ranks'!$AI$4:$AQ$67,8,0),0)","v":0},{"$f":"IFERROR(VLOOKUP($AE5,'Positional Ranks'!$AI$4:$AQ$67,9,0),\"\")","v":""}]
[{"$f":"IFERROR(INDEX('Positional Ranks'!B$4:B$195,_xlfn.AGGREGATE(15,6,ROW('Positional Ranks'!B$4:B$195)-ROW('Positional Ranks'!B$4)+1/('Positional Ranks'!B$4:F$195=\"Elite WR\"),ROWS('Tiered Rankings'!A$4:A6))),\"\")","v":""},{"$f":"IFERROR(VLOOKUP($A6,'Total Rankings (excl QB)'!$D:$E,2,0),0)","v":0},0,null,{"$f":"IFERROR(VLOOKUP($A6,'Total Rankings (excl QB)'!$D:$L,4,0),\"\")","v":""},{"$f":"IFERROR(VLOOKUP($A6,'Total Rankings (excl QB)'!$D:$L,5,0),\"\")","v":""},{"$f":"IFERROR(VLOOKUP($A6,'Total Rankings (excl QB)'!$D:$L,6,0),\"\")","v":""},{"$f":"IFERROR(VLOOKUP($A6,'Total Rankings (excl QB)'!$D:$L,7,0),\"\")","v":""},{"$f":"IFERROR(VLOOKUP($A6,'Total Rankings (excl QB)'!$D:$L,8,0),\"\")","v":""},null,{"$f":"IFERROR(INDEX('Positional Ranks'!M$4:M$195,_xlfn.AGGREGATE(15,6,ROW('Positional Ranks'!M$4:M$195)-ROW('Positional Ranks'!M$4)+1/('Positional Ranks'!M$4:Q$195=\"Elite RB\"),ROWS('Tiered Rankings'!K$4:K6))),\"\")","v":""},{"$f":"IFERROR(VLOOKUP($K6,'Total Rankings (excl QB)'!$D:$E,2,0),0)","v":0},0,null,{"$f":"IFERROR(VLOOKUP($K6,'Total Rankings (excl QB)'!$D:$L,4,0),\"\")","v":""},{"$f":"IFERROR(VLOOKUP($K6,'Total Rankings (excl QB)'!$D:$L,5,0),\"\")","v":""},{"$f":"IFERROR(VLOOKUP($K6,'Total Rankings (excl QB)'!$D:$L,6,0),\"\")","v":""},{"$f":"IFERROR(VLOOKUP($K6,'Total Rankings (excl QB)'!$D:$L,7,0),\"\")","v":""},{"$f":"IFERROR(VLOOKUP($K6,'Total Rankings (excl QB)'!$D:$L,8,0),\"\")","v":""},null,{"$f":"IFERROR(INDEX('Positional Ranks'!X$4:X$195,_xlfn.AGGREGATE(15,6,ROW('Positional Ranks'!X$4:X$195)-ROW('Positional Ranks'!X$4)+1/('Positional Ranks'!X$4:AB$195=\"Top TE\"),ROWS('Tiered Rankings'!U$4:U6))),\"\")","v":""},{"$f":"IFERROR(VLOOKUP($U6,'Total Rankings (excl QB)'!$D:$E,2,0),0)","v":0},0,null,{"$f":"IFERROR(VLOOKUP($U6,'Total Rankings (excl QB)'!$D:$L,4,0),\"\")","v":""},{"$f":"IFERROR(VLOOKUP($U6,'Total Rankings (excl QB)'!$D:$L,5,0),\"\")","v":""},{"$f":"IFERROR(VLOOKUP($U6,'Total Rankings (excl QB)'!$D:$L,6,0),\"\")","v":""},{"$f":"IFERROR(VLOOKUP($U6,'Total Rankings (excl QB)'!$D:$L,7,0),\"\")","v":""},{"$f":"IFERROR(VLOOKUP($U6,'Total Rankings (excl QB)'!$D:$L,8,0),\"\")","v":""},null,{"$f":"IFERROR(INDEX('Positional Ranks'!AI$4:AI$195,_xlfn.AGGREGATE(15,6,ROW('Positional Ranks'!AI$4:AI$195)-ROW('Positional Ranks'!AI$4)+1/('Positional Ranks'!AI$4:AM$195=\"Top QB\"),ROWS('Tiered Rankings'!AE$4:AE6))),\"\")","v":""},{"$f":"IFERROR(VLOOKUP($AE6,'Positional Ranks'!$AI$4:$AQ$67,2,0),0)","v":0},{"$f":"IFERROR(VLOOKUP($AE6,'Positional Ranks'!$AI$4:$AQ$67,3,0),0)","v":0},null,{"$f":"IFERROR(VLOOKUP($AE6,'Positional Ranks'!$AI$4:$AQ$67,5,0),\"\")","v":""},{"$f":"IFERROR(VLOOKUP($AE6,'Positional Ranks'!$AI$4:$AQ$67,6,0),0)","v":0},{"$f":"IFERROR(VLOOKUP($AE6,'Positional Ranks'!$AI$4:$AQ$67,7,0),\"\")","v":""},{"$f":"IFERROR(VLOOKUP($AE6,'Positional Ranks'!$AI$4:$AQ$67,8,0),0)","v":0},{"$f":"IFERROR(VLOOKUP($AE6,'Positional Ranks'!$AI$4:$AQ$67,9,0),\"\")","v":""}]
[{"$f":"IFERROR(INDEX('Positional Ranks'!B$4:B$195,_xlfn.AGGREGATE(15,6,ROW('Positional Ranks'!B$4:B$195)-ROW('Positional Ranks'!B$4)+1/('Positional Ranks'!B$4:F$195=\"Elite WR\"),ROWS('Tiered Rankings'!A$4:A7))),\"\")","v":""},{"$f":"IFERROR(VLOOKUP($A7,'Total Rankings (excl QB)'!$D:$E,2,0),0)","v":0},0,null,{"$f":"IFERROR(VLOOKUP($A7,'Total Rankings (excl QB)'!$D:$L,4,0),\"\")","v":""},{"$f":"IFERROR(VLOOKUP($A7,'Total Rankings (excl QB)'!$D:$L,5,0),\"\")","v":""},{"$f":"IFERROR(VLOOKUP($A7,'Total Rankings (excl QB)'!$D:$L,6,0),\"\")","v":""},{"$f":"IFERROR(VLOOKUP($A7,'Total Rankings (excl QB)'!$D:$L,7,0),\"\")","v":""},{"$f":"IFERROR(VLOOKUP($A7,'Total Rankings (excl QB)'!$D:$L,8,0),\"\")","v":""},null,{"$f":"IFERROR(INDEX('Positional Ranks'!M$4:M$195,_xlfn.AGGREGATE(15,6,ROW('Positional Ranks'!M$4:M$195)-ROW('Positional Ranks'!M$4)+1/('Positional Ranks'!M$4:Q$195=\"Elite RB\"),ROWS('Tiered Rankings'!K$4:K7))),\"\")","v":""},{"$f":"IFERROR(VLOOKUP($K7,'Total Rankings (excl QB)'!$D:$E,2,0),0)","v":0},0,null,{"$f":"IFERROR(VLOOKUP($K7,'Total Rankings (excl QB)'!$D:$L,4,0),\"\")","v":""},{"$f":"IFERROR(VLOOKUP($K7,'Total Rankings (excl QB)'!$D:$L,5,0),\"\")","v":""},{"$f":"IFERROR(VLOOKUP($K7,'Total Rankings (excl QB)'!$D:$L,6,0),\"\")","v":""},{"$f":"IFERROR(VLOOKUP($K7,'Total Rankings (excl QB)'!$D:$L,7,0),\"\")","v":""},{"$f":"IFERROR(VLOOKUP($K7,'Total Rankings (excl QB)'!$D:$L,8,0),\"\")","v":""},null,{"$f":"IFERROR(INDEX('Positional Ranks'!X$4:X$195,_xlfn.AGGREGATE(15,6,ROW('Positional Ranks'!X$4:X$195)-ROW('Positional Ranks'!X$4)+1/('Positional Ranks'!X$4:AB$195=\"Top TE\"),ROWS('Tiered Rankings'!U$4:U7))),\"\")","v":""},{"$f":"IFERROR(VLOOKUP($U7,'Total Rankings (excl QB)'!$D:$E,2,0),0)","v":0},0,null,{"$f":"IFERROR(VLOOKUP($U7,'Total Rankings (excl QB)'!$D:$L,4,0),\"\")","v":""},{"$f":"IFERROR(VLOOKUP($U7,'Total Rankings (excl QB)'!$D:$L,5,0),\"\")","v":""},{"$f":"IFERROR(VLOOKUP($U7,'Total Rankings (excl QB)'!$D:$L,6,0),\"\")","v":""},{"$f":"IFERROR(VLOOKUP($U7,'Total Rankings (excl QB)'!$D:$L,7,0),\"\")","v":""},{"$f":"IFERROR(VLOOKUP($U7,'Total Rankings (excl QB)'!$D:$L,8,0),\"\")","v":""},null,{"$f":"IFERROR(INDEX('Positional Ranks'!AI$4:AI$195,_xlfn.AGGREGATE(15,6,ROW('Positional Ranks'!AI$4:AI$195)-ROW('Positional Ranks'!AI$4)+1/('Positional Ranks'!AI$4:AM$195=\"Top QB\"),ROWS('Tiered Rankings'!AE$4:AE7))),\"\")","v":""},{"$f":"IFERROR(VLOOKUP($AE7,'Positional Ranks'!$AI$4:$AQ$67,2,0),0)","v":0},{"$f":"IFERROR(VLOOKUP($AE7,'Positional Ranks'!$AI$4:$AQ$67,3,0),0)","v":0},null,{"$f":"IFERROR(VLOOKUP($AE7,'Positional Ranks'!$AI$4:$AQ$67,5,0),\"\")","v":""},{"$f":"IFERROR(VLOOKUP($AE7,'Positional Ranks'!$AI$4:$AQ$67,6,0),0)","v":0},{"$f":"IFERROR(VLOOKUP($AE7,'Positional Ranks'!$AI$4:$AQ$67,7,0),\"\")","v":""},{"$f":"IFERROR(VLOOKUP($AE7,'Positional Ranks'!$AI$4:$AQ$67,8,0),0)","v":0},{"$f":"IFERROR(VLOOKUP($AE7,'Positional Ranks'!$AI$4:$AQ$67,9,0),\"\")","v":""}]
[{"$f":"IFERROR(INDEX('Positional Ranks'!B$4:B$195,_xlfn.AGGREGATE(15,6,ROW('Positional Ranks'!B$4:B$195)-ROW('Positional Ranks'!B$4)+1/('Positional Ranks'!B$4:F$195=\"Elite WR\"),ROWS('Tiered Rankings'!A$4:A8))),\"\")","v":""},{"$f":"IFERROR(VLOOKUP($A8,'Total Rankings (excl QB)'!$D:$E,2,0),0)","v":0},0,null,{"$f":"IFERROR(VLOOKUP($A8,'Total Rankings (excl QB)'!$D:$L,4,0),\"\")","v":""},{"$f":"IFERROR(VLOOKUP($A8,'Total Rankings (excl QB)'!$D:$L,5,0),\"\")","v":""},{"$f":"IFERROR(VLOOKUP($A8,'Total Rankings (excl QB)'!$D:$L,6,0),\"\")","v":""},{"$f":"IFERROR(VLOOKUP($A8,'Total Rankings (excl QB)'!$D:$L,7,0),\"\")","v":""},{"$f":"IFERROR(VLOOKUP($A8,'Total Rankings (excl QB)'!$D:$L,8,0),\"\")","v":""},null,{"$f":"IFERROR(INDEX('Positional Ranks'!M$4:M$195,_xlfn.AGGREGATE(15,6,ROW('Positional Ranks'!M$4:M$195)-ROW('Positional Ranks'!M$4)+1/('Positional Ranks'!M$4:Q$195=\"Elite RB\"),ROWS('Tiered Rankings'!K$4:K8))),\"\")","v":""},{"$f":"IFERROR(VLOOKUP($K8,'Total Rankings (excl QB)'!$D:$E,2,0),0)","v":0},0,null,{"$f":"IFERROR(VLOOKUP($K8,'Total Rankings (excl QB)'!$D:$L,4,0),\"\")","v":""},{"$f":"IFERROR(VLOOKUP($K8,'Total Rankings (excl QB)'!$D:$L,5,0),\"\")","v":""},{"$f":"IFERROR(VLOOKUP($K8,'Total Rankings (excl QB)'!$D:$L,6,0),\"\")","v":""},{"$f":"IFERROR(VLOOKUP($K8,'Total Rankings (excl QB)'!$D:$L,7,0),\"\")","v":""},{"$f":"IFERROR(VLOOKUP($K8,'Total Rankings (excl QB)'!$D:$L,8,0),\"\")","v":""},null,{"$f":"IFERROR(INDEX('Positional Ranks'!X$4:X$195,_xlfn.AGGREGATE(15,6,ROW('Positional Ranks'!X$4:X$195)-ROW('Positional Ranks'!X$4)+1/('Positional Ranks'!X$4:AB$195=\"Top TE\"),ROWS('Tiered Rankings'!U$4:U8))),\"\")","v":""},{"$f":"IFERROR(VLOOKUP($U8,'Total Rankings (excl QB)'!$D:$E,2,0),0)","v":0},0,null,{"$f":"IFERROR(VLOOKUP($U8,'Total Rankings (excl QB)'!$D:$L,4,0),\"\")","v":""},{"$f":"IFERROR(VLOOKUP($U8,'Total Rankings (excl QB)'!$D:$L,5,0),\"\")","v":""},{"$f":"IFERROR(VLOOKUP($U8,'Total Rankings (excl QB)'!$D:$L,6,0),\"\")","v":""},{"$f":"IFERROR(VLOOKUP($U8,'Total Rankings (excl QB)'!$D:$L,7,0),\"\")","v":""},{"$f":"IFERROR(VLOOKUP($U8,'Total Rankings (excl QB)'!$D:$L,8,0),\"\")","v":""},null,{"$f":"IFERROR(INDEX('Positional Ranks'!AI$4:AI$195,_xlfn.AGGREGATE(15,6,ROW('Positional Ranks'!AI$4:AI$195)-ROW('Positional Ranks'!AI$4)+1/('Positional Ranks'!AI$4:AM$195=\"Top QB\"),ROWS('Tiered Rankings'!AE$4:AE8))),\"\")","v":""},{"$f":"IFERROR(VLOOKUP($AE8,'Positional Ranks'!$AI$4:$AQ$67,2,0),0)","v":0},{"$f":"IFERROR(VLOOKUP($AE8,'Positional Ranks'!$AI$4:$AQ$67,3,0),0)","v":0},null,{"$f":"IFERROR(VLOOKUP($AE8,'Positional Ranks'!$AI$4:$AQ$67,5,0),\"\")","v":""},{"$f":"IFERROR(VLOOKUP($AE8,'Positional Ranks'!$AI$4:$AQ$67,6,0),0)","v":0},{"$f":"IFERROR(VLOOKUP($AE8,'Positional Ranks'!$AI$4:$AQ$67,7,0),\"\")","v":""},{"$f":"IFERROR(VLOOKUP($AE8,'Positional Ranks'!$AI$4:$AQ$67,8,0),0)","v":0},{"$f":"IFERROR(VLOOKUP($AE8,'Positional Ranks'!$AI$4:$AQ$67,9,0),\"\")","v":""}]
[{"$f":"IFERROR(INDEX('Positional Ranks'!B$4:B$195,_xlfn.AGGREGATE(15,6,ROW('Positional Ranks'!B$4:B$195)-ROW('Positional Ranks'!B$4)+1/('Positional Ranks'!B$4:F$195=\"Elite WR\"),ROWS('Tiered Rankings'!A$4:A9))),\"\")","v":""},{"$f":"IFERROR(VLOOKUP($A9,'Total Rankings (excl QB)'!$D:$E,2,0),0)","v":0},0,null,{"$f":"IFERROR(VLOOKUP($A9,'Total Rankings (excl QB)'!$D:$L,4,0),\"\")","v":""},{"$f":"IFERROR(VLOOKUP($A9,'Total Rankings (excl QB)'!$D:$L,5,0),\"\")","v":""},{"$f":"IFERROR(VLOOKUP($A9,'Total Rankings (excl QB)'!$D:$L,6,0),\"\")","v":""},{"$f":"IFERROR(VLOOKUP($A9,'Total Rankings (excl QB)'!$D:$L,7,0),\"\")","v":""},{"$f":"IFERROR(VLOOKUP($A9,'Total Rankings (excl QB)'!$D:$L,8,0),\"\")","v":""},null,{"$f":"IFERROR(INDEX('Positional Ranks'!M$4:M$195,_xlfn.AGGREGATE(15,6,ROW('Positional Ranks'!M$4:M$195)-ROW('Positional Ranks'!M$4)+1/('Positional Ranks'!M$4:Q$195=\"Elite RB\"),ROWS('Tiered Rankings'!K$4:K9))),\"\")","v":""},{"$f":"IFERROR(VLOOKUP($K9,'Total Rankings (excl QB)'!$D:$E,2,0),0)","v":0},0,null,{"$f":"IFERROR(VLOOKUP($K9,'Total Rankings (excl QB)'!$D:$L,4,0),\"\")","v":""},{"$f":"IFERROR(VLOOKUP($K9,'Total Rankings (excl QB)'!$D:$L,5,0),\"\")","v":""},{"$f":"IFERROR(VLOOKUP($K9,'Total Rankings (excl QB)'!$D:$L,6,0),\"\")","v":""},{"$f":"IFERROR(VLOOKUP($K9,'Total Rankings (excl QB)'!$D:$L,7,0),\"\")","v":""},{"$f":"IFERROR(VLOOKUP($K9,'Total Rankings (excl QB)'!$D:$L,8,0),\"\")","v":""},null,{"$f":"IFERROR(INDEX('Positional Ranks'!X$4:X$195,_xlfn.AGGREGATE(15,6,ROW('Positional Ranks'!X$4:X$195)-ROW('Positional Ranks'!X$4)+1/('Positional Ranks'!X$4:AB$195=\"Top TE\"),ROWS('Tiered Rankings'!U$4:U9))),\"\")","v":""},{"$f":"IFERROR(VLOOKUP($U9,'Total Rankings (excl QB)'!$D:$E,2,0),0)","v":0},0,null,{"$f":"IFERROR(VLOOKUP($U9,'Total Rankings (excl QB)'!$D:$L,4,0),\"\")","v":""},{"$f":"IFERROR(VLOOKUP($U9,'Total Rankings (excl QB)'!$D:$L,5,0),\"\")","v":""},{"$f":"IFERROR(VLOOKUP($U9,'Total Rankings (excl QB)'!$D:$L,6,0),\"\")","v":""},{"$f":"IFERROR(VLOOKUP($U9,'Total Rankings (excl QB)'!$D:$L,7,0),\"\")","v":""},{"$f":"IFERROR(VLOOKUP($U9,'Total Rankings (excl QB)'!$D:$L,8,0),\"\")","v":""},null,{"$f":"IFERROR(INDEX('Positional Ranks'!AI$4:AI$195,_xlfn.AGGREGATE(15,6,ROW('Positional Ranks'!AI$4:AI$195)-ROW('Positional Ranks'!AI$4)+1/('Positional Ranks'!AI$4:AM$195=\"Top QB\"),ROWS('Tiered Rankings'!AE$4:AE9))),\"\")","v":""},{"$f":"IFERROR(VLOOKUP($AE9,'Positional Ranks'!$AI$4:$AQ$67,2,0),0)","v":0},{"$f":"IFERROR(VLOOKUP($AE9,'Positional Ranks'!$AI$4:$AQ$67,3,0),0)","v":0},null,{"$f":"IFERROR(VLOOKUP($AE9,'Positional Ranks'!$AI$4:$AQ$67,5,0),\"\")","v":""},{"$f":"IFERROR(VLOOKUP($AE9,'Positional Ranks'!$AI$4:$AQ$67,6,0),0)","v":0},{"$f":"IFERROR(VLOOKUP($AE9,'Positional Ranks'!$AI$4:$AQ$67,7,0),\"\")","v":""},{"$f":"IFERROR(VLOOKUP($AE9,'Positional Ranks'!$AI$4:$AQ$67,8,0),0)","v":0},{"$f":"IFERROR(VLOOKUP($AE9,'Positional Ranks'!$AI$4:$AQ$67,9,0),\"\")","v":""}]
[{"$f":"IFERROR(INDEX('Positional Ranks'!B$4:B$195,_xlfn.AGGREGATE(15,6,ROW('Positional Ranks'!B$4:B$195)-ROW('Positional Ranks'!B$4)+1/('Positional Ranks'!B$4:F$195=\"Elite WR\"),ROWS('Tiered Rankings'!A$4:A10))),\"\")","v":""},{"$f":"IFERROR(VLOOKUP($A10,'Total Rankings (excl QB)'!$D:$E,2,0),0)","v":0},0,null,{"$f":"IFERROR(VLOOKUP($A10,'Total Rankings (excl QB)'!$D:$L,4,0),\"\")","v":""},{"$f":"IFERROR(VLOOKUP($A10,'Total Rankings (excl QB)'!$D:$L,5,0),\"\")","v":""},{"$f":"IFERROR(VLOOKUP($A10,'Total Rankings (excl QB)'!$D:$L,6,0),\"\")","v":""},{"$f":"IFERROR(VLOOKUP($A10,'Total Rankings (excl QB)'!$D:$L,7,0),\"\")","v":""},{"$f":"IFERROR(VLOOKUP($A10,'Total Rankings (excl QB)'!$D:$L,8,0),\"\")","v":""},null,{"$f":"IFERROR(INDEX('Positional Ranks'!M$4:M$195,_xlfn.AGGREGATE(15,6,ROW('Positional Ranks'!M$4:M$195)-ROW('Positional Ranks'!M$4)+1/('Positional Ranks'!M$4:Q$195=\"Elite RB\"),ROWS('Tiered Rankings'!K$4:K10))),\"\")","v":""},{"$f":"IFERROR(VLOOKUP($K10,'Total Rankings (excl QB)'!$D:$E,2,0),0)","v":0},0,null,{"$f":"IFERROR(VLOOKUP($K10,'Total Rankings (excl QB)'!$D:$L,4,0),\"\")","v":""},{"$f":"IFERROR(VLOOKUP($K10,'Total Rankings (excl QB)'!$D:$L,5,0),\"\")","v":""},{"$f":"IFERROR(VLOOKUP($K10,'Total Rankings (excl QB)'!$D:$L,6,0),\"\")","v":""},{"$f":"IFERROR(VLOOKUP($K10,'Total Rankings (excl QB)'!$D:$L,7,0),\"\")","v":""},{"$f":"IFERROR(VLOOKUP($K10,'Total Rankings (excl QB)'!$D:$L,8,0),\"\")","v":""},null,{"$f":"IFERROR(INDEX('Positional Ranks'!X$4:X$195,_xlfn.AGGREGATE(15,6,ROW('Positional Ranks'!X$4:X$195)-ROW('Positional Ranks'!X$4)+1/('Positional Ranks'!X$4:AB$195=\"Top TE\"),ROWS('Tiered Rankings'!U$4:U10))),\"\")","v":""},{"$f":"IFERROR(VLOOKUP($U10,'Total Rankings (excl QB)'!$D:$E,2,0),0)","v":0},0,null,{"$f":"IFERROR(VLOOKUP($U10,'Total Rankings (excl QB)'!$D:$L,4,0),\"\")","v":""},{"$f":"IFERROR(VLOOKUP($U10,'Total Rankings (excl QB)'!$D:$L,5,0),\"\")","v":""},{"$f":"IFERROR(VLOOKUP($U10,'Total Rankings (excl QB)'!$D:$L,6,0),\"\")","v":""},{"$f":"IFERROR(VLOOKUP($U10,'Total Rankings (excl QB)'!$D:$L,7,0),\"\")","v":""},{"$f":"IFERROR(VLOOKUP($U10,'Total Rankings (excl QB)'!$D:$L,8,0),\"\")","v":""},null,{"$f":"IFERROR(INDEX('Positional Ranks'!AI$4:AI$195,_xlfn.AGGREGATE(15,6,ROW('Positional Ranks'!AI$4:AI$195)-ROW('Positional Ranks'!AI$4)+1/('Positional Ranks'!AI$4:AM$195=\"Top QB\"),ROWS('Tiered Rankings'!AE$4:AE10))),\"\")","v":""},{"$f":"IFERROR(VLOOKUP($AE10,'Positional Ranks'!$AI$4:$AQ$67,2,0),0)","v":0},{"$f":"IFERROR(VLOOKUP($AE10,'Positional Ranks'!$AI$4:$AQ$67,3,0),0)","v":0},null,{"$f":"IFERROR(VLOOKUP($AE10,'Positional Ranks'!$AI$4:$AQ$67,5,0),\"\")","v":""},{"$f":"IFERROR(VLOOKUP($AE10,'Positional Ranks'!$AI$4:$AQ$67,6,0),0)","v":0},{"$f":"IFERROR(VLOOKUP($AE10,'Positional Ranks'!$AI$4:$AQ$67,7,0),\"\")","v":""},{"$f":"IFERROR(VLOOKUP($AE10,'Positional Ranks'!$AI$4:$AQ$67,8,0),0)","v":0},{"$f":"IFERROR(VLOOKUP($AE10,'Positional Ranks'!$AI$4:$AQ$67,9,0),\"\")","v":""}]
[{"$f":"IFERROR(INDEX('Positional Ranks'!B$4:B$195,_xlfn.AGGREGATE(15,6,ROW('Positional Ranks'!B$4:B$195)-ROW('Positional Ranks'!B$4)+1/('Positional Ranks'!B$4:F$195=\"Elite WR\"),ROWS('Tiered Rankings'!A$4:A11))),\"\")","v":""},{"$f":"IFERROR(VLOOKUP($A11,'Total Rankings (excl QB)'!$D:$E,2,0),0)","v":0},0,null,{"$f":"IFERROR(VLOOKUP($A11,'Total Rankings (excl QB)'!$D:$L,4,0),\"\")","v":""},{"$f":"IFERROR(VLOOKUP($A11,'Total Rankings (excl QB)'!$D:$L,5,0),\"\")","v":""},{"$f":"IFERROR(VLOOKUP($A11,'Total Rankings (excl QB)'!$D:$L,6,0),\"\")","v":""},{"$f":"IFERROR(VLOOKUP($A11,'Total Rankings (excl QB)'!$D:$L,7,0),\"\")","v":""},{"$f":"IFERROR(VLOOKUP($A11,'Total Rankings (excl QB)'!$D:$L,8,0),\"\")","v":""},null,{"$f":"IFERROR(INDEX('Positional Ranks'!M$4:M$195,_xlfn.AGGREGATE(15,6,ROW('Positional Ranks'!M$4:M$195)-ROW('Positional Ranks'!M$4)+1/('Positional Ranks'!M$4:Q$195=\"Elite RB\"),ROWS('Tiered Rankings'!K$4:K11))),\"\")","v":""},{"$f":"IFERROR(VLOOKUP($K11,'Total Rankings (excl QB)'!$D:$E,2,0),0)","v":0},0,null,{"$f":"IFERROR(VLOOKUP($K11,'Total Rankings (excl QB)'!$D:$L,4,0),\"\")","v":""},{"$f":"IFERROR(VLOOKUP($K11,'Total Rankings (excl QB)'!$D:$L,5,0),\"\")","v":""},{"$f":"IFERROR(VLOOKUP($K11,'Total Rankings (excl QB)'!$D:$L,6,0),\"\")","v":""},{"$f":"IFERROR(VLOOKUP($K11,'Total Rankings (excl QB)'!$D:$L,7,0),\"\")","v":""},{"$f":"IFERROR(VLOOKUP($K11,'Total Rankings (excl QB)'!$D:$L,8,0),\"\")","v":""},null,{"$f":"IFERROR(INDEX('Positional Ranks'!X$4:X$195,_xlfn.AGGREGATE(15,6,ROW('Positional Ranks'!X$4:X$195)-ROW('Positional Ranks'!X$4)+1/('Positional Ranks'!X$4:AB$195=\"Top TE\"),ROWS('Tiered Rankings'!U$4:U11))),\"\")","v":""},{"$f":"IFERROR(VLOOKUP($U11,'Total Rankings (excl QB)'!$D:$E,2,0),0)","v":0},0,null,{"$f":"IFERROR(VLOOKUP($U11,'Total Rankings (excl QB)'!$D:$L,4,0),\"\")","v":""},{"$f":"IFERROR(VLOOKUP($U11,'Total Rankings (excl QB)'!$D:$L,5,0),\"\")","v":""},{"$f":"IFERROR(VLOOKUP($U11,'Total Rankings (excl QB)'!$D:$L,6,0),\"\")","v":""},{"$f":"IFERROR(VLOOKUP($U11,'Total Rankings (excl QB)'!$D:$L,7,0),\"\")","v":""},{"$f":"IFERROR(VLOOKUP($U11,'Total Rankings (excl QB)'!$D:$L,8,0),\"\")","v":""},null,{"$f":"IFERROR(INDEX('Positional Ranks'!AI$4:AI$195,_xlfn.AGGREGATE(15,6,ROW('Positional Ranks'!AI$4:AI$195)-ROW('Positional Ranks'!AI$4)+1/('Positional Ranks'!AI$4:AM$195=\"Top QB\"),ROWS('Tiered Rankings'!AE$4:AE11))),\"\")","v":""},{"$f":"IFERROR(VLOOKUP($AE11,'Positional Ranks'!$AI$4:$AQ$67,2,0),0)","v":0},{"$f":"IFERROR(VLOOKUP($AE11,'Positional Ranks'!$AI$4:$AQ$67,3,0),0)","v":0},null,{"$f":"IFERROR(VLOOKUP($AE11,'Positional Ranks'!$AI$4:$AQ$67,5,0),\"\")","v":""},{"$f":"IFERROR(VLOOKUP($AE11,'Positional Ranks'!$AI$4:$AQ$67,6,0),0)","v":0},{"$f":"IFERROR(VLOOKUP($AE11,'Positional Ranks'!$AI$4:$AQ$67,7,0),\"\")","v":""},{"$f":"IFERROR(VLOOKUP($AE11,'Positional Ranks'!$AI$4:$AQ$67,8,0),0)","v":0},{"$f":"IFERROR(VLOOKUP($AE11,'Positional Ranks'!$AI$4:$AQ$67,9,0),\"\")","v":""}]
[{"$f":"IFERROR(INDEX('Positional Ranks'!B$4:B$195,_xlfn.AGGREGATE(15,6,ROW('Positional Ranks'!B$4:B$195)-ROW('Positional Ranks'!B$4)+1/('Positional Ranks'!B$4:F$195=\"Elite WR\"),ROWS('Tiered Rankings'!A$4:A12))),\"\")","v":""},{"$f":"IFERROR(VLOOKUP($A12,'Total Rankings (excl QB)'!$D:$E,2,0),0)","v":0},0,null,{"$f":"IFERROR(VLOOKUP($A12,'Total Rankings (excl QB)'!$D:$L,4,0),\"\")","v":""},{"$f":"IFERROR(VLOOKUP($A12,'Total Rankings (excl QB)'!$D:$L,5,0),\"\")","v":""},{"$f":"IFERROR(VLOOKUP($A12,'Total Rankings (excl QB)'!$D:$L,6,0),\"\")","v":""},{"$f":"IFERROR(VLOOKUP($A12,'Total Rankings (excl QB)'!$D:$L,7,0),\"\")","v":""},{"$f":"IFERROR(VLOOKUP($A12,'Total Rankings (excl QB)'!$D:$L,8,0),\"\")","v":""},null,{"$f":"IFERROR(INDEX('Positional Ranks'!M$4:M$195,_xlfn.AGGREGATE(15,6,ROW('Positional Ranks'!M$4:M$195)-ROW('Positional Ranks'!M$4)+1/('Positional Ranks'!M$4:Q$195=\"Elite RB\"),ROWS('Tiered Rankings'!K$4:K12))),\"\")","v":""},{"$f":"IFERROR(VLOOKUP($K12,'Total Rankings (excl QB)'!$D:$E,2,0),0)","v":0},0,null,{"$f":"IFERROR(VLOOKUP($K12,'Total Rankings (excl QB)'!$D:$L,4,0),\"\")","v":""},{"$f":"IFERROR(VLOOKUP($K12,'Total Rankings (excl QB)'!$D:$L,5,0),\"\")","v":""},{"$f":"IFERROR(VLOOKUP($K12,'Total Rankings (excl QB)'!$D:$L,6,0),\"\")","v":""},{"$f":"IFERROR(VLOOKUP($K12,'Total Rankings (excl QB)'!$D:$L,7,0),\"\")","v":""},{"$f":"IFERROR(VLOOKUP($K12,'Total Rankings (excl QB)'!$D:$L,8,0),\"\")","v":""},null,{"$f":"IFERROR(INDEX('Positional Ranks'!X$4:X$195,_xlfn.AGGREGATE(15,6,ROW('Positional Ranks'!X$4:X$195)-ROW('Positional Ranks'!X$4)+1/('Positional Ranks'!X$4:AB$195=\"Top TE\"),ROWS('Tiered Rankings'!U$4:U12))),\"\")","v":""},{"$f":"IFERROR(VLOOKUP($U12,'Total Rankings (excl QB)'!$D:$E,2,0),0)","v":0},0,null,{"$f":"IFERROR(VLOOKUP($U12,'Total Rankings (excl QB)'!$D:$L,4,0),\"\")","v":""},{"$f":"IFERROR(VLOOKUP($U12,'Total Rankings (excl QB)'!$D:$L,5,0),\"\")","v":""},{"$f":"IFERROR(VLOOKUP($U12,'Total Rankings (excl QB)'!$D:$L,6,0),\"\")","v":""},{"$f":"IFERROR(VLOOKUP($U12,'Total Rankings (excl QB)'!$D:$L,7,0),\"\")","v":""},{"$f":"IFERROR(VLOOKUP($U12,'Total Rankings (excl QB)'!$D:$L,8,0),\"\")","v":""},null,{"$f":"IFERROR(INDEX('Positional Ranks'!AI$4:AI$195,_xlfn.AGGREGATE(15,6,ROW('Positional Ranks'!AI$4:AI$195)-ROW('Positional Ranks'!AI$4)+1/('Positional Ranks'!AI$4:AM$195=\"Top QB\"),ROWS('Tiered Rankings'!AE$4:AE12))),\"\")","v":""},{"$f":"IFERROR(VLOOKUP($AE12,'Positional Ranks'!$AI$4:$AQ$67,2,0),0)","v":0},{"$f":"IFERROR(VLOOKUP($AE12,'Positional Ranks'!$AI$4:$AQ$67,3,0),0)","v":0},null,{"$f":"IFERROR(VLOOKUP($AE12,'Positional Ranks'!$AI$4:$AQ$67,5,0),\"\")","v":""},{"$f":"IFERROR(VLOOKUP($AE12,'Positional Ranks'!$AI$4:$AQ$67,6,0),0)","v":0},{"$f":"IFERROR(VLOOKUP($AE12,'Positional Ranks'!$AI$4:$AQ$67,7,0),\"\")","v":""},{"$f":"IFERROR(VLOOKUP($AE12,'Positional Ranks'!$AI$4:$AQ$67,8,0),0)","v":0},{"$f":"IFERROR(VLOOKUP($AE12,'Positional Ranks'!$AI$4:$AQ$67,9,0),\"\")","v":""}]
[{"$f":"IFERROR(INDEX('Positional Ranks'!B$4:B$195,_xlfn.AGGREGATE(15,6,ROW('Positional Ranks'!B$4:B$195)-ROW('Positional Ranks'!B$4)+1/('Positional Ranks'!B$4:F$195=\"Elite WR\"),ROWS('Tiered Rankings'!A$4:A13))),\"\")","v":""},{"$f":"IFERROR(VLOOKUP($A13,'Total Rankings (excl QB)'!$D:$E,2,0),0)","v":0},0,null,{"$f":"IFERROR(VLOOKUP($A13,'Total Rankings (excl QB)'!$D:$L,4,0),\"\")","v":""},{"$f":"IFERROR(VLOOKUP($A13,'Total Rankings (excl QB)'!$D:$L,5,0),\"\")","v":""},{"$f":"IFERROR(VLOOKUP($A13,'Total Rankings (excl QB)'!$D:$L,6,0),\"\")","v":""},{"$f":"IFERROR(VLOOKUP($A13,'Total Rankings (excl QB)'!$D:$L,7,0),\"\")","v":""},{"$f":"IFERROR(VLOOKUP($A13,'Total Rankings (excl QB)'!$D:$L,8,0),\"\")","v":""},null,{"$f":"IFERROR(INDEX('Positional Ranks'!M$4:M$195,_xlfn.AGGREGATE(15,6,ROW('Positional Ranks'!M$4:M$195)-ROW('Positional Ranks'!M$4)+1/('Positional Ranks'!M$4:Q$195=\"Elite RB\"),ROWS('Tiered Rankings'!K$4:K13))),\"\")","v":""},{"$f":"IFERROR(VLOOKUP($K13,'Total Rankings (excl QB)'!$D:$E,2,0),0)","v":0},0,null,{"$f":"IFERROR(VLOOKUP($K13,'Total Rankings (excl QB)'!$D:$L,4,0),\"\")","v":""},{"$f":"IFERROR(VLOOKUP($K13,'Total Rankings (excl QB)'!$D:$L,5,0),\"\")","v":""},{"$f":"IFERROR(VLOOKUP($K13,'Total Rankings (excl QB)'!$D:$L,6,0),\"\")","v":""},{"$f":"IFERROR(VLOOKUP($K13,'Total Rankings (excl QB)'!$D:$L,7,0),\"\")","v":""},{"$f":"IFERROR(VLOOKUP($K13,'Total Rankings (excl QB)'!$D:$L,8,0),\"\")","v":""},null,{"$f":"IFERROR(INDEX('Positional Ranks'!X$4:X$195,_xlfn.AGGREGATE(15,6,ROW('Positional Ranks'!X$4:X$195)-ROW('Positional Ranks'!X$4)+1/('Positional Ranks'!X$4:AB$195=\"Top TE\"),ROWS('Tiered Rankings'!U$4:U13))),\"\")","v":""},{"$f":"IFERROR(VLOOKUP($U13,'Total Rankings (excl QB)'!$D:$E,2,0),0)","v":0},0,null,{"$f":"IFERROR(VLOOKUP($U13,'Total Rankings (excl QB)'!$D:$L,4,0),\"\")","v":""},{"$f":"IFERROR(VLOOKUP($U13,'Total Rankings (excl QB)'!$D:$L,5,0),\"\")","v":""},{"$f":"IFERROR(VLOOKUP($U13,'Total Rankings (excl QB)'!$D:$L,6,0),\"\")","v":""},{"$f":"IFERROR(VLOOKUP($U13,'Total Rankings (excl QB)'!$D:$L,7,0),\"\")","v":""},{"$f":"IFERROR(VLOOKUP($U13,'Total Rankings (excl QB)'!$D:$L,8,0),\"\")","v":""},null,{"$f":"IFERROR(INDEX('Positional Ranks'!AI$4:AI$195,_xlfn.AGGREGATE(15,6,ROW('Positional Ranks'!AI$4:AI$195)-ROW('Positional Ranks'!AI$4)+1/('Positional Ranks'!AI$4:AM$195=\"Top QB\"),ROWS('Tiered Rankings'!AE$4:AE13))),\"\")","v":""},{"$f":"IFERROR(VLOOKUP($AE13,'Positional Ranks'!$AI$4:$AQ$67,2,0),0)","v":0},{"$f":"IFERROR(VLOOKUP($AE13,'Positional Ranks'!$AI$4:$AQ$67,3,0),0)","v":0},null,{"$f":"IFERROR(VLOOKUP($AE13,'Positional Ranks'!$AI$4:$AQ$67,5,0),\"\")","v":""},{"$f":"IFERROR(VLOOKUP($AE13,'Positional Ranks'!$AI$4:$AQ$67,6,0),0)","v":0},{"$f":"IFERROR(VLOOKUP($AE13,'Positional Ranks'!$AI$4:$AQ$67,7,0),\"\")","v":""},{"$f":"IFERROR(VLOOKUP($AE13,'Positional Ranks'!$AI$4:$AQ$67,8,0),0)","v":0},{"$f":"IFERROR(VLOOKUP($AE13,'Positional Ranks'!$AI$4:$AQ$67,9,0),\"\")","v":""}]
[]
[{"$f":"IFERROR(INDEX('Positional Ranks'!B$4:B$195,_xlfn.AGGREGATE(15,6,ROW('Positional Ranks'!B$4:B$195)-ROW('Positional Ranks'!B$4)+1/('Positional Ranks'!B$4:F$195=\"2nd Tier WR1\"),ROWS('Tiered Rankings'!A$15:A15))),\"\")","v":"Marvin Harrison"},{"$f":"IFERROR(VLOOKUP($A15,'Total Rankings (excl QB)'!$D:$E,2,0),0)","v":295.61875000000003},17.389338235294119,null,{"$f":"IFERROR(VLOOKUP($A15,'Total Rankings (excl QB)'!$D:$L,4,0),\"\")","v":"2nd Tier WR1"},{"$f":"IFERROR(VLOOKUP($A15,'Total Rankings (excl QB)'!$D:$L,5,0),\"\")","v":271.35820000000001},{"$f":"IFERROR(VLOOKUP($A15,'Total Rankings (excl QB)'!$D:$L,6,0),\"\")","v":"Consistent WR2"},{"$f":"IFERROR(VLOOKUP($A15,'Total Rankings (excl QB)'!$D:$L,7,0),\"\")","v":332.05300000000005},{"$f":"IFERROR(VLOOKUP($A15,'Total Rankings (excl QB)'!$D:$L,8,0),\"\")","v":"Elite WR"},null,{"$f":"IFERROR(INDEX('Positional Ranks'!M$4:M$195,_xlfn.AGGREGATE(15,6,ROW('Positional Ranks'!M$4:M$195)-ROW('Positional Ranks'!M$4)+1/('Positional Ranks'!M$4:Q$195=\"2nd Tier RB1\"),ROWS('Tiered Rankings'!K$15:K15))),\"\")","v":""},{"$f":"IFERROR(VLOOKUP($K15,'Total Rankings (excl QB)'!$D:$E,2,0),0)","v":0},0,null,{"$f":"IFERROR(VLOOKUP($K15,'Total Rankings (excl QB)'!$D:$L,4,0),\"\")","v":""},{"$f":"IFERROR(VLOOKUP($K15,'Total Rankings (excl QB)'!$D:$L,5,0),\"\")","v":""},{"$f":"IFERROR(VLOOKUP($K15,'Total Rankings (excl QB)'!$D:$L,6,0),\"\")","v":""},{"$f":"IFERROR(VLOOKUP($K15,'Total Rankings (excl QB)'!$D:$L,7,0),\"\")","v":""},{"$f":"IFERROR(VLOOKUP($K15,'Total Rankings (excl QB)'!$D:$L,8,0),\"\")","v":""},null,{"$f":"IFERROR(INDEX('Positional Ranks'!X$4:X$195,_xlfn.AGGREGATE(15,6,ROW('Positional Ranks'!X$4:X$195)-ROW('Positional Ranks'!X$4)+1/('Positional Ranks'!X$4:AB$195=\"2nd Tier TE1\"),ROWS('Tiered Rankings'!U$15:U15))),\"\")","v":""},{"$f":"IFERROR(VLOOKUP($U15,'Total Rankings (excl QB)'!$D:$E,2,0),0)","v":0},0,null,{"$f":"IFERROR(VLOOKUP($U15,'Total Rankings (excl QB)'!$D:$L,4,0),\"\")","v":""},{"$f":"IFERROR(VLOOKUP($U15,'Total Rankings (excl QB)'!$D:$L,5,0),\"\")","v":""},{"$f":"IFERROR(VLOOKUP($U15,'Total Rankings (excl QB)'!$D:$L,6,0),\"\")","v":""},{"$f":"IFERROR(VLOOKUP($U15,'Total Rankings (excl QB)'!$D:$L,7,0),\"\")","v":""},{"$f":"IFERROR(VLOOKUP($U15,'Total Rankings (excl QB)'!$D:$L,8,0),\"\")","v":""},null,{"$f":"IFERROR(INDEX('Positional Ranks'!AI$4:AI$195,_xlfn.AGGREGATE(15,6,ROW('Positional Ranks'!AI$4:AI$195)-ROW('Positional Ranks'!AI$4)+1/('Positional Ranks'!AI$4:AM$195=\"2nd Tier QB1\"),ROWS('Tiered Rankings'!AE$15:AE15))),\"\")","v":"Kyler Murray"},{"$f":"IFERROR(VLOOKUP($AE15,'Positional Ranks'!$AI$4:$AQ$67,2,0),0)","v":307.39347280000004},{"$f":"IFERROR(VLOOKUP($AE15,'Positional Ranks'!$AI$4:$AQ$67,3,0),0)","v":18.081968988235296},null,{"$f":"IFERROR(VLOOKUP($AE15,'Positional Ranks'!$AI$4:$AQ$67,5,0),\"\")","v":"2nd Tier QB1"},{"$f":"IFERROR(VLOOKUP($AE15,'Positional Ranks'!$AI$4:$AQ$67,6,0),0)","v":268.09704171428569},{"$f":"IFERROR(VLOOKUP($AE15,'Positional Ranks'!$AI$4:$AQ$67,7,0),\"\")","v":"2nd Tier QB1"},{"$f":"IFERROR(VLOOKUP($AE15,'Positional Ranks'!$AI$4:$AQ$67,8,0),0)","v":330.5048602857143},{"$f":"IFERROR(VLOOKUP($AE15,'Positional Ranks'!$AI$4:$AQ$67,9,0),\"\")","v":"2nd Tier QB1"}]
[{"$f":"IFERROR(INDEX('Positional Ranks'!B$4:B$195,_xlfn.AGGREGATE(15,6,ROW('Positional Ranks'!B$4:B$195)-ROW('Positional Ranks'!B$4)+1/('Positional Ranks'!B$4:F$195=\"2nd Tier WR1\"),ROWS('Tiered Rankings'!A$15:A16))),\"\")","v":""},{"$f":"IFERROR(VLOOKUP($A16,'Total Rankings (excl QB)'!$D:$E,2,0),0)","v":0},0,null,{"$f":"IFERROR(VLOOKUP($A16,'Total Rankings (excl QB)'!$D:$L,4,0),\"\")","v":""},{"$f":"IFERROR(VLOOKUP($A16,'Total Rankings (excl QB)'!$D:$L,5,0),\"\")","v":""},{"$f":"IFERROR(VLOOKUP($A16,'Total Rankings (excl QB)'!$D:$L,6,0),\"\")","v":""},{"$f":"IFERROR(VLOOKUP($A16,'Total Rankings (excl QB)'!$D:$L,7,0),\"\")","v":""},{"$f":"IFERROR(VLOOKUP($A16,'Total Rankings (excl QB)'!$D:$L,8,0),\"\")","v":""},null,{"$f":"IFERROR(INDEX('Positional Ranks'!M$4:M$195,_xlfn.AGGREGATE(15,6,ROW('Positional Ranks'!M$4:M$195)-ROW('Positional Ranks'!M$4)+1/('Positional Ranks'!M$4:Q$195=\"2nd Tier RB1\"),ROWS('Tiered Rankings'!K$15:K16))),\"\")","v":""},{"$f":"IFERROR(VLOOKUP($K16,'Total Rankings (excl QB)'!$D:$E,2,0),0)","v":0},0,null,{"$f":"IFERROR(VLOOKUP($K16,'Total Rankings (excl QB)'!$D:$L,4,0),\"\")","v":""},{"$f":"IFERROR(VLOOKUP($K16,'Total Rankings (excl QB)'!$D:$L,5,0),\"\")","v":""},{"$f":"IFERROR(VLOOKUP($K16,'Total Rankings (excl QB)'!$D:$L,6,0),\"\")","v":""},{"$f":"IFERROR(VLOOKUP($K16,'Total Rankings (excl QB)'!$D:$L,7,0),\"\")","v":""},{"$f":"IFERROR(VLOOKUP($K16,'Total Rankings (excl QB)'!$D:$L,8,0),\"\")","v":""},null,{"$f":"IFERROR(INDEX('Positional Ranks'!X$4:X$195,_xlfn.AGGREGATE(15,6,ROW('Positional Ranks'!X$4:X$195)-ROW('Positional Ranks'!X$4)+1/('Positional Ranks'!X$4:AB$195=\"2nd Tier TE1\"),ROWS('Tiered Rankings'!U$15:U16))),\"\")","v":""},{"$f":"IFERROR(VLOOKUP($U16,'Total Rankings (excl QB)'!$D:$E,2,0),0)","v":0},0,null,{"$f":"IFERROR(VLOOKUP($U16,'Total Rankings (excl QB)'!$D:$L,4,0),\"\")","v":""},{"$f":"IFERROR(VLOOKUP($U16,'Total Rankings (excl QB)'!$D:$L,5,0),\"\")","v":""},{"$f":"IFERROR(VLOOKUP($U16,'Total Rankings (excl QB)'!$D:$L,6,0),\"\")","v":""},{"$f":"IFERROR(VLOOKUP($U16,'Total Rankings (excl QB)'!$D:$L,7,0),\"\")","v":""},{"$f":"IFERROR(VLOOKUP($U16,'Total Rankings (excl QB)'!$D:$L,8,0),\"\")","v":""},null,{"$f":"IFERROR(INDEX('Positional Ranks'!AI$4:AI$195,_xlfn.AGGREGATE(15,6,ROW('Positional Ranks'!AI$4:AI$195)-ROW('Positional Ranks'!AI$4)+1/('Positional Ranks'!AI$4:AM$195=\"2nd Tier QB1\"),ROWS('Tiered Rankings'!AE$15:AE16))),\"\")","v":""},{"$f":"IFERROR(VLOOKUP($AE16,'Positional Ranks'!$AI$4:$AQ$67,2,0),0)","v":0},{"$f":"IFERROR(VLOOKUP($AE16,'Positional Ranks'!$AI$4:$AQ$67,3,0),0)","v":0},null,{"$f":"IFERROR(VLOOKUP($AE16,'Positional Ranks'!$AI$4:$AQ$67,5,0),\"\")","v":""},{"$f":"IFERROR(VLOOKUP($AE16,'Positional Ranks'!$AI$4:$AQ$67,6,0),0)","v":0},{"$f":"IFERROR(VLOOKUP($AE16,'Positional Ranks'!$AI$4:$AQ$67,7,0),\"\")","v":""},{"$f":"IFERROR(VLOOKUP($AE16,'Positional Ranks'!$AI$4:$AQ$67,8,0),0)","v":0},{"$f":"IFERROR(VLOOKUP($AE16,'Positional Ranks'!$AI$4:$AQ$67,9,0),\"\")","v":""}]
[{"$f":"IFERROR(INDEX('Positional Ranks'!B$4:B$195,_xlfn.AGGREGATE(15,6,ROW('Positional Ranks'!B$4:B$195)-ROW('Positional Ranks'!B$4)+1/('Positional Ranks'!B$4:F$195=\"2nd Tier WR1\"),ROWS('Tiered Rankings'!A$15:A17))),\"\")","v":""},{"$f":"IFERROR(VLOOKUP($A17,'Total Rankings (excl QB)'!$D:$E,2,0),0)","v":0},0,null,{"$f":"IFERROR(VLOOKUP($A17,'Total Rankings (excl QB)'!$D:$L,4,0),\"\")","v":""},{"$f":"IFERROR(VLOOKUP($A17,'Total Rankings (excl QB)'!$D:$L,5,0),\"\")","v":""},{"$f":"IFERROR(VLOOKUP($A17,'Total Rankings (excl QB)'!$D:$L,6,0),\"\")","v":""},{"$f":"IFERROR(VLOOKUP($A17,'Total Rankings (excl QB)'!$D:$L,7,0),\"\")","v":""},{"$f":"IFERROR(VLOOKUP($A17,'Total Rankings (excl QB)'!$D:$L,8,0),\"\")","v":""},null,{"$f":"IFERROR(INDEX('Positional Ranks'!M$4:M$195,_xlfn.AGGREGATE(15,6,ROW('Positional Ranks'!M$4:M$195)-ROW('Positional Ranks'!M$4)+1/('Positional Ranks'!M$4:Q$195=\"2nd Tier RB1\"),ROWS('Tiered Rankings'!K$15:K17))),\"\")","v":""},{"$f":"IFERROR(VLOOKUP($K17,'Total Rankings (excl QB)'!$D:$E,2,0),0)","v":0},0,null,{"$f":"IFERROR(VLOOKUP($K17,'Total Rankings (excl QB)'!$D:$L,4,0),\"\")","v":""},{"$f":"IFERROR(VLOOKUP($K17,'Total Rankings (excl QB)'!$D:$L,5,0),\"\")","v":""},{"$f":"IFERROR(VLOOKUP($K17,'Total Rankings (excl QB)'!$D:$L,6,0),\"\")","v":""},{"$f":"IFERROR(VLOOKUP($K17,'Total Rankings (excl QB)'!$D:$L,7,0),\"\")","v":""},{"$f":"IFERROR(VLOOKUP($K17,'Total Rankings (excl QB)'!$D:$L,8,0),\"\")","v":""},null,{"$f":"IFERROR(INDEX('Positional Ranks'!X$4:X$195,_xlfn.AGGREGATE(15,6,ROW('Positional Ranks'!X$4:X$195)-ROW('Positional Ranks'!X$4)+1/('Positional Ranks'!X$4:AB$195=\"2nd Tier TE1\"),ROWS('Tiered Rankings'!U$15:U17))),\"\")","v":""},{"$f":"IFERROR(VLOOKUP($U17,'Total Rankings (excl QB)'!$D:$E,2,0),0)","v":0},0,null,{"$f":"IFERROR(VLOOKUP($U17,'Total Rankings (excl QB)'!$D:$L,4,0),\"\")","v":""},{"$f":"IFERROR(VLOOKUP($U17,'Total Rankings (excl QB)'!$D:$L,5,0),\"\")","v":""},{"$f":"IFERROR(VLOOKUP($U17,'Total Rankings (excl QB)'!$D:$L,6,0),\"\")","v":""},{"$f":"IFERROR(VLOOKUP($U17,'Total Rankings (excl QB)'!$D:$L,7,0),\"\")","v":""},{"$f":"IFERROR(VLOOKUP($U17,'Total Rankings (excl QB)'!$D:$L,8,0),\"\")","v":""},null,{"$f":"IFERROR(INDEX('Positional Ranks'!AI$4:AI$195,_xlfn.AGGREGATE(15,6,ROW('Positional Ranks'!AI$4:AI$195)-ROW('Positional Ranks'!AI$4)+1/('Positional Ranks'!AI$4:AM$195=\"2nd Tier QB1\"),ROWS('Tiered Rankings'!AE$15:AE17))),\"\")","v":""},{"$f":"IFERROR(VLOOKUP($AE17,'Positional Ranks'!$AI$4:$AQ$67,2,0),0)","v":0},{"$f":"IFERROR(VLOOKUP($AE17,'Positional Ranks'!$AI$4:$AQ$67,3,0),0)","v":0},null,{"$f":"IFERROR(VLOOKUP($AE17,'Positional Ranks'!$AI$4:$AQ$67,5,0),\"\")","v":""},{"$f":"IFERROR(VLOOKUP($AE17,'Positional Ranks'!$AI$4:$AQ$67,6,0),0)","v":0},{"$f":"IFERROR(VLOOKUP($AE17,'Positional Ranks'!$AI$4:$AQ$67,7,0),\"\")","v":""},{"$f":"IFERROR(VLOOKUP($AE17,'Positional Ranks'!$AI$4:$AQ$67,8,0),0)","v":0},{"$f":"IFERROR(VLOOKUP($AE17,'Positional Ranks'!$AI$4:$AQ$67,9,0),\"\")","v":""}]
[{"$f":"IFERROR(INDEX('Positional Ranks'!B$4:B$195,_xlfn.AGGREGATE(15,6,ROW('Positional Ranks'!B$4:B$195)-ROW('Positional Ranks'!B$4)+1/('Positional Ranks'!B$4:F$195=\"2nd Tier WR1\"),ROWS('Tiered Rankings'!A$15:A18))),\"\")","v":""},{"$f":"IFERROR(VLOOKUP($A18,'Total Rankings (excl QB)'!$D:$E,2,0),0)","v":0},0,null,{"$f":"IFERROR(VLOOKUP($A18,'Total Rankings (excl QB)'!$D:$L,4,0),\"\")","v":""},{"$f":"IFERROR(VLOOKUP($A18,'Total Rankings (excl QB)'!$D:$L,5,0),\"\")","v":""},{"$f":"IFERROR(VLOOKUP($A18,'Total Rankings (excl QB)'!$D:$L,6,0),\"\")","v":""},{"$f":"IFERROR(VLOOKUP($A18,'Total Rankings (excl QB)'!$D:$L,7,0),\"\")","v":""},{"$f":"IFERROR(VLOOKUP($A18,'Total Rankings (excl QB)'!$D:$L,8,0),\"\")","v":""},null,{"$f":"IFERROR(INDEX('Positional Ranks'!M$4:M$195,_xlfn.AGGREGATE(15,6,ROW('Positional Ranks'!M$4:M$195)-ROW('Positional Ranks'!M$4)+1/('Positional Ranks'!M$4:Q$195=\"2nd Tier RB1\"),ROWS('Tiered Rankings'!K$15:K18))),\"\")","v":""},{"$f":"IFERROR(VLOOKUP($K18,'Total Rankings (excl QB)'!$D:$E,2,0),0)","v":0},0,null,{"$f":"IFERROR(VLOOKUP($K18,'Total Rankings (excl QB)'!$D:$L,4,0),\"\")","v":""},{"$f":"IFERROR(VLOOKUP($K18,'Total Rankings (excl QB)'!$D:$L,5,0),\"\")","v":""},{"$f":"IFERROR(VLOOKUP($K18,'Total Rankings (excl QB)'!$D:$L,6,0),\"\")","v":""},{"$f":"IFERROR(VLOOKUP($K18,'Total Rankings (excl QB)'!$D:$L,7,0),\"\")","v":""},{"$f":"IFERROR(VLOOKUP($K18,'Total Rankings (excl QB)'!$D:$L,8,0),\"\")","v":""},null,{"$f":"IFERROR(INDEX('Positional Ranks'!X$4:X$195,_xlfn.AGGREGATE(15,6,ROW('Positional Ranks'!X$4:X$195)-ROW('Positional Ranks'!X$4)+1/('Positional Ranks'!X$4:AB$195=\"2nd Tier TE1\"),ROWS('Tiered Rankings'!U$15:U18))),\"\")","v":""},{"$f":"IFERROR(VLOOKUP($U18,'Total Rankings (excl QB)'!$D:$E,2,0),0)","v":0},0,null,{"$f":"IFERROR(VLOOKUP($U18,'Total Rankings (excl QB)'!$D:$L,4,0),\"\")","v":""},{"$f":"IFERROR(VLOOKUP($U18,'Total Rankings (excl QB)'!$D:$L,5,0),\"\")","v":""},{"$f":"IFERROR(VLOOKUP($U18,'Total Rankings (excl QB)'!$D:$L,6,0),\"\")","v":""},{"$f":"IFERROR(VLOOKUP($U18,'Total Rankings (excl QB)'!$D:$L,7,0),\"\")","v":""},{"$f":"IFERROR(VLOOKUP($U18,'Total Rankings (excl QB)'!$D:$L,8,0),\"\")","v":""},null,{"$f":"IFERROR(INDEX('Positional Ranks'!AI$4:AI$195,_xlfn.AGGREGATE(15,6,ROW('Positional Ranks'!AI$4:AI$195)-ROW('Positional Ranks'!AI$4)+1/('Positional Ranks'!AI$4:AM$195=\"2nd Tier QB1\"),ROWS('Tiered Rankings'!AE$15:AE18))),\"\")","v":""},{"$f":"IFERROR(VLOOKUP($AE18,'Positional Ranks'!$AI$4:$AQ$67,2,0),0)","v":0},{"$f":"IFERROR(VLOOKUP($AE18,'Positional Ranks'!$AI$4:$AQ$67,3,0),0)","v":0},null,{"$f":"IFERROR(VLOOKUP($AE18,'Positional Ranks'!$AI$4:$AQ$67,5,0),\"\")","v":""},{"$f":"IFERROR(VLOOKUP($AE18,'Positional Ranks'!$AI$4:$AQ$67,6,0),0)","v":0},{"$f":"IFERROR(VLOOKUP($AE18,'Positional Ranks'!$AI$4:$AQ$67,7,0),\"\")","v":""},{"$f":"IFERROR(VLOOKUP($AE18,'Positional Ranks'!$AI$4:$AQ$67,8,0),0)","v":0},{"$f":"IFERROR(VLOOKUP($AE18,'Positional Ranks'!$AI$4:$AQ$67,9,0),\"\")","v":""}]
[{"$f":"IFERROR(INDEX('Positional Ranks'!B$4:B$195,_xlfn.AGGREGATE(15,6,ROW('Positional Ranks'!B$4:B$195)-ROW('Positional Ranks'!B$4)+1/('Positional Ranks'!B$4:F$195=\"2nd Tier WR1\"),ROWS('Tiered Rankings'!A$15:A19))),\"\")","v":""},{"$f":"IFERROR(VLOOKUP($A19,'Total Rankings (excl QB)'!$D:$E,2,0),0)","v":0},0,null,{"$f":"IFERROR(VLOOKUP($A19,'Total Rankings (excl QB)'!$D:$L,4,0),\"\")","v":""},{"$f":"IFERROR(VLOOKUP($A19,'Total Rankings (excl QB)'!$D:$L,5,0),\"\")","v":""},{"$f":"IFERROR(VLOOKUP($A19,'Total Rankings (excl QB)'!$D:$L,6,0),\"\")","v":""},{"$f":"IFERROR(VLOOKUP($A19,'Total Rankings (excl QB)'!$D:$L,7,0),\"\")","v":""},{"$f":"IFERROR(VLOOKUP($A19,'Total Rankings (excl QB)'!$D:$L,8,0),\"\")","v":""},null,{"$f":"IFERROR(INDEX('Positional Ranks'!M$4:M$195,_xlfn.AGGREGATE(15,6,ROW('Positional Ranks'!M$4:M$195)-ROW('Positional Ranks'!M$4)+1/('Positional Ranks'!M$4:Q$195=\"2nd Tier RB1\"),ROWS('Tiered Rankings'!K$15:K19))),\"\")","v":""},{"$f":"IFERROR(VLOOKUP($K19,'Total Rankings (excl QB)'!$D:$E,2,0),0)","v":0},0,null,{"$f":"IFERROR(VLOOKUP($K19,'Total Rankings (excl QB)'!$D:$L,4,0),\"\")","v":""},{"$f":"IFERROR(VLOOKUP($K19,'Total Rankings (excl QB)'!$D:$L,5,0),\"\")","v":""},{"$f":"IFERROR(VLOOKUP($K19,'Total Rankings (excl QB)'!$D:$L,6,0),\"\")","v":""},{"$f":"IFERROR(VLOOKUP($K19,'Total Rankings (excl QB)'!$D:$L,7,0),\"\")","v":""},{"$f":"IFERROR(VLOOKUP($K19,'Total Rankings (excl QB)'!$D:$L,8,0),\"\")","v":""},null,{"$f":"IFERROR(INDEX('Positional Ranks'!X$4:X$195,_xlfn.AGGREGATE(15,6,ROW('Positional Ranks'!X$4:X$195)-ROW('Positional Ranks'!X$4)+1/('Positional Ranks'!X$4:AB$195=\"2nd Tier TE1\"),ROWS('Tiered Rankings'!U$15:U19))),\"\")","v":""},{"$f":"IFERROR(VLOOKUP($U19,'Total Rankings (excl QB)'!$D:$E,2,0),0)","v":0},0,null,{"$f":"IFERROR(VLOOKUP($U19,'Total Rankings (excl QB)'!$D:$L,4,0),\"\")","v":""},{"$f":"IFERROR(VLOOKUP($U19,'Total Rankings (excl QB)'!$D:$L,5,0),\"\")","v":""},{"$f":"IFERROR(VLOOKUP($U19,'Total Rankings (excl QB)'!$D:$L,6,0),\"\")","v":""},{"$f":"IFERROR(VLOOKUP($U19,'Total Rankings (excl QB)'!$D:$L,7,0),\"\")","v":""},{"$f":"IFERROR(VLOOKUP($U19,'Total Rankings (excl QB)'!$D:$L,8,0),\"\")","v":""},null,{"$f":"IFERROR(INDEX('Positional Ranks'!AI$4:AI$195,_xlfn.AGGREGATE(15,6,ROW('Positional Ranks'!AI$4:AI$195)-ROW('Positional Ranks'!AI$4)+1/('Positional Ranks'!AI$4:AM$195=\"2nd Tier QB1\"),ROWS('Tiered Rankings'!AE$15:AE19))),\"\")","v":""},{"$f":"IFERROR(VLOOKUP($AE19,'Positional Ranks'!$AI$4:$AQ$67,2,0),0)","v":0},{"$f":"IFERROR(VLOOKUP($AE19,'Positional Ranks'!$AI$4:$AQ$67,3,0),0)","v":0},null,{"$f":"IFERROR(VLOOKUP($AE19,'Positional Ranks'!$AI$4:$AQ$67,5,0),\"\")","v":""},{"$f":"IFERROR(VLOOKUP($AE19,'Positional Ranks'!$AI$4:$AQ$67,6,0),0)","v":0},{"$f":"IFERROR(VLOOKUP($AE19,'Positional Ranks'!$AI$4:$AQ$67,7,0),\"\")","v":""},{"$f":"IFERROR(VLOOKUP($AE19,'Positional Ranks'!$AI$4:$AQ$67,8,0),0)","v":0},{"$f":"IFERROR(VLOOKUP($AE19,'Positional Ranks'!$AI$4:$AQ$67,9,0),\"\")","v":""}]
[{"$f":"IFERROR(INDEX('Positional Ranks'!B$4:B$195,_xlfn.AGGREGATE(15,6,ROW('Positional Ranks'!B$4:B$195)-ROW('Positional Ranks'!B$4)+1/('Positional Ranks'!B$4:F$195=\"2nd Tier WR1\"),ROWS('Tiered Rankings'!A$15:A20))),\"\")","v":""},{"$f":"IFERROR(VLOOKUP($A20,'Total Rankings (excl QB)'!$D:$E,2,0),0)","v":0},0,null,{"$f":"IFERROR(VLOOKUP($A20,'Total Rankings (excl QB)'!$D:$L,4,0),\"\")","v":""},{"$f":"IFERROR(VLOOKUP($A20,'Total Rankings (excl QB)'!$D:$L,5,0),\"\")","v":""},{"$f":"IFERROR(VLOOKUP($A20,'Total Rankings (excl QB)'!$D:$L,6,0),\"\")","v":""},{"$f":"IFERROR(VLOOKUP($A20,'Total Rankings (excl QB)'!$D:$L,7,0),\"\")","v":""},{"$f":"IFERROR(VLOOKUP($A20,'Total Rankings (excl QB)'!$D:$L,8,0),\"\")","v":""},null,{"$f":"IFERROR(INDEX('Positional Ranks'!M$4:M$195,_xlfn.AGGREGATE(15,6,ROW('Positional Ranks'!M$4:M$195)-ROW('Positional Ranks'!M$4)+1/('Positional Ranks'!M$4:Q$195=\"2nd Tier RB1\"),ROWS('Tiered Rankings'!K$15:K20))),\"\")","v":""},{"$f":"IFERROR(VLOOKUP($K20,'Total Rankings (excl QB)'!$D:$E,2,0),0)","v":0},0,null,{"$f":"IFERROR(VLOOKUP($K20,'Total Rankings (excl QB)'!$D:$L,4,0),\"\")","v":""},{"$f":"IFERROR(VLOOKUP($K20,'Total Rankings (excl QB)'!$D:$L,5,0),\"\")","v":""},{"$f":"IFERROR(VLOOKUP($K20,'Total Rankings (excl QB)'!$D:$L,6,0),\"\")","v":""},{"$f":"IFERROR(VLOOKUP($K20,'Total Rankings (excl QB)'!$D:$L,7,0),\"\")","v":""},{"$f":"IFERROR(VLOOKUP($K20,'Total Rankings (excl QB)'!$D:$L,8,0),\"\")","v":""},null,{"$f":"IFERROR(INDEX('Positional Ranks'!X$4:X$195,_xlfn.AGGREGATE(15,6,ROW('Positional Ranks'!X$4:X$195)-ROW('Positional Ranks'!X$4)+1/('Positional Ranks'!X$4:AB$195=\"2nd Tier TE1\"),ROWS('Tiered Rankings'!U$15:U20))),\"\")","v":""},{"$f":"IFERROR(VLOOKUP($U20,'Total Rankings (excl QB)'!$D:$E,2,0),0)","v":0},0,null,{"$f":"IFERROR(VLOOKUP($U20,'Total Rankings (excl QB)'!$D:$L,4,0),\"\")","v":""},{"$f":"IFERROR(VLOOKUP($U20,'Total Rankings (excl QB)'!$D:$L,5,0),\"\")","v":""},{"$f":"IFERROR(VLOOKUP($U20,'Total Rankings (excl QB)'!$D:$L,6,0),\"\")","v":""},{"$f":"IFERROR(VLOOKUP($U20,'Total Rankings (excl QB)'!$D:$L,7,0),\"\")","v":""},{"$f":"IFERROR(VLOOKUP($U20,'Total Rankings (excl QB)'!$D:$L,8,0),\"\")","v":""},null,{"$f":"IFERROR(INDEX('Positional Ranks'!AI$4:AI$195,_xlfn.AGGREGATE(15,6,ROW('Positional Ranks'!AI$4:AI$195)-ROW('Positional Ranks'!AI$4)+1/('Positional Ranks'!AI$4:AM$195=\"2nd Tier QB1\"),ROWS('Tiered Rankings'!AE$15:AE20))),\"\")","v":""},{"$f":"IFERROR(VLOOKUP($AE20,'Positional Ranks'!$AI$4:$AQ$67,2,0),0)","v":0},{"$f":"IFERROR(VLOOKUP($AE20,'Positional Ranks'!$AI$4:$AQ$67,3,0),0)","v":0},null,{"$f":"IFERROR(VLOOKUP($AE20,'Positional Ranks'!$AI$4:$AQ$67,5,0),\"\")","v":""},{"$f":"IFERROR(VLOOKUP($AE20,'Positional Ranks'!$AI$4:$AQ$67,6,0),0)","v":0},{"$f":"IFERROR(VLOOKUP($AE20,'Positional Ranks'!$AI$4:$AQ$67,7,0),\"\")","v":""},{"$f":"IFERROR(VLOOKUP($AE20,'Positional Ranks'!$AI$4:$AQ$67,8,0),0)","v":0},{"$f":"IFERROR(VLOOKUP($AE20,'Positional Ranks'!$AI$4:$AQ$67,9,0),\"\")","v":""}]
[{"$f":"IFERROR(INDEX('Positional Ranks'!B$4:B$195,_xlfn.AGGREGATE(15,6,ROW('Positional Ranks'!B$4:B$195)-ROW('Positional Ranks'!B$4)+1/('Positional Ranks'!B$4:F$195=\"2nd Tier WR1\"),ROWS('Tiered Rankings'!A$15:A21))),\"\")","v":""},{"$f":"IFERROR(VLOOKUP($A21,'Total Rankings (excl QB)'!$D:$E,2,0),0)","v":0},0,null,{"$f":"IFERROR(VLOOKUP($A21,'Total Rankings (excl QB)'!$D:$L,4,0),\"\")","v":""},{"$f":"IFERROR(VLOOKUP($A21,'Total Rankings (excl QB)'!$D:$L,5,0),\"\")","v":""},{"$f":"IFERROR(VLOOKUP($A21,'Total Rankings (excl QB)'!$D:$L,6,0),\"\")","v":""},{"$f":"IFERROR(VLOOKUP($A21,'Total Rankings (excl QB)'!$D:$L,7,0),\"\")","v":""},{"$f":"IFERROR(VLOOKUP($A21,'Total Rankings (excl QB)'!$D:$L,8,0),\"\")","v":""},null,{"$f":"IFERROR(INDEX('Positional Ranks'!M$4:M$195,_xlfn.AGGREGATE(15,6,ROW('Positional Ranks'!M$4:M$195)-ROW('Positional Ranks'!M$4)+1/('Positional Ranks'!M$4:Q$195=\"2nd Tier RB1\"),ROWS('Tiered Rankings'!K$15:K21))),\"\")","v":""},{"$f":"IFERROR(VLOOKUP($K21,'Total Rankings (excl QB)'!$D:$E,2,0),0)","v":0},0,null,{"$f":"IFERROR(VLOOKUP($K21,'Total Rankings (excl QB)'!$D:$L,4,0),\"\")","v":""},{"$f":"IFERROR(VLOOKUP($K21,'Total Rankings (excl QB)'!$D:$L,5,0),\"\")","v":""},{"$f":"IFERROR(VLOOKUP($K21,'Total Rankings (excl QB)'!$D:$L,6,0),\"\")","v":""},{"$f":"IFERROR(VLOOKUP($K21,'Total Rankings (excl QB)'!$D:$L,7,0),\"\")","v":""},{"$f":"IFERROR(VLOOKUP($K21,'Total Rankings (excl QB)'!$D:$L,8,0),\"\")","v":""},null,{"$f":"IFERROR(INDEX('Positional Ranks'!X$4:X$195,_xlfn.AGGREGATE(15,6,ROW('Positional Ranks'!X$4:X$195)-ROW('Positional Ranks'!X$4)+1/('Positional Ranks'!X$4:AB$195=\"2nd Tier TE1\"),ROWS('Tiered Rankings'!U$15:U21))),\"\")","v":""},{"$f":"IFERROR(VLOOKUP($U21,'Total Rankings (excl QB)'!$D:$E,2,0),0)","v":0},0,null,{"$f":"IFERROR(VLOOKUP($U21,'Total Rankings (excl QB)'!$D:$L,4,0),\"\")","v":""},{"$f":"IFERROR(VLOOKUP($U21,'Total Rankings (excl QB)'!$D:$L,5,0),\"\")","v":""},{"$f":"IFERROR(VLOOKUP($U21,'Total Rankings (excl QB)'!$D:$L,6,0),\"\")","v":""},{"$f":"IFERROR(VLOOKUP($U21,'Total Rankings (excl QB)'!$D:$L,7,0),\"\")","v":""},{"$f":"IFERROR(VLOOKUP($U21,'Total Rankings (excl QB)'!$D:$L,8,0),\"\")","v":""},null,{"$f":"IFERROR(INDEX('Positional Ranks'!AI$4:AI$195,_xlfn.AGGREGATE(15,6,ROW('Positional Ranks'!AI$4:AI$195)-ROW('Positional Ranks'!AI$4)+1/('Positional Ranks'!AI$4:AM$195=\"2nd Tier QB1\"),ROWS('Tiered Rankings'!AE$15:AE21))),\"\")","v":""},{"$f":"IFERROR(VLOOKUP($AE21,'Positional Ranks'!$AI$4:$AQ$67,2,0),0)","v":0},{"$f":"IFERROR(VLOOKUP($AE21,'Positional Ranks'!$AI$4:$AQ$67,3,0),0)","v":0},null,{"$f":"IFERROR(VLOOKUP($AE21,'Positional Ranks'!$AI$4:$AQ$67,5,0),\"\")","v":""},{"$f":"IFERROR(VLOOKUP($AE21,'Positional Ranks'!$AI$4:$AQ$67,6,0),0)","v":0},{"$f":"IFERROR(VLOOKUP($AE21,'Positional Ranks'!$AI$4:$AQ$67,7,0),\"\")","v":""},{"$f":"IFERROR(VLOOKUP($AE21,'Positional Ranks'!$AI$4:$AQ$67,8,0),0)","v":0},{"$f":"IFERROR(VLOOKUP($AE21,'Positional Ranks'!$AI$4:$AQ$67,9,0),\"\")","v":""}]
[{"$f":"IFERROR(INDEX('Positional Ranks'!B$4:B$195,_xlfn.AGGREGATE(15,6,ROW('Positional Ranks'!B$4:B$195)-ROW('Positional Ranks'!B$4)+1/('Positional Ranks'!B$4:F$195=\"2nd Tier WR1\"),ROWS('Tiered Rankings'!A$15:A22))),\"\")","v":""},{"$f":"IFERROR(VLOOKUP($A22,'Total Rankings (excl QB)'!$D:$E,2,0),0)","v":0},0,null,{"$f":"IFERROR(VLOOKUP($A22,'Total Rankings (excl QB)'!$D:$L,4,0),\"\")","v":""},{"$f":"IFERROR(VLOOKUP($A22,'Total Rankings (excl QB)'!$D:$L,5,0),\"\")","v":""},{"$f":"IFERROR(VLOOKUP($A22,'Total Rankings (excl QB)'!$D:$L,6,0),\"\")","v":""},{"$f":"IFERROR(VLOOKUP($A22,'Total Rankings (excl QB)'!$D:$L,7,0),\"\")","v":""},{"$f":"IFERROR(VLOOKUP($A22,'Total Rankings (excl QB)'!$D:$L,8,0),\"\")","v":""},null,{"$f":"IFERROR(INDEX('Positional Ranks'!M$4:M$195,_xlfn.AGGREGATE(15,6,ROW('Positional Ranks'!M$4:M$195)-ROW('Positional Ranks'!M$4)+1/('Positional Ranks'!M$4:Q$195=\"2nd Tier RB1\"),ROWS('Tiered Rankings'!K$15:K22))),\"\")","v":""},{"$f":"IFERROR(VLOOKUP($K22,'Total Rankings (excl QB)'!$D:$E,2,0),0)","v":0},0,null,{"$f":"IFERROR(VLOOKUP($K22,'Total Rankings (excl QB)'!$D:$L,4,0),\"\")","v":""},{"$f":"IFERROR(VLOOKUP($K22,'Total Rankings (excl QB)'!$D:$L,5,0),\"\")","v":""},{"$f":"IFERROR(VLOOKUP($K22,'Total Rankings (excl QB)'!$D:$L,6,0),\"\")","v":""},{"$f":"IFERROR(VLOOKUP($K22,'Total Rankings (excl QB)'!$D:$L,7,0),\"\")","v":""},{"$f":"IFERROR(VLOOKUP($K22,'Total Rankings (excl QB)'!$D:$L,8,0),\"\")","v":""},null,{"$f":"IFERROR(INDEX('Positional Ranks'!X$4:X$195,_xlfn.AGGREGATE(15,6,ROW('Positional Ranks'!X$4:X$195)-ROW('Positional Ranks'!X$4)+1/('Positional Ranks'!X$4:AB$195=\"2nd Tier TE1\"),ROWS('Tiered Rankings'!U$15:U22))),\"\")","v":""},{"$f":"IFERROR(VLOOKUP($U22,'Total Rankings (excl QB)'!$D:$E,2,0),0)","v":0},0,null,{"$f":"IFERROR(VLOOKUP($U22,'Total Rankings (excl QB)'!$D:$L,4,0),\"\")","v":""},{"$f":"IFERROR(VLOOKUP($U22,'Total Rankings (excl QB)'!$D:$L,5,0),\"\")","v":""},{"$f":"IFERROR(VLOOKUP($U22,'Total Rankings (excl QB)'!$D:$L,6,0),\"\")","v":""},{"$f":"IFERROR(VLOOKUP($U22,'Total Rankings (excl QB)'!$D:$L,7,0),\"\")","v":""},{"$f":"IFERROR(VLOOKUP($U22,'Total Rankings (excl QB)'!$D:$L,8,0),\"\")","v":""},null,{"$f":"IFERROR(INDEX('Positional Ranks'!AI$4:AI$195,_xlfn.AGGREGATE(15,6,ROW('Positional Ranks'!AI$4:AI$195)-ROW('Positional Ranks'!AI$4)+1/('Positional Ranks'!AI$4:AM$195=\"2nd Tier QB1\"),ROWS('Tiered Rankings'!AE$15:AE22))),\"\")","v":""},{"$f":"IFERROR(VLOOKUP($AE22,'Positional Ranks'!$AI$4:$AQ$67,2,0),0)","v":0},{"$f":"IFERROR(VLOOKUP($AE22,'Positional Ranks'!$AI$4:$AQ$67,3,0),0)","v":0},null,{"$f":"IFERROR(VLOOKUP($AE22,'Positional Ranks'!$AI$4:$AQ$67,5,0),\"\")","v":""},{"$f":"IFERROR(VLOOKUP($AE22,'Positional Ranks'!$AI$4:$AQ$67,6,0),0)","v":0},{"$f":"IFERROR(VLOOKUP($AE22,'Positional Ranks'!$AI$4:$AQ$67,7,0),\"\")","v":""},{"$f":"IFERROR(VLOOKUP($AE22,'Positional Ranks'!$AI$4:$AQ$67,8,0),0)","v":0},{"$f":"IFERROR(VLOOKUP($AE22,'Positional Ranks'!$AI$4:$AQ$67,9,0),\"\")","v":""}]
[{"$f":"IFERROR(INDEX('Positional Ranks'!B$4:B$195,_xlfn.AGGREGATE(15,6,ROW('Positional Ranks'!B$4:B$195)-ROW('Positional Ranks'!B$4)+1/('Positional Ranks'!B$4:F$195=\"2nd Tier WR1\"),ROWS('Tiered Rankings'!A$15:A23))),\"\")","v":""},{"$f":"IFERROR(VLOOKUP($A23,'Total Rankings (excl QB)'!$D:$E,2,0),0)","v":0},0,null,{"$f":"IFERROR(VLOOKUP($A23,'Total Rankings (excl QB)'!$D:$L,4,0),\"\")","v":""},{"$f":"IFERROR(VLOOKUP($A23,'Total Rankings (excl QB)'!$D:$L,5,0),\"\")","v":""},{"$f":"IFERROR(VLOOKUP($A23,'Total Rankings (excl QB)'!$D:$L,6,0),\"\")","v":""},{"$f":"IFERROR(VLOOKUP($A23,'Total Rankings (excl QB)'!$D:$L,7,0),\"\")","v":""},{"$f":"IFERROR(VLOOKUP($A23,'Total Rankings (excl QB)'!$D:$L,8,0),\"\")","v":""},null,{"$f":"IFERROR(INDEX('Positional Ranks'!M$4:M$195,_xlfn.AGGREGATE(15,6,ROW('Positional Ranks'!M$4:M$195)-ROW('Positional Ranks'!M$4)+1/('Positional Ranks'!M$4:Q$195=\"2nd Tier RB1\"),ROWS('Tiered Rankings'!K$15:K23))),\"\")","v":""},{"$f":"IFERROR(VLOOKUP($K23,'Total Rankings (excl QB)'!$D:$E,2,0),0)","v":0},0,null,{"$f":"IFERROR(VLOOKUP($K23,'Total Rankings (excl QB)'!$D:$L,4,0),\"\")","v":""},{"$f":"IFERROR(VLOOKUP($K23,'Total Rankings (excl QB)'!$D:$L,5,0),\"\")","v":""},{"$f":"IFERROR(VLOOKUP($K23,'Total Rankings (excl QB)'!$D:$L,6,0),\"\")","v":""},{"$f":"IFERROR(VLOOKUP($K23,'Total Rankings (excl QB)'!$D:$L,7,0),\"\")","v":""},{"$f":"IFERROR(VLOOKUP($K23,'Total Rankings (excl QB)'!$D:$L,8,0),\"\")","v":""},null,{"$f":"IFERROR(INDEX('Positional Ranks'!X$4:X$195,_xlfn.AGGREGATE(15,6,ROW('Positional Ranks'!X$4:X$195)-ROW('Positional Ranks'!X$4)+1/('Positional Ranks'!X$4:AB$195=\"2nd Tier TE1\"),ROWS('Tiered Rankings'!U$15:U23))),\"\")","v":""},{"$f":"IFERROR(VLOOKUP($U23,'Total Rankings (excl QB)'!$D:$E,2,0),0)","v":0},0,null,{"$f":"IFERROR(VLOOKUP($U23,'Total Rankings (excl QB)'!$D:$L,4,0),\"\")","v":""},{"$f":"IFERROR(VLOOKUP($U23,'Total Rankings (excl QB)'!$D:$L,5,0),\"\")","v":""},{"$f":"IFERROR(VLOOKUP($U23,'Total Rankings (excl QB)'!$D:$L,6,0),\"\")","v":""},{"$f":"IFERROR(VLOOKUP($U23,'Total Rankings (excl QB)'!$D:$L,7,0),\"\")","v":""},{"$f":"IFERROR(VLOOKUP($U23,'Total Rankings (excl QB)'!$D:$L,8,0),\"\")","v":""},null,{"$f":"IFERROR(INDEX('Positional Ranks'!AI$4:AI$195,_xlfn.AGGREGATE(15,6,ROW('Positional Ranks'!AI$4:AI$195)-ROW('Positional Ranks'!AI$4)+1/('Positional Ranks'!AI$4:AM$195=\"2nd Tier QB1\"),ROWS('Tiered Rankings'!AE$15:AE23))),\"\")","v":""},{"$f":"IFERROR(VLOOKUP($AE23,'Positional Ranks'!$AI$4:$AQ$67,2,0),0)","v":0},{"$f":"IFERROR(VLOOKUP($AE23,'Positional Ranks'!$AI$4:$AQ$67,3,0),0)","v":0},null,{"$f":"IFERROR(VLOOKUP($AE23,'Positional Ranks'!$AI$4:$AQ$67,5,0),\"\")","v":""},{"$f":"IFERROR(VLOOKUP($AE23,'Positional Ranks'!$AI$4:$AQ$67,6,0),0)","v":0},{"$f":"IFERROR(VLOOKUP($AE23,'Positional Ranks'!$AI$4:$AQ$67,7,0),\"\")","v":""},{"$f":"IFERROR(VLOOKUP($AE23,'Positional Ranks'!$AI$4:$AQ$67,8,0),0)","v":0},{"$f":"IFERROR(VLOOKUP($AE23,'Positional Ranks'!$AI$4:$AQ$67,9,0),\"\")","v":""}]
[{"$f":"IFERROR(INDEX('Positional Ranks'!B$4:B$195,_xlfn.AGGREGATE(15,6,ROW('Positional Ranks'!B$4:B$195)-ROW('Positional Ranks'!B$4)+1/('Positional Ranks'!B$4:F$195=\"2nd Tier WR1\"),ROWS('Tiered Rankings'!A$15:A24))),\"\")","v":""},{"$f":"IFERROR(VLOOKUP($A24,'Total Rankings (excl QB)'!$D:$E,2,0),0)","v":0},0,null,{"$f":"IFERROR(VLOOKUP($A24,'Total Rankings (excl QB)'!$D:$L,4,0),\"\")","v":""},{"$f":"IFERROR(VLOOKUP($A24,'Total Rankings (excl QB)'!$D:$L,5,0),\"\")","v":""},{"$f":"IFERROR(VLOOKUP($A24,'Total Rankings (excl QB)'!$D:$L,6,0),\"\")","v":""},{"$f":"IFERROR(VLOOKUP($A24,'Total Rankings (excl QB)'!$D:$L,7,0),\"\")","v":""},{"$f":"IFERROR(VLOOKUP($A24,'Total Rankings (excl QB)'!$D:$L,8,0),\"\")","v":""},null,{"$f":"IFERROR(INDEX('Positional Ranks'!M$4:M$195,_xlfn.AGGREGATE(15,6,ROW('Positional Ranks'!M$4:M$195)-ROW('Positional Ranks'!M$4)+1/('Positional Ranks'!M$4:Q$195=\"2nd Tier RB1\"),ROWS('Tiered Rankings'!K$15:K24))),\"\")","v":""},{"$f":"IFERROR(VLOOKUP($K24,'Total Rankings (excl QB)'!$D:$E,2,0),0)","v":0},0,null,{"$f":"IFERROR(VLOOKUP($K24,'Total Rankings (excl QB)'!$D:$L,4,0),\"\")","v":""},{"$f":"IFERROR(VLOOKUP($K24,'Total Rankings (excl QB)'!$D:$L,5,0),\"\")","v":""},{"$f":"IFERROR(VLOOKUP($K24,'Total Rankings (excl QB)'!$D:$L,6,0),\"\")","v":""},{"$f":"IFERROR(VLOOKUP($K24,'Total Rankings (excl QB)'!$D:$L,7,0),\"\")","v":""},{"$f":"IFERROR(VLOOKUP($K24,'Total Rankings (excl QB)'!$D:$L,8,0),\"\")","v":""},null,{"$f":"IFERROR(INDEX('Positional Ranks'!X$4:X$195,_xlfn.AGGREGATE(15,6,ROW('Positional Ranks'!X$4:X$195)-ROW('Positional Ranks'!X$4)+1/('Positional Ranks'!X$4:AB$195=\"2nd Tier TE1\"),ROWS('Tiered Rankings'!U$15:U24))),\"\")","v":""},{"$f":"IFERROR(VLOOKUP($U24,'Total Rankings (excl QB)'!$D:$E,2,0),0)","v":0},0,null,{"$f":"IFERROR(VLOOKUP($U24,'Total Rankings (excl QB)'!$D:$L,4,0),\"\")","v":""},{"$f":"IFERROR(VLOOKUP($U24,'Total Rankings (excl QB)'!$D:$L,5,0),\"\")","v":""},{"$f":"IFERROR(VLOOKUP($U24,'Total Rankings (excl QB)'!$D:$L,6,0),\"\")","v":""},{"$f":"IFERROR(VLOOKUP($U24,'Total Rankings (excl QB)'!$D:$L,7,0),\"\")","v":""},{"$f":"IFERROR(VLOOKUP($U24,'Total Rankings (excl QB)'!$D:$L,8,0),\"\")","v":""},null,{"$f":"IFERROR(INDEX('Positional Ranks'!AI$4:AI$195,_xlfn.AGGREGATE(15,6,ROW('Positional Ranks'!AI$4:AI$195)-ROW('Positional Ranks'!AI$4)+1/('Positional Ranks'!AI$4:AM$195=\"2nd Tier QB1\"),ROWS('Tiered Rankings'!AE$15:AE24))),\"\")","v":""},{"$f":"IFERROR(VLOOKUP($AE24,'Positional Ranks'!$AI$4:$AQ$67,2,0),0)","v":0},{"$f":"IFERROR(VLOOKUP($AE24,'Positional Ranks'!$AI$4:$AQ$67,3,0),0)","v":0},null,{"$f":"IFERROR(VLOOKUP($AE24,'Positional Ranks'!$AI$4:$AQ$67,5,0),\"\")","v":""},{"$f":"IFERROR(VLOOKUP($AE24,'Positional Ranks'!$AI$4:$AQ$67,6,0),0)","v":0},{"$f":"IFERROR(VLOOKUP($AE24,'Positional Ranks'!$AI$4:$AQ$67,7,0),\"\")","v":""},{"$f":"IFERROR(VLOOKUP($AE24,'Positional Ranks'!$AI$4:$AQ$67,8,0),0)","v":0},{"$f":"IFERROR(VLOOKUP($AE24,'Positional Ranks'!$AI$4:$AQ$67,9,0),\"\")","v":""}]
[{"$f":"IFERROR(INDEX('Positional Ranks'!B$4:B$195,_xlfn.AGGREGATE(15,6,ROW('Positional Ranks'!B$4:B$195)-ROW('Positional Ranks'!B$4)+1/('Positional Ranks'!B$4:F$195=\"2nd Tier WR1\"),ROWS('Tiered Rankings'!A$15:A25))),\"\")","v":""},{"$f":"IFERROR(VLOOKUP($A25,'Total Rankings (excl QB)'!$D:$E,2,0),0)","v":0},0,null,{"$f":"IFERROR(VLOOKUP($A25,'Total Rankings (excl QB)'!$D:$L,4,0),\"\")","v":""},{"$f":"IFERROR(VLOOKUP($A25,'Total Rankings (excl QB)'!$D:$L,5,0),\"\")","v":""},{"$f":"IFERROR(VLOOKUP($A25,'Total Rankings (excl QB)'!$D:$L,6,0),\"\")","v":""},{"$f":"IFERROR(VLOOKUP($A25,'Total Rankings (excl QB)'!$D:$L,7,0),\"\")","v":""},{"$f":"IFERROR(VLOOKUP($A25,'Total Rankings (excl QB)'!$D:$L,8,0),\"\")","v":""},null,{"$f":"IFERROR(INDEX('Positional Ranks'!M$4:M$195,_xlfn.AGGREGATE(15,6,ROW('Positional Ranks'!M$4:M$195)-ROW('Positional Ranks'!M$4)+1/('Positional Ranks'!M$4:Q$195=\"2nd Tier RB1\"),ROWS('Tiered Rankings'!K$15:K25))),\"\")","v":""},{"$f":"IFERROR(VLOOKUP($K25,'Total Rankings (excl QB)'!$D:$E,2,0),0)","v":0},0,null,{"$f":"IFERROR(VLOOKUP($K25,'Total Rankings (excl QB)'!$D:$L,4,0),\"\")","v":""},{"$f":"IFERROR(VLOOKUP($K25,'Total Rankings (excl QB)'!$D:$L,5,0),\"\")","v":""},{"$f":"IFERROR(VLOOKUP($K25,'Total Rankings (excl QB)'!$D:$L,6,0),\"\")","v":""},{"$f":"IFERROR(VLOOKUP($K25,'Total Rankings (excl QB)'!$D:$L,7,0),\"\")","v":""},{"$f":"IFERROR(VLOOKUP($K25,'Total Rankings (excl QB)'!$D:$L,8,0),\"\")","v":""},null,{"$f":"IFERROR(INDEX('Positional Ranks'!X$4:X$195,_xlfn.AGGREGATE(15,6,ROW('Positional Ranks'!X$4:X$195)-ROW('Positional Ranks'!X$4)+1/('Positional Ranks'!X$4:AB$195=\"2nd Tier TE1\"),ROWS('Tiered Rankings'!U$15:U25))),\"\")","v":""},{"$f":"IFERROR(VLOOKUP($U25,'Total Rankings (excl QB)'!$D:$E,2,0),0)","v":0},0,null,{"$f":"IFERROR(VLOOKUP($U25,'Total Rankings (excl QB)'!$D:$L,4,0),\"\")","v":""},{"$f":"IFERROR(VLOOKUP($U25,'Total Rankings (excl QB)'!$D:$L,5,0),\"\")","v":""},{"$f":"IFERROR(VLOOKUP($U25,'Total Rankings (excl QB)'!$D:$L,6,0),\"\")","v":""},{"$f":"IFERROR(VLOOKUP($U25,'Total Rankings (excl QB)'!$D:$L,7,0),\"\")","v":""},{"$f":"IFERROR(VLOOKUP($U25,'Total Rankings (excl QB)'!$D:$L,8,0),\"\")","v":""},null,{"$f":"IFERROR(INDEX('Positional Ranks'!AI$4:AI$195,_xlfn.AGGREGATE(15,6,ROW('Positional Ranks'!AI$4:AI$195)-ROW('Positional Ranks'!AI$4)+1/('Positional Ranks'!AI$4:AM$195=\"2nd Tier QB1\"),ROWS('Tiered Rankings'!AE$15:AE25))),\"\")","v":""},{"$f":"IFERROR(VLOOKUP($AE25,'Positional Ranks'!$AI$4:$AQ$67,2,0),0)","v":0},{"$f":"IFERROR(VLOOKUP($AE25,'Positional Ranks'!$AI$4:$AQ$67,3,0),0)","v":0},null,{"$f":"IFERROR(VLOOKUP($AE25,'Positional Ranks'!$AI$4:$AQ$67,5,0),\"\")","v":""},{"$f":"IFERROR(VLOOKUP($AE25,'Positional Ranks'!$AI$4:$AQ$67,6,0),0)","v":0},{"$f":"IFERROR(VLOOKUP($AE25,'Positional Ranks'!$AI$4:$AQ$67,7,0),\"\")","v":""},{"$f":"IFERROR(VLOOKUP($AE25,'Positional Ranks'!$AI$4:$AQ$67,8,0),0)","v":0},{"$f":"IFERROR(VLOOKUP($AE25,'Positional Ranks'!$AI$4:$AQ$67,9,0),\"\")","v":""}]
[{"$f":"IFERROR(INDEX('Positional Ranks'!B$4:B$195,_xlfn.AGGREGATE(15,6,ROW('Positional Ranks'!B$4:B$195)-ROW('Positional Ranks'!B$4)+1/('Positional Ranks'!B$4:F$195=\"2nd Tier WR1\"),ROWS('Tiered Rankings'!A$15:A26))),\"\")","v":""},{"$f":"IFERROR(VLOOKUP($A26,'Total Rankings (excl QB)'!$D:$E,2,0),0)","v":0},0,null,{"$f":"IFERROR(VLOOKUP($A26,'Total Rankings (excl QB)'!$D:$L,4,0),\"\")","v":""},{"$f":"IFERROR(VLOOKUP($A26,'Total Rankings (excl QB)'!$D:$L,5,0),\"\")","v":""},{"$f":"IFERROR(VLOOKUP($A26,'Total Rankings (excl QB)'!$D:$L,6,0),\"\")","v":""},{"$f":"IFERROR(VLOOKUP($A26,'Total Rankings (excl QB)'!$D:$L,7,0),\"\")","v":""},{"$f":"IFERROR(VLOOKUP($A26,'Total Rankings (excl QB)'!$D:$L,8,0),\"\")","v":""},null,{"$f":"IFERROR(INDEX('Positional Ranks'!M$4:M$195,_xlfn.AGGREGATE(15,6,ROW('Positional Ranks'!M$4:M$195)-ROW('Positional Ranks'!M$4)+1/('Positional Ranks'!M$4:Q$195=\"2nd Tier RB1\"),ROWS('Tiered Rankings'!K$15:K26))),\"\")","v":""},{"$f":"IFERROR(VLOOKUP($K26,'Total Rankings (excl QB)'!$D:$E,2,0),0)","v":0},0,null,{"$f":"IFERROR(VLOOKUP($K26,'Total Rankings (excl QB)'!$D:$L,4,0),\"\")","v":""},{"$f":"IFERROR(VLOOKUP($K26,'Total Rankings (excl QB)'!$D:$L,5,0),\"\")","v":""},{"$f":"IFERROR(VLOOKUP($K26,'Total Rankings (excl QB)'!$D:$L,6,0),\"\")","v":""},{"$f":"IFERROR(VLOOKUP($K26,'Total Rankings (excl QB)'!$D:$L,7,0),\"\")","v":""},{"$f":"IFERROR(VLOOKUP($K26,'Total Rankings (excl QB)'!$D:$L,8,0),\"\")","v":""},null,{"$f":"IFERROR(INDEX('Positional Ranks'!X$4:X$195,_xlfn.AGGREGATE(15,6,ROW('Positional Ranks'!X$4:X$195)-ROW('Positional Ranks'!X$4)+1/('Positional Ranks'!X$4:AB$195=\"2nd Tier TE1\"),ROWS('Tiered Rankings'!U$15:U26))),\"\")","v":""},{"$f":"IFERROR(VLOOKUP($U26,'Total Rankings (excl QB)'!$D:$E,2,0),0)","v":0},0,null,{"$f":"IFERROR(VLOOKUP($U26,'Total Rankings (excl QB)'!$D:$L,4,0),\"\")","v":""},{"$f":"IFERROR(VLOOKUP($U26,'Total Rankings (excl QB)'!$D:$L,5,0),\"\")","v":""},{"$f":"IFERROR(VLOOKUP($U26,'Total Rankings (excl QB)'!$D:$L,6,0),\"\")","v":""},{"$f":"IFERROR(VLOOKUP($U26,'Total Rankings (excl QB)'!$D:$L,7,0),\"\")","v":""},{"$f":"IFERROR(VLOOKUP($U26,'Total Rankings (excl QB)'!$D:$L,8,0),\"\")","v":""},null,{"$f":"IFERROR(INDEX('Positional Ranks'!AI$4:AI$195,_xlfn.AGGREGATE(15,6,ROW('Positional Ranks'!AI$4:AI$195)-ROW('Positional Ranks'!AI$4)+1/('Positional Ranks'!AI$4:AM$195=\"2nd Tier QB1\"),ROWS('Tiered Rankings'!AE$15:AE26))),\"\")","v":""},{"$f":"IFERROR(VLOOKUP($AE26,'Positional Ranks'!$AI$4:$AQ$67,2,0),0)","v":0},{"$f":"IFERROR(VLOOKUP($AE26,'Positional Ranks'!$AI$4:$AQ$67,3,0),0)","v":0},null,{"$f":"IFERROR(VLOOKUP($AE26,'Positional Ranks'!$AI$4:$AQ$67,5,0),\"\")","v":""},{"$f":"IFERROR(VLOOKUP($AE26,'Positional Ranks'!$AI$4:$AQ$67,6,0),0)","v":0},{"$f":"IFERROR(VLOOKUP($AE26,'Positional Ranks'!$AI$4:$AQ$67,7,0),\"\")","v":""},{"$f":"IFERROR(VLOOKUP($AE26,'Positional Ranks'!$AI$4:$AQ$67,8,0),0)","v":0},{"$f":"IFERROR(VLOOKUP($AE26,'Positional Ranks'!$AI$4:$AQ$67,9,0),\"\")","v":""}]
[{"$f":"IFERROR(INDEX('Positional Ranks'!B$4:B$195,_xlfn.AGGREGATE(15,6,ROW('Positional Ranks'!B$4:B$195)-ROW('Positional Ranks'!B$4)+1/('Positional Ranks'!B$4:F$195=\"2nd Tier WR1\"),ROWS('Tiered Rankings'!A$15:A27))),\"\")","v":""},{"$f":"IFERROR(VLOOKUP($A27,'Total Rankings (excl QB)'!$D:$E,2,0),0)","v":0},0,null,{"$f":"IFERROR(VLOOKUP($A27,'Total Rankings (excl QB)'!$D:$L,4,0),\"\")","v":""},{"$f":"IFERROR(VLOOKUP($A27,'Total Rankings (excl QB)'!$D:$L,5,0),\"\")","v":""},{"$f":"IFERROR(VLOOKUP($A27,'Total Rankings (excl QB)'!$D:$L,6,0),\"\")","v":""},{"$f":"IFERROR(VLOOKUP($A27,'Total Rankings (excl QB)'!$D:$L,7,0),\"\")","v":""},{"$f":"IFERROR(VLOOKUP($A27,'Total Rankings (excl QB)'!$D:$L,8,0),\"\")","v":""},null,{"$f":"IFERROR(INDEX('Positional Ranks'!M$4:M$195,_xlfn.AGGREGATE(15,6,ROW('Positional Ranks'!M$4:M$195)-ROW('Positional Ranks'!M$4)+1/('Positional Ranks'!M$4:Q$195=\"2nd Tier RB1\"),ROWS('Tiered Rankings'!K$15:K27))),\"\")","v":""},{"$f":"IFERROR(VLOOKUP($K27,'Total Rankings (excl QB)'!$D:$E,2,0),0)","v":0},0,null,{"$f":"IFERROR(VLOOKUP($K27,'Total Rankings (excl QB)'!$D:$L,4,0),\"\")","v":""},{"$f":"IFERROR(VLOOKUP($K27,'Total Rankings (excl QB)'!$D:$L,5,0),\"\")","v":""},{"$f":"IFERROR(VLOOKUP($K27,'Total Rankings (excl QB)'!$D:$L,6,0),\"\")","v":""},{"$f":"IFERROR(VLOOKUP($K27,'Total Rankings (excl QB)'!$D:$L,7,0),\"\")","v":""},{"$f":"IFERROR(VLOOKUP($K27,'Total Rankings (excl QB)'!$D:$L,8,0),\"\")","v":""},null,{"$f":"IFERROR(INDEX('Positional Ranks'!X$4:X$195,_xlfn.AGGREGATE(15,6,ROW('Positional Ranks'!X$4:X$195)-ROW('Positional Ranks'!X$4)+1/('Positional Ranks'!X$4:AB$195=\"2nd Tier TE1\"),ROWS('Tiered Rankings'!U$15:U27))),\"\")","v":""},{"$f":"IFERROR(VLOOKUP($U27,'Total Rankings (excl QB)'!$D:$E,2,0),0)","v":0},0,null,{"$f":"IFERROR(VLOOKUP($U27,'Total Rankings (excl QB)'!$D:$L,4,0),\"\")","v":""},{"$f":"IFERROR(VLOOKUP($U27,'Total Rankings (excl QB)'!$D:$L,5,0),\"\")","v":""},{"$f":"IFERROR(VLOOKUP($U27,'Total Rankings (excl QB)'!$D:$L,6,0),\"\")","v":""},{"$f":"IFERROR(VLOOKUP($U27,'Total Rankings (excl QB)'!$D:$L,7,0),\"\")","v":""},{"$f":"IFERROR(VLOOKUP($U27,'Total Rankings (excl QB)'!$D:$L,8,0),\"\")","v":""},null,{"$f":"IFERROR(INDEX('Positional Ranks'!AI$4:AI$195,_xlfn.AGGREGATE(15,6,ROW('Positional Ranks'!AI$4:AI$195)-ROW('Positional Ranks'!AI$4)+1/('Positional Ranks'!AI$4:AM$195=\"2nd Tier QB1\"),ROWS('Tiered Rankings'!AE$15:AE27))),\"\")","v":""},{"$f":"IFERROR(VLOOKUP($AE27,'Positional Ranks'!$AI$4:$AQ$67,2,0),0)","v":0},{"$f":"IFERROR(VLOOKUP($AE27,'Positional Ranks'!$AI$4:$AQ$67,3,0),0)","v":0},null,{"$f":"IFERROR(VLOOKUP($AE27,'Positional Ranks'!$AI$4:$AQ$67,5,0),\"\")","v":""},{"$f":"IFERROR(VLOOKUP($AE27,'Positional Ranks'!$AI$4:$AQ$67,6,0),0)","v":0},{"$f":"IFERROR(VLOOKUP($AE27,'Positional Ranks'!$AI$4:$AQ$67,7,0),\"\")","v":""},{"$f":"IFERROR(VLOOKUP($AE27,'Positional Ranks'!$AI$4:$AQ$67,8,0),0)","v":0},{"$f":"IFERROR(VLOOKUP($AE27,'Positional Ranks'!$AI$4:$AQ$67,9,0),\"\")","v":""}]
[{"$f":"IFERROR(INDEX('Positional Ranks'!B$4:B$195,_xlfn.AGGREGATE(15,6,ROW('Positional Ranks'!B$4:B$195)-ROW('Positional Ranks'!B$4)+1/('Positional Ranks'!B$4:F$195=\"2nd Tier WR1\"),ROWS('Tiered Rankings'!A$15:A28))),\"\")","v":""},{"$f":"IFERROR(VLOOKUP($A28,'Total Rankings (excl QB)'!$D:$E,2,0),0)","v":0},0,null,{"$f":"IFERROR(VLOOKUP($A28,'Total Rankings (excl QB)'!$D:$L,4,0),\"\")","v":""},{"$f":"IFERROR(VLOOKUP($A28,'Total Rankings (excl QB)'!$D:$L,5,0),\"\")","v":""},{"$f":"IFERROR(VLOOKUP($A28,'Total Rankings (excl QB)'!$D:$L,6,0),\"\")","v":""},{"$f":"IFERROR(VLOOKUP($A28,'Total Rankings (excl QB)'!$D:$L,7,0),\"\")","v":""},{"$f":"IFERROR(VLOOKUP($A28,'Total Rankings (excl QB)'!$D:$L,8,0),\"\")","v":""},null,{"$f":"IFERROR(INDEX('Positional Ranks'!M$4:M$195,_xlfn.AGGREGATE(15,6,ROW('Positional Ranks'!M$4:M$195)-ROW('Positional Ranks'!M$4)+1/('Positional Ranks'!M$4:Q$195=\"2nd Tier RB1\"),ROWS('Tiered Rankings'!K$15:K28))),\"\")","v":""},{"$f":"IFERROR(VLOOKUP($K28,'Total Rankings (excl QB)'!$D:$E,2,0),0)","v":0},0,null,{"$f":"IFERROR(VLOOKUP($K28,'Total Rankings (excl QB)'!$D:$L,4,0),\"\")","v":""},{"$f":"IFERROR(VLOOKUP($K28,'Total Rankings (excl QB)'!$D:$L,5,0),\"\")","v":""},{"$f":"IFERROR(VLOOKUP($K28,'Total Rankings (excl QB)'!$D:$L,6,0),\"\")","v":""},{"$f":"IFERROR(VLOOKUP($K28,'Total Rankings (excl QB)'!$D:$L,7,0),\"\")","v":""},{"$f":"IFERROR(VLOOKUP($K28,'Total Rankings (excl QB)'!$D:$L,8,0),\"\")","v":""},null,{"$f":"IFERROR(INDEX('Positional Ranks'!X$4:X$195,_xlfn.AGGREGATE(15,6,ROW('Positional Ranks'!X$4:X$195)-ROW('Positional Ranks'!X$4)+1/('Positional Ranks'!X$4:AB$195=\"2nd Tier TE1\"),ROWS('Tiered Rankings'!U$15:U28))),\"\")","v":""},{"$f":"IFERROR(VLOOKUP($U28,'Total Rankings (excl QB)'!$D:$E,2,0),0)","v":0},0,null,{"$f":"IFERROR(VLOOKUP($U28,'Total Rankings (excl QB)'!$D:$L,4,0),\"\")","v":""},{"$f":"IFERROR(VLOOKUP($U28,'Total Rankings (excl QB)'!$D:$L,5,0),\"\")","v":""},{"$f":"IFERROR(VLOOKUP($U28,'Total Rankings (excl QB)'!$D:$L,6,0),\"\")","v":""},{"$f":"IFERROR(VLOOKUP($U28,'Total Rankings (excl QB)'!$D:$L,7,0),\"\")","v":""},{"$f":"IFERROR(VLOOKUP($U28,'Total Rankings (excl QB)'!$D:$L,8,0),\"\")","v":""},null,{"$f":"IFERROR(INDEX('Positional Ranks'!AI$4:AI$195,_xlfn.AGGREGATE(15,6,ROW('Positional Ranks'!AI$4:AI$195)-ROW('Positional Ranks'!AI$4)+1/('Positional Ranks'!AI$4:AM$195=\"2nd Tier QB1\"),ROWS('Tiered Rankings'!AE$15:AE28))),\"\")","v":""},{"$f":"IFERROR(VLOOKUP($AE28,'Positional Ranks'!$AI$4:$AQ$67,2,0),0)","v":0},{"$f":"IFERROR(VLOOKUP($AE28,'Positional Ranks'!$AI$4:$AQ$67,3,0),0)","v":0},null,{"$f":"IFERROR(VLOOKUP($AE28,'Positional Ranks'!$AI$4:$AQ$67,5,0),\"\")","v":""},{"$f":"IFERROR(VLOOKUP($AE28,'Positional Ranks'!$AI$4:$AQ$67,6,0),0)","v":0},{"$f":"IFERROR(VLOOKUP($AE28,'Positional Ranks'!$AI$4:$AQ$67,7,0),\"\")","v":""},{"$f":"IFERROR(VLOOKUP($AE28,'Positional Ranks'!$AI$4:$AQ$67,8,0),0)","v":0},{"$f":"IFERROR(VLOOKUP($AE28,'Positional Ranks'!$AI$4:$AQ$67,9,0),\"\")","v":""}]
[{"$f":"IFERROR(INDEX('Positional Ranks'!B$4:B$195,_xlfn.AGGREGATE(15,6,ROW('Positional Ranks'!B$4:B$195)-ROW('Positional Ranks'!B$4)+1/('Positional Ranks'!B$4:F$195=\"2nd Tier WR1\"),ROWS('Tiered Rankings'!A$15:A29))),\"\")","v":""},{"$f":"IFERROR(VLOOKUP($A29,'Total Rankings (excl QB)'!$D:$E,2,0),0)","v":0},0,null,{"$f":"IFERROR(VLOOKUP($A29,'Total Rankings (excl QB)'!$D:$L,4,0),\"\")","v":""},{"$f":"IFERROR(VLOOKUP($A29,'Total Rankings (excl QB)'!$D:$L,5,0),\"\")","v":""},{"$f":"IFERROR(VLOOKUP($A29,'Total Rankings (excl QB)'!$D:$L,6,0),\"\")","v":""},{"$f":"IFERROR(VLOOKUP($A29,'Total Rankings (excl QB)'!$D:$L,7,0),\"\")","v":""},{"$f":"IFERROR(VLOOKUP($A29,'Total Rankings (excl QB)'!$D:$L,8,0),\"\")","v":""},null,{"$f":"IFERROR(INDEX('Positional Ranks'!M$4:M$195,_xlfn.AGGREGATE(15,6,ROW('Positional Ranks'!M$4:M$195)-ROW('Positional Ranks'!M$4)+1/('Positional Ranks'!M$4:Q$195=\"2nd Tier RB1\"),ROWS('Tiered Rankings'!K$15:K29))),\"\")","v":""},{"$f":"IFERROR(VLOOKUP($K29,'Total Rankings (excl QB)'!$D:$E,2,0),0)","v":0},0,null,{"$f":"IFERROR(VLOOKUP($K29,'Total Rankings (excl QB)'!$D:$L,4,0),\"\")","v":""},{"$f":"IFERROR(VLOOKUP($K29,'Total Rankings (excl QB)'!$D:$L,5,0),\"\")","v":""},{"$f":"IFERROR(VLOOKUP($K29,'Total Rankings (excl QB)'!$D:$L,6,0),\"\")","v":""},{"$f":"IFERROR(VLOOKUP($K29,'Total Rankings (excl QB)'!$D:$L,7,0),\"\")","v":""},{"$f":"IFERROR(VLOOKUP($K29,'Total Rankings (excl QB)'!$D:$L,8,0),\"\")","v":""},null,{"$f":"IFERROR(INDEX('Positional Ranks'!X$4:X$195,_xlfn.AGGREGATE(15,6,ROW('Positional Ranks'!X$4:X$195)-ROW('Positional Ranks'!X$4)+1/('Positional Ranks'!X$4:AB$195=\"2nd Tier TE1\"),ROWS('Tiered Rankings'!U$15:U29))),\"\")","v":""},{"$f":"IFERROR(VLOOKUP($U29,'Total Rankings (excl QB)'!$D:$E,2,0),0)","v":0},0,null,{"$f":"IFERROR(VLOOKUP($U29,'Total Rankings (excl QB)'!$D:$L,4,0),\"\")","v":""},{"$f":"IFERROR(VLOOKUP($U29,'Total Rankings (excl QB)'!$D:$L,5,0),\"\")","v":""},{"$f":"IFERROR(VLOOKUP($U29,'Total Rankings (excl QB)'!$D:$L,6,0),\"\")","v":""},{"$f":"IFERROR(VLOOKUP($U29,'Total Rankings (excl QB)'!$D:$L,7,0),\"\")","v":""},{"$f":"IFERROR(VLOOKUP($U29,'Total Rankings (excl QB)'!$D:$L,8,0),\"\")","v":""},null,{"$f":"IFERROR(INDEX('Positional Ranks'!AI$4:AI$195,_xlfn.AGGREGATE(15,6,ROW('Positional Ranks'!AI$4:AI$195)-ROW('Positional Ranks'!AI$4)+1/('Positional Ranks'!AI$4:AM$195=\"2nd Tier QB1\"),ROWS('Tiered Rankings'!AE$15:AE29))),\"\")","v":""},{"$f":"IFERROR(VLOOKUP($AE29,'Positional Ranks'!$AI$4:$AQ$67,2,0),0)","v":0},{"$f":"IFERROR(VLOOKUP($AE29,'Positional Ranks'!$AI$4:$AQ$67,3,0),0)","v":0},null,{"$f":"IFERROR(VLOOKUP($AE29,'Positional Ranks'!$AI$4:$AQ$67,5,0),\"\")","v":""},{"$f":"IFERROR(VLOOKUP($AE29,'Positional Ranks'!$AI$4:$AQ$67,6,0),0)","v":0},{"$f":"IFERROR(VLOOKUP($AE29,'Positional Ranks'!$AI$4:$AQ$67,7,0),\"\")","v":""},{"$f":"IFERROR(VLOOKUP($AE29,'Positional Ranks'!$AI$4:$AQ$67,8,0),0)","v":0},{"$f":"IFERROR(VLOOKUP($AE29,'Positional Ranks'!$AI$4:$AQ$67,9,0),\"\")","v":""}]
[{"$f":"IFERROR(INDEX('Positional Ranks'!B$4:B$195,_xlfn.AGGREGATE(15,6,ROW('Positional Ranks'!B$4:B$195)-ROW('Positional Ranks'!B$4)+1/('Positional Ranks'!B$4:F$195=\"2nd Tier WR1\"),ROWS('Tiered Rankings'!A$15:A30))),\"\")","v":""},{"$f":"IFERROR(VLOOKUP($A30,'Total Rankings (excl QB)'!$D:$E,2,0),0)","v":0},0,null,{"$f":"IFERROR(VLOOKUP($A30,'Total Rankings (excl QB)'!$D:$L,4,0),\"\")","v":""},{"$f":"IFERROR(VLOOKUP($A30,'Total Rankings (excl QB)'!$D:$L,5,0),\"\")","v":""},{"$f":"IFERROR(VLOOKUP($A30,'Total Rankings (excl QB)'!$D:$L,6,0),\"\")","v":""},{"$f":"IFERROR(VLOOKUP($A30,'Total Rankings (excl QB)'!$D:$L,7,0),\"\")","v":""},{"$f":"IFERROR(VLOOKUP($A30,'Total Rankings (excl QB)'!$D:$L,8,0),\"\")","v":""},null,{"$f":"IFERROR(INDEX('Positional Ranks'!M$4:M$195,_xlfn.AGGREGATE(15,6,ROW('Positional Ranks'!M$4:M$195)-ROW('Positional Ranks'!M$4)+1/('Positional Ranks'!M$4:Q$195=\"2nd Tier RB1\"),ROWS('Tiered Rankings'!K$15:K30))),\"\")","v":""},{"$f":"IFERROR(VLOOKUP($K30,'Total Rankings (excl QB)'!$D:$E,2,0),0)","v":0},0,null,{"$f":"IFERROR(VLOOKUP($K30,'Total Rankings (excl QB)'!$D:$L,4,0),\"\")","v":""},{"$f":"IFERROR(VLOOKUP($K30,'Total Rankings (excl QB)'!$D:$L,5,0),\"\")","v":""},{"$f":"IFERROR(VLOOKUP($K30,'Total Rankings (excl QB)'!$D:$L,6,0),\"\")","v":""},{"$f":"IFERROR(VLOOKUP($K30,'Total Rankings (excl QB)'!$D:$L,7,0),\"\")","v":""},{"$f":"IFERROR(VLOOKUP($K30,'Total Rankings (excl QB)'!$D:$L,8,0),\"\")","v":""},null,{"$f":"IFERROR(INDEX('Positional Ranks'!X$4:X$195,_xlfn.AGGREGATE(15,6,ROW('Positional Ranks'!X$4:X$195)-ROW('Positional Ranks'!X$4)+1/('Positional Ranks'!X$4:AB$195=\"2nd Tier TE1\"),ROWS('Tiered Rankings'!U$15:U30))),\"\")","v":""},{"$f":"IFERROR(VLOOKUP($U30,'Total Rankings (excl QB)'!$D:$E,2,0),0)","v":0},0,null,{"$f":"IFERROR(VLOOKUP($U30,'Total Rankings (excl QB)'!$D:$L,4,0),\"\")","v":""},{"$f":"IFERROR(VLOOKUP($U30,'Total Rankings (excl QB)'!$D:$L,5,0),\"\")","v":""},{"$f":"IFERROR(VLOOKUP($U30,'Total Rankings (excl QB)'!$D:$L,6,0),\"\")","v":""},{"$f":"IFERROR(VLOOKUP($U30,'Total Rankings (excl QB)'!$D:$L,7,0),\"\")","v":""},{"$f":"IFERROR(VLOOKUP($U30,'Total Rankings (excl QB)'!$D:$L,8,0),\"\")","v":""},null,{"$f":"IFERROR(INDEX('Positional Ranks'!AI$4:AI$195,_xlfn.AGGREGATE(15,6,ROW('Positional Ranks'!AI$4:AI$195)-ROW('Positional Ranks'!AI$4)+1/('Positional Ranks'!AI$4:AM$195=\"2nd Tier QB1\"),ROWS('Tiered Rankings'!AE$15:AE30))),\"\")","v":""},{"$f":"IFERROR(VLOOKUP($AE30,'Positional Ranks'!$AI$4:$AQ$67,2,0),0)","v":0},{"$f":"IFERROR(VLOOKUP($AE30,'Positional Ranks'!$AI$4:$AQ$67,3,0),0)","v":0},null,{"$f":"IFERROR(VLOOKUP($AE30,'Positional Ranks'!$AI$4:$AQ$67,5,0),\"\")","v":""},{"$f":"IFERROR(VLOOKUP($AE30,'Positional Ranks'!$AI$4:$AQ$67,6,0),0)","v":0},{"$f":"IFERROR(VLOOKUP($AE30,'Positional Ranks'!$AI$4:$AQ$67,7,0),\"\")","v":""},{"$f":"IFERROR(VLOOKUP($AE30,'Positional Ranks'!$AI$4:$AQ$67,8,0),0)","v":0},{"$f":"IFERROR(VLOOKUP($AE30,'Positional Ranks'!$AI$4:$AQ$67,9,0),\"\")","v":""}]
[{"$f":"IFERROR(INDEX('Positional Ranks'!B$4:B$195,_xlfn.AGGREGATE(15,6,ROW('Positional Ranks'!B$4:B$195)-ROW('Positional Ranks'!B$4)+1/('Positional Ranks'!B$4:F$195=\"2nd Tier WR1\"),ROWS('Tiered Rankings'!A$15:A31))),\"\")","v":""},{"$f":"IFERROR(VLOOKUP($A31,'Total Rankings (excl QB)'!$D:$E,2,0),0)","v":0},0,null,{"$f":"IFERROR(VLOOKUP($A31,'Total Rankings (excl QB)'!$D:$L,4,0),\"\")","v":""},{"$f":"IFERROR(VLOOKUP($A31,'Total Rankings (excl QB)'!$D:$L,5,0),\"\")","v":""},{"$f":"IFERROR(VLOOKUP($A31,'Total Rankings (excl QB)'!$D:$L,6,0),\"\")","v":""},{"$f":"IFERROR(VLOOKUP($A31,'Total Rankings (excl QB)'!$D:$L,7,0),\"\")","v":""},{"$f":"IFERROR(VLOOKUP($A31,'Total Rankings (excl QB)'!$D:$L,8,0),\"\")","v":""},null,{"$f":"IFERROR(INDEX('Positional Ranks'!M$4:M$195,_xlfn.AGGREGATE(15,6,ROW('Positional Ranks'!M$4:M$195)-ROW('Positional Ranks'!M$4)+1/('Positional Ranks'!M$4:Q$195=\"2nd Tier RB1\"),ROWS('Tiered Rankings'!K$15:K31))),\"\")","v":""},{"$f":"IFERROR(VLOOKUP($K31,'Total Rankings (excl QB)'!$D:$E,2,0),0)","v":0},0,null,{"$f":"IFERROR(VLOOKUP($K31,'Total Rankings (excl QB)'!$D:$L,4,0),\"\")","v":""},{"$f":"IFERROR(VLOOKUP($K31,'Total Rankings (excl QB)'!$D:$L,5,0),\"\")","v":""},{"$f":"IFERROR(VLOOKUP($K31,'Total Rankings (excl QB)'!$D:$L,6,0),\"\")","v":""},{"$f":"IFERROR(VLOOKUP($K31,'Total Rankings (excl QB)'!$D:$L,7,0),\"\")","v":""},{"$f":"IFERROR(VLOOKUP($K31,'Total Rankings (excl QB)'!$D:$L,8,0),\"\")","v":""},null,{"$f":"IFERROR(INDEX('Positional Ranks'!X$4:X$195,_xlfn.AGGREGATE(15,6,ROW('Positional Ranks'!X$4:X$195)-ROW('Positional Ranks'!X$4)+1/('Positional Ranks'!X$4:AB$195=\"2nd Tier TE1\"),ROWS('Tiered Rankings'!U$15:U31))),\"\")","v":""},{"$f":"IFERROR(VLOOKUP($U31,'Total Rankings (excl QB)'!$D:$E,2,0),0)","v":0},0,null,{"$f":"IFERROR(VLOOKUP($U31,'Total Rankings (excl QB)'!$D:$L,4,0),\"\")","v":""},{"$f":"IFERROR(VLOOKUP($U31,'Total Rankings (excl QB)'!$D:$L,5,0),\"\")","v":""},{"$f":"IFERROR(VLOOKUP($U31,'Total Rankings (excl QB)'!$D:$L,6,0),\"\")","v":""},{"$f":"IFERROR(VLOOKUP($U31,'Total Rankings (excl QB)'!$D:$L,7,0),\"\")","v":""},{"$f":"IFERROR(VLOOKUP($U31,'Total Rankings (excl QB)'!$D:$L,8,0),\"\")","v":""},null,{"$f":"IFERROR(INDEX('Positional Ranks'!AI$4:AI$195,_xlfn.AGGREGATE(15,6,ROW('Positional Ranks'!AI$4:AI$195)-ROW('Positional Ranks'!AI$4)+1/('Positional Ranks'!AI$4:AM$195=\"2nd Tier QB1\"),ROWS('Tiered Rankings'!AE$15:AE31))),\"\")","v":""},{"$f":"IFERROR(VLOOKUP($AE31,'Positional Ranks'!$AI$4:$AQ$67,2,0),0)","v":0},{"$f":"IFERROR(VLOOKUP($AE31,'Positional Ranks'!$AI$4:$AQ$67,3,0),0)","v":0},null,{"$f":"IFERROR(VLOOKUP($AE31,'Positional Ranks'!$AI$4:$AQ$67,5,0),\"\")","v":""},{"$f":"IFERROR(VLOOKUP($AE31,'Positional Ranks'!$AI$4:$AQ$67,6,0),0)","v":0},{"$f":"IFERROR(VLOOKUP($AE31,'Positional Ranks'!$AI$4:$AQ$67,7,0),\"\")","v":""},{"$f":"IFERROR(VLOOKUP($AE31,'Positional Ranks'!$AI$4:$AQ$67,8,0),0)","v":0},{"$f":"IFERROR(VLOOKUP($AE31,'Positional Ranks'!$AI$4:$AQ$67,9,0),\"\")","v":""}]
[{"$f":"IFERROR(INDEX('Positional Ranks'!B$4:B$195,_xlfn.AGGREGATE(15,6,ROW('Positional Ranks'!B$4:B$195)-ROW('Positional Ranks'!B$4)+1/('Positional Ranks'!B$4:F$195=\"2nd Tier WR1\"),ROWS('Tiered Rankings'!A$15:A32))),\"\")","v":""},{"$f":"IFERROR(VLOOKUP($A32,'Total Rankings (excl QB)'!$D:$E,2,0),0)","v":0},0,null,{"$f":"IFERROR(VLOOKUP($A32,'Total Rankings (excl QB)'!$D:$L,4,0),\"\")","v":""},{"$f":"IFERROR(VLOOKUP($A32,'Total Rankings (excl QB)'!$D:$L,5,0),\"\")","v":""},{"$f":"IFERROR(VLOOKUP($A32,'Total Rankings (excl QB)'!$D:$L,6,0),\"\")","v":""},{"$f":"IFERROR(VLOOKUP($A32,'Total Rankings (excl QB)'!$D:$L,7,0),\"\")","v":""},{"$f":"IFERROR(VLOOKUP($A32,'Total Rankings (excl QB)'!$D:$L,8,0),\"\")","v":""},null,{"$f":"IFERROR(INDEX('Positional Ranks'!M$4:M$195,_xlfn.AGGREGATE(15,6,ROW('Positional Ranks'!M$4:M$195)-ROW('Positional Ranks'!M$4)+1/('Positional Ranks'!M$4:Q$195=\"2nd Tier RB1\"),ROWS('Tiered Rankings'!K$15:K32))),\"\")","v":""},{"$f":"IFERROR(VLOOKUP($K32,'Total Rankings (excl QB)'!$D:$E,2,0),0)","v":0},0,null,{"$f":"IFERROR(VLOOKUP($K32,'Total Rankings (excl QB)'!$D:$L,4,0),\"\")","v":""},{"$f":"IFERROR(VLOOKUP($K32,'Total Rankings (excl QB)'!$D:$L,5,0),\"\")","v":""},{"$f":"IFERROR(VLOOKUP($K32,'Total Rankings (excl QB)'!$D:$L,6,0),\"\")","v":""},{"$f":"IFERROR(VLOOKUP($K32,'Total Rankings (excl QB)'!$D:$L,7,0),\"\")","v":""},{"$f":"IFERROR(VLOOKUP($K32,'Total Rankings (excl QB)'!$D:$L,8,0),\"\")","v":""},null,{"$f":"IFERROR(INDEX('Positional Ranks'!X$4:X$195,_xlfn.AGGREGATE(15,6,ROW('Positional Ranks'!X$4:X$195)-ROW('Positional Ranks'!X$4)+1/('Positional Ranks'!X$4:AB$195=\"2nd Tier TE1\"),ROWS('Tiered Rankings'!U$15:U32))),\"\")","v":""},{"$f":"IFERROR(VLOOKUP($U32,'Total Rankings (excl QB)'!$D:$E,2,0),0)","v":0},0,null,{"$f":"IFERROR(VLOOKUP($U32,'Total Rankings (excl QB)'!$D:$L,4,0),\"\")","v":""},{"$f":"IFERROR(VLOOKUP($U32,'Total Rankings (excl QB)'!$D:$L,5,0),\"\")","v":""},{"$f":"IFERROR(VLOOKUP($U32,'Total Rankings (excl QB)'!$D:$L,6,0),\"\")","v":""},{"$f":"IFERROR(VLOOKUP($U32,'Total Rankings (excl QB)'!$D:$L,7,0),\"\")","v":""},{"$f":"IFERROR(VLOOKUP($U32,'Total Rankings (excl QB)'!$D:$L,8,0),\"\")","v":""},null,{"$f":"IFERROR(INDEX('Positional Ranks'!AI$4:AI$195,_xlfn.AGGREGATE(15,6,ROW('Positional Ranks'!AI$4:AI$195)-ROW('Positional Ranks'!AI$4)+1/('Positional Ranks'!AI$4:AM$195=\"2nd Tier QB1\"),ROWS('Tiered Rankings'!AE$15:AE32))),\"\")","v":""},{"$f":"IFERROR(VLOOKUP($AE32,'Positional Ranks'!$AI$4:$AQ$67,2,0),0)","v":0},{"$f":"IFERROR(VLOOKUP($AE32,'Positional Ranks'!$AI$4:$AQ$67,3,0),0)","v":0},null,{"$f":"IFERROR(VLOOKUP($AE32,'Positional Ranks'!$AI$4:$AQ$67,5,0),\"\")","v":""},{"$f":"IFERROR(VLOOKUP($AE32,'Positional Ranks'!$AI$4:$AQ$67,6,0),0)","v":0},{"$f":"IFERROR(VLOOKUP($AE32,'Positional Ranks'!$AI$4:$AQ$67,7,0),\"\")","v":""},{"$f":"IFERROR(VLOOKUP($AE32,'Positional Ranks'!$AI$4:$AQ$67,8,0),0)","v":0},{"$f":"IFERROR(VLOOKUP($AE32,'Positional Ranks'!$AI$4:$AQ$67,9,0),\"\")","v":""}]
[{"$f":"IFERROR(INDEX('Positional Ranks'!B$4:B$195,_xlfn.AGGREGATE(15,6,ROW('Positional Ranks'!B$4:B$195)-ROW('Positional Ranks'!B$4)+1/('Positional Ranks'!B$4:F$195=\"2nd Tier WR1\"),ROWS('Tiered Rankings'!A$15:A33))),\"\")","v":""},{"$f":"IFERROR(VLOOKUP($A33,'Total Rankings (excl QB)'!$D:$E,2,0),0)","v":0},0,null,{"$f":"IFERROR(VLOOKUP($A33,'Total Rankings (excl QB)'!$D:$L,4,0),\"\")","v":""},{"$f":"IFERROR(VLOOKUP($A33,'Total Rankings (excl QB)'!$D:$L,5,0),\"\")","v":""},{"$f":"IFERROR(VLOOKUP($A33,'Total Rankings (excl QB)'!$D:$L,6,0),\"\")","v":""},{"$f":"IFERROR(VLOOKUP($A33,'Total Rankings (excl QB)'!$D:$L,7,0),\"\")","v":""},{"$f":"IFERROR(VLOOKUP($A33,'Total Rankings (excl QB)'!$D:$L,8,0),\"\")","v":""},null,{"$f":"IFERROR(INDEX('Positional Ranks'!M$4:M$195,_xlfn.AGGREGATE(15,6,ROW('Positional Ranks'!M$4:M$195)-ROW('Positional Ranks'!M$4)+1/('Positional Ranks'!M$4:Q$195=\"2nd Tier RB1\"),ROWS('Tiered Rankings'!K$15:K33))),\"\")","v":""},{"$f":"IFERROR(VLOOKUP($K33,'Total Rankings (excl QB)'!$D:$E,2,0),0)","v":0},0,null,{"$f":"IFERROR(VLOOKUP($K33,'Total Rankings (excl QB)'!$D:$L,4,0),\"\")","v":""},{"$f":"IFERROR(VLOOKUP($K33,'Total Rankings (excl QB)'!$D:$L,5,0),\"\")","v":""},{"$f":"IFERROR(VLOOKUP($K33,'Total Rankings (excl QB)'!$D:$L,6,0),\"\")","v":""},{"$f":"IFERROR(VLOOKUP($K33,'Total Rankings (excl QB)'!$D:$L,7,0),\"\")","v":""},{"$f":"IFERROR(VLOOKUP($K33,'Total Rankings (excl QB)'!$D:$L,8,0),\"\")","v":""},null,{"$f":"IFERROR(INDEX('Positional Ranks'!X$4:X$195,_xlfn.AGGREGATE(15,6,ROW('Positional Ranks'!X$4:X$195)-ROW('Positional Ranks'!X$4)+1/('Positional Ranks'!X$4:AB$195=\"2nd Tier TE1\"),ROWS('Tiered Rankings'!U$15:U33))),\"\")","v":""},{"$f":"IFERROR(VLOOKUP($U33,'Total Rankings (excl QB)'!$D:$E,2,0),0)","v":0},0,null,{"$f":"IFERROR(VLOOKUP($U33,'Total Rankings (excl QB)'!$D:$L,4,0),\"\")","v":""},{"$f":"IFERROR(VLOOKUP($U33,'Total Rankings (excl QB)'!$D:$L,5,0),\"\")","v":""},{"$f":"IFERROR(VLOOKUP($U33,'Total Rankings (excl QB)'!$D:$L,6,0),\"\")","v":""},{"$f":"IFERROR(VLOOKUP($U33,'Total Rankings (excl QB)'!$D:$L,7,0),\"\")","v":""},{"$f":"IFERROR(VLOOKUP($U33,'Total Rankings (excl QB)'!$D:$L,8,0),\"\")","v":""},null,{"$f":"IFERROR(INDEX('Positional Ranks'!AI$4:AI$195,_xlfn.AGGREGATE(15,6,ROW('Positional Ranks'!AI$4:AI$195)-ROW('Positional Ranks'!AI$4)+1/('Positional Ranks'!AI$4:AM$195=\"2nd Tier QB1\"),ROWS('Tiered Rankings'!AE$15:AE33))),\"\")","v":""},{"$f":"IFERROR(VLOOKUP($AE33,'Positional Ranks'!$AI$4:$AQ$67,2,0),0)","v":0},{"$f":"IFERROR(VLOOKUP($AE33,'Positional Ranks'!$AI$4:$AQ$67,3,0),0)","v":0},null,{"$f":"IFERROR(VLOOKUP($AE33,'Positional Ranks'!$AI$4:$AQ$67,5,0),\"\")","v":""},{"$f":"IFERROR(VLOOKUP($AE33,'Positional Ranks'!$AI$4:$AQ$67,6,0),0)","v":0},{"$f":"IFERROR(VLOOKUP($AE33,'Positional Ranks'!$AI$4:$AQ$67,7,0),\"\")","v":""},{"$f":"IFERROR(VLOOKUP($AE33,'Positional Ranks'!$AI$4:$AQ$67,8,0),0)","v":0},{"$f":"IFERROR(VLOOKUP($AE33,'Positional Ranks'!$AI$4:$AQ$67,9,0),\"\")","v":""}]
[{"$f":"IFERROR(INDEX('Positional Ranks'!B$4:B$195,_xlfn.AGGREGATE(15,6,ROW('Positional Ranks'!B$4:B$195)-ROW('Positional Ranks'!B$4)+1/('Positional Ranks'!B$4:F$195=\"2nd Tier WR1\"),ROWS('Tiered Rankings'!A$15:A34))),\"\")","v":""},{"$f":"IFERROR(VLOOKUP($A34,'Total Rankings (excl QB)'!$D:$E,2,0),0)","v":0},0,null,{"$f":"IFERROR(VLOOKUP($A34,'Total Rankings (excl QB)'!$D:$L,4,0),\"\")","v":""},{"$f":"IFERROR(VLOOKUP($A34,'Total Rankings (excl QB)'!$D:$L,5,0),\"\")","v":""},{"$f":"IFERROR(VLOOKUP($A34,'Total Rankings (excl QB)'!$D:$L,6,0),\"\")","v":""},{"$f":"IFERROR(VLOOKUP($A34,'Total Rankings (excl QB)'!$D:$L,7,0),\"\")","v":""},{"$f":"IFERROR(VLOOKUP($A34,'Total Rankings (excl QB)'!$D:$L,8,0),\"\")","v":""},null,{"$f":"IFERROR(INDEX('Positional Ranks'!M$4:M$195,_xlfn.AGGREGATE(15,6,ROW('Positional Ranks'!M$4:M$195)-ROW('Positional Ranks'!M$4)+1/('Positional Ranks'!M$4:Q$195=\"2nd Tier RB1\"),ROWS('Tiered Rankings'!K$15:K34))),\"\")","v":""},{"$f":"IFERROR(VLOOKUP($K34,'Total Rankings (excl QB)'!$D:$E,2,0),0)","v":0},0,null,{"$f":"IFERROR(VLOOKUP($K34,'Total Rankings (excl QB)'!$D:$L,4,0),\"\")","v":""},{"$f":"IFERROR(VLOOKUP($K34,'Total Rankings (excl QB)'!$D:$L,5,0),\"\")","v":""},{"$f":"IFERROR(VLOOKUP($K34,'Total Rankings (excl QB)'!$D:$L,6,0),\"\")","v":""},{"$f":"IFERROR(VLOOKUP($K34,'Total Rankings (excl QB)'!$D:$L,7,0),\"\")","v":""},{"$f":"IFERROR(VLOOKUP($K34,'Total Rankings (excl QB)'!$D:$L,8,0),\"\")","v":""},null,{"$f":"IFERROR(INDEX('Positional Ranks'!X$4:X$195,_xlfn.AGGREGATE(15,6,ROW('Positional Ranks'!X$4:X$195)-ROW('Positional Ranks'!X$4)+1/('Positional Ranks'!X$4:AB$195=\"2nd Tier TE1\"),ROWS('Tiered Rankings'!U$15:U34))),\"\")","v":""},{"$f":"IFERROR(VLOOKUP($U34,'Total Rankings (excl QB)'!$D:$E,2,0),0)","v":0},0,null,{"$f":"IFERROR(VLOOKUP($U34,'Total Rankings (excl QB)'!$D:$L,4,0),\"\")","v":""},{"$f":"IFERROR(VLOOKUP($U34,'Total Rankings (excl QB)'!$D:$L,5,0),\"\")","v":""},{"$f":"IFERROR(VLOOKUP($U34,'Total Rankings (excl QB)'!$D:$L,6,0),\"\")","v":""},{"$f":"IFERROR(VLOOKUP($U34,'Total Rankings (excl QB)'!$D:$L,7,0),\"\")","v":""},{"$f":"IFERROR(VLOOKUP($U34,'Total Rankings (excl QB)'!$D:$L,8,0),\"\")","v":""},null,{"$f":"IFERROR(INDEX('Positional Ranks'!AI$4:AI$195,_xlfn.AGGREGATE(15,6,ROW('Positional Ranks'!AI$4:AI$195)-ROW('Positional Ranks'!AI$4)+1/('Positional Ranks'!AI$4:AM$195=\"2nd Tier QB1\"),ROWS('Tiered Rankings'!AE$15:AE34))),\"\")","v":""},{"$f":"IFERROR(VLOOKUP($AE34,'Positional Ranks'!$AI$4:$AQ$67,2,0),0)","v":0},{"$f":"IFERROR(VLOOKUP($AE34,'Positional Ranks'!$AI$4:$AQ$67,3,0),0)","v":0},null,{"$f":"IFERROR(VLOOKUP($AE34,'Positional Ranks'!$AI$4:$AQ$67,5,0),\"\")","v":""},{"$f":"IFERROR(VLOOKUP($AE34,'Positional Ranks'!$AI$4:$AQ$67,6,0),0)","v":0},{"$f":"IFERROR(VLOOKUP($AE34,'Positional Ranks'!$AI$4:$AQ$67,7,0),\"\")","v":""},{"$f":"IFERROR(VLOOKUP($AE34,'Positional Ranks'!$AI$4:$AQ$67,8,0),0)","v":0},{"$f":"IFERROR(VLOOKUP($AE34,'Positional Ranks'!$AI$4:$AQ$67,9,0),\"\")","v":""}]
[]
[{"$f":"IFERROR(INDEX('Positional Ranks'!B$4:B$195,_xlfn.AGGREGATE(15,6,ROW('Positional Ranks'!B$4:B$195)-ROW('Positional Ranks'!B$4)+1/('Positional Ranks'!B$4:F$195=\"Consistent WR2\"),ROWS('Tiered Rankings'!A$36:A36))),\"\")","v":""},{"$f":"IFERROR(VLOOKUP($A36,'Total Rankings (excl QB)'!$D:$E,2,0),0)","v":0},0,null,{"$f":"IFERROR(VLOOKUP($A36,'Total Rankings (excl QB)'!$D:$L,4,0),\"\")","v":""},{"$f":"IFERROR(VLOOKUP($A36,'Total Rankings (excl QB)'!$D:$L,5,0),\"\")","v":""},{"$f":"IFERROR(VLOOKUP($A36,'Total Rankings (excl QB)'!$D:$L,6,0),\"\")","v":""},{"$f":"IFERROR(VLOOKUP($A36,'Total Rankings (excl QB)'!$D:$L,7,0),\"\")","v":""},{"$f":"IFERROR(VLOOKUP($A36,'Total Rankings (excl QB)'!$D:$L,8,0),\"\")","v":""},null,{"$f":"IFERROR(INDEX('Positional Ranks'!M$4:M$195,_xlfn.AGGREGATE(15,6,ROW('Positional Ranks'!M$4:M$195)-ROW('Positional Ranks'!M$4)+1/('Positional Ranks'!M$4:Q$195=\"Consistent RB2\"),ROWS('Tiered Rankings'!K$36:K36))),\"\")","v":"James Conner"},{"$f":"IFERROR(VLOOKUP($K36,'Total Rankings (excl QB)'!$D:$E,2,0),0)","v":182.30595},10.723879411764706,null,{"$f":"IFERROR(VLOOKUP($K36,'Total Rankings (excl QB)'!$D:$L,4,0),\"\")","v":"Consistent RB2"},{"$f":"IFERROR(VLOOKUP($K36,'Total Rankings (excl QB)'!$D:$L,5,0),\"\")","v":175.44880714285713},{"$f":"IFERROR(VLOOKUP($K36,'Total Rankings (excl QB)'!$D:$L,6,0),\"\")","v":"Not a top RB"},{"$f":"IFERROR(VLOOKUP($K36,'Total Rankings (excl QB)'!$D:$L,7,0),\"\")","v":251.32274285714288},{"$f":"IFERROR(VLOOKUP($K36,'Total Rankings (excl QB)'!$D:$L,8,0),\"\")","v":"Elite RB"}]
[{"$f":"IFERROR(INDEX('Positional Ranks'!B$4:B$195,_xlfn.AGGREGATE(15,6,ROW('Positional Ranks'!B$4:B$195)-ROW('Positional Ranks'!B$4)+1/('Positional Ranks'!B$4:F$195=\"Consistent WR2\"),ROWS('Tiered Rankings'!A$36:A37))),\"\")","v":""},{"$f":"IFERROR(VLOOKUP($A37,'Total Rankings (excl QB)'!$D:$E,2,0),0)","v":0},0,null,{"$f":"IFERROR(VLOOKUP($A37,'Total Rankings (excl QB)'!$D:$L,4,0),\"\")","v":""},{"$f":"IFERROR(VLOOKUP($A37,'Total Rankings (excl QB)'!$D:$L,5,0),\"\")","v":""},{"$f":"IFERROR(VLOOKUP($A37,'Total Rankings (excl QB)'!$D:$L,6,0),\"\")","v":""},{"$f":"IFERROR(VLOOKUP($A37,'Total Rankings (excl QB)'!$D:$L,7,0),\"\")","v":""},{"$f":"IFERROR(VLOOKUP($A37,'Total Rankings (excl QB)'!$D:$L,8,0),\"\")","v":""},null,{"$f":"IFERROR(INDEX('Positional Ranks'!M$4:M$195,_xlfn.AGGREGATE(15,6,ROW('Positional Ranks'!M$4:M$195)-ROW('Positional Ranks'!M$4)+1/('Positional Ranks'!M$4:Q$195=\"Consistent RB2\"),ROWS('Tiered Rankings'!K$36:K37))),\"\")","v":""},{"$f":"IFERROR(VLOOKUP($K37,'Total Rankings (excl QB)'!$D:$E,2,0),0)","v":0},0,null,{"$f":"IFERROR(VLOOKUP($K37,'Total Rankings (excl QB)'!$D:$L,4,0),\"\")","v":""},{"$f":"IFERROR(VLOOKUP($K37,'Total Rankings (excl QB)'!$D:$L,5,0),\"\")","v":""},{"$f":"IFERROR(VLOOKUP($K37,'Total Rankings (excl QB)'!$D:$L,6,0),\"\")","v":""},{"$f":"IFERROR(VLOOKUP($K37,'Total Rankings (excl QB)'!$D:$L,7,0),\"\")","v":""},{"$f":"IFERROR(VLOOKUP($K37,'Total Rankings (excl QB)'!$D:$L,8,0),\"\")","v":""}]
[{"$f":"IFERROR(INDEX('Positional Ranks'!B$4:B$195,_xlfn.AGGREGATE(15,6,ROW('Positional Ranks'!B$4:B$195)-ROW('Positional Ranks'!B$4)+1/('Positional Ranks'!B$4:F$195=\"Consistent WR2\"),ROWS('Tiered Rankings'!A$36:A38))),\"\")","v":""},{"$f":"IFERROR(VLOOKUP($A38,'Total Rankings (excl QB)'!$D:$E,2,0),0)","v":0},0,null,{"$f":"IFERROR(VLOOKUP($A38,'Total Rankings (excl QB)'!$D:$L,4,0),\"\")","v":""},{"$f":"IFERROR(VLOOKUP($A38,'Total Rankings (excl QB)'!$D:$L,5,0),\"\")","v":""},{"$f":"IFERROR(VLOOKUP($A38,'Total Rankings (excl QB)'!$D:$L,6,0),\"\")","v":""},{"$f":"IFERROR(VLOOKUP($A38,'Total Rankings (excl QB)'!$D:$L,7,0),\"\")","v":""},{"$f":"IFERROR(VLOOKUP($A38,'Total Rankings (excl QB)'!$D:$L,8,0),\"\")","v":""},null,{"$f":"IFERROR(INDEX('Positional Ranks'!M$4:M$195,_xlfn.AGGREGATE(15,6,ROW('Positional Ranks'!M$4:M$195)-ROW('Positional Ranks'!M$4)+1/('Positional Ranks'!M$4:Q$195=\"Consistent RB2\"),ROWS('Tiered Rankings'!K$36:K38))),\"\")","v":""},{"$f":"IFERROR(VLOOKUP($K38,'Total Rankings (excl QB)'!$D:$E,2,0),0)","v":0},0,null,{"$f":"IFERROR(VLOOKUP($K38,'Total Rankings (excl QB)'!$D:$L,4,0),\"\")","v":""},{"$f":"IFERROR(VLOOKUP($K38,'Total Rankings (excl QB)'!$D:$L,5,0),\"\")","v":""},{"$f":"IFERROR(VLOOKUP($K38,'Total Rankings (excl QB)'!$D:$L,6,0),\"\")","v":""},{"$f":"IFERROR(VLOOKUP($K38,'Total Rankings (excl QB)'!$D:$L,7,0),\"\")","v":""},{"$f":"IFERROR(VLOOKUP($K38,'Total Rankings (excl QB)'!$D:$L,8,0),\"\")","v":""}]
[{"$f":"IFERROR(INDEX('Positional Ranks'!B$4:B$195,_xlfn.AGGREGATE(15,6,ROW('Positional Ranks'!B$4:B$195)-ROW('Positional Ranks'!B$4)+1/('Positional Ranks'!B$4:F$195=\"Consistent WR2\"),ROWS('Tiered Rankings'!A$36:A39))),\"\")","v":""},{"$f":"IFERROR(VLOOKUP($A39,'Total Rankings (excl QB)'!$D:$E,2,0),0)","v":0},0,null,{"$f":"IFERROR(VLOOKUP($A39,'Total Rankings (excl QB)'!$D:$L,4,0),\"\")","v":""},{"$f":"IFERROR(VLOOKUP($A39,'Total Rankings (excl QB)'!$D:$L,5,0),\"\")","v":""},{"$f":"IFERROR(VLOOKUP($A39,'Total Rankings (excl QB)'!$D:$L,6,0),\"\")","v":""},{"$f":"IFERROR(VLOOKUP($A39,'Total Rankings (excl QB)'!$D:$L,7,0),\"\")","v":""},{"$f":"IFERROR(VLOOKUP($A39,'Total Rankings (excl QB)'!$D:$L,8,0),\"\")","v":""},null,{"$f":"IFERROR(INDEX('Positional Ranks'!M$4:M$195,_xlfn.AGGREGATE(15,6,ROW('Positional Ranks'!M$4:M$195)-ROW('Positional Ranks'!M$4)+1/('Positional Ranks'!M$4:Q$195=\"Consistent RB2\"),ROWS('Tiered Rankings'!K$36:K39))),\"\")","v":""},{"$f":"IFERROR(VLOOKUP($K39,'Total Rankings (excl QB)'!$D:$E,2,0),0)","v":0},0,null,{"$f":"IFERROR(VLOOKUP($K39,'Total Rankings (excl QB)'!$D:$L,4,0),\"\")","v":""},{"$f":"IFERROR(VLOOKUP($K39,'Total Rankings (excl QB)'!$D:$L,5,0),\"\")","v":""},{"$f":"IFERROR(VLOOKUP($K39,'Total Rankings (excl QB)'!$D:$L,6,0),\"\")","v":""},{"$f":"IFERROR(VLOOKUP($K39,'Total Rankings (excl QB)'!$D:$L,7,0),\"\")","v":""},{"$f":"IFERROR(VLOOKUP($K39,'Total Rankings (excl QB)'!$D:$L,8,0),\"\")","v":""}]
[{"$f":"IFERROR(INDEX('Positional Ranks'!B$4:B$195,_xlfn.AGGREGATE(15,6,ROW('Positional Ranks'!B$4:B$195)-ROW('Positional Ranks'!B$4)+1/('Positional Ranks'!B$4:F$195=\"Consistent WR2\"),ROWS('Tiered Rankings'!A$36:A40))),\"\")","v":""},{"$f":"IFERROR(VLOOKUP($A40,'Total Rankings (excl QB)'!$D:$E,2,0),0)","v":0},0,null,{"$f":"IFERROR(VLOOKUP($A40,'Total Rankings (excl QB)'!$D:$L,4,0),\"\")","v":""},{"$f":"IFERROR(VLOOKUP($A40,'Total Rankings (excl QB)'!$D:$L,5,0),\"\")","v":""},{"$f":"IFERROR(VLOOKUP($A40,'Total Rankings (excl QB)'!$D:$L,6,0),\"\")","v":""},{"$f":"IFERROR(VLOOKUP($A40,'Total Rankings (excl QB)'!$D:$L,7,0),\"\")","v":""},{"$f":"IFERROR(VLOOKUP($A40,'Total Rankings (excl QB)'!$D:$L,8,0),\"\")","v":""},null,{"$f":"IFERROR(INDEX('Positional Ranks'!M$4:M$195,_xlfn.AGGREGATE(15,6,ROW('Positional Ranks'!M$4:M$195)-ROW('Positional Ranks'!M$4)+1/('Positional Ranks'!M$4:Q$195=\"Consistent RB2\"),ROWS('Tiered Rankings'!K$36:K40))),\"\")","v":""},{"$f":"IFERROR(VLOOKUP($K40,'Total Rankings (excl QB)'!$D:$E,2,0),0)","v":0},0,null,{"$f":"IFERROR(VLOOKUP($K40,'Total Rankings (excl QB)'!$D:$L,4,0),\"\")","v":""},{"$f":"IFERROR(VLOOKUP($K40,'Total Rankings (excl QB)'!$D:$L,5,0),\"\")","v":""},{"$f":"IFERROR(VLOOKUP($K40,'Total Rankings (excl QB)'!$D:$L,6,0),\"\")","v":""},{"$f":"IFERROR(VLOOKUP($K40,'Total Rankings (excl QB)'!$D:$L,7,0),\"\")","v":""},{"$f":"IFERROR(VLOOKUP($K40,'Total Rankings (excl QB)'!$D:$L,8,0),\"\")","v":""}]
[{"$f":"IFERROR(INDEX('Positional Ranks'!B$4:B$195,_xlfn.AGGREGATE(15,6,ROW('Positional Ranks'!B$4:B$195)-ROW('Positional Ranks'!B$4)+1/('Positional Ranks'!B$4:F$195=\"Consistent WR2\"),ROWS('Tiered Rankings'!A$36:A41))),\"\")","v":""},{"$f":"IFERROR(VLOOKUP($A41,'Total Rankings (excl QB)'!$D:$E,2,0),0)","v":0},0,null,{"$f":"IFERROR(VLOOKUP($A41,'Total Rankings (excl QB)'!$D:$L,4,0),\"\")","v":""},{"$f":"IFERROR(VLOOKUP($A41,'Total Rankings (excl QB)'!$D:$L,5,0),\"\")","v":""},{"$f":"IFERROR(VLOOKUP($A41,'Total Rankings (excl QB)'!$D:$L,6,0),\"\")","v":""},{"$f":"IFERROR(VLOOKUP($A41,'Total Rankings (excl QB)'!$D:$L,7,0),\"\")","v":""},{"$f":"IFERROR(VLOOKUP($A41,'Total Rankings (excl QB)'!$D:$L,8,0),\"\")","v":""},null,{"$f":"IFERROR(INDEX('Positional Ranks'!M$4:M$195,_xlfn.AGGREGATE(15,6,ROW('Positional Ranks'!M$4:M$195)-ROW('Positional Ranks'!M$4)+1/('Positional Ranks'!M$4:Q$195=\"Consistent RB2\"),ROWS('Tiered Rankings'!K$36:K41))),\"\")","v":""},{"$f":"IFERROR(VLOOKUP($K41,'Total Rankings (excl QB)'!$D:$E,2,0),0)","v":0},0,null,{"$f":"IFERROR(VLOOKUP($K41,'Total Rankings (excl QB)'!$D:$L,4,0),\"\")","v":""},{"$f":"IFERROR(VLOOKUP($K41,'Total Rankings (excl QB)'!$D:$L,5,0),\"\")","v":""},{"$f":"IFERROR(VLOOKUP($K41,'Total Rankings (excl QB)'!$D:$L,6,0),\"\")","v":""},{"$f":"IFERROR(VLOOKUP($K41,'Total Rankings (excl QB)'!$D:$L,7,0),\"\")","v":""},{"$f":"IFERROR(VLOOKUP($K41,'Total Rankings (excl QB)'!$D:$L,8,0),\"\")","v":""}]
[{"$f":"IFERROR(INDEX('Positional Ranks'!B$4:B$195,_xlfn.AGGREGATE(15,6,ROW('Positional Ranks'!B$4:B$195)-ROW('Positional Ranks'!B$4)+1/('Positional Ranks'!B$4:F$195=\"Consistent WR2\"),ROWS('Tiered Rankings'!A$36:A42))),\"\")","v":""},{"$f":"IFERROR(VLOOKUP($A42,'Total Rankings (excl QB)'!$D:$E,2,0),0)","v":0},0,null,{"$f":"IFERROR(VLOOKUP($A42,'Total Rankings (excl QB)'!$D:$L,4,0),\"\")","v":""},{"$f":"IFERROR(VLOOKUP($A42,'Total Rankings (excl QB)'!$D:$L,5,0),\"\")","v":""},{"$f":"IFERROR(VLOOKUP($A42,'Total Rankings (excl QB)'!$D:$L,6,0),\"\")","v":""},{"$f":"IFERROR(VLOOKUP($A42,'Total Rankings (excl QB)'!$D:$L,7,0),\"\")","v":""},{"$f":"IFERROR(VLOOKUP($A42,'Total Rankings (excl QB)'!$D:$L,8,0),\"\")","v":""},null,{"$f":"IFERROR(INDEX('Positional Ranks'!M$4:M$195,_xlfn.AGGREGATE(15,6,ROW('Positional Ranks'!M$4:M$195)-ROW('Positional Ranks'!M$4)+1/('Positional Ranks'!M$4:Q$195=\"Consistent RB2\"),ROWS('Tiered Rankings'!K$36:K42))),\"\")","v":""},{"$f":"IFERROR(VLOOKUP($K42,'Total Rankings (excl QB)'!$D:$E,2,0),0)","v":0},0,null,{"$f":"IFERROR(VLOOKUP($K42,'Total Rankings (excl QB)'!$D:$L,4,0),\"\")","v":""},{"$f":"IFERROR(VLOOKUP($K42,'Total Rankings (excl QB)'!$D:$L,5,0),\"\")","v":""},{"$f":"IFERROR(VLOOKUP($K42,'Total Rankings (excl QB)'!$D:$L,6,0),\"\")","v":""},{"$f":"IFERROR(VLOOKUP($K42,'Total Rankings (excl QB)'!$D:$L,7,0),\"\")","v":""},{"$f":"IFERROR(VLOOKUP($K42,'Total Rankings (excl QB)'!$D:$L,8,0),\"\")","v":""}]
[{"$f":"IFERROR(INDEX('Positional Ranks'!B$4:B$195,_xlfn.AGGREGATE(15,6,ROW('Positional Ranks'!B$4:B$195)-ROW('Positional Ranks'!B$4)+1/('Positional Ranks'!B$4:F$195=\"Consistent WR2\"),ROWS('Tiered Rankings'!A$36:A43))),\"\")","v":""},{"$f":"IFERROR(VLOOKUP($A43,'Total Rankings (excl QB)'!$D:$E,2,0),0)","v":0},0,null,{"$f":"IFERROR(VLOOKUP($A43,'Total Rankings (excl QB)'!$D:$L,4,0),\"\")","v":""},{"$f":"IFERROR(VLOOKUP($A43,'Total Rankings (excl QB)'!$D:$L,5,0),\"\")","v":""},{"$f":"IFERROR(VLOOKUP($A43,'Total Rankings (excl QB)'!$D:$L,6,0),\"\")","v":""},{"$f":"IFERROR(VLOOKUP($A43,'Total Rankings (excl QB)'!$D:$L,7,0),\"\")","v":""},{"$f":"IFERROR(VLOOKUP($A43,'Total Rankings (excl QB)'!$D:$L,8,0),\"\")","v":""},null,{"$f":"IFERROR(INDEX('Positional Ranks'!M$4:M$195,_xlfn.AGGREGATE(15,6,ROW('Positional Ranks'!M$4:M$195)-ROW('Positional Ranks'!M$4)+1/('Positional Ranks'!M$4:Q$195=\"Consistent RB2\"),ROWS('Tiered Rankings'!K$36:K43))),\"\")","v":""},{"$f":"IFERROR(VLOOKUP($K43,'Total Rankings (excl QB)'!$D:$E,2,0),0)","v":0},0,null,{"$f":"IFERROR(VLOOKUP($K43,'Total Rankings (excl QB)'!$D:$L,4,0),\"\")","v":""},{"$f":"IFERROR(VLOOKUP($K43,'Total Rankings (excl QB)'!$D:$L,5,0),\"\")","v":""},{"$f":"IFERROR(VLOOKUP($K43,'Total Rankings (excl QB)'!$D:$L,6,0),\"\")","v":""},{"$f":"IFERROR(VLOOKUP($K43,'Total Rankings (excl QB)'!$D:$L,7,0),\"\")","v":""},{"$f":"IFERROR(VLOOKUP($K43,'Total Rankings (excl QB)'!$D:$L,8,0),\"\")","v":""}]
[{"$f":"IFERROR(INDEX('Positional Ranks'!B$4:B$195,_xlfn.AGGREGATE(15,6,ROW('Positional Ranks'!B$4:B$195)-ROW('Positional Ranks'!B$4)+1/('Positional Ranks'!B$4:F$195=\"Consistent WR2\"),ROWS('Tiered Rankings'!A$36:A44))),\"\")","v":""},{"$f":"IFERROR(VLOOKUP($A44,'Total Rankings (excl QB)'!$D:$E,2,0),0)","v":0},0,null,{"$f":"IFERROR(VLOOKUP($A44,'Total Rankings (excl QB)'!$D:$L,4,0),\"\")","v":""},{"$f":"IFERROR(VLOOKUP($A44,'Total Rankings (excl QB)'!$D:$L,5,0),\"\")","v":""},{"$f":"IFERROR(VLOOKUP($A44,'Total Rankings (excl QB)'!$D:$L,6,0),\"\")","v":""},{"$f":"IFERROR(VLOOKUP($A44,'Total Rankings (excl QB)'!$D:$L,7,0),\"\")","v":""},{"$f":"IFERROR(VLOOKUP($A44,'Total Rankings (excl QB)'!$D:$L,8,0),\"\")","v":""},null,{"$f":"IFERROR(INDEX('Positional Ranks'!M$4:M$195,_xlfn.AGGREGATE(15,6,ROW('Positional Ranks'!M$4:M$195)-ROW('Positional Ranks'!M$4)+1/('Positional Ranks'!M$4:Q$195=\"Consistent RB2\"),ROWS('Tiered Rankings'!K$36:K44))),\"\")","v":""},{"$f":"IFERROR(VLOOKUP($K44,'Total Rankings (excl QB)'!$D:$E,2,0),0)","v":0},0,null,{"$f":"IFERROR(VLOOKUP($K44,'Total Rankings (excl QB)'!$D:$L,4,0),\"\")","v":""},{"$f":"IFERROR(VLOOKUP($K44,'Total Rankings (excl QB)'!$D:$L,5,0),\"\")","v":""},{"$f":"IFERROR(VLOOKUP($K44,'Total Rankings (excl QB)'!$D:$L,6,0),\"\")","v":""},{"$f":"IFERROR(VLOOKUP($K44,'Total Rankings (excl QB)'!$D:$L,7,0),\"\")","v":""},{"$f":"IFERROR(VLOOKUP($K44,'Total Rankings (excl QB)'!$D:$L,8,0),\"\")","v":""}]
[{"$f":"IFERROR(INDEX('Positional Ranks'!B$4:B$195,_xlfn.AGGREGATE(15,6,ROW('Positional Ranks'!B$4:B$195)-ROW('Positional Ranks'!B$4)+1/('Positional Ranks'!B$4:F$195=\"Consistent WR2\"),ROWS('Tiered Rankings'!A$36:A45))),\"\")","v":""},{"$f":"IFERROR(VLOOKUP($A45,'Total Rankings (excl QB)'!$D:$E,2,0),0)","v":0},0,null,{"$f":"IFERROR(VLOOKUP($A45,'Total Rankings (excl QB)'!$D:$L,4,0),\"\")","v":""},{"$f":"IFERROR(VLOOKUP($A45,'Total Rankings (excl QB)'!$D:$L,5,0),\"\")","v":""},{"$f":"IFERROR(VLOOKUP($A45,'Total Rankings (excl QB)'!$D:$L,6,0),\"\")","v":""},{"$f":"IFERROR(VLOOKUP($A45,'Total Rankings (excl QB)'!$D:$L,7,0),\"\")","v":""},{"$f":"IFERROR(VLOOKUP($A45,'Total Rankings (excl QB)'!$D:$L,8,0),\"\")","v":""},null,{"$f":"IFERROR(INDEX('Positional Ranks'!M$4:M$195,_xlfn.AGGREGATE(15,6,ROW('Positional Ranks'!M$4:M$195)-ROW('Positional Ranks'!M$4)+1/('Positional Ranks'!M$4:Q$195=\"Consistent RB2\"),ROWS('Tiered Rankings'!K$36:K45))),\"\")","v":""},{"$f":"IFERROR(VLOOKUP($K45,'Total Rankings (excl QB)'!$D:$E,2,0),0)","v":0},0,null,{"$f":"IFERROR(VLOOKUP($K45,'Total Rankings (excl QB)'!$D:$L,4,0),\"\")","v":""},{"$f":"IFERROR(VLOOKUP($K45,'Total Rankings (excl QB)'!$D:$L,5,0),\"\")","v":""},{"$f":"IFERROR(VLOOKUP($K45,'Total Rankings (excl QB)'!$D:$L,6,0),\"\")","v":""},{"$f":"IFERROR(VLOOKUP($K45,'Total Rankings (excl QB)'!$D:$L,7,0),\"\")","v":""},{"$f":"IFERROR(VLOOKUP($K45,'Total Rankings (excl QB)'!$D:$L,8,0),\"\")","v":""}]
[{"$f":"IFERROR(INDEX('Positional Ranks'!B$4:B$195,_xlfn.AGGREGATE(15,6,ROW('Positional Ranks'!B$4:B$195)-ROW('Positional Ranks'!B$4)+1/('Positional Ranks'!B$4:F$195=\"Consistent WR2\"),ROWS('Tiered Rankings'!A$36:A46))),\"\")","v":""},{"$f":"IFERROR(VLOOKUP($A46,'Total Rankings (excl QB)'!$D:$E,2,0),0)","v":0},0,null,{"$f":"IFERROR(VLOOKUP($A46,'Total Rankings (excl QB)'!$D:$L,4,0),\"\")","v":""},{"$f":"IFERROR(VLOOKUP($A46,'Total Rankings (excl QB)'!$D:$L,5,0),\"\")","v":""},{"$f":"IFERROR(VLOOKUP($A46,'Total Rankings (excl QB)'!$D:$L,6,0),\"\")","v":""},{"$f":"IFERROR(VLOOKUP($A46,'Total Rankings (excl QB)'!$D:$L,7,0),\"\")","v":""},{"$f":"IFERROR(VLOOKUP($A46,'Total Rankings (excl QB)'!$D:$L,8,0),\"\")","v":""},null,{"$f":"IFERROR(INDEX('Positional Ranks'!M$4:M$195,_xlfn.AGGREGATE(15,6,ROW('Positional Ranks'!M$4:M$195)-ROW('Positional Ranks'!M$4)+1/('Positional Ranks'!M$4:Q$195=\"Consistent RB2\"),ROWS('Tiered Rankings'!K$36:K46))),\"\")","v":""},{"$f":"IFERROR(VLOOKUP($K46,'Total Rankings (excl QB)'!$D:$E,2,0),0)","v":0},0,null,{"$f":"IFERROR(VLOOKUP($K46,'Total Rankings (excl QB)'!$D:$L,4,0),\"\")","v":""},{"$f":"IFERROR(VLOOKUP($K46,'Total Rankings (excl QB)'!$D:$L,5,0),\"\")","v":""},{"$f":"IFERROR(VLOOKUP($K46,'Total Rankings (excl QB)'!$D:$L,6,0),\"\")","v":""},{"$f":"IFERROR(VLOOKUP($K46,'Total Rankings (excl QB)'!$D:$L,7,0),\"\")","v":""},{"$f":"IFERROR(VLOOKUP($K46,'Total Rankings (excl QB)'!$D:$L,8,0),\"\")","v":""}]
[{"$f":"IFERROR(INDEX('Positional Ranks'!B$4:B$195,_xlfn.AGGREGATE(15,6,ROW('Positional Ranks'!B$4:B$195)-ROW('Positional Ranks'!B$4)+1/('Positional Ranks'!B$4:F$195=\"Consistent WR2\"),ROWS('Tiered Rankings'!A$36:A47))),\"\")","v":""},{"$f":"IFERROR(VLOOKUP($A47,'Total Rankings (excl QB)'!$D:$E,2,0),0)","v":0},0,null,{"$f":"IFERROR(VLOOKUP($A47,'Total Rankings (excl QB)'!$D:$L,4,0),\"\")","v":""},{"$f":"IFERROR(VLOOKUP($A47,'Total Rankings (excl QB)'!$D:$L,5,0),\"\")","v":""},{"$f":"IFERROR(VLOOKUP($A47,'Total Rankings (excl QB)'!$D:$L,6,0),\"\")","v":""},{"$f":"IFERROR(VLOOKUP($A47,'Total Rankings (excl QB)'!$D:$L,7,0),\"\")","v":""},{"$f":"IFERROR(VLOOKUP($A47,'Total Rankings (excl QB)'!$D:$L,8,0),\"\")","v":""},null,{"$f":"IFERROR(INDEX('Positional Ranks'!M$4:M$195,_xlfn.AGGREGATE(15,6,ROW('Positional Ranks'!M$4:M$195)-ROW('Positional Ranks'!M$4)+1/('Positional Ranks'!M$4:Q$195=\"Consistent RB2\"),ROWS('Tiered Rankings'!K$36:K47))),\"\")","v":""},{"$f":"IFERROR(VLOOKUP($K47,'Total Rankings (excl QB)'!$D:$E,2,0),0)","v":0},0,null,{"$f":"IFERROR(VLOOKUP($K47,'Total Rankings (excl QB)'!$D:$L,4,0),\"\")","v":""},{"$f":"IFERROR(VLOOKUP($K47,'Total Rankings (excl QB)'!$D:$L,5,0),\"\")","v":""},{"$f":"IFERROR(VLOOKUP($K47,'Total Rankings (excl QB)'!$D:$L,6,0),\"\")","v":""},{"$f":"IFERROR(VLOOKUP($K47,'Total Rankings (excl QB)'!$D:$L,7,0),\"\")","v":""},{"$f":"IFERROR(VLOOKUP($K47,'Total Rankings (excl QB)'!$D:$L,8,0),\"\")","v":""}]
[{"$f":"IFERROR(INDEX('Positional Ranks'!B$4:B$195,_xlfn.AGGREGATE(15,6,ROW('Positional Ranks'!B$4:B$195)-ROW('Positional Ranks'!B$4)+1/('Positional Ranks'!B$4:F$195=\"Consistent WR2\"),ROWS('Tiered Rankings'!A$36:A48))),\"\")","v":""},{"$f":"IFERROR(VLOOKUP($A48,'Total Rankings (excl QB)'!$D:$E,2,0),0)","v":0},0,null,{"$f":"IFERROR(VLOOKUP($A48,'Total Rankings (excl QB)'!$D:$L,4,0),\"\")","v":""},{"$f":"IFERROR(VLOOKUP($A48,'Total Rankings (excl QB)'!$D:$L,5,0),\"\")","v":""},{"$f":"IFERROR(VLOOKUP($A48,'Total Rankings (excl QB)'!$D:$L,6,0),\"\")","v":""},{"$f":"IFERROR(VLOOKUP($A48,'Total Rankings (excl QB)'!$D:$L,7,0),\"\")","v":""},{"$f":"IFERROR(VLOOKUP($A48,'Total Rankings (excl QB)'!$D:$L,8,0),\"\")","v":""},null,{"$f":"IFERROR(INDEX('Positional Ranks'!M$4:M$195,_xlfn.AGGREGATE(15,6,ROW('Positional Ranks'!M$4:M$195)-ROW('Positional Ranks'!M$4)+1/('Positional Ranks'!M$4:Q$195=\"Consistent RB2\"),ROWS('Tiered Rankings'!K$36:K48))),\"\")","v":""},{"$f":"IFERROR(VLOOKUP($K48,'Total Rankings (excl QB)'!$D:$E,2,0),0)","v":0},0,null,{"$f":"IFERROR(VLOOKUP($K48,'Total Rankings (excl QB)'!$D:$L,4,0),\"\")","v":""},{"$f":"IFERROR(VLOOKUP($K48,'Total Rankings (excl QB)'!$D:$L,5,0),\"\")","v":""},{"$f":"IFERROR(VLOOKUP($K48,'Total Rankings (excl QB)'!$D:$L,6,0),\"\")","v":""},{"$f":"IFERROR(VLOOKUP($K48,'Total Rankings (excl QB)'!$D:$L,7,0),\"\")","v":""},{"$f":"IFERROR(VLOOKUP($K48,'Total Rankings (excl QB)'!$D:$L,8,0),\"\")","v":""}]
[{"$f":"IFERROR(INDEX('Positional Ranks'!B$4:B$195,_xlfn.AGGREGATE(15,6,ROW('Positional Ranks'!B$4:B$195)-ROW('Positional Ranks'!B$4)+1/('Positional Ranks'!B$4:F$195=\"Consistent WR2\"),ROWS('Tiered Rankings'!A$36:A49))),\"\")","v":""},{"$f":"IFERROR(VLOOKUP($A49,'Total Rankings (excl QB)'!$D:$E,2,0),0)","v":0},0,null,{"$f":"IFERROR(VLOOKUP($A49,'Total Rankings (excl QB)'!$D:$L,4,0),\"\")","v":""},{"$f":"IFERROR(VLOOKUP($A49,'Total Rankings (excl QB)'!$D:$L,5,0),\"\")","v":""},{"$f":"IFERROR(VLOOKUP($A49,'Total Rankings (excl QB)'!$D:$L,6,0),\"\")","v":""},{"$f":"IFERROR(VLOOKUP($A49,'Total Rankings (excl QB)'!$D:$L,7,0),\"\")","v":""},{"$f":"IFERROR(VLOOKUP($A49,'Total Rankings (excl QB)'!$D:$L,8,0),\"\")","v":""},null,{"$f":"IFERROR(INDEX('Positional Ranks'!M$4:M$195,_xlfn.AGGREGATE(15,6,ROW('Positional Ranks'!M$4:M$195)-ROW('Positional Ranks'!M$4)+1/('Positional Ranks'!M$4:Q$195=\"Consistent RB2\"),ROWS('Tiered Rankings'!K$36:K49))),\"\")","v":""},{"$f":"IFERROR(VLOOKUP($K49,'Total Rankings (excl QB)'!$D:$E,2,0),0)","v":0},0,null,{"$f":"IFERROR(VLOOKUP($K49,'Total Rankings (excl QB)'!$D:$L,4,0),\"\")","v":""},{"$f":"IFERROR(VLOOKUP($K49,'Total Rankings (excl QB)'!$D:$L,5,0),\"\")","v":""},{"$f":"IFERROR(VLOOKUP($K49,'Total Rankings (excl QB)'!$D:$L,6,0),\"\")","v":""},{"$f":"IFERROR(VLOOKUP($K49,'Total Rankings (excl QB)'!$D:$L,7,0),\"\")","v":""},{"$f":"IFERROR(VLOOKUP($K49,'Total Rankings (excl QB)'!$D:$L,8,0),\"\")","v":""}]
[{"$f":"IFERROR(INDEX('Positional Ranks'!B$4:B$195,_xlfn.AGGREGATE(15,6,ROW('Positional Ranks'!B$4:B$195)-ROW('Positional Ranks'!B$4)+1/('Positional Ranks'!B$4:F$195=\"Consistent WR2\"),ROWS('Tiered Rankings'!A$36:A50))),\"\")","v":""},{"$f":"IFERROR(VLOOKUP($A50,'Total Rankings (excl QB)'!$D:$E,2,0),0)","v":0},0,null,{"$f":"IFERROR(VLOOKUP($A50,'Total Rankings (excl QB)'!$D:$L,4,0),\"\")","v":""},{"$f":"IFERROR(VLOOKUP($A50,'Total Rankings (excl QB)'!$D:$L,5,0),\"\")","v":""},{"$f":"IFERROR(VLOOKUP($A50,'Total Rankings (excl QB)'!$D:$L,6,0),\"\")","v":""},{"$f":"IFERROR(VLOOKUP($A50,'Total Rankings (excl QB)'!$D:$L,7,0),\"\")","v":""},{"$f":"IFERROR(VLOOKUP($A50,'Total Rankings (excl QB)'!$D:$L,8,0),\"\")","v":""},null,{"$f":"IFERROR(INDEX('Positional Ranks'!M$4:M$195,_xlfn.AGGREGATE(15,6,ROW('Positional Ranks'!M$4:M$195)-ROW('Positional Ranks'!M$4)+1/('Positional Ranks'!M$4:Q$195=\"Consistent RB2\"),ROWS('Tiered Rankings'!K$36:K50))),\"\")","v":""},{"$f":"IFERROR(VLOOKUP($K50,'Total Rankings (excl QB)'!$D:$E,2,0),0)","v":0},0,null,{"$f":"IFERROR(VLOOKUP($K50,'Total Rankings (excl QB)'!$D:$L,4,0),\"\")","v":""},{"$f":"IFERROR(VLOOKUP($K50,'Total Rankings (excl QB)'!$D:$L,5,0),\"\")","v":""},{"$f":"IFERROR(VLOOKUP($K50,'Total Rankings (excl QB)'!$D:$L,6,0),\"\")","v":""},{"$f":"IFERROR(VLOOKUP($K50,'Total Rankings (excl QB)'!$D:$L,7,0),\"\")","v":""},{"$f":"IFERROR(VLOOKUP($K50,'Total Rankings (excl QB)'!$D:$L,8,0),\"\")","v":""}]
[{"$f":"IFERROR(INDEX('Positional Ranks'!B$4:B$195,_xlfn.AGGREGATE(15,6,ROW('Positional Ranks'!B$4:B$195)-ROW('Positional Ranks'!B$4)+1/('Positional Ranks'!B$4:F$195=\"Consistent WR2\"),ROWS('Tiered Rankings'!A$36:A51))),\"\")","v":""},{"$f":"IFERROR(VLOOKUP($A51,'Total Rankings (excl QB)'!$D:$E,2,0),0)","v":0},0,null,{"$f":"IFERROR(VLOOKUP($A51,'Total Rankings (excl QB)'!$D:$L,4,0),\"\")","v":""},{"$f":"IFERROR(VLOOKUP($A51,'Total Rankings (excl QB)'!$D:$L,5,0),\"\")","v":""},{"$f":"IFERROR(VLOOKUP($A51,'Total Rankings (excl QB)'!$D:$L,6,0),\"\")","v":""},{"$f":"IFERROR(VLOOKUP($A51,'Total Rankings (excl QB)'!$D:$L,7,0),\"\")","v":""},{"$f":"IFERROR(VLOOKUP($A51,'Total Rankings (excl QB)'!$D:$L,8,0),\"\")","v":""},null,{"$f":"IFERROR(INDEX('Positional Ranks'!M$4:M$195,_xlfn.AGGREGATE(15,6,ROW('Positional Ranks'!M$4:M$195)-ROW('Positional Ranks'!M$4)+1/('Positional Ranks'!M$4:Q$195=\"Consistent RB2\"),ROWS('Tiered Rankings'!K$36:K51))),\"\")","v":""},{"$f":"IFERROR(VLOOKUP($K51,'Total Rankings (excl QB)'!$D:$E,2,0),0)","v":0},0,null,{"$f":"IFERROR(VLOOKUP($K51,'Total Rankings (excl QB)'!$D:$L,4,0),\"\")","v":""},{"$f":"IFERROR(VLOOKUP($K51,'Total Rankings (excl QB)'!$D:$L,5,0),\"\")","v":""},{"$f":"IFERROR(VLOOKUP($K51,'Total Rankings (excl QB)'!$D:$L,6,0),\"\")","v":""},{"$f":"IFERROR(VLOOKUP($K51,'Total Rankings (excl QB)'!$D:$L,7,0),\"\")","v":""},{"$f":"IFERROR(VLOOKUP($K51,'Total Rankings (excl QB)'!$D:$L,8,0),\"\")","v":""}]
[{"$f":"IFERROR(INDEX('Positional Ranks'!B$4:B$195,_xlfn.AGGREGATE(15,6,ROW('Positional Ranks'!B$4:B$195)-ROW('Positional Ranks'!B$4)+1/('Positional Ranks'!B$4:F$195=\"Consistent WR2\"),ROWS('Tiered Rankings'!A$36:A52))),\"\")","v":""},{"$f":"IFERROR(VLOOKUP($A52,'Total Rankings (excl QB)'!$D:$E,2,0),0)","v":0},0,null,{"$f":"IFERROR(VLOOKUP($A52,'Total Rankings (excl QB)'!$D:$L,4,0),\"\")","v":""},{"$f":"IFERROR(VLOOKUP($A52,'Total Rankings (excl QB)'!$D:$L,5,0),\"\")","v":""},{"$f":"IFERROR(VLOOKUP($A52,'Total Rankings (excl QB)'!$D:$L,6,0),\"\")","v":""},{"$f":"IFERROR(VLOOKUP($A52,'Total Rankings (excl QB)'!$D:$L,7,0),\"\")","v":""},{"$f":"IFERROR(VLOOKUP($A52,'Total Rankings (excl QB)'!$D:$L,8,0),\"\")","v":""},null,{"$f":"IFERROR(INDEX('Positional Ranks'!M$4:M$195,_xlfn.AGGREGATE(15,6,ROW('Positional Ranks'!M$4:M$195)-ROW('Positional Ranks'!M$4)+1/('Positional Ranks'!M$4:Q$195=\"Consistent RB2\"),ROWS('Tiered Rankings'!K$36:K52))),\"\")","v":""},{"$f":"IFERROR(VLOOKUP($K52,'Total Rankings (excl QB)'!$D:$E,2,0),0)","v":0},0,null,{"$f":"IFERROR(VLOOKUP($K52,'Total Rankings (excl QB)'!$D:$L,4,0),\"\")","v":""},{"$f":"IFERROR(VLOOKUP($K52,'Total Rankings (excl QB)'!$D:$L,5,0),\"\")","v":""},{"$f":"IFERROR(VLOOKUP($K52,'Total Rankings (excl QB)'!$D:$L,6,0),\"\")","v":""},{"$f":"IFERROR(VLOOKUP($K52,'Total Rankings (excl QB)'!$D:$L,7,0),\"\")","v":""},{"$f":"IFERROR(VLOOKUP($K52,'Total Rankings (excl QB)'!$D:$L,8,0),\"\")","v":""}]
[{"$f":"IFERROR(INDEX('Positional Ranks'!B$4:B$195,_xlfn.AGGREGATE(15,6,ROW('Positional Ranks'!B$4:B$195)-ROW('Positional Ranks'!B$4)+1/('Positional Ranks'!B$4:F$195=\"Consistent WR2\"),ROWS('Tiered Rankings'!A$36:A53))),\"\")","v":""},{"$f":"IFERROR(VLOOKUP($A53,'Total Rankings (excl QB)'!$D:$E,2,0),0)","v":0},0,null,{"$f":"IFERROR(VLOOKUP($A53,'Total Rankings (excl QB)'!$D:$L,4,0),\"\")","v":""},{"$f":"IFERROR(VLOOKUP($A53,'Total Rankings (excl QB)'!$D:$L,5,0),\"\")","v":""},{"$f":"IFERROR(VLOOKUP($A53,'Total Rankings (excl QB)'!$D:$L,6,0),\"\")","v":""},{"$f":"IFERROR(VLOOKUP($A53,'Total Rankings (excl QB)'!$D:$L,7,0),\"\")","v":""},{"$f":"IFERROR(VLOOKUP($A53,'Total Rankings (excl QB)'!$D:$L,8,0),\"\")","v":""},null,{"$f":"IFERROR(INDEX('Positional Ranks'!M$4:M$195,_xlfn.AGGREGATE(15,6,ROW('Positional Ranks'!M$4:M$195)-ROW('Positional Ranks'!M$4)+1/('Positional Ranks'!M$4:Q$195=\"Consistent RB2\"),ROWS('Tiered Rankings'!K$36:K53))),\"\")","v":""},{"$f":"IFERROR(VLOOKUP($K53,'Total Rankings (excl QB)'!$D:$E,2,0),0)","v":0},0,null,{"$f":"IFERROR(VLOOKUP($K53,'Total Rankings (excl QB)'!$D:$L,4,0),\"\")","v":""},{"$f":"IFERROR(VLOOKUP($K53,'Total Rankings (excl QB)'!$D:$L,5,0),\"\")","v":""},{"$f":"IFERROR(VLOOKUP($K53,'Total Rankings (excl QB)'!$D:$L,6,0),\"\")","v":""},{"$f":"IFERROR(VLOOKUP($K53,'Total Rankings (excl QB)'!$D:$L,7,0),\"\")","v":""},{"$f":"IFERROR(VLOOKUP($K53,'Total Rankings (excl QB)'!$D:$L,8,0),\"\")","v":""}]
[{"$f":"IFERROR(INDEX('Positional Ranks'!B$4:B$195,_xlfn.AGGREGATE(15,6,ROW('Positional Ranks'!B$4:B$195)-ROW('Positional Ranks'!B$4)+1/('Positional Ranks'!B$4:F$195=\"Consistent WR2\"),ROWS('Tiered Rankings'!A$36:A54))),\"\")","v":""},{"$f":"IFERROR(VLOOKUP($A54,'Total Rankings (excl QB)'!$D:$E,2,0),0)","v":0},0,null,{"$f":"IFERROR(VLOOKUP($A54,'Total Rankings (excl QB)'!$D:$L,4,0),\"\")","v":""},{"$f":"IFERROR(VLOOKUP($A54,'Total Rankings (excl QB)'!$D:$L,5,0),\"\")","v":""},{"$f":"IFERROR(VLOOKUP($A54,'Total Rankings (excl QB)'!$D:$L,6,0),\"\")","v":""},{"$f":"IFERROR(VLOOKUP($A54,'Total Rankings (excl QB)'!$D:$L,7,0),\"\")","v":""},{"$f":"IFERROR(VLOOKUP($A54,'Total Rankings (excl QB)'!$D:$L,8,0),\"\")","v":""},null,{"$f":"IFERROR(INDEX('Positional Ranks'!M$4:M$195,_xlfn.AGGREGATE(15,6,ROW('Positional Ranks'!M$4:M$195)-ROW('Positional Ranks'!M$4)+1/('Positional Ranks'!M$4:Q$195=\"Consistent RB2\"),ROWS('Tiered Rankings'!K$36:K54))),\"\")","v":""},{"$f":"IFERROR(VLOOKUP($K54,'Total Rankings (excl QB)'!$D:$E,2,0),0)","v":0},0,null,{"$f":"IFERROR(VLOOKUP($K54,'Total Rankings (excl QB)'!$D:$L,4,0),\"\")","v":""},{"$f":"IFERROR(VLOOKUP($K54,'Total Rankings (excl QB)'!$D:$L,5,0),\"\")","v":""},{"$f":"IFERROR(VLOOKUP($K54,'Total Rankings (excl QB)'!$D:$L,6,0),\"\")","v":""},{"$f":"IFERROR(VLOOKUP($K54,'Total Rankings (excl QB)'!$D:$L,7,0),\"\")","v":""},{"$f":"IFERROR(VLOOKUP($K54,'Total Rankings (excl QB)'!$D:$L,8,0),\"\")","v":""}]
[{"$f":"IFERROR(INDEX('Positional Ranks'!B$4:B$195,_xlfn.AGGREGATE(15,6,ROW('Positional Ranks'!B$4:B$195)-ROW('Positional Ranks'!B$4)+1/('Positional Ranks'!B$4:F$195=\"Consistent WR2\"),ROWS('Tiered Rankings'!A$36:A55))),\"\")","v":""},{"$f":"IFERROR(VLOOKUP($A55,'Total Rankings (excl QB)'!$D:$E,2,0),0)","v":0},0,null,{"$f":"IFERROR(VLOOKUP($A55,'Total Rankings (excl QB)'!$D:$L,4,0),\"\")","v":""},{"$f":"IFERROR(VLOOKUP($A55,'Total Rankings (excl QB)'!$D:$L,5,0),\"\")","v":""},{"$f":"IFERROR(VLOOKUP($A55,'Total Rankings (excl QB)'!$D:$L,6,0),\"\")","v":""},{"$f":"IFERROR(VLOOKUP($A55,'Total Rankings (excl QB)'!$D:$L,7,0),\"\")","v":""},{"$f":"IFERROR(VLOOKUP($A55,'Total Rankings (excl QB)'!$D:$L,8,0),\"\")","v":""},null,{"$f":"IFERROR(INDEX('Positional Ranks'!M$4:M$195,_xlfn.AGGREGATE(15,6,ROW('Positional Ranks'!M$4:M$195)-ROW('Positional Ranks'!M$4)+1/('Positional Ranks'!M$4:Q$195=\"Consistent RB2\"),ROWS('Tiered Rankings'!K$36:K55))),\"\")","v":""},{"$f":"IFERROR(VLOOKUP($K55,'Total Rankings (excl QB)'!$D:$E,2,0),0)","v":0},0,null,{"$f":"IFERROR(VLOOKUP($K55,'Total Rankings (excl QB)'!$D:$L,4,0),\"\")","v":""},{"$f":"IFERROR(VLOOKUP($K55,'Total Rankings (excl QB)'!$D:$L,5,0),\"\")","v":""},{"$f":"IFERROR(VLOOKUP($K55,'Total Rankings (excl QB)'!$D:$L,6,0),\"\")","v":""},{"$f":"IFERROR(VLOOKUP($K55,'Total Rankings (excl QB)'!$D:$L,7,0),\"\")","v":""},{"$f":"IFERROR(VLOOKUP($K55,'Total Rankings (excl QB)'!$D:$L,8,0),\"\")","v":""}]
[{"$f":"IFERROR(INDEX('Positional Ranks'!B$4:B$195,_xlfn.AGGREGATE(15,6,ROW('Positional Ranks'!B$4:B$195)-ROW('Positional Ranks'!B$4)+1/('Positional Ranks'!B$4:F$195=\"Consistent WR2\"),ROWS('Tiered Rankings'!A$36:A56))),\"\")","v":""},{"$f":"IFERROR(VLOOKUP($A56,'Total Rankings (excl QB)'!$D:$E,2,0),0)","v":0},0,null,{"$f":"IFERROR(VLOOKUP($A56,'Total Rankings (excl QB)'!$D:$L,4,0),\"\")","v":""},{"$f":"IFERROR(VLOOKUP($A56,'Total Rankings (excl QB)'!$D:$L,5,0),\"\")","v":""},{"$f":"IFERROR(VLOOKUP($A56,'Total Rankings (excl QB)'!$D:$L,6,0),\"\")","v":""},{"$f":"IFERROR(VLOOKUP($A56,'Total Rankings (excl QB)'!$D:$L,7,0),\"\")","v":""},{"$f":"IFERROR(VLOOKUP($A56,'Total Rankings (excl QB)'!$D:$L,8,0),\"\")","v":""},null,{"$f":"IFERROR(INDEX('Positional Ranks'!M$4:M$195,_xlfn.AGGREGATE(15,6,ROW('Positional Ranks'!M$4:M$195)-ROW('Positional Ranks'!M$4)+1/('Positional Ranks'!M$4:Q$195=\"Consistent RB2\"),ROWS('Tiered Rankings'!K$36:K56))),\"\")","v":""},{"$f":"IFERROR(VLOOKUP($K56,'Total Rankings (excl QB)'!$D:$E,2,0),0)","v":0},0,null,{"$f":"IFERROR(VLOOKUP($K56,'Total Rankings (excl QB)'!$D:$L,4,0),\"\")","v":""},{"$f":"IFERROR(VLOOKUP($K56,'Total Rankings (excl QB)'!$D:$L,5,0),\"\")","v":""},{"$f":"IFERROR(VLOOKUP($K56,'Total Rankings (excl QB)'!$D:$L,6,0),\"\")","v":""},{"$f":"IFERROR(VLOOKUP($K56,'Total Rankings (excl QB)'!$D:$L,7,0),\"\")","v":""},{"$f":"IFERROR(VLOOKUP($K56,'Total Rankings (excl QB)'!$D:$L,8,0),\"\")","v":""}]
[{"$f":"IFERROR(INDEX('Positional Ranks'!B$4:B$195,_xlfn.AGGREGATE(15,6,ROW('Positional Ranks'!B$4:B$195)-ROW('Positional Ranks'!B$4)+1/('Positional Ranks'!B$4:F$195=\"Consistent WR2\"),ROWS('Tiered Rankings'!A$36:A57))),\"\")","v":""},{"$f":"IFERROR(VLOOKUP($A57,'Total Rankings (excl QB)'!$D:$E,2,0),0)","v":0},0,null,{"$f":"IFERROR(VLOOKUP($A57,'Total Rankings (excl QB)'!$D:$L,4,0),\"\")","v":""},{"$f":"IFERROR(VLOOKUP($A57,'Total Rankings (excl QB)'!$D:$L,5,0),\"\")","v":""},{"$f":"IFERROR(VLOOKUP($A57,'Total Rankings (excl QB)'!$D:$L,6,0),\"\")","v":""},{"$f":"IFERROR(VLOOKUP($A57,'Total Rankings (excl QB)'!$D:$L,7,0),\"\")","v":""},{"$f":"IFERROR(VLOOKUP($A57,'Total Rankings (excl QB)'!$D:$L,8,0),\"\")","v":""},null,{"$f":"IFERROR(INDEX('Positional Ranks'!M$4:M$195,_xlfn.AGGREGATE(15,6,ROW('Positional Ranks'!M$4:M$195)-ROW('Positional Ranks'!M$4)+1/('Positional Ranks'!M$4:Q$195=\"Consistent RB2\"),ROWS('Tiered Rankings'!K$36:K57))),\"\")","v":""},{"$f":"IFERROR(VLOOKUP($K57,'Total Rankings (excl QB)'!$D:$E,2,0),0)","v":0},0,null,{"$f":"IFERROR(VLOOKUP($K57,'Total Rankings (excl QB)'!$D:$L,4,0),\"\")","v":""},{"$f":"IFERROR(VLOOKUP($K57,'Total Rankings (excl QB)'!$D:$L,5,0),\"\")","v":""},{"$f":"IFERROR(VLOOKUP($K57,'Total Rankings (excl QB)'!$D:$L,6,0),\"\")","v":""},{"$f":"IFERROR(VLOOKUP($K57,'Total Rankings (excl QB)'!$D:$L,7,0),\"\")","v":""},{"$f":"IFERROR(VLOOKUP($K57,'Total Rankings (excl QB)'!$D:$L,8,0),\"\")","v":""}]
[{"$f":"IFERROR(INDEX('Positional Ranks'!B$4:B$195,_xlfn.AGGREGATE(15,6,ROW('Positional Ranks'!B$4:B$195)-ROW('Positional Ranks'!B$4)+1/('Positional Ranks'!B$4:F$195=\"Consistent WR2\"),ROWS('Tiered Rankings'!A$36:A58))),\"\")","v":""},{"$f":"IFERROR(VLOOKUP($A58,'Total Rankings (excl QB)'!$D:$E,2,0),0)","v":0},0,null,{"$f":"IFERROR(VLOOKUP($A58,'Total Rankings (excl QB)'!$D:$L,4,0),\"\")","v":""},{"$f":"IFERROR(VLOOKUP($A58,'Total Rankings (excl QB)'!$D:$L,5,0),\"\")","v":""},{"$f":"IFERROR(VLOOKUP($A58,'Total Rankings (excl QB)'!$D:$L,6,0),\"\")","v":""},{"$f":"IFERROR(VLOOKUP($A58,'Total Rankings (excl QB)'!$D:$L,7,0),\"\")","v":""},{"$f":"IFERROR(VLOOKUP($A58,'Total Rankings (excl QB)'!$D:$L,8,0),\"\")","v":""},null,{"$f":"IFERROR(INDEX('Positional Ranks'!M$4:M$195,_xlfn.AGGREGATE(15,6,ROW('Positional Ranks'!M$4:M$195)-ROW('Positional Ranks'!M$4)+1/('Positional Ranks'!M$4:Q$195=\"Consistent RB2\"),ROWS('Tiered Rankings'!K$36:K58))),\"\")","v":""},{"$f":"IFERROR(VLOOKUP($K58,'Total Rankings (excl QB)'!$D:$E,2,0),0)","v":0},0,null,{"$f":"IFERROR(VLOOKUP($K58,'Total Rankings (excl QB)'!$D:$L,4,0),\"\")","v":""},{"$f":"IFERROR(VLOOKUP($K58,'Total Rankings (excl QB)'!$D:$L,5,0),\"\")","v":""},{"$f":"IFERROR(VLOOKUP($K58,'Total Rankings (excl QB)'!$D:$L,6,0),\"\")","v":""},{"$f":"IFERROR(VLOOKUP($K58,'Total Rankings (excl QB)'!$D:$L,7,0),\"\")","v":""},{"$f":"IFERROR(VLOOKUP($K58,'Total Rankings (excl QB)'!$D:$L,8,0),\"\")","v":""}]
[{"$f":"IFERROR(INDEX('Positional Ranks'!B$4:B$195,_xlfn.AGGREGATE(15,6,ROW('Positional Ranks'!B$4:B$195)-ROW('Positional Ranks'!B$4)+1/('Positional Ranks'!B$4:F$195=\"Consistent WR2\"),ROWS('Tiered Rankings'!A$36:A59))),\"\")","v":""},{"$f":"IFERROR(VLOOKUP($A59,'Total Rankings (excl QB)'!$D:$E,2,0),0)","v":0},0,null,{"$f":"IFERROR(VLOOKUP($A59,'Total Rankings (excl QB)'!$D:$L,4,0),\"\")","v":""},{"$f":"IFERROR(VLOOKUP($A59,'Total Rankings (excl QB)'!$D:$L,5,0),\"\")","v":""},{"$f":"IFERROR(VLOOKUP($A59,'Total Rankings (excl QB)'!$D:$L,6,0),\"\")","v":""},{"$f":"IFERROR(VLOOKUP($A59,'Total Rankings (excl QB)'!$D:$L,7,0),\"\")","v":""},{"$f":"IFERROR(VLOOKUP($A59,'Total Rankings (excl QB)'!$D:$L,8,0),\"\")","v":""},null,{"$f":"IFERROR(INDEX('Positional Ranks'!M$4:M$195,_xlfn.AGGREGATE(15,6,ROW('Positional Ranks'!M$4:M$195)-ROW('Positional Ranks'!M$4)+1/('Positional Ranks'!M$4:Q$195=\"Consistent RB2\"),ROWS('Tiered Rankings'!K$36:K59))),\"\")","v":""},{"$f":"IFERROR(VLOOKUP($K59,'Total Rankings (excl QB)'!$D:$E,2,0),0)","v":0},0,null,{"$f":"IFERROR(VLOOKUP($K59,'Total Rankings (excl QB)'!$D:$L,4,0),\"\")","v":""},{"$f":"IFERROR(VLOOKUP($K59,'Total Rankings (excl QB)'!$D:$L,5,0),\"\")","v":""},{"$f":"IFERROR(VLOOKUP($K59,'Total Rankings (excl QB)'!$D:$L,6,0),\"\")","v":""},{"$f":"IFERROR(VLOOKUP($K59,'Total Rankings (excl QB)'!$D:$L,7,0),\"\")","v":""},{"$f":"IFERROR(VLOOKUP($K59,'Total Rankings (excl QB)'!$D:$L,8,0),\"\")","v":""}]
[{"$f":"IFERROR(INDEX('Positional Ranks'!B$4:B$195,_xlfn.AGGREGATE(15,6,ROW('Positional Ranks'!B$4:B$195)-ROW('Positional Ranks'!B$4)+1/('Positional Ranks'!B$4:F$195=\"Consistent WR2\"),ROWS('Tiered Rankings'!A$36:A60))),\"\")","v":""},{"$f":"IFERROR(VLOOKUP($A60,'Total Rankings (excl QB)'!$D:$E,2,0),0)","v":0},0,null,{"$f":"IFERROR(VLOOKUP($A60,'Total Rankings (excl QB)'!$D:$L,4,0),\"\")","v":""},{"$f":"IFERROR(VLOOKUP($A60,'Total Rankings (excl QB)'!$D:$L,5,0),\"\")","v":""},{"$f":"IFERROR(VLOOKUP($A60,'Total Rankings (excl QB)'!$D:$L,6,0),\"\")","v":""},{"$f":"IFERROR(VLOOKUP($A60,'Total Rankings (excl QB)'!$D:$L,7,0),\"\")","v":""},{"$f":"IFERROR(VLOOKUP($A60,'Total Rankings (excl QB)'!$D:$L,8,0),\"\")","v":""},null,{"$f":"IFERROR(INDEX('Positional Ranks'!M$4:M$195,_xlfn.AGGREGATE(15,6,ROW('Positional Ranks'!M$4:M$195)-ROW('Positional Ranks'!M$4)+1/('Positional Ranks'!M$4:Q$195=\"Consistent RB2\"),ROWS('Tiered Rankings'!K$36:K60))),\"\")","v":""},{"$f":"IFERROR(VLOOKUP($K60,'Total Rankings (excl QB)'!$D:$E,2,0),0)","v":0},0,null,{"$f":"IFERROR(VLOOKUP($K60,'Total Rankings (excl QB)'!$D:$L,4,0),\"\")","v":""},{"$f":"IFERROR(VLOOKUP($K60,'Total Rankings (excl QB)'!$D:$L,5,0),\"\")","v":""},{"$f":"IFERROR(VLOOKUP($K60,'Total Rankings (excl QB)'!$D:$L,6,0),\"\")","v":""},{"$f":"IFERROR(VLOOKUP($K60,'Total Rankings (excl QB)'!$D:$L,7,0),\"\")","v":""},{"$f":"IFERROR(VLOOKUP($K60,'Total Rankings (excl QB)'!$D:$L,8,0),\"\")","v":""}]
[{"$f":"IFERROR(INDEX('Positional Ranks'!B$4:B$195,_xlfn.AGGREGATE(15,6,ROW('Positional Ranks'!B$4:B$195)-ROW('Positional Ranks'!B$4)+1/('Positional Ranks'!B$4:F$195=\"Consistent WR2\"),ROWS('Tiered Rankings'!A$36:A61))),\"\")","v":""},{"$f":"IFERROR(VLOOKUP($A61,'Total Rankings (excl QB)'!$D:$E,2,0),0)","v":0},0,null,{"$f":"IFERROR(VLOOKUP($A61,'Total Rankings (excl QB)'!$D:$L,4,0),\"\")","v":""},{"$f":"IFERROR(VLOOKUP($A61,'Total Rankings (excl QB)'!$D:$L,5,0),\"\")","v":""},{"$f":"IFERROR(VLOOKUP($A61,'Total Rankings (excl QB)'!$D:$L,6,0),\"\")","v":""},{"$f":"IFERROR(VLOOKUP($A61,'Total Rankings (excl QB)'!$D:$L,7,0),\"\")","v":""},{"$f":"IFERROR(VLOOKUP($A61,'Total Rankings (excl QB)'!$D:$L,8,0),\"\")","v":""},null,{"$f":"IFERROR(INDEX('Positional Ranks'!M$4:M$195,_xlfn.AGGREGATE(15,6,ROW('Positional Ranks'!M$4:M$195)-ROW('Positional Ranks'!M$4)+1/('Positional Ranks'!M$4:Q$195=\"Consistent RB2\"),ROWS('Tiered Rankings'!K$36:K61))),\"\")","v":""},{"$f":"IFERROR(VLOOKUP($K61,'Total Rankings (excl QB)'!$D:$E,2,0),0)","v":0},0,null,{"$f":"IFERROR(VLOOKUP($K61,'Total Rankings (excl QB)'!$D:$L,4,0),\"\")","v":""},{"$f":"IFERROR(VLOOKUP($K61,'Total Rankings (excl QB)'!$D:$L,5,0),\"\")","v":""},{"$f":"IFERROR(VLOOKUP($K61,'Total Rankings (excl QB)'!$D:$L,6,0),\"\")","v":""},{"$f":"IFERROR(VLOOKUP($K61,'Total Rankings (excl QB)'!$D:$L,7,0),\"\")","v":""},{"$f":"IFERROR(VLOOKUP($K61,'Total Rankings (excl QB)'!$D:$L,8,0),\"\")","v":""}]
[{"$f":"IFERROR(INDEX('Positional Ranks'!B$4:B$195,_xlfn.AGGREGATE(15,6,ROW('Positional Ranks'!B$4:B$195)-ROW('Positional Ranks'!B$4)+1/('Positional Ranks'!B$4:F$195=\"Consistent WR2\"),ROWS('Tiered Rankings'!A$36:A62))),\"\")","v":""},{"$f":"IFERROR(VLOOKUP($A62,'Total Rankings (excl QB)'!$D:$E,2,0),0)","v":0},0,null,{"$f":"IFERROR(VLOOKUP($A62,'Total Rankings (excl QB)'!$D:$L,4,0),\"\")","v":""},{"$f":"IFERROR(VLOOKUP($A62,'Total Rankings (excl QB)'!$D:$L,5,0),\"\")","v":""},{"$f":"IFERROR(VLOOKUP($A62,'Total Rankings (excl QB)'!$D:$L,6,0),\"\")","v":""},{"$f":"IFERROR(VLOOKUP($A62,'Total Rankings (excl QB)'!$D:$L,7,0),\"\")","v":""},{"$f":"IFERROR(VLOOKUP($A62,'Total Rankings (excl QB)'!$D:$L,8,0),\"\")","v":""},null,{"$f":"IFERROR(INDEX('Positional Ranks'!M$4:M$195,_xlfn.AGGREGATE(15,6,ROW('Positional Ranks'!M$4:M$195)-ROW('Positional Ranks'!M$4)+1/('Positional Ranks'!M$4:Q$195=\"Consistent RB2\"),ROWS('Tiered Rankings'!K$36:K62))),\"\")","v":""},{"$f":"IFERROR(VLOOKUP($K62,'Total Rankings (excl QB)'!$D:$E,2,0),0)","v":0},0,null,{"$f":"IFERROR(VLOOKUP($K62,'Total Rankings (excl QB)'!$D:$L,4,0),\"\")","v":""},{"$f":"IFERROR(VLOOKUP($K62,'Total Rankings (excl QB)'!$D:$L,5,0),\"\")","v":""},{"$f":"IFERROR(VLOOKUP($K62,'Total Rankings (excl QB)'!$D:$L,6,0),\"\")","v":""},{"$f":"IFERROR(VLOOKUP($K62,'Total Rankings (excl QB)'!$D:$L,7,0),\"\")","v":""},{"$f":"IFERROR(VLOOKUP($K62,'Total Rankings (excl QB)'!$D:$L,8,0),\"\")","v":""}]
[{"$f":"IFERROR(INDEX('Positional Ranks'!B$4:B$195,_xlfn.AGGREGATE(15,6,ROW('Positional Ranks'!B$4:B$195)-ROW('Positional Ranks'!B$4)+1/('Positional Ranks'!B$4:F$195=\"Consistent WR2\"),ROWS('Tiered Rankings'!A$36:A63))),\"\")","v":""},{"$f":"IFERROR(VLOOKUP($A63,'Total Rankings (excl QB)'!$D:$E,2,0),0)","v":0},0,null,{"$f":"IFERROR(VLOOKUP($A63,'Total Rankings (excl QB)'!$D:$L,4,0),\"\")","v":""},{"$f":"IFERROR(VLOOKUP($A63,'Total Rankings (excl QB)'!$D:$L,5,0),\"\")","v":""},{"$f":"IFERROR(VLOOKUP($A63,'Total Rankings (excl QB)'!$D:$L,6,0),\"\")","v":""},{"$f":"IFERROR(VLOOKUP($A63,'Total Rankings (excl QB)'!$D:$L,7,0),\"\")","v":""},{"$f":"IFERROR(VLOOKUP($A63,'Total Rankings (excl QB)'!$D:$L,8,0),\"\")","v":""},null,{"$f":"IFERROR(INDEX('Positional Ranks'!M$4:M$195,_xlfn.AGGREGATE(15,6,ROW('Positional Ranks'!M$4:M$195)-ROW('Positional Ranks'!M$4)+1/('Positional Ranks'!M$4:Q$195=\"Consistent RB2\"),ROWS('Tiered Rankings'!K$36:K63))),\"\")","v":""},{"$f":"IFERROR(VLOOKUP($K63,'Total Rankings (excl QB)'!$D:$E,2,0),0)","v":0},0,null,{"$f":"IFERROR(VLOOKUP($K63,'Total Rankings (excl QB)'!$D:$L,4,0),\"\")","v":""},{"$f":"IFERROR(VLOOKUP($K63,'Total Rankings (excl QB)'!$D:$L,5,0),\"\")","v":""},{"$f":"IFERROR(VLOOKUP($K63,'Total Rankings (excl QB)'!$D:$L,6,0),\"\")","v":""},{"$f":"IFERROR(VLOOKUP($K63,'Total Rankings (excl QB)'!$D:$L,7,0),\"\")","v":""},{"$f":"IFERROR(VLOOKUP($K63,'Total Rankings (excl QB)'!$D:$L,8,0),\"\")","v":""}]
[{"$f":"IFERROR(INDEX('Positional Ranks'!B$4:B$195,_xlfn.AGGREGATE(15,6,ROW('Positional Ranks'!B$4:B$195)-ROW('Positional Ranks'!B$4)+1/('Positional Ranks'!B$4:F$195=\"Consistent WR2\"),ROWS('Tiered Rankings'!A$36:A64))),\"\")","v":""},{"$f":"IFERROR(VLOOKUP($A64,'Total Rankings (excl QB)'!$D:$E,2,0),0)","v":0},0,null,{"$f":"IFERROR(VLOOKUP($A64,'Total Rankings (excl QB)'!$D:$L,4,0),\"\")","v":""},{"$f":"IFERROR(VLOOKUP($A64,'Total Rankings (excl QB)'!$D:$L,5,0),\"\")","v":""},{"$f":"IFERROR(VLOOKUP($A64,'Total Rankings (excl QB)'!$D:$L,6,0),\"\")","v":""},{"$f":"IFERROR(VLOOKUP($A64,'Total Rankings (excl QB)'!$D:$L,7,0),\"\")","v":""},{"$f":"IFERROR(VLOOKUP($A64,'Total Rankings (excl QB)'!$D:$L,8,0),\"\")","v":""},null,{"$f":"IFERROR(INDEX('Positional Ranks'!M$4:M$195,_xlfn.AGGREGATE(15,6,ROW('Positional Ranks'!M$4:M$195)-ROW('Positional Ranks'!M$4)+1/('Positional Ranks'!M$4:Q$195=\"Consistent RB2\"),ROWS('Tiered Rankings'!K$36:K64))),\"\")","v":""},{"$f":"IFERROR(VLOOKUP($K64,'Total Rankings (excl QB)'!$D:$E,2,0),0)","v":0},0,null,{"$f":"IFERROR(VLOOKUP($K64,'Total Rankings (excl QB)'!$D:$L,4,0),\"\")","v":""},{"$f":"IFERROR(VLOOKUP($K64,'Total Rankings (excl QB)'!$D:$L,5,0),\"\")","v":""},{"$f":"IFERROR(VLOOKUP($K64,'Total Rankings (excl QB)'!$D:$L,6,0),\"\")","v":""},{"$f":"IFERROR(VLOOKUP($K64,'Total Rankings (excl QB)'!$D:$L,7,0),\"\")","v":""},{"$f":"IFERROR(VLOOKUP($K64,'Total Rankings (excl QB)'!$D:$L,8,0),\"\")","v":""}]
[{"$f":"IFERROR(INDEX('Positional Ranks'!B$4:B$195,_xlfn.AGGREGATE(15,6,ROW('Positional Ranks'!B$4:B$195)-ROW('Positional Ranks'!B$4)+1/('Positional Ranks'!B$4:F$195=\"Consistent WR2\"),ROWS('Tiered Rankings'!A$36:A65))),\"\")","v":""},{"$f":"IFERROR(VLOOKUP($A65,'Total Rankings (excl QB)'!$D:$E,2,0),0)","v":0},0,null,{"$f":"IFERROR(VLOOKUP($A65,'Total Rankings (excl QB)'!$D:$L,4,0),\"\")","v":""},{"$f":"IFERROR(VLOOKUP($A65,'Total Rankings (excl QB)'!$D:$L,5,0),\"\")","v":""},{"$f":"IFERROR(VLOOKUP($A65,'Total Rankings (excl QB)'!$D:$L,6,0),\"\")","v":""},{"$f":"IFERROR(VLOOKUP($A65,'Total Rankings (excl QB)'!$D:$L,7,0),\"\")","v":""},{"$f":"IFERROR(VLOOKUP($A65,'Total Rankings (excl QB)'!$D:$L,8,0),\"\")","v":""},null,{"$f":"IFERROR(INDEX('Positional Ranks'!M$4:M$195,_xlfn.AGGREGATE(15,6,ROW('Positional Ranks'!M$4:M$195)-ROW('Positional Ranks'!M$4)+1/('Positional Ranks'!M$4:Q$195=\"Consistent RB2\"),ROWS('Tiered Rankings'!K$36:K65))),\"\")","v":""},{"$f":"IFERROR(VLOOKUP($K65,'Total Rankings (excl QB)'!$D:$E,2,0),0)","v":0},0,null,{"$f":"IFERROR(VLOOKUP($K65,'Total Rankings (excl QB)'!$D:$L,4,0),\"\")","v":""},{"$f":"IFERROR(VLOOKUP($K65,'Total Rankings (excl QB)'!$D:$L,5,0),\"\")","v":""},{"$f":"IFERROR(VLOOKUP($K65,'Total Rankings (excl QB)'!$D:$L,6,0),\"\")","v":""},{"$f":"IFERROR(VLOOKUP($K65,'Total Rankings (excl QB)'!$D:$L,7,0),\"\")","v":""},{"$f":"IFERROR(VLOOKUP($K65,'Total Rankings (excl QB)'!$D:$L,8,0),\"\")","v":""}]
[{"$f":"IFERROR(INDEX('Positional Ranks'!B$4:B$195,_xlfn.AGGREGATE(15,6,ROW('Positional Ranks'!B$4:B$195)-ROW('Positional Ranks'!B$4)+1/('Positional Ranks'!B$4:F$195=\"Consistent WR2\"),ROWS('Tiered Rankings'!A$36:A66))),\"\")","v":""},{"$f":"IFERROR(VLOOKUP($A66,'Total Rankings (excl QB)'!$D:$E,2,0),0)","v":0},0,null,{"$f":"IFERROR(VLOOKUP($A66,'Total Rankings (excl QB)'!$D:$L,4,0),\"\")","v":""},{"$f":"IFERROR(VLOOKUP($A66,'Total Rankings (excl QB)'!$D:$L,5,0),\"\")","v":""},{"$f":"IFERROR(VLOOKUP($A66,'Total Rankings (excl QB)'!$D:$L,6,0),\"\")","v":""},{"$f":"IFERROR(VLOOKUP($A66,'Total Rankings (excl QB)'!$D:$L,7,0),\"\")","v":""},{"$f":"IFERROR(VLOOKUP($A66,'Total Rankings (excl QB)'!$D:$L,8,0),\"\")","v":""},null,{"$f":"IFERROR(INDEX('Positional Ranks'!M$4:M$195,_xlfn.AGGREGATE(15,6,ROW('Positional Ranks'!M$4:M$195)-ROW('Positional Ranks'!M$4)+1/('Positional Ranks'!M$4:Q$195=\"Consistent RB2\"),ROWS('Tiered Rankings'!K$36:K66))),\"\")","v":""},{"$f":"IFERROR(VLOOKUP($K66,'Total Rankings (excl QB)'!$D:$E,2,0),0)","v":0},0,null,{"$f":"IFERROR(VLOOKUP($K66,'Total Rankings (excl QB)'!$D:$L,4,0),\"\")","v":""},{"$f":"IFERROR(VLOOKUP($K66,'Total Rankings (excl QB)'!$D:$L,5,0),\"\")","v":""},{"$f":"IFERROR(VLOOKUP($K66,'Total Rankings (excl QB)'!$D:$L,6,0),\"\")","v":""},{"$f":"IFERROR(VLOOKUP($K66,'Total Rankings (excl QB)'!$D:$L,7,0),\"\")","v":""},{"$f":"IFERROR(VLOOKUP($K66,'Total Rankings (excl QB)'!$D:$L,8,0),\"\")","v":""}]
[{"$f":"IFERROR(INDEX('Positional Ranks'!B$4:B$195,_xlfn.AGGREGATE(15,6,ROW('Positional Ranks'!B$4:B$195)-ROW('Positional Ranks'!B$4)+1/('Positional Ranks'!B$4:F$195=\"Consistent WR2\"),ROWS('Tiered Rankings'!A$36:A67))),\"\")","v":""},{"$f":"IFERROR(VLOOKUP($A67,'Total Rankings (excl QB)'!$D:$E,2,0),0)","v":0},0,null,{"$f":"IFERROR(VLOOKUP($A67,'Total Rankings (excl QB)'!$D:$L,4,0),\"\")","v":""},{"$f":"IFERROR(VLOOKUP($A67,'Total Rankings (excl QB)'!$D:$L,5,0),\"\")","v":""},{"$f":"IFERROR(VLOOKUP($A67,'Total Rankings (excl QB)'!$D:$L,6,0),\"\")","v":""},{"$f":"IFERROR(VLOOKUP($A67,'Total Rankings (excl QB)'!$D:$L,7,0),\"\")","v":""},{"$f":"IFERROR(VLOOKUP($A67,'Total Rankings (excl QB)'!$D:$L,8,0),\"\")","v":""},null,{"$f":"IFERROR(INDEX('Positional Ranks'!M$4:M$195,_xlfn.AGGREGATE(15,6,ROW('Positional Ranks'!M$4:M$195)-ROW('Positional Ranks'!M$4)+1/('Positional Ranks'!M$4:Q$195=\"Consistent RB2\"),ROWS('Tiered Rankings'!K$36:K67))),\"\")","v":""},{"$f":"IFERROR(VLOOKUP($K67,'Total Rankings (excl QB)'!$D:$E,2,0),0)","v":0},0,null,{"$f":"IFERROR(VLOOKUP($K67,'Total Rankings (excl QB)'!$D:$L,4,0),\"\")","v":""},{"$f":"IFERROR(VLOOKUP($K67,'Total Rankings (excl QB)'!$D:$L,5,0),\"\")","v":""},{"$f":"IFERROR(VLOOKUP($K67,'Total Rankings (excl QB)'!$D:$L,6,0),\"\")","v":""},{"$f":"IFERROR(VLOOKUP($K67,'Total Rankings (excl QB)'!$D:$L,7,0),\"\")","v":""},{"$f":"IFERROR(VLOOKUP($K67,'Total Rankings (excl QB)'!$D:$L,8,0),\"\")","v":""}]
[{"$f":"IFERROR(INDEX('Positional Ranks'!B$4:B$195,_xlfn.AGGREGATE(15,6,ROW('Positional Ranks'!B$4:B$195)-ROW('Positional Ranks'!B$4)+1/('Positional Ranks'!B$4:F$195=\"Consistent WR2\"),ROWS('Tiered Rankings'!A$36:A68))),\"\")","v":""},{"$f":"IFERROR(VLOOKUP($A68,'Total Rankings (excl QB)'!$D:$E,2,0),0)","v":0},0,null,{"$f":"IFERROR(VLOOKUP($A68,'Total Rankings (excl QB)'!$D:$L,4,0),\"\")","v":""},{"$f":"IFERROR(VLOOKUP($A68,'Total Rankings (excl QB)'!$D:$L,5,0),\"\")","v":""},{"$f":"IFERROR(VLOOKUP($A68,'Total Rankings (excl QB)'!$D:$L,6,0),\"\")","v":""},{"$f":"IFERROR(VLOOKUP($A68,'Total Rankings (excl QB)'!$D:$L,7,0),\"\")","v":""},{"$f":"IFERROR(VLOOKUP($A68,'Total Rankings (excl QB)'!$D:$L,8,0),\"\")","v":""},null,{"$f":"IFERROR(INDEX('Positional Ranks'!M$4:M$195,_xlfn.AGGREGATE(15,6,ROW('Positional Ranks'!M$4:M$195)-ROW('Positional Ranks'!M$4)+1/('Positional Ranks'!M$4:Q$195=\"Consistent RB2\"),ROWS('Tiered Rankings'!K$36:K68))),\"\")","v":""},{"$f":"IFERROR(VLOOKUP($K68,'Total Rankings (excl QB)'!$D:$E,2,0),0)","v":0},0,null,{"$f":"IFERROR(VLOOKUP($K68,'Total Rankings (excl QB)'!$D:$L,4,0),\"\")","v":""},{"$f":"IFERROR(VLOOKUP($K68,'Total Rankings (excl QB)'!$D:$L,5,0),\"\")","v":""},{"$f":"IFERROR(VLOOKUP($K68,'Total Rankings (excl QB)'!$D:$L,6,0),\"\")","v":""},{"$f":"IFERROR(VLOOKUP($K68,'Total Rankings (excl QB)'!$D:$L,7,0),\"\")","v":""},{"$f":"IFERROR(VLOOKUP($K68,'Total Rankings (excl QB)'!$D:$L,8,0),\"\")","v":""}]
[{"$f":"IFERROR(INDEX('Positional Ranks'!B$4:B$195,_xlfn.AGGREGATE(15,6,ROW('Positional Ranks'!B$4:B$195)-ROW('Positional Ranks'!B$4)+1/('Positional Ranks'!B$4:F$195=\"Consistent WR2\"),ROWS('Tiered Rankings'!A$36:A69))),\"\")","v":""},{"$f":"IFERROR(VLOOKUP($A69,'Total Rankings (excl QB)'!$D:$E,2,0),0)","v":0},0,null,{"$f":"IFERROR(VLOOKUP($A69,'Total Rankings (excl QB)'!$D:$L,4,0),\"\")","v":""},{"$f":"IFERROR(VLOOKUP($A69,'Total Rankings (excl QB)'!$D:$L,5,0),\"\")","v":""},{"$f":"IFERROR(VLOOKUP($A69,'Total Rankings (excl QB)'!$D:$L,6,0),\"\")","v":""},{"$f":"IFERROR(VLOOKUP($A69,'Total Rankings (excl QB)'!$D:$L,7,0),\"\")","v":""},{"$f":"IFERROR(VLOOKUP($A69,'Total Rankings (excl QB)'!$D:$L,8,0),\"\")","v":""},null,{"$f":"IFERROR(INDEX('Positional Ranks'!M$4:M$195,_xlfn.AGGREGATE(15,6,ROW('Positional Ranks'!M$4:M$195)-ROW('Positional Ranks'!M$4)+1/('Positional Ranks'!M$4:Q$195=\"Consistent RB2\"),ROWS('Tiered Rankings'!K$36:K69))),\"\")","v":""},{"$f":"IFERROR(VLOOKUP($K69,'Total Rankings (excl QB)'!$D:$E,2,0),0)","v":0},0,null,{"$f":"IFERROR(VLOOKUP($K69,'Total Rankings (excl QB)'!$D:$L,4,0),\"\")","v":""},{"$f":"IFERROR(VLOOKUP($K69,'Total Rankings (excl QB)'!$D:$L,5,0),\"\")","v":""},{"$f":"IFERROR(VLOOKUP($K69,'Total Rankings (excl QB)'!$D:$L,6,0),\"\")","v":""},{"$f":"IFERROR(VLOOKUP($K69,'Total Rankings (excl QB)'!$D:$L,7,0),\"\")","v":""},{"$f":"IFERROR(VLOOKUP($K69,'Total Rankings (excl QB)'!$D:$L,8,0),\"\")","v":""}]
[{"$f":"IFERROR(INDEX('Positional Ranks'!B$4:B$195,_xlfn.AGGREGATE(15,6,ROW('Positional Ranks'!B$4:B$195)-ROW('Positional Ranks'!B$4)+1/('Positional Ranks'!B$4:F$195=\"Consistent WR2\"),ROWS('Tiered Rankings'!A$36:A70))),\"\")","v":""},{"$f":"IFERROR(VLOOKUP($A70,'Total Rankings (excl QB)'!$D:$E,2,0),0)","v":0},0,null,{"$f":"IFERROR(VLOOKUP($A70,'Total Rankings (excl QB)'!$D:$L,4,0),\"\")","v":""},{"$f":"IFERROR(VLOOKUP($A70,'Total Rankings (excl QB)'!$D:$L,5,0),\"\")","v":""},{"$f":"IFERROR(VLOOKUP($A70,'Total Rankings (excl QB)'!$D:$L,6,0),\"\")","v":""},{"$f":"IFERROR(VLOOKUP($A70,'Total Rankings (excl QB)'!$D:$L,7,0),\"\")","v":""},{"$f":"IFERROR(VLOOKUP($A70,'Total Rankings (excl QB)'!$D:$L,8,0),\"\")","v":""},null,{"$f":"IFERROR(INDEX('Positional Ranks'!M$4:M$195,_xlfn.AGGREGATE(15,6,ROW('Positional Ranks'!M$4:M$195)-ROW('Positional Ranks'!M$4)+1/('Positional Ranks'!M$4:Q$195=\"Consistent RB2\"),ROWS('Tiered Rankings'!K$36:K70))),\"\")","v":""},{"$f":"IFERROR(VLOOKUP($K70,'Total Rankings (excl QB)'!$D:$E,2,0),0)","v":0},0,null,{"$f":"IFERROR(VLOOKUP($K70,'Total Rankings (excl QB)'!$D:$L,4,0),\"\")","v":""},{"$f":"IFERROR(VLOOKUP($K70,'Total Rankings (excl QB)'!$D:$L,5,0),\"\")","v":""},{"$f":"IFERROR(VLOOKUP($K70,'Total Rankings (excl QB)'!$D:$L,6,0),\"\")","v":""},{"$f":"IFERROR(VLOOKUP($K70,'Total Rankings (excl QB)'!$D:$L,7,0),\"\")","v":""},{"$f":"IFERROR(VLOOKUP($K70,'Total Rankings (excl QB)'!$D:$L,8,0),\"\")","v":""}]
[{"$f":"IFERROR(INDEX('Positional Ranks'!B$4:B$195,_xlfn.AGGREGATE(15,6,ROW('Positional Ranks'!B$4:B$195)-ROW('Positional Ranks'!B$4)+1/('Positional Ranks'!B$4:F$195=\"Consistent WR2\"),ROWS('Tiered Rankings'!A$36:A71))),\"\")","v":""},{"$f":"IFERROR(VLOOKUP($A71,'Total Rankings (excl QB)'!$D:$E,2,0),0)","v":0},{"$f":"IFERROR(B71/17,0)","v":0},null,{"$f":"IFERROR(VLOOKUP($A71,'Total Rankings (excl QB)'!$D:$L,4,0),\"\")","v":""},{"$f":"IFERROR(VLOOKUP($A71,'Total Rankings (excl QB)'!$D:$L,5,0),\"\")","v":""},{"$f":"IFERROR(VLOOKUP($A71,'Total Rankings (excl QB)'!$D:$L,6,0),\"\")","v":""},{"$f":"IFERROR(VLOOKUP($A71,'Total Rankings (excl QB)'!$D:$L,7,0),\"\")","v":""},{"$f":"IFERROR(VLOOKUP($A71,'Total Rankings (excl QB)'!$D:$L,8,0),\"\")","v":""},null,{"$f":"IFERROR(INDEX('Positional Ranks'!M$4:M$195,_xlfn.AGGREGATE(15,6,ROW('Positional Ranks'!M$4:M$195)-ROW('Positional Ranks'!M$4)+1/('Positional Ranks'!M$4:Q$195=\"Consistent RB2\"),ROWS('Tiered Rankings'!K$36:K71))),\"\")","v":""},{"$f":"IFERROR(VLOOKUP($K71,'Total Rankings (excl QB)'!$D:$E,2,0),0)","v":0},{"$f":"IFERROR(L71/17,0)","v":0},null,{"$f":"IFERROR(VLOOKUP($K71,'Total Rankings (excl QB)'!$D:$L,4,0),\"\")","v":""},{"$f":"IFERROR(VLOOKUP($K71,'Total Rankings (excl QB)'!$D:$L,5,0),\"\")","v":""},{"$f":"IFERROR(VLOOKUP($K71,'Total Rankings (excl QB)'!$D:$L,6,0),\"\")","v":""},{"$f":"IFERROR(VLOOKUP($K71,'Total Rankings (excl QB)'!$D:$L,7,0),\"\")","v":""},{"$f":"IFERROR(VLOOKUP($K71,'Total Rankings (excl QB)'!$D:$L,8,0),\"\")","v":""}]
[{"$f":"IFERROR(INDEX('Positional Ranks'!B$4:B$195,_xlfn.AGGREGATE(15,6,ROW('Positional Ranks'!B$4:B$195)-ROW('Positional Ranks'!B$4)+1/('Positional Ranks'!B$4:F$195=\"Consistent WR2\"),ROWS('Tiered Rankings'!A$36:A72))),\"\")","v":""},{"$f":"IFERROR(VLOOKUP($A72,'Total Rankings (excl QB)'!$D:$E,2,0),0)","v":0},0,null,{"$f":"IFERROR(VLOOKUP($A72,'Total Rankings (excl QB)'!$D:$L,4,0),\"\")","v":""},{"$f":"IFERROR(VLOOKUP($A72,'Total Rankings (excl QB)'!$D:$L,5,0),\"\")","v":""},{"$f":"IFERROR(VLOOKUP($A72,'Total Rankings (excl QB)'!$D:$L,6,0),\"\")","v":""},{"$f":"IFERROR(VLOOKUP($A72,'Total Rankings (excl QB)'!$D:$L,7,0),\"\")","v":""},{"$f":"IFERROR(VLOOKUP($A72,'Total Rankings (excl QB)'!$D:$L,8,0),\"\")","v":""},null,{"$f":"IFERROR(INDEX('Positional Ranks'!M$4:M$195,_xlfn.AGGREGATE(15,6,ROW('Positional Ranks'!M$4:M$195)-ROW('Positional Ranks'!M$4)+1/('Positional Ranks'!M$4:Q$195=\"Consistent RB2\"),ROWS('Tiered Rankings'!K$36:K72))),\"\")","v":""},{"$f":"IFERROR(VLOOKUP($K72,'Total Rankings (excl QB)'!$D:$E,2,0),0)","v":0},0,null,{"$f":"IFERROR(VLOOKUP($K72,'Total Rankings (excl QB)'!$D:$L,4,0),\"\")","v":""},{"$f":"IFERROR(VLOOKUP($K72,'Total Rankings (excl QB)'!$D:$L,5,0),\"\")","v":""},{"$f":"IFERROR(VLOOKUP($K72,'Total Rankings (excl QB)'!$D:$L,6,0),\"\")","v":""},{"$f":"IFERROR(VLOOKUP($K72,'Total Rankings (excl QB)'!$D:$L,7,0),\"\")","v":""},{"$f":"IFERROR(VLOOKUP($K72,'Total Rankings (excl QB)'!$D:$L,8,0),\"\")","v":""}]
[{"$f":"IFERROR(INDEX('Positional Ranks'!B$4:B$195,_xlfn.AGGREGATE(15,6,ROW('Positional Ranks'!B$4:B$195)-ROW('Positional Ranks'!B$4)+1/('Positional Ranks'!B$4:F$195=\"Consistent WR2\"),ROWS('Tiered Rankings'!A$36:A73))),\"\")","v":""},{"$f":"IFERROR(VLOOKUP($A73,'Total Rankings (excl QB)'!$D:$E,2,0),0)","v":0},0,null,{"$f":"IFERROR(VLOOKUP($A73,'Total Rankings (excl QB)'!$D:$L,4,0),\"\")","v":""},{"$f":"IFERROR(VLOOKUP($A73,'Total Rankings (excl QB)'!$D:$L,5,0),\"\")","v":""},{"$f":"IFERROR(VLOOKUP($A73,'Total Rankings (excl QB)'!$D:$L,6,0),\"\")","v":""},{"$f":"IFERROR(VLOOKUP($A73,'Total Rankings (excl QB)'!$D:$L,7,0),\"\")","v":""},{"$f":"IFERROR(VLOOKUP($A73,'Total Rankings (excl QB)'!$D:$L,8,0),\"\")","v":""},null,{"$f":"IFERROR(INDEX('Positional Ranks'!M$4:M$195,_xlfn.AGGREGATE(15,6,ROW('Positional Ranks'!M$4:M$195)-ROW('Positional Ranks'!M$4)+1/('Positional Ranks'!M$4:Q$195=\"Consistent RB2\"),ROWS('Tiered Rankings'!K$36:K73))),\"\")","v":""},{"$f":"IFERROR(VLOOKUP($K73,'Total Rankings (excl QB)'!$D:$E,2,0),0)","v":0},0,null,{"$f":"IFERROR(VLOOKUP($K73,'Total Rankings (excl QB)'!$D:$L,4,0),\"\")","v":""},{"$f":"IFERROR(VLOOKUP($K73,'Total Rankings (excl QB)'!$D:$L,5,0),\"\")","v":""},{"$f":"IFERROR(VLOOKUP($K73,'Total Rankings (excl QB)'!$D:$L,6,0),\"\")","v":""},{"$f":"IFERROR(VLOOKUP($K73,'Total Rankings (excl QB)'!$D:$L,7,0),\"\")","v":""},{"$f":"IFERROR(VLOOKUP($K73,'Total Rankings (excl QB)'!$D:$L,8,0),\"\")","v":""}]
[{"$f":"IFERROR(INDEX('Positional Ranks'!B$4:B$195,_xlfn.AGGREGATE(15,6,ROW('Positional Ranks'!B$4:B$195)-ROW('Positional Ranks'!B$4)+1/('Positional Ranks'!B$4:F$195=\"Consistent WR2\"),ROWS('Tiered Rankings'!A$36:A74))),\"\")","v":""},{"$f":"IFERROR(VLOOKUP($A74,'Total Rankings (excl QB)'!$D:$E,2,0),0)","v":0},0,null,{"$f":"IFERROR(VLOOKUP($A74,'Total Rankings (excl QB)'!$D:$L,4,0),\"\")","v":""},{"$f":"IFERROR(VLOOKUP($A74,'Total Rankings (excl QB)'!$D:$L,5,0),\"\")","v":""},{"$f":"IFERROR(VLOOKUP($A74,'Total Rankings (excl QB)'!$D:$L,6,0),\"\")","v":""},{"$f":"IFERROR(VLOOKUP($A74,'Total Rankings (excl QB)'!$D:$L,7,0),\"\")","v":""},{"$f":"IFERROR(VLOOKUP($A74,'Total Rankings (excl QB)'!$D:$L,8,0),\"\")","v":""},null,{"$f":"IFERROR(INDEX('Positional Ranks'!M$4:M$195,_xlfn.AGGREGATE(15,6,ROW('Positional Ranks'!M$4:M$195)-ROW('Positional Ranks'!M$4)+1/('Positional Ranks'!M$4:Q$195=\"Consistent RB2\"),ROWS('Tiered Rankings'!K$36:K74))),\"\")","v":""},{"$f":"IFERROR(VLOOKUP($K74,'Total Rankings (excl QB)'!$D:$E,2,0),0)","v":0},0,null,{"$f":"IFERROR(VLOOKUP($K74,'Total Rankings (excl QB)'!$D:$L,4,0),\"\")","v":""},{"$f":"IFERROR(VLOOKUP($K74,'Total Rankings (excl QB)'!$D:$L,5,0),\"\")","v":""},{"$f":"IFERROR(VLOOKUP($K74,'Total Rankings (excl QB)'!$D:$L,6,0),\"\")","v":""},{"$f":"IFERROR(VLOOKUP($K74,'Total Rankings (excl QB)'!$D:$L,7,0),\"\")","v":""},{"$f":"IFERROR(VLOOKUP($K74,'Total Rankings (excl QB)'!$D:$L,8,0),\"\")","v":""}]
[{"$f":"IFERROR(INDEX('Positional Ranks'!B$4:B$195,_xlfn.AGGREGATE(15,6,ROW('Positional Ranks'!B$4:B$195)-ROW('Positional Ranks'!B$4)+1/('Positional Ranks'!B$4:F$195=\"Consistent WR2\"),ROWS('Tiered Rankings'!A$36:A75))),\"\")","v":""},{"$f":"IFERROR(VLOOKUP($A75,'Total Rankings (excl QB)'!$D:$E,2,0),0)","v":0},0,null,{"$f":"IFERROR(VLOOKUP($A75,'Total Rankings (excl QB)'!$D:$L,4,0),\"\")","v":""},{"$f":"IFERROR(VLOOKUP($A75,'Total Rankings (excl QB)'!$D:$L,5,0),\"\")","v":""},{"$f":"IFERROR(VLOOKUP($A75,'Total Rankings (excl QB)'!$D:$L,6,0),\"\")","v":""},{"$f":"IFERROR(VLOOKUP($A75,'Total Rankings (excl QB)'!$D:$L,7,0),\"\")","v":""},{"$f":"IFERROR(VLOOKUP($A75,'Total Rankings (excl QB)'!$D:$L,8,0),\"\")","v":""},null,{"$f":"IFERROR(INDEX('Positional Ranks'!M$4:M$195,_xlfn.AGGREGATE(15,6,ROW('Positional Ranks'!M$4:M$195)-ROW('Positional Ranks'!M$4)+1/('Positional Ranks'!M$4:Q$195=\"Consistent RB2\"),ROWS('Tiered Rankings'!K$36:K75))),\"\")","v":""},{"$f":"IFERROR(VLOOKUP($K75,'Total Rankings (excl QB)'!$D:$E,2,0),0)","v":0},0,null,{"$f":"IFERROR(VLOOKUP($K75,'Total Rankings (excl QB)'!$D:$L,4,0),\"\")","v":""},{"$f":"IFERROR(VLOOKUP($K75,'Total Rankings (excl QB)'!$D:$L,5,0),\"\")","v":""},{"$f":"IFERROR(VLOOKUP($K75,'Total Rankings (excl QB)'!$D:$L,6,0),\"\")","v":""},{"$f":"IFERROR(VLOOKUP($K75,'Total Rankings (excl QB)'!$D:$L,7,0),\"\")","v":""},{"$f":"IFERROR(VLOOKUP($K75,'Total Rankings (excl QB)'!$D:$L,8,0),\"\")","v":""}]
[{"$f":"IFERROR(INDEX('Positional Ranks'!B$4:B$195,_xlfn.AGGREGATE(15,6,ROW('Positional Ranks'!B$4:B$195)-ROW('Positional Ranks'!B$4)+1/('Positional Ranks'!B$4:F$195=\"Consistent WR2\"),ROWS('Tiered Rankings'!A$36:A76))),\"\")","v":""},{"$f":"IFERROR(VLOOKUP($A76,'Total Rankings (excl QB)'!$D:$E,2,0),0)","v":0},0,null,{"$f":"IFERROR(VLOOKUP($A76,'Total Rankings (excl QB)'!$D:$L,4,0),\"\")","v":""},{"$f":"IFERROR(VLOOKUP($A76,'Total Rankings (excl QB)'!$D:$L,5,0),\"\")","v":""},{"$f":"IFERROR(VLOOKUP($A76,'Total Rankings (excl QB)'!$D:$L,6,0),\"\")","v":""},{"$f":"IFERROR(VLOOKUP($A76,'Total Rankings (excl QB)'!$D:$L,7,0),\"\")","v":""},{"$f":"IFERROR(VLOOKUP($A76,'Total Rankings (excl QB)'!$D:$L,8,0),\"\")","v":""},null,{"$f":"IFERROR(INDEX('Positional Ranks'!M$4:M$195,_xlfn.AGGREGATE(15,6,ROW('Positional Ranks'!M$4:M$195)-ROW('Positional Ranks'!M$4)+1/('Positional Ranks'!M$4:Q$195=\"Consistent RB2\"),ROWS('Tiered Rankings'!K$36:K76))),\"\")","v":""},{"$f":"IFERROR(VLOOKUP($K76,'Total Rankings (excl QB)'!$D:$E,2,0),0)","v":0},0,null,{"$f":"IFERROR(VLOOKUP($K76,'Total Rankings (excl QB)'!$D:$L,4,0),\"\")","v":""},{"$f":"IFERROR(VLOOKUP($K76,'Total Rankings (excl QB)'!$D:$L,5,0),\"\")","v":""},{"$f":"IFERROR(VLOOKUP($K76,'Total Rankings (excl QB)'!$D:$L,6,0),\"\")","v":""},{"$f":"IFERROR(VLOOKUP($K76,'Total Rankings (excl QB)'!$D:$L,7,0),\"\")","v":""},{"$f":"IFERROR(VLOOKUP($K76,'Total Rankings (excl QB)'!$D:$L,8,0),\"\")","v":""}]
[{"$f":"IFERROR(INDEX('Positional Ranks'!B$4:B$195,_xlfn.AGGREGATE(15,6,ROW('Positional Ranks'!B$4:B$195)-ROW('Positional Ranks'!B$4)+1/('Positional Ranks'!B$4:F$195=\"Consistent WR2\"),ROWS('Tiered Rankings'!A$36:A77))),\"\")","v":""},{"$f":"IFERROR(VLOOKUP($A77,'Total Rankings (excl QB)'!$D:$E,2,0),0)","v":0},0,null,{"$f":"IFERROR(VLOOKUP($A77,'Total Rankings (excl QB)'!$D:$L,4,0),\"\")","v":""},{"$f":"IFERROR(VLOOKUP($A77,'Total Rankings (excl QB)'!$D:$L,5,0),\"\")","v":""},{"$f":"IFERROR(VLOOKUP($A77,'Total Rankings (excl QB)'!$D:$L,6,0),\"\")","v":""},{"$f":"IFERROR(VLOOKUP($A77,'Total Rankings (excl QB)'!$D:$L,7,0),\"\")","v":""},{"$f":"IFERROR(VLOOKUP($A77,'Total Rankings (excl QB)'!$D:$L,8,0),\"\")","v":""},null,{"$f":"IFERROR(INDEX('Positional Ranks'!M$4:M$195,_xlfn.AGGREGATE(15,6,ROW('Positional Ranks'!M$4:M$195)-ROW('Positional Ranks'!M$4)+1/('Positional Ranks'!M$4:Q$195=\"Consistent RB2\"),ROWS('Tiered Rankings'!K$36:K77))),\"\")","v":""},{"$f":"IFERROR(VLOOKUP($K77,'Total Rankings (excl QB)'!$D:$E,2,0),0)","v":0},0,null,{"$f":"IFERROR(VLOOKUP($K77,'Total Rankings (excl QB)'!$D:$L,4,0),\"\")","v":""},{"$f":"IFERROR(VLOOKUP($K77,'Total Rankings (excl QB)'!$D:$L,5,0),\"\")","v":""},{"$f":"IFERROR(VLOOKUP($K77,'Total Rankings (excl QB)'!$D:$L,6,0),\"\")","v":""},{"$f":"IFERROR(VLOOKUP($K77,'Total Rankings (excl QB)'!$D:$L,7,0),\"\")","v":""},{"$f":"IFERROR(VLOOKUP($K77,'Total Rankings (excl QB)'!$D:$L,8,0),\"\")","v":""}]
[{"$f":"IFERROR(INDEX('Positional Ranks'!B$4:B$195,_xlfn.AGGREGATE(15,6,ROW('Positional Ranks'!B$4:B$195)-ROW('Positional Ranks'!B$4)+1/('Positional Ranks'!B$4:F$195=\"Consistent WR2\"),ROWS('Tiered Rankings'!A$36:A78))),\"\")","v":""},{"$f":"IFERROR(VLOOKUP($A78,'Total Rankings (excl QB)'!$D:$E,2,0),0)","v":0},0,null,{"$f":"IFERROR(VLOOKUP($A78,'Total Rankings (excl QB)'!$D:$L,4,0),\"\")","v":""},{"$f":"IFERROR(VLOOKUP($A78,'Total Rankings (excl QB)'!$D:$L,5,0),\"\")","v":""},{"$f":"IFERROR(VLOOKUP($A78,'Total Rankings (excl QB)'!$D:$L,6,0),\"\")","v":""},{"$f":"IFERROR(VLOOKUP($A78,'Total Rankings (excl QB)'!$D:$L,7,0),\"\")","v":""},{"$f":"IFERROR(VLOOKUP($A78,'Total Rankings (excl QB)'!$D:$L,8,0),\"\")","v":""},null,{"$f":"IFERROR(INDEX('Positional Ranks'!M$4:M$195,_xlfn.AGGREGATE(15,6,ROW('Positional Ranks'!M$4:M$195)-ROW('Positional Ranks'!M$4)+1/('Positional Ranks'!M$4:Q$195=\"Consistent RB2\"),ROWS('Tiered Rankings'!K$36:K78))),\"\")","v":""},{"$f":"IFERROR(VLOOKUP($K78,'Total Rankings (excl QB)'!$D:$E,2,0),0)","v":0},0,null,{"$f":"IFERROR(VLOOKUP($K78,'Total Rankings (excl QB)'!$D:$L,4,0),\"\")","v":""},{"$f":"IFERROR(VLOOKUP($K78,'Total Rankings (excl QB)'!$D:$L,5,0),\"\")","v":""},{"$f":"IFERROR(VLOOKUP($K78,'Total Rankings (excl QB)'!$D:$L,6,0),\"\")","v":""},{"$f":"IFERROR(VLOOKUP($K78,'Total Rankings (excl QB)'!$D:$L,7,0),\"\")","v":""},{"$f":"IFERROR(VLOOKUP($K78,'Total Rankings (excl QB)'!$D:$L,8,0),\"\")","v":""}]
[{"$f":"IFERROR(INDEX('Positional Ranks'!B$4:B$195,_xlfn.AGGREGATE(15,6,ROW('Positional Ranks'!B$4:B$195)-ROW('Positional Ranks'!B$4)+1/('Positional Ranks'!B$4:F$195=\"Consistent WR2\"),ROWS('Tiered Rankings'!A$36:A79))),\"\")","v":""},{"$f":"IFERROR(VLOOKUP($A79,'Total Rankings (excl QB)'!$D:$E,2,0),0)","v":0},0,null,{"$f":"IFERROR(VLOOKUP($A79,'Total Rankings (excl QB)'!$D:$L,4,0),\"\")","v":""},{"$f":"IFERROR(VLOOKUP($A79,'Total Rankings (excl QB)'!$D:$L,5,0),\"\")","v":""},{"$f":"IFERROR(VLOOKUP($A79,'Total Rankings (excl QB)'!$D:$L,6,0),\"\")","v":""},{"$f":"IFERROR(VLOOKUP($A79,'Total Rankings (excl QB)'!$D:$L,7,0),\"\")","v":""},{"$f":"IFERROR(VLOOKUP($A79,'Total Rankings (excl QB)'!$D:$L,8,0),\"\")","v":""},null,{"$f":"IFERROR(INDEX('Positional Ranks'!M$4:M$195,_xlfn.AGGREGATE(15,6,ROW('Positional Ranks'!M$4:M$195)-ROW('Positional Ranks'!M$4)+1/('Positional Ranks'!M$4:Q$195=\"Consistent RB2\"),ROWS('Tiered Rankings'!K$36:K79))),\"\")","v":""},{"$f":"IFERROR(VLOOKUP($K79,'Total Rankings (excl QB)'!$D:$E,2,0),0)","v":0},0,null,{"$f":"IFERROR(VLOOKUP($K79,'Total Rankings (excl QB)'!$D:$L,4,0),\"\")","v":""},{"$f":"IFERROR(VLOOKUP($K79,'Total Rankings (excl QB)'!$D:$L,5,0),\"\")","v":""},{"$f":"IFERROR(VLOOKUP($K79,'Total Rankings (excl QB)'!$D:$L,6,0),\"\")","v":""},{"$f":"IFERROR(VLOOKUP($K79,'Total Rankings (excl QB)'!$D:$L,7,0),\"\")","v":""},{"$f":"IFERROR(VLOOKUP($K79,'Total Rankings (excl QB)'!$D:$L,8,0),\"\")","v":""}]
[{"$f":"IFERROR(INDEX('Positional Ranks'!B$4:B$195,_xlfn.AGGREGATE(15,6,ROW('Positional Ranks'!B$4:B$195)-ROW('Positional Ranks'!B$4)+1/('Positional Ranks'!B$4:F$195=\"Consistent WR2\"),ROWS('Tiered Rankings'!A$36:A80))),\"\")","v":""},{"$f":"IFERROR(VLOOKUP($A80,'Total Rankings (excl QB)'!$D:$E,2,0),0)","v":0},0,null,{"$f":"IFERROR(VLOOKUP($A80,'Total Rankings (excl QB)'!$D:$L,4,0),\"\")","v":""},{"$f":"IFERROR(VLOOKUP($A80,'Total Rankings (excl QB)'!$D:$L,5,0),\"\")","v":""},{"$f":"IFERROR(VLOOKUP($A80,'Total Rankings (excl QB)'!$D:$L,6,0),\"\")","v":""},{"$f":"IFERROR(VLOOKUP($A80,'Total Rankings (excl QB)'!$D:$L,7,0),\"\")","v":""},{"$f":"IFERROR(VLOOKUP($A80,'Total Rankings (excl QB)'!$D:$L,8,0),\"\")","v":""},null,{"$f":"IFERROR(INDEX('Positional Ranks'!M$4:M$195,_xlfn.AGGREGATE(15,6,ROW('Positional Ranks'!M$4:M$195)-ROW('Positional Ranks'!M$4)+1/('Positional Ranks'!M$4:Q$195=\"Consistent RB2\"),ROWS('Tiered Rankings'!K$36:K80))),\"\")","v":""},{"$f":"IFERROR(VLOOKUP($K80,'Total Rankings (excl QB)'!$D:$E,2,0),0)","v":0},0,null,{"$f":"IFERROR(VLOOKUP($K80,'Total Rankings (excl QB)'!$D:$L,4,0),\"\")","v":""},{"$f":"IFERROR(VLOOKUP($K80,'Total Rankings (excl QB)'!$D:$L,5,0),\"\")","v":""},{"$f":"IFERROR(VLOOKUP($K80,'Total Rankings (excl QB)'!$D:$L,6,0),\"\")","v":""},{"$f":"IFERROR(VLOOKUP($K80,'Total Rankings (excl QB)'!$D:$L,7,0),\"\")","v":""},{"$f":"IFERROR(VLOOKUP($K80,'Total Rankings (excl QB)'!$D:$L,8,0),\"\")","v":""}]
[{"$f":"IFERROR(INDEX('Positional Ranks'!B$4:B$195,_xlfn.AGGREGATE(15,6,ROW('Positional Ranks'!B$4:B$195)-ROW('Positional Ranks'!B$4)+1/('Positional Ranks'!B$4:F$195=\"Consistent WR2\"),ROWS('Tiered Rankings'!A$36:A81))),\"\")","v":""},{"$f":"IFERROR(VLOOKUP($A81,'Total Rankings (excl QB)'!$D:$E,2,0),0)","v":0},0,null,{"$f":"IFERROR(VLOOKUP($A81,'Total Rankings (excl QB)'!$D:$L,4,0),\"\")","v":""},{"$f":"IFERROR(VLOOKUP($A81,'Total Rankings (excl QB)'!$D:$L,5,0),\"\")","v":""},{"$f":"IFERROR(VLOOKUP($A81,'Total Rankings (excl QB)'!$D:$L,6,0),\"\")","v":""},{"$f":"IFERROR(VLOOKUP($A81,'Total Rankings (excl QB)'!$D:$L,7,0),\"\")","v":""},{"$f":"IFERROR(VLOOKUP($A81,'Total Rankings (excl QB)'!$D:$L,8,0),\"\")","v":""},null,{"$f":"IFERROR(INDEX('Positional Ranks'!M$4:M$195,_xlfn.AGGREGATE(15,6,ROW('Positional Ranks'!M$4:M$195)-ROW('Positional Ranks'!M$4)+1/('Positional Ranks'!M$4:Q$195=\"Consistent RB2\"),ROWS('Tiered Rankings'!K$36:K81))),\"\")","v":""},{"$f":"IFERROR(VLOOKUP($K81,'Total Rankings (excl QB)'!$D:$E,2,0),0)","v":0},0,null,{"$f":"IFERROR(VLOOKUP($K81,'Total Rankings (excl QB)'!$D:$L,4,0),\"\")","v":""},{"$f":"IFERROR(VLOOKUP($K81,'Total Rankings (excl QB)'!$D:$L,5,0),\"\")","v":""},{"$f":"IFERROR(VLOOKUP($K81,'Total Rankings (excl QB)'!$D:$L,6,0),\"\")","v":""},{"$f":"IFERROR(VLOOKUP($K81,'Total Rankings (excl QB)'!$D:$L,7,0),\"\")","v":""},{"$f":"IFERROR(VLOOKUP($K81,'Total Rankings (excl QB)'!$D:$L,8,0),\"\")","v":""}]
[{"$f":"IFERROR(INDEX('Positional Ranks'!B$4:B$195,_xlfn.AGGREGATE(15,6,ROW('Positional Ranks'!B$4:B$195)-ROW('Positional Ranks'!B$4)+1/('Positional Ranks'!B$4:F$195=\"Consistent WR2\"),ROWS('Tiered Rankings'!A$36:A82))),\"\")","v":""},{"$f":"IFERROR(VLOOKUP($A82,'Total Rankings (excl QB)'!$D:$E,2,0),0)","v":0},0,null,{"$f":"IFERROR(VLOOKUP($A82,'Total Rankings (excl QB)'!$D:$L,4,0),\"\")","v":""},{"$f":"IFERROR(VLOOKUP($A82,'Total Rankings (excl QB)'!$D:$L,5,0),\"\")","v":""},{"$f":"IFERROR(VLOOKUP($A82,'Total Rankings (excl QB)'!$D:$L,6,0),\"\")","v":""},{"$f":"IFERROR(VLOOKUP($A82,'Total Rankings (excl QB)'!$D:$L,7,0),\"\")","v":""},{"$f":"IFERROR(VLOOKUP($A82,'Total Rankings (excl QB)'!$D:$L,8,0),\"\")","v":""},null,{"$f":"IFERROR(INDEX('Positional Ranks'!M$4:M$195,_xlfn.AGGREGATE(15,6,ROW('Positional Ranks'!M$4:M$195)-ROW('Positional Ranks'!M$4)+1/('Positional Ranks'!M$4:Q$195=\"Consistent RB2\"),ROWS('Tiered Rankings'!K$36:K82))),\"\")","v":""},{"$f":"IFERROR(VLOOKUP($K82,'Total Rankings (excl QB)'!$D:$E,2,0),0)","v":0},0,null,{"$f":"IFERROR(VLOOKUP($K82,'Total Rankings (excl QB)'!$D:$L,4,0),\"\")","v":""},{"$f":"IFERROR(VLOOKUP($K82,'Total Rankings (excl QB)'!$D:$L,5,0),\"\")","v":""},{"$f":"IFERROR(VLOOKUP($K82,'Total Rankings (excl QB)'!$D:$L,6,0),\"\")","v":""},{"$f":"IFERROR(VLOOKUP($K82,'Total Rankings (excl QB)'!$D:$L,7,0),\"\")","v":""},{"$f":"IFERROR(VLOOKUP($K82,'Total Rankings (excl QB)'!$D:$L,8,0),\"\")","v":""}]
[{"$f":"IFERROR(INDEX('Positional Ranks'!B$4:B$195,_xlfn.AGGREGATE(15,6,ROW('Positional Ranks'!B$4:B$195)-ROW('Positional Ranks'!B$4)+1/('Positional Ranks'!B$4:F$195=\"Consistent WR2\"),ROWS('Tiered Rankings'!A$36:A83))),\"\")","v":""},{"$f":"IFERROR(VLOOKUP($A83,'Total Rankings (excl QB)'!$D:$E,2,0),0)","v":0},0,null,{"$f":"IFERROR(VLOOKUP($A83,'Total Rankings (excl QB)'!$D:$L,4,0),\"\")","v":""},{"$f":"IFERROR(VLOOKUP($A83,'Total Rankings (excl QB)'!$D:$L,5,0),\"\")","v":""},{"$f":"IFERROR(VLOOKUP($A83,'Total Rankings (excl QB)'!$D:$L,6,0),\"\")","v":""},{"$f":"IFERROR(VLOOKUP($A83,'Total Rankings (excl QB)'!$D:$L,7,0),\"\")","v":""},{"$f":"IFERROR(VLOOKUP($A83,'Total Rankings (excl QB)'!$D:$L,8,0),\"\")","v":""},null,{"$f":"IFERROR(INDEX('Positional Ranks'!M$4:M$195,_xlfn.AGGREGATE(15,6,ROW('Positional Ranks'!M$4:M$195)-ROW('Positional Ranks'!M$4)+1/('Positional Ranks'!M$4:Q$195=\"Consistent RB2\"),ROWS('Tiered Rankings'!K$36:K83))),\"\")","v":""},{"$f":"IFERROR(VLOOKUP($K83,'Total Rankings (excl QB)'!$D:$E,2,0),0)","v":0},0,null,{"$f":"IFERROR(VLOOKUP($K83,'Total Rankings (excl QB)'!$D:$L,4,0),\"\")","v":""},{"$f":"IFERROR(VLOOKUP($K83,'Total Rankings (excl QB)'!$D:$L,5,0),\"\")","v":""},{"$f":"IFERROR(VLOOKUP($K83,'Total Rankings (excl QB)'!$D:$L,6,0),\"\")","v":""},{"$f":"IFERROR(VLOOKUP($K83,'Total Rankings (excl QB)'!$D:$L,7,0),\"\")","v":""},{"$f":"IFERROR(VLOOKUP($K83,'Total Rankings (excl QB)'!$D:$L,8,0),\"\")","v":""}]
[{"$f":"IFERROR(INDEX('Positional Ranks'!B$4:B$195,_xlfn.AGGREGATE(15,6,ROW('Positional Ranks'!B$4:B$195)-ROW('Positional Ranks'!B$4)+1/('Positional Ranks'!B$4:F$195=\"Consistent WR2\"),ROWS('Tiered Rankings'!A$36:A84))),\"\")","v":""},{"$f":"IFERROR(VLOOKUP($A84,'Total Rankings (excl QB)'!$D:$E,2,0),0)","v":0},0,null,{"$f":"IFERROR(VLOOKUP($A84,'Total Rankings (excl QB)'!$D:$L,4,0),\"\")","v":""},{"$f":"IFERROR(VLOOKUP($A84,'Total Rankings (excl QB)'!$D:$L,5,0),\"\")","v":""},{"$f":"IFERROR(VLOOKUP($A84,'Total Rankings (excl QB)'!$D:$L,6,0),\"\")","v":""},{"$f":"IFERROR(VLOOKUP($A84,'Total Rankings (excl QB)'!$D:$L,7,0),\"\")","v":""},{"$f":"IFERROR(VLOOKUP($A84,'Total Rankings (excl QB)'!$D:$L,8,0),\"\")","v":""},null,{"$f":"IFERROR(INDEX('Positional Ranks'!M$4:M$195,_xlfn.AGGREGATE(15,6,ROW('Positional Ranks'!M$4:M$195)-ROW('Positional Ranks'!M$4)+1/('Positional Ranks'!M$4:Q$195=\"Consistent RB2\"),ROWS('Tiered Rankings'!K$36:K84))),\"\")","v":""},{"$f":"IFERROR(VLOOKUP($K84,'Total Rankings (excl QB)'!$D:$E,2,0),0)","v":0},0,null,{"$f":"IFERROR(VLOOKUP($K84,'Total Rankings (excl QB)'!$D:$L,4,0),\"\")","v":""},{"$f":"IFERROR(VLOOKUP($K84,'Total Rankings (excl QB)'!$D:$L,5,0),\"\")","v":""},{"$f":"IFERROR(VLOOKUP($K84,'Total Rankings (excl QB)'!$D:$L,6,0),\"\")","v":""},{"$f":"IFERROR(VLOOKUP($K84,'Total Rankings (excl QB)'!$D:$L,7,0),\"\")","v":""},{"$f":"IFERROR(VLOOKUP($K84,'Total Rankings (excl QB)'!$D:$L,8,0),\"\")","v":""}]
[{"$f":"IFERROR(INDEX('Positional Ranks'!B$4:B$195,_xlfn.AGGREGATE(15,6,ROW('Positional Ranks'!B$4:B$195)-ROW('Positional Ranks'!B$4)+1/('Positional Ranks'!B$4:F$195=\"Consistent WR2\"),ROWS('Tiered Rankings'!A$36:A85))),\"\")","v":""},{"$f":"IFERROR(VLOOKUP($A85,'Total Rankings (excl QB)'!$D:$E,2,0),0)","v":0},0,null,{"$f":"IFERROR(VLOOKUP($A85,'Total Rankings (excl QB)'!$D:$L,4,0),\"\")","v":""},{"$f":"IFERROR(VLOOKUP($A85,'Total Rankings (excl QB)'!$D:$L,5,0),\"\")","v":""},{"$f":"IFERROR(VLOOKUP($A85,'Total Rankings (excl QB)'!$D:$L,6,0),\"\")","v":""},{"$f":"IFERROR(VLOOKUP($A85,'Total Rankings (excl QB)'!$D:$L,7,0),\"\")","v":""},{"$f":"IFERROR(VLOOKUP($A85,'Total Rankings (excl QB)'!$D:$L,8,0),\"\")","v":""},null,{"$f":"IFERROR(INDEX('Positional Ranks'!M$4:M$195,_xlfn.AGGREGATE(15,6,ROW('Positional Ranks'!M$4:M$195)-ROW('Positional Ranks'!M$4)+1/('Positional Ranks'!M$4:Q$195=\"Consistent RB2\"),ROWS('Tiered Rankings'!K$36:K85))),\"\")","v":""},{"$f":"IFERROR(VLOOKUP($K85,'Total Rankings (excl QB)'!$D:$E,2,0),0)","v":0},0,null,{"$f":"IFERROR(VLOOKUP($K85,'Total Rankings (excl QB)'!$D:$L,4,0),\"\")","v":""},{"$f":"IFERROR(VLOOKUP($K85,'Total Rankings (excl QB)'!$D:$L,5,0),\"\")","v":""},{"$f":"IFERROR(VLOOKUP($K85,'Total Rankings (excl QB)'!$D:$L,6,0),\"\")","v":""},{"$f":"IFERROR(VLOOKUP($K85,'Total Rankings (excl QB)'!$D:$L,7,0),\"\")","v":""},{"$f":"IFERROR(VLOOKUP($K85,'Total Rankings (excl QB)'!$D:$L,8,0),\"\")","v":""}]
[{"$f":"IFERROR(INDEX('Positional Ranks'!B$4:B$195,_xlfn.AGGREGATE(15,6,ROW('Positional Ranks'!B$4:B$195)-ROW('Positional Ranks'!B$4)+1/('Positional Ranks'!B$4:F$195=\"Consistent WR2\"),ROWS('Tiered Rankings'!A$36:A86))),\"\")","v":""},{"$f":"IFERROR(VLOOKUP($A86,'Total Rankings (excl QB)'!$D:$E,2,0),0)","v":0},0,null,{"$f":"IFERROR(VLOOKUP($A86,'Total Rankings (excl QB)'!$D:$L,4,0),\"\")","v":""},{"$f":"IFERROR(VLOOKUP($A86,'Total Rankings (excl QB)'!$D:$L,5,0),\"\")","v":""},{"$f":"IFERROR(VLOOKUP($A86,'Total Rankings (excl QB)'!$D:$L,6,0),\"\")","v":""},{"$f":"IFERROR(VLOOKUP($A86,'Total Rankings (excl QB)'!$D:$L,7,0),\"\")","v":""},{"$f":"IFERROR(VLOOKUP($A86,'Total Rankings (excl QB)'!$D:$L,8,0),\"\")","v":""},null,{"$f":"IFERROR(INDEX('Positional Ranks'!M$4:M$195,_xlfn.AGGREGATE(15,6,ROW('Positional Ranks'!M$4:M$195)-ROW('Positional Ranks'!M$4)+1/('Positional Ranks'!M$4:Q$195=\"Consistent RB2\"),ROWS('Tiered Rankings'!K$36:K86))),\"\")","v":""},{"$f":"IFERROR(VLOOKUP($K86,'Total Rankings (excl QB)'!$D:$E,2,0),0)","v":0},0,null,{"$f":"IFERROR(VLOOKUP($K86,'Total Rankings (excl QB)'!$D:$L,4,0),\"\")","v":""},{"$f":"IFERROR(VLOOKUP($K86,'Total Rankings (excl QB)'!$D:$L,5,0),\"\")","v":""},{"$f":"IFERROR(VLOOKUP($K86,'Total Rankings (excl QB)'!$D:$L,6,0),\"\")","v":""},{"$f":"IFERROR(VLOOKUP($K86,'Total Rankings (excl QB)'!$D:$L,7,0),\"\")","v":""},{"$f":"IFERROR(VLOOKUP($K86,'Total Rankings (excl QB)'!$D:$L,8,0),\"\")","v":""}]
[{"$f":"IFERROR(INDEX('Positional Ranks'!B$4:B$195,_xlfn.AGGREGATE(15,6,ROW('Positional Ranks'!B$4:B$195)-ROW('Positional Ranks'!B$4)+1/('Positional Ranks'!B$4:F$195=\"Consistent WR2\"),ROWS('Tiered Rankings'!A$36:A87))),\"\")","v":""},{"$f":"IFERROR(VLOOKUP($A87,'Total Rankings (excl QB)'!$D:$E,2,0),0)","v":0},0,null,{"$f":"IFERROR(VLOOKUP($A87,'Total Rankings (excl QB)'!$D:$L,4,0),\"\")","v":""},{"$f":"IFERROR(VLOOKUP($A87,'Total Rankings (excl QB)'!$D:$L,5,0),\"\")","v":""},{"$f":"IFERROR(VLOOKUP($A87,'Total Rankings (excl QB)'!$D:$L,6,0),\"\")","v":""},{"$f":"IFERROR(VLOOKUP($A87,'Total Rankings (excl QB)'!$D:$L,7,0),\"\")","v":""},{"$f":"IFERROR(VLOOKUP($A87,'Total Rankings (excl QB)'!$D:$L,8,0),\"\")","v":""},null,{"$f":"IFERROR(INDEX('Positional Ranks'!M$4:M$195,_xlfn.AGGREGATE(15,6,ROW('Positional Ranks'!M$4:M$195)-ROW('Positional Ranks'!M$4)+1/('Positional Ranks'!M$4:Q$195=\"Consistent RB2\"),ROWS('Tiered Rankings'!K$36:K87))),\"\")","v":""},{"$f":"IFERROR(VLOOKUP($K87,'Total Rankings (excl QB)'!$D:$E,2,0),0)","v":0},0,null,{"$f":"IFERROR(VLOOKUP($K87,'Total Rankings (excl QB)'!$D:$L,4,0),\"\")","v":""},{"$f":"IFERROR(VLOOKUP($K87,'Total Rankings (excl QB)'!$D:$L,5,0),\"\")","v":""},{"$f":"IFERROR(VLOOKUP($K87,'Total Rankings (excl QB)'!$D:$L,6,0),\"\")","v":""},{"$f":"IFERROR(VLOOKUP($K87,'Total Rankings (excl QB)'!$D:$L,7,0),\"\")","v":""},{"$f":"IFERROR(VLOOKUP($K87,'Total Rankings (excl QB)'!$D:$L,8,0),\"\")","v":""}]
[{"$f":"IFERROR(INDEX('Positional Ranks'!B$4:B$195,_xlfn.AGGREGATE(15,6,ROW('Positional Ranks'!B$4:B$195)-ROW('Positional Ranks'!B$4)+1/('Positional Ranks'!B$4:F$195=\"Consistent WR2\"),ROWS('Tiered Rankings'!A$36:A88))),\"\")","v":""},{"$f":"IFERROR(VLOOKUP($A88,'Total Rankings (excl QB)'!$D:$E,2,0),0)","v":0},0,null,{"$f":"IFERROR(VLOOKUP($A88,'Total Rankings (excl QB)'!$D:$L,4,0),\"\")","v":""},{"$f":"IFERROR(VLOOKUP($A88,'Total Rankings (excl QB)'!$D:$L,5,0),\"\")","v":""},{"$f":"IFERROR(VLOOKUP($A88,'Total Rankings (excl QB)'!$D:$L,6,0),\"\")","v":""},{"$f":"IFERROR(VLOOKUP($A88,'Total Rankings (excl QB)'!$D:$L,7,0),\"\")","v":""},{"$f":"IFERROR(VLOOKUP($A88,'Total Rankings (excl QB)'!$D:$L,8,0),\"\")","v":""},null,{"$f":"IFERROR(INDEX('Positional Ranks'!M$4:M$195,_xlfn.AGGREGATE(15,6,ROW('Positional Ranks'!M$4:M$195)-ROW('Positional Ranks'!M$4)+1/('Positional Ranks'!M$4:Q$195=\"Consistent RB2\"),ROWS('Tiered Rankings'!K$36:K88))),\"\")","v":""},{"$f":"IFERROR(VLOOKUP($K88,'Total Rankings (excl QB)'!$D:$E,2,0),0)","v":0},0,null,{"$f":"IFERROR(VLOOKUP($K88,'Total Rankings (excl QB)'!$D:$L,4,0),\"\")","v":""},{"$f":"IFERROR(VLOOKUP($K88,'Total Rankings (excl QB)'!$D:$L,5,0),\"\")","v":""},{"$f":"IFERROR(VLOOKUP($K88,'Total Rankings (excl QB)'!$D:$L,6,0),\"\")","v":""},{"$f":"IFERROR(VLOOKUP($K88,'Total Rankings (excl QB)'!$D:$L,7,0),\"\")","v":""},{"$f":"IFERROR(VLOOKUP($K88,'Total Rankings (excl QB)'!$D:$L,8,0),\"\")","v":""}]
[{"$f":"IFERROR(INDEX('Positional Ranks'!B$4:B$195,_xlfn.AGGREGATE(15,6,ROW('Positional Ranks'!B$4:B$195)-ROW('Positional Ranks'!B$4)+1/('Positional Ranks'!B$4:F$195=\"Consistent WR2\"),ROWS('Tiered Rankings'!A$36:A89))),\"\")","v":""},{"$f":"IFERROR(VLOOKUP($A89,'Total Rankings (excl QB)'!$D:$E,2,0),0)","v":0},0,null,{"$f":"IFERROR(VLOOKUP($A89,'Total Rankings (excl QB)'!$D:$L,4,0),\"\")","v":""},{"$f":"IFERROR(VLOOKUP($A89,'Total Rankings (excl QB)'!$D:$L,5,0),\"\")","v":""},{"$f":"IFERROR(VLOOKUP($A89,'Total Rankings (excl QB)'!$D:$L,6,0),\"\")","v":""},{"$f":"IFERROR(VLOOKUP($A89,'Total Rankings (excl QB)'!$D:$L,7,0),\"\")","v":""},{"$f":"IFERROR(VLOOKUP($A89,'Total Rankings (excl QB)'!$D:$L,8,0),\"\")","v":""},null,{"$f":"IFERROR(INDEX('Positional Ranks'!M$4:M$195,_xlfn.AGGREGATE(15,6,ROW('Positional Ranks'!M$4:M$195)-ROW('Positional Ranks'!M$4)+1/('Positional Ranks'!M$4:Q$195=\"Consistent RB2\"),ROWS('Tiered Rankings'!K$36:K89))),\"\")","v":""},{"$f":"IFERROR(VLOOKUP($K89,'Total Rankings (excl QB)'!$D:$E,2,0),0)","v":0},0,null,{"$f":"IFERROR(VLOOKUP($K89,'Total Rankings (excl QB)'!$D:$L,4,0),\"\")","v":""},{"$f":"IFERROR(VLOOKUP($K89,'Total Rankings (excl QB)'!$D:$L,5,0),\"\")","v":""},{"$f":"IFERROR(VLOOKUP($K89,'Total Rankings (excl QB)'!$D:$L,6,0),\"\")","v":""},{"$f":"IFERROR(VLOOKUP($K89,'Total Rankings (excl QB)'!$D:$L,7,0),\"\")","v":""},{"$f":"IFERROR(VLOOKUP($K89,'Total Rankings (excl QB)'!$D:$L,8,0),\"\")","v":""}]
[{"$f":"IFERROR(INDEX('Positional Ranks'!B$4:B$195,_xlfn.AGGREGATE(15,6,ROW('Positional Ranks'!B$4:B$195)-ROW('Positional Ranks'!B$4)+1/('Positional Ranks'!B$4:F$195=\"Consistent WR2\"),ROWS('Tiered Rankings'!A$36:A90))),\"\")","v":""},{"$f":"IFERROR(VLOOKUP($A90,'Total Rankings (excl QB)'!$D:$E,2,0),0)","v":0},0,null,{"$f":"IFERROR(VLOOKUP($A90,'Total Rankings (excl QB)'!$D:$L,4,0),\"\")","v":""},{"$f":"IFERROR(VLOOKUP($A90,'Total Rankings (excl QB)'!$D:$L,5,0),\"\")","v":""},{"$f":"IFERROR(VLOOKUP($A90,'Total Rankings (excl QB)'!$D:$L,6,0),\"\")","v":""},{"$f":"IFERROR(VLOOKUP($A90,'Total Rankings (excl QB)'!$D:$L,7,0),\"\")","v":""},{"$f":"IFERROR(VLOOKUP($A90,'Total Rankings (excl QB)'!$D:$L,8,0),\"\")","v":""},null,{"$f":"IFERROR(INDEX('Positional Ranks'!M$4:M$195,_xlfn.AGGREGATE(15,6,ROW('Positional Ranks'!M$4:M$195)-ROW('Positional Ranks'!M$4)+1/('Positional Ranks'!M$4:Q$195=\"Consistent RB2\"),ROWS('Tiered Rankings'!K$36:K90))),\"\")","v":""},{"$f":"IFERROR(VLOOKUP($K90,'Total Rankings (excl QB)'!$D:$E,2,0),0)","v":0},0,null,{"$f":"IFERROR(VLOOKUP($K90,'Total Rankings (excl QB)'!$D:$L,4,0),\"\")","v":""},{"$f":"IFERROR(VLOOKUP($K90,'Total Rankings (excl QB)'!$D:$L,5,0),\"\")","v":""},{"$f":"IFERROR(VLOOKUP($K90,'Total Rankings (excl QB)'!$D:$L,6,0),\"\")","v":""},{"$f":"IFERROR(VLOOKUP($K90,'Total Rankings (excl QB)'!$D:$L,7,0),\"\")","v":""},{"$f":"IFERROR(VLOOKUP($K90,'Total Rankings (excl QB)'!$D:$L,8,0),\"\")","v":""}]
[{"$f":"IFERROR(INDEX('Positional Ranks'!B$4:B$195,_xlfn.AGGREGATE(15,6,ROW('Positional Ranks'!B$4:B$195)-ROW('Positional Ranks'!B$4)+1/('Positional Ranks'!B$4:F$195=\"Consistent WR2\"),ROWS('Tiered Rankings'!A$36:A91))),\"\")","v":""},{"$f":"IFERROR(VLOOKUP($A91,'Total Rankings (excl QB)'!$D:$E,2,0),0)","v":0},0,null,{"$f":"IFERROR(VLOOKUP($A91,'Total Rankings (excl QB)'!$D:$L,4,0),\"\")","v":""},{"$f":"IFERROR(VLOOKUP($A91,'Total Rankings (excl QB)'!$D:$L,5,0),\"\")","v":""},{"$f":"IFERROR(VLOOKUP($A91,'Total Rankings (excl QB)'!$D:$L,6,0),\"\")","v":""},{"$f":"IFERROR(VLOOKUP($A91,'Total Rankings (excl QB)'!$D:$L,7,0),\"\")","v":""},{"$f":"IFERROR(VLOOKUP($A91,'Total Rankings (excl QB)'!$D:$L,8,0),\"\")","v":""},null,{"$f":"IFERROR(INDEX('Positional Ranks'!M$4:M$195,_xlfn.AGGREGATE(15,6,ROW('Positional Ranks'!M$4:M$195)-ROW('Positional Ranks'!M$4)+1/('Positional Ranks'!M$4:Q$195=\"Consistent RB2\"),ROWS('Tiered Rankings'!K$36:K91))),\"\")","v":""},{"$f":"IFERROR(VLOOKUP($K91,'Total Rankings (excl QB)'!$D:$E,2,0),0)","v":0},0,null,{"$f":"IFERROR(VLOOKUP($K91,'Total Rankings (excl QB)'!$D:$L,4,0),\"\")","v":""},{"$f":"IFERROR(VLOOKUP($K91,'Total Rankings (excl QB)'!$D:$L,5,0),\"\")","v":""},{"$f":"IFERROR(VLOOKUP($K91,'Total Rankings (excl QB)'!$D:$L,6,0),\"\")","v":""},{"$f":"IFERROR(VLOOKUP($K91,'Total Rankings (excl QB)'!$D:$L,7,0),\"\")","v":""},{"$f":"IFERROR(VLOOKUP($K91,'Total Rankings (excl QB)'!$D:$L,8,0),\"\")","v":""}]
[{"$f":"IFERROR(INDEX('Positional Ranks'!B$4:B$195,_xlfn.AGGREGATE(15,6,ROW('Positional Ranks'!B$4:B$195)-ROW('Positional Ranks'!B$4)+1/('Positional Ranks'!B$4:F$195=\"Consistent WR2\"),ROWS('Tiered Rankings'!A$36:A92))),\"\")","v":""},{"$f":"IFERROR(VLOOKUP($A92,'Total Rankings (excl QB)'!$D:$E,2,0),0)","v":0},0,null,{"$f":"IFERROR(VLOOKUP($A92,'Total Rankings (excl QB)'!$D:$L,4,0),\"\")","v":""},{"$f":"IFERROR(VLOOKUP($A92,'Total Rankings (excl QB)'!$D:$L,5,0),\"\")","v":""},{"$f":"IFERROR(VLOOKUP($A92,'Total Rankings (excl QB)'!$D:$L,6,0),\"\")","v":""},{"$f":"IFERROR(VLOOKUP($A92,'Total Rankings (excl QB)'!$D:$L,7,0),\"\")","v":""},{"$f":"IFERROR(VLOOKUP($A92,'Total Rankings (excl QB)'!$D:$L,8,0),\"\")","v":""},null,{"$f":"IFERROR(INDEX('Positional Ranks'!M$4:M$195,_xlfn.AGGREGATE(15,6,ROW('Positional Ranks'!M$4:M$195)-ROW('Positional Ranks'!M$4)+1/('Positional Ranks'!M$4:Q$195=\"Consistent RB2\"),ROWS('Tiered Rankings'!K$36:K92))),\"\")","v":""},{"$f":"IFERROR(VLOOKUP($K92,'Total Rankings (excl QB)'!$D:$E,2,0),0)","v":0},0,null,{"$f":"IFERROR(VLOOKUP($K92,'Total Rankings (excl QB)'!$D:$L,4,0),\"\")","v":""},{"$f":"IFERROR(VLOOKUP($K92,'Total Rankings (excl QB)'!$D:$L,5,0),\"\")","v":""},{"$f":"IFERROR(VLOOKUP($K92,'Total Rankings (excl QB)'!$D:$L,6,0),\"\")","v":""},{"$f":"IFERROR(VLOOKUP($K92,'Total Rankings (excl QB)'!$D:$L,7,0),\"\")","v":""},{"$f":"IFERROR(VLOOKUP($K92,'Total Rankings (excl QB)'!$D:$L,8,0),\"\")","v":""}]
[{"$f":"IFERROR(INDEX('Positional Ranks'!B$4:B$195,_xlfn.AGGREGATE(15,6,ROW('Positional Ranks'!B$4:B$195)-ROW('Positional Ranks'!B$4)+1/('Positional Ranks'!B$4:F$195=\"Consistent WR2\"),ROWS('Tiered Rankings'!A$36:A93))),\"\")","v":""},{"$f":"IFERROR(VLOOKUP($A93,'Total Rankings (excl QB)'!$D:$E,2,0),0)","v":0},0,null,{"$f":"IFERROR(VLOOKUP($A93,'Total Rankings (excl QB)'!$D:$L,4,0),\"\")","v":""},{"$f":"IFERROR(VLOOKUP($A93,'Total Rankings (excl QB)'!$D:$L,5,0),\"\")","v":""},{"$f":"IFERROR(VLOOKUP($A93,'Total Rankings (excl QB)'!$D:$L,6,0),\"\")","v":""},{"$f":"IFERROR(VLOOKUP($A93,'Total Rankings (excl QB)'!$D:$L,7,0),\"\")","v":""},{"$f":"IFERROR(VLOOKUP($A93,'Total Rankings (excl QB)'!$D:$L,8,0),\"\")","v":""},null,{"$f":"IFERROR(INDEX('Positional Ranks'!M$4:M$195,_xlfn.AGGREGATE(15,6,ROW('Positional Ranks'!M$4:M$195)-ROW('Positional Ranks'!M$4)+1/('Positional Ranks'!M$4:Q$195=\"Consistent RB2\"),ROWS('Tiered Rankings'!K$36:K93))),\"\")","v":""},{"$f":"IFERROR(VLOOKUP($K93,'Total Rankings (excl QB)'!$D:$E,2,0),0)","v":0},0,null,{"$f":"IFERROR(VLOOKUP($K93,'Total Rankings (excl QB)'!$D:$L,4,0),\"\")","v":""},{"$f":"IFERROR(VLOOKUP($K93,'Total Rankings (excl QB)'!$D:$L,5,0),\"\")","v":""},{"$f":"IFERROR(VLOOKUP($K93,'Total Rankings (excl QB)'!$D:$L,6,0),\"\")","v":""},{"$f":"IFERROR(VLOOKUP($K93,'Total Rankings (excl QB)'!$D:$L,7,0),\"\")","v":""},{"$f":"IFERROR(VLOOKUP($K93,'Total Rankings (excl QB)'!$D:$L,8,0),\"\")","v":""}]
[{"$f":"IFERROR(INDEX('Positional Ranks'!B$4:B$195,_xlfn.AGGREGATE(15,6,ROW('Positional Ranks'!B$4:B$195)-ROW('Positional Ranks'!B$4)+1/('Positional Ranks'!B$4:F$195=\"Consistent WR2\"),ROWS('Tiered Rankings'!A$36:A94))),\"\")","v":""},{"$f":"IFERROR(VLOOKUP($A94,'Total Rankings (excl QB)'!$D:$E,2,0),0)","v":0},0,null,{"$f":"IFERROR(VLOOKUP($A94,'Total Rankings (excl QB)'!$D:$L,4,0),\"\")","v":""},{"$f":"IFERROR(VLOOKUP($A94,'Total Rankings (excl QB)'!$D:$L,5,0),\"\")","v":""},{"$f":"IFERROR(VLOOKUP($A94,'Total Rankings (excl QB)'!$D:$L,6,0),\"\")","v":""},{"$f":"IFERROR(VLOOKUP($A94,'Total Rankings (excl QB)'!$D:$L,7,0),\"\")","v":""},{"$f":"IFERROR(VLOOKUP($A94,'Total Rankings (excl QB)'!$D:$L,8,0),\"\")","v":""},null,{"$f":"IFERROR(INDEX('Positional Ranks'!M$4:M$195,_xlfn.AGGREGATE(15,6,ROW('Positional Ranks'!M$4:M$195)-ROW('Positional Ranks'!M$4)+1/('Positional Ranks'!M$4:Q$195=\"Consistent RB2\"),ROWS('Tiered Rankings'!K$36:K94))),\"\")","v":""},{"$f":"IFERROR(VLOOKUP($K94,'Total Rankings (excl QB)'!$D:$E,2,0),0)","v":0},0,null,{"$f":"IFERROR(VLOOKUP($K94,'Total Rankings (excl QB)'!$D:$L,4,0),\"\")","v":""},{"$f":"IFERROR(VLOOKUP($K94,'Total Rankings (excl QB)'!$D:$L,5,0),\"\")","v":""},{"$f":"IFERROR(VLOOKUP($K94,'Total Rankings (excl QB)'!$D:$L,6,0),\"\")","v":""},{"$f":"IFERROR(VLOOKUP($K94,'Total Rankings (excl QB)'!$D:$L,7,0),\"\")","v":""},{"$f":"IFERROR(VLOOKUP($K94,'Total Rankings (excl QB)'!$D:$L,8,0),\"\")","v":""}]
[{"$f":"IFERROR(INDEX('Positional Ranks'!B$4:B$195,_xlfn.AGGREGATE(15,6,ROW('Positional Ranks'!B$4:B$195)-ROW('Positional Ranks'!B$4)+1/('Positional Ranks'!B$4:F$195=\"Consistent WR2\"),ROWS('Tiered Rankings'!A$36:A95))),\"\")","v":""},{"$f":"IFERROR(VLOOKUP($A95,'Total Rankings (excl QB)'!$D:$E,2,0),0)","v":0},0,null,{"$f":"IFERROR(VLOOKUP($A95,'Total Rankings (excl QB)'!$D:$L,4,0),\"\")","v":""},{"$f":"IFERROR(VLOOKUP($A95,'Total Rankings (excl QB)'!$D:$L,5,0),\"\")","v":""},{"$f":"IFERROR(VLOOKUP($A95,'Total Rankings (excl QB)'!$D:$L,6,0),\"\")","v":""},{"$f":"IFERROR(VLOOKUP($A95,'Total Rankings (excl QB)'!$D:$L,7,0),\"\")","v":""},{"$f":"IFERROR(VLOOKUP($A95,'Total Rankings (excl QB)'!$D:$L,8,0),\"\")","v":""},null,{"$f":"IFERROR(INDEX('Positional Ranks'!M$4:M$195,_xlfn.AGGREGATE(15,6,ROW('Positional Ranks'!M$4:M$195)-ROW('Positional Ranks'!M$4)+1/('Positional Ranks'!M$4:Q$195=\"Consistent RB2\"),ROWS('Tiered Rankings'!K$36:K95))),\"\")","v":""},{"$f":"IFERROR(VLOOKUP($K95,'Total Rankings (excl QB)'!$D:$E,2,0),0)","v":0},0,null,{"$f":"IFERROR(VLOOKUP($K95,'Total Rankings (excl QB)'!$D:$L,4,0),\"\")","v":""},{"$f":"IFERROR(VLOOKUP($K95,'Total Rankings (excl QB)'!$D:$L,5,0),\"\")","v":""},{"$f":"IFERROR(VLOOKUP($K95,'Total Rankings (excl QB)'!$D:$L,6,0),\"\")","v":""},{"$f":"IFERROR(VLOOKUP($K95,'Total Rankings (excl QB)'!$D:$L,7,0),\"\")","v":""},{"$f":"IFERROR(VLOOKUP($K95,'Total Rankings (excl QB)'!$D:$L,8,0),\"\")","v":""}]
[{"$f":"IFERROR(INDEX('Positional Ranks'!B$4:B$195,_xlfn.AGGREGATE(15,6,ROW('Positional Ranks'!B$4:B$195)-ROW('Positional Ranks'!B$4)+1/('Positional Ranks'!B$4:F$195=\"Consistent WR2\"),ROWS('Tiered Rankings'!A$36:A96))),\"\")","v":""},{"$f":"IFERROR(VLOOKUP($A96,'Total Rankings (excl QB)'!$D:$E,2,0),0)","v":0},0,null,{"$f":"IFERROR(VLOOKUP($A96,'Total Rankings (excl QB)'!$D:$L,4,0),\"\")","v":""},{"$f":"IFERROR(VLOOKUP($A96,'Total Rankings (excl QB)'!$D:$L,5,0),\"\")","v":""},{"$f":"IFERROR(VLOOKUP($A96,'Total Rankings (excl QB)'!$D:$L,6,0),\"\")","v":""},{"$f":"IFERROR(VLOOKUP($A96,'Total Rankings (excl QB)'!$D:$L,7,0),\"\")","v":""},{"$f":"IFERROR(VLOOKUP($A96,'Total Rankings (excl QB)'!$D:$L,8,0),\"\")","v":""},null,{"$f":"IFERROR(INDEX('Positional Ranks'!M$4:M$195,_xlfn.AGGREGATE(15,6,ROW('Positional Ranks'!M$4:M$195)-ROW('Positional Ranks'!M$4)+1/('Positional Ranks'!M$4:Q$195=\"Consistent RB2\"),ROWS('Tiered Rankings'!K$36:K96))),\"\")","v":""},{"$f":"IFERROR(VLOOKUP($K96,'Total Rankings (excl QB)'!$D:$E,2,0),0)","v":0},0,null,{"$f":"IFERROR(VLOOKUP($K96,'Total Rankings (excl QB)'!$D:$L,4,0),\"\")","v":""},{"$f":"IFERROR(VLOOKUP($K96,'Total Rankings (excl QB)'!$D:$L,5,0),\"\")","v":""},{"$f":"IFERROR(VLOOKUP($K96,'Total Rankings (excl QB)'!$D:$L,6,0),\"\")","v":""},{"$f":"IFERROR(VLOOKUP($K96,'Total Rankings (excl QB)'!$D:$L,7,0),\"\")","v":""},{"$f":"IFERROR(VLOOKUP($K96,'Total Rankings (excl QB)'!$D:$L,8,0),\"\")","v":""}]
[{"$f":"IFERROR(INDEX('Positional Ranks'!B$4:B$195,_xlfn.AGGREGATE(15,6,ROW('Positional Ranks'!B$4:B$195)-ROW('Positional Ranks'!B$4)+1/('Positional Ranks'!B$4:F$195=\"Consistent WR2\"),ROWS('Tiered Rankings'!A$36:A97))),\"\")","v":""},{"$f":"IFERROR(VLOOKUP($A97,'Total Rankings (excl QB)'!$D:$E,2,0),0)","v":0},0,null,{"$f":"IFERROR(VLOOKUP($A97,'Total Rankings (excl QB)'!$D:$L,4,0),\"\")","v":""},{"$f":"IFERROR(VLOOKUP($A97,'Total Rankings (excl QB)'!$D:$L,5,0),\"\")","v":""},{"$f":"IFERROR(VLOOKUP($A97,'Total Rankings (excl QB)'!$D:$L,6,0),\"\")","v":""},{"$f":"IFERROR(VLOOKUP($A97,'Total Rankings (excl QB)'!$D:$L,7,0),\"\")","v":""},{"$f":"IFERROR(VLOOKUP($A97,'Total Rankings (excl QB)'!$D:$L,8,0),\"\")","v":""},null,{"$f":"IFERROR(INDEX('Positional Ranks'!M$4:M$195,_xlfn.AGGREGATE(15,6,ROW('Positional Ranks'!M$4:M$195)-ROW('Positional Ranks'!M$4)+1/('Positional Ranks'!M$4:Q$195=\"Consistent RB2\"),ROWS('Tiered Rankings'!K$36:K97))),\"\")","v":""},{"$f":"IFERROR(VLOOKUP($K97,'Total Rankings (excl QB)'!$D:$E,2,0),0)","v":0},0,null,{"$f":"IFERROR(VLOOKUP($K97,'Total Rankings (excl QB)'!$D:$L,4,0),\"\")","v":""},{"$f":"IFERROR(VLOOKUP($K97,'Total Rankings (excl QB)'!$D:$L,5,0),\"\")","v":""},{"$f":"IFERROR(VLOOKUP($K97,'Total Rankings (excl QB)'!$D:$L,6,0),\"\")","v":""},{"$f":"IFERROR(VLOOKUP($K97,'Total Rankings (excl QB)'!$D:$L,7,0),\"\")","v":""},{"$f":"IFERROR(VLOOKUP($K97,'Total Rankings (excl QB)'!$D:$L,8,0),\"\")","v":""}]
[{"$f":"IFERROR(INDEX('Positional Ranks'!B$4:B$195,_xlfn.AGGREGATE(15,6,ROW('Positional Ranks'!B$4:B$195)-ROW('Positional Ranks'!B$4)+1/('Positional Ranks'!B$4:F$195=\"Consistent WR2\"),ROWS('Tiered Rankings'!A$36:A98))),\"\")","v":""},{"$f":"IFERROR(VLOOKUP($A98,'Total Rankings (excl QB)'!$D:$E,2,0),0)","v":0},0,null,{"$f":"IFERROR(VLOOKUP($A98,'Total Rankings (excl QB)'!$D:$L,4,0),\"\")","v":""},{"$f":"IFERROR(VLOOKUP($A98,'Total Rankings (excl QB)'!$D:$L,5,0),\"\")","v":""},{"$f":"IFERROR(VLOOKUP($A98,'Total Rankings (excl QB)'!$D:$L,6,0),\"\")","v":""},{"$f":"IFERROR(VLOOKUP($A98,'Total Rankings (excl QB)'!$D:$L,7,0),\"\")","v":""},{"$f":"IFERROR(VLOOKUP($A98,'Total Rankings (excl QB)'!$D:$L,8,0),\"\")","v":""},null,{"$f":"IFERROR(INDEX('Positional Ranks'!M$4:M$195,_xlfn.AGGREGATE(15,6,ROW('Positional Ranks'!M$4:M$195)-ROW('Positional Ranks'!M$4)+1/('Positional Ranks'!M$4:Q$195=\"Consistent RB2\"),ROWS('Tiered Rankings'!K$36:K98))),\"\")","v":""},{"$f":"IFERROR(VLOOKUP($K98,'Total Rankings (excl QB)'!$D:$E,2,0),0)","v":0},0,null,{"$f":"IFERROR(VLOOKUP($K98,'Total Rankings (excl QB)'!$D:$L,4,0),\"\")","v":""},{"$f":"IFERROR(VLOOKUP($K98,'Total Rankings (excl QB)'!$D:$L,5,0),\"\")","v":""},{"$f":"IFERROR(VLOOKUP($K98,'Total Rankings (excl QB)'!$D:$L,6,0),\"\")","v":""},{"$f":"IFERROR(VLOOKUP($K98,'Total Rankings (excl QB)'!$D:$L,7,0),\"\")","v":""},{"$f":"IFERROR(VLOOKUP($K98,'Total Rankings (excl QB)'!$D:$L,8,0),\"\")","v":""}]
[{"$f":"IFERROR(INDEX('Positional Ranks'!B$4:B$195,_xlfn.AGGREGATE(15,6,ROW('Positional Ranks'!B$4:B$195)-ROW('Positional Ranks'!B$4)+1/('Positional Ranks'!B$4:F$195=\"Consistent WR2\"),ROWS('Tiered Rankings'!A$36:A99))),\"\")","v":""},{"$f":"IFERROR(VLOOKUP($A99,'Total Rankings (excl QB)'!$D:$E,2,0),0)","v":0},0,null,{"$f":"IFERROR(VLOOKUP($A99,'Total Rankings (excl QB)'!$D:$L,4,0),\"\")","v":""},{"$f":"IFERROR(VLOOKUP($A99,'Total Rankings (excl QB)'!$D:$L,5,0),\"\")","v":""},{"$f":"IFERROR(VLOOKUP($A99,'Total Rankings (excl QB)'!$D:$L,6,0),\"\")","v":""},{"$f":"IFERROR(VLOOKUP($A99,'Total Rankings (excl QB)'!$D:$L,7,0),\"\")","v":""},{"$f":"IFERROR(VLOOKUP($A99,'Total Rankings (excl QB)'!$D:$L,8,0),\"\")","v":""},null,{"$f":"IFERROR(INDEX('Positional Ranks'!M$4:M$195,_xlfn.AGGREGATE(15,6,ROW('Positional Ranks'!M$4:M$195)-ROW('Positional Ranks'!M$4)+1/('Positional Ranks'!M$4:Q$195=\"Consistent RB2\"),ROWS('Tiered Rankings'!K$36:K99))),\"\")","v":""},{"$f":"IFERROR(VLOOKUP($K99,'Total Rankings (excl QB)'!$D:$E,2,0),0)","v":0},0,null,{"$f":"IFERROR(VLOOKUP($K99,'Total Rankings (excl QB)'!$D:$L,4,0),\"\")","v":""},{"$f":"IFERROR(VLOOKUP($K99,'Total Rankings (excl QB)'!$D:$L,5,0),\"\")","v":""},{"$f":"IFERROR(VLOOKUP($K99,'Total Rankings (excl QB)'!$D:$L,6,0),\"\")","v":""},{"$f":"IFERROR(VLOOKUP($K99,'Total Rankings (excl QB)'!$D:$L,7,0),\"\")","v":""},{"$f":"IFERROR(VLOOKUP($K99,'Total Rankings (excl QB)'!$D:$L,8,0),\"\")","v":""}]
[{"$f":"IFERROR(INDEX('Positional Ranks'!B$4:B$195,_xlfn.AGGREGATE(15,6,ROW('Positional Ranks'!B$4:B$195)-ROW('Positional Ranks'!B$4)+1/('Positional Ranks'!B$4:F$195=\"Consistent WR2\"),ROWS('Tiered Rankings'!A$36:A100))),\"\")","v":""},{"$f":"IFERROR(VLOOKUP($A100,'Total Rankings (excl QB)'!$D:$E,2,0),0)","v":0},0,null,{"$f":"IFERROR(VLOOKUP($A100,'Total Rankings (excl QB)'!$D:$L,4,0),\"\")","v":""},{"$f":"IFERROR(VLOOKUP($A100,'Total Rankings (excl QB)'!$D:$L,5,0),\"\")","v":""},{"$f":"IFERROR(VLOOKUP($A100,'Total Rankings (excl QB)'!$D:$L,6,0),\"\")","v":""},{"$f":"IFERROR(VLOOKUP($A100,'Total Rankings (excl QB)'!$D:$L,7,0),\"\")","v":""},{"$f":"IFERROR(VLOOKUP($A100,'Total Rankings (excl QB)'!$D:$L,8,0),\"\")","v":""},null,{"$f":"IFERROR(INDEX('Positional Ranks'!M$4:M$195,_xlfn.AGGREGATE(15,6,ROW('Positional Ranks'!M$4:M$195)-ROW('Positional Ranks'!M$4)+1/('Positional Ranks'!M$4:Q$195=\"Consistent RB2\"),ROWS('Tiered Rankings'!K$36:K100))),\"\")","v":""},{"$f":"IFERROR(VLOOKUP($K100,'Total Rankings (excl QB)'!$D:$E,2,0),0)","v":0},0,null,{"$f":"IFERROR(VLOOKUP($K100,'Total Rankings (excl QB)'!$D:$L,4,0),\"\")","v":""},{"$f":"IFERROR(VLOOKUP($K100,'Total Rankings (excl QB)'!$D:$L,5,0),\"\")","v":""},{"$f":"IFERROR(VLOOKUP($K100,'Total Rankings (excl QB)'!$D:$L,6,0),\"\")","v":""},{"$f":"IFERROR(VLOOKUP($K100,'Total Rankings (excl QB)'!$D:$L,7,0),\"\")","v":""},{"$f":"IFERROR(VLOOKUP($K100,'Total Rankings (excl QB)'!$D:$L,8,0),\"\")","v":""}]
[{"$f":"IFERROR(INDEX('Positional Ranks'!B$4:B$195,_xlfn.AGGREGATE(15,6,ROW('Positional Ranks'!B$4:B$195)-ROW('Positional Ranks'!B$4)+1/('Positional Ranks'!B$4:F$195=\"Consistent WR2\"),ROWS('Tiered Rankings'!A$36:A101))),\"\")","v":""},{"$f":"IFERROR(VLOOKUP($A101,'Total Rankings (excl QB)'!$D:$E,2,0),0)","v":0},0,null,{"$f":"IFERROR(VLOOKUP($A101,'Total Rankings (excl QB)'!$D:$L,4,0),\"\")","v":""},{"$f":"IFERROR(VLOOKUP($A101,'Total Rankings (excl QB)'!$D:$L,5,0),\"\")","v":""},{"$f":"IFERROR(VLOOKUP($A101,'Total Rankings (excl QB)'!$D:$L,6,0),\"\")","v":""},{"$f":"IFERROR(VLOOKUP($A101,'Total Rankings (excl QB)'!$D:$L,7,0),\"\")","v":""},{"$f":"IFERROR(VLOOKUP($A101,'Total Rankings (excl QB)'!$D:$L,8,0),\"\")","v":""},null,{"$f":"IFERROR(INDEX('Positional Ranks'!M$4:M$195,_xlfn.AGGREGATE(15,6,ROW('Positional Ranks'!M$4:M$195)-ROW('Positional Ranks'!M$4)+1/('Positional Ranks'!M$4:Q$195=\"Consistent RB2\"),ROWS('Tiered Rankings'!K$36:K101))),\"\")","v":""},{"$f":"IFERROR(VLOOKUP($K101,'Total Rankings (excl QB)'!$D:$E,2,0),0)","v":0},0,null,{"$f":"IFERROR(VLOOKUP($K101,'Total Rankings (excl QB)'!$D:$L,4,0),\"\")","v":""},{"$f":"IFERROR(VLOOKUP($K101,'Total Rankings (excl QB)'!$D:$L,5,0),\"\")","v":""},{"$f":"IFERROR(VLOOKUP($K101,'Total Rankings (excl QB)'!$D:$L,6,0),\"\")","v":""},{"$f":"IFERROR(VLOOKUP($K101,'Total Rankings (excl QB)'!$D:$L,7,0),\"\")","v":""},{"$f":"IFERROR(VLOOKUP($K101,'Total Rankings (excl QB)'!$D:$L,8,0),\"\")","v":""}]
[{"$f":"IFERROR(INDEX('Positional Ranks'!B$4:B$195,_xlfn.AGGREGATE(15,6,ROW('Positional Ranks'!B$4:B$195)-ROW('Positional Ranks'!B$4)+1/('Positional Ranks'!B$4:F$195=\"Consistent WR2\"),ROWS('Tiered Rankings'!A$36:A102))),\"\")","v":""},{"$f":"IFERROR(VLOOKUP($A102,'Total Rankings (excl QB)'!$D:$E,2,0),0)","v":0},0,null,{"$f":"IFERROR(VLOOKUP($A102,'Total Rankings (excl QB)'!$D:$L,4,0),\"\")","v":""},{"$f":"IFERROR(VLOOKUP($A102,'Total Rankings (excl QB)'!$D:$L,5,0),\"\")","v":""},{"$f":"IFERROR(VLOOKUP($A102,'Total Rankings (excl QB)'!$D:$L,6,0),\"\")","v":""},{"$f":"IFERROR(VLOOKUP($A102,'Total Rankings (excl QB)'!$D:$L,7,0),\"\")","v":""},{"$f":"IFERROR(VLOOKUP($A102,'Total Rankings (excl QB)'!$D:$L,8,0),\"\")","v":""},null,{"$f":"IFERROR(INDEX('Positional Ranks'!M$4:M$195,_xlfn.AGGREGATE(15,6,ROW('Positional Ranks'!M$4:M$195)-ROW('Positional Ranks'!M$4)+1/('Positional Ranks'!M$4:Q$195=\"Consistent RB2\"),ROWS('Tiered Rankings'!K$36:K102))),\"\")","v":""},{"$f":"IFERROR(VLOOKUP($K102,'Total Rankings (excl QB)'!$D:$E,2,0),0)","v":0},0,null,{"$f":"IFERROR(VLOOKUP($K102,'Total Rankings (excl QB)'!$D:$L,4,0),\"\")","v":""},{"$f":"IFERROR(VLOOKUP($K102,'Total Rankings (excl QB)'!$D:$L,5,0),\"\")","v":""},{"$f":"IFERROR(VLOOKUP($K102,'Total Rankings (excl QB)'!$D:$L,6,0),\"\")","v":""},{"$f":"IFERROR(VLOOKUP($K102,'Total Rankings (excl QB)'!$D:$L,7,0),\"\")","v":""},{"$f":"IFERROR(VLOOKUP($K102,'Total Rankings (excl QB)'!$D:$L,8,0),\"\")","v":""}]
[{"$f":"IFERROR(INDEX('Positional Ranks'!B$4:B$195,_xlfn.AGGREGATE(15,6,ROW('Positional Ranks'!B$4:B$195)-ROW('Positional Ranks'!B$4)+1/('Positional Ranks'!B$4:F$195=\"Consistent WR2\"),ROWS('Tiered Rankings'!A$36:A103))),\"\")","v":""},{"$f":"IFERROR(VLOOKUP($A103,'Total Rankings (excl QB)'!$D:$E,2,0),0)","v":0},0,null,{"$f":"IFERROR(VLOOKUP($A103,'Total Rankings (excl QB)'!$D:$L,4,0),\"\")","v":""},{"$f":"IFERROR(VLOOKUP($A103,'Total Rankings (excl QB)'!$D:$L,5,0),\"\")","v":""},{"$f":"IFERROR(VLOOKUP($A103,'Total Rankings (excl QB)'!$D:$L,6,0),\"\")","v":""},{"$f":"IFERROR(VLOOKUP($A103,'Total Rankings (excl QB)'!$D:$L,7,0),\"\")","v":""},{"$f":"IFERROR(VLOOKUP($A103,'Total Rankings (excl QB)'!$D:$L,8,0),\"\")","v":""},null,{"$f":"IFERROR(INDEX('Positional Ranks'!M$4:M$195,_xlfn.AGGREGATE(15,6,ROW('Positional Ranks'!M$4:M$195)-ROW('Positional Ranks'!M$4)+1/('Positional Ranks'!M$4:Q$195=\"Consistent RB2\"),ROWS('Tiered Rankings'!K$36:K103))),\"\")","v":""},{"$f":"IFERROR(VLOOKUP($K103,'Total Rankings (excl QB)'!$D:$E,2,0),0)","v":0},0,null,{"$f":"IFERROR(VLOOKUP($K103,'Total Rankings (excl QB)'!$D:$L,4,0),\"\")","v":""},{"$f":"IFERROR(VLOOKUP($K103,'Total Rankings (excl QB)'!$D:$L,5,0),\"\")","v":""},{"$f":"IFERROR(VLOOKUP($K103,'Total Rankings (excl QB)'!$D:$L,6,0),\"\")","v":""},{"$f":"IFERROR(VLOOKUP($K103,'Total Rankings (excl QB)'!$D:$L,7,0),\"\")","v":""},{"$f":"IFERROR(VLOOKUP($K103,'Total Rankings (excl QB)'!$D:$L,8,0),\"\")","v":""}]
[{"$f":"IFERROR(INDEX('Positional Ranks'!B$4:B$195,_xlfn.AGGREGATE(15,6,ROW('Positional Ranks'!B$4:B$195)-ROW('Positional Ranks'!B$4)+1/('Positional Ranks'!B$4:F$195=\"Consistent WR2\"),ROWS('Tiered Rankings'!A$36:A104))),\"\")","v":""},{"$f":"IFERROR(VLOOKUP($A104,'Total Rankings (excl QB)'!$D:$E,2,0),0)","v":0},0,null,{"$f":"IFERROR(VLOOKUP($A104,'Total Rankings (excl QB)'!$D:$L,4,0),\"\")","v":""},{"$f":"IFERROR(VLOOKUP($A104,'Total Rankings (excl QB)'!$D:$L,5,0),\"\")","v":""},{"$f":"IFERROR(VLOOKUP($A104,'Total Rankings (excl QB)'!$D:$L,6,0),\"\")","v":""},{"$f":"IFERROR(VLOOKUP($A104,'Total Rankings (excl QB)'!$D:$L,7,0),\"\")","v":""},{"$f":"IFERROR(VLOOKUP($A104,'Total Rankings (excl QB)'!$D:$L,8,0),\"\")","v":""},null,{"$f":"IFERROR(INDEX('Positional Ranks'!M$4:M$195,_xlfn.AGGREGATE(15,6,ROW('Positional Ranks'!M$4:M$195)-ROW('Positional Ranks'!M$4)+1/('Positional Ranks'!M$4:Q$195=\"Consistent RB2\"),ROWS('Tiered Rankings'!K$36:K104))),\"\")","v":""},{"$f":"IFERROR(VLOOKUP($K104,'Total Rankings (excl QB)'!$D:$E,2,0),0)","v":0},0,null,{"$f":"IFERROR(VLOOKUP($K104,'Total Rankings (excl QB)'!$D:$L,4,0),\"\")","v":""},{"$f":"IFERROR(VLOOKUP($K104,'Total Rankings (excl QB)'!$D:$L,5,0),\"\")","v":""},{"$f":"IFERROR(VLOOKUP($K104,'Total Rankings (excl QB)'!$D:$L,6,0),\"\")","v":""},{"$f":"IFERROR(VLOOKUP($K104,'Total Rankings (excl QB)'!$D:$L,7,0),\"\")","v":""},{"$f":"IFERROR(VLOOKUP($K104,'Total Rankings (excl QB)'!$D:$L,8,0),\"\")","v":""}]
[{"$f":"IFERROR(INDEX('Positional Ranks'!B$4:B$195,_xlfn.AGGREGATE(15,6,ROW('Positional Ranks'!B$4:B$195)-ROW('Positional Ranks'!B$4)+1/('Positional Ranks'!B$4:F$195=\"Consistent WR2\"),ROWS('Tiered Rankings'!A$36:A105))),\"\")","v":""},{"$f":"IFERROR(VLOOKUP($A105,'Total Rankings (excl QB)'!$D:$E,2,0),0)","v":0},0,null,{"$f":"IFERROR(VLOOKUP($A105,'Total Rankings (excl QB)'!$D:$L,4,0),\"\")","v":""},{"$f":"IFERROR(VLOOKUP($A105,'Total Rankings (excl QB)'!$D:$L,5,0),\"\")","v":""},{"$f":"IFERROR(VLOOKUP($A105,'Total Rankings (excl QB)'!$D:$L,6,0),\"\")","v":""},{"$f":"IFERROR(VLOOKUP($A105,'Total Rankings (excl QB)'!$D:$L,7,0),\"\")","v":""},{"$f":"IFERROR(VLOOKUP($A105,'Total Rankings (excl QB)'!$D:$L,8,0),\"\")","v":""},null,{"$f":"IFERROR(INDEX('Positional Ranks'!M$4:M$195,_xlfn.AGGREGATE(15,6,ROW('Positional Ranks'!M$4:M$195)-ROW('Positional Ranks'!M$4)+1/('Positional Ranks'!M$4:Q$195=\"Consistent RB2\"),ROWS('Tiered Rankings'!K$36:K105))),\"\")","v":""},{"$f":"IFERROR(VLOOKUP($K105,'Total Rankings (excl QB)'!$D:$E,2,0),0)","v":0},0,null,{"$f":"IFERROR(VLOOKUP($K105,'Total Rankings (excl QB)'!$D:$L,4,0),\"\")","v":""},{"$f":"IFERROR(VLOOKUP($K105,'Total Rankings (excl QB)'!$D:$L,5,0),\"\")","v":""},{"$f":"IFERROR(VLOOKUP($K105,'Total Rankings (excl QB)'!$D:$L,6,0),\"\")","v":""},{"$f":"IFERROR(VLOOKUP($K105,'Total Rankings (excl QB)'!$D:$L,7,0),\"\")","v":""},{"$f":"IFERROR(VLOOKUP($K105,'Total Rankings (excl QB)'!$D:$L,8,0),\"\")","v":""}]
[{"$f":"IFERROR(INDEX('Positional Ranks'!B$4:B$195,_xlfn.AGGREGATE(15,6,ROW('Positional Ranks'!B$4:B$195)-ROW('Positional Ranks'!B$4)+1/('Positional Ranks'!B$4:F$195=\"Consistent WR2\"),ROWS('Tiered Rankings'!A$36:A106))),\"\")","v":""},{"$f":"IFERROR(VLOOKUP($A106,'Total Rankings (excl QB)'!$D:$E,2,0),0)","v":0},0,null,{"$f":"IFERROR(VLOOKUP($A106,'Total Rankings (excl QB)'!$D:$L,4,0),\"\")","v":""},{"$f":"IFERROR(VLOOKUP($A106,'Total Rankings (excl QB)'!$D:$L,5,0),\"\")","v":""},{"$f":"IFERROR(VLOOKUP($A106,'Total Rankings (excl QB)'!$D:$L,6,0),\"\")","v":""},{"$f":"IFERROR(VLOOKUP($A106,'Total Rankings (excl QB)'!$D:$L,7,0),\"\")","v":""},{"$f":"IFERROR(VLOOKUP($A106,'Total Rankings (excl QB)'!$D:$L,8,0),\"\")","v":""},null,{"$f":"IFERROR(INDEX('Positional Ranks'!M$4:M$195,_xlfn.AGGREGATE(15,6,ROW('Positional Ranks'!M$4:M$195)-ROW('Positional Ranks'!M$4)+1/('Positional Ranks'!M$4:Q$195=\"Consistent RB2\"),ROWS('Tiered Rankings'!K$36:K106))),\"\")","v":""},{"$f":"IFERROR(VLOOKUP($K106,'Total Rankings (excl QB)'!$D:$E,2,0),0)","v":0},0,null,{"$f":"IFERROR(VLOOKUP($K106,'Total Rankings (excl QB)'!$D:$L,4,0),\"\")","v":""},{"$f":"IFERROR(VLOOKUP($K106,'Total Rankings (excl QB)'!$D:$L,5,0),\"\")","v":""},{"$f":"IFERROR(VLOOKUP($K106,'Total Rankings (excl QB)'!$D:$L,6,0),\"\")","v":""},{"$f":"IFERROR(VLOOKUP($K106,'Total Rankings (excl QB)'!$D:$L,7,0),\"\")","v":""},{"$f":"IFERROR(VLOOKUP($K106,'Total Rankings (excl QB)'!$D:$L,8,0),\"\")","v":""}]
[{"$f":"IFERROR(INDEX('Positional Ranks'!B$4:B$195,_xlfn.AGGREGATE(15,6,ROW('Positional Ranks'!B$4:B$195)-ROW('Positional Ranks'!B$4)+1/('Positional Ranks'!B$4:F$195=\"Consistent WR2\"),ROWS('Tiered Rankings'!A$36:A107))),\"\")","v":""},{"$f":"IFERROR(VLOOKUP($A107,'Total Rankings (excl QB)'!$D:$E,2,0),0)","v":0},0,null,{"$f":"IFERROR(VLOOKUP($A107,'Total Rankings (excl QB)'!$D:$L,4,0),\"\")","v":""},{"$f":"IFERROR(VLOOKUP($A107,'Total Rankings (excl QB)'!$D:$L,5,0),\"\")","v":""},{"$f":"IFERROR(VLOOKUP($A107,'Total Rankings (excl QB)'!$D:$L,6,0),\"\")","v":""},{"$f":"IFERROR(VLOOKUP($A107,'Total Rankings (excl QB)'!$D:$L,7,0),\"\")","v":""},{"$f":"IFERROR(VLOOKUP($A107,'Total Rankings (excl QB)'!$D:$L,8,0),\"\")","v":""},null,{"$f":"IFERROR(INDEX('Positional Ranks'!M$4:M$195,_xlfn.AGGREGATE(15,6,ROW('Positional Ranks'!M$4:M$195)-ROW('Positional Ranks'!M$4)+1/('Positional Ranks'!M$4:Q$195=\"Consistent RB2\"),ROWS('Tiered Rankings'!K$36:K107))),\"\")","v":""},{"$f":"IFERROR(VLOOKUP($K107,'Total Rankings (excl QB)'!$D:$E,2,0),0)","v":0},0,null,{"$f":"IFERROR(VLOOKUP($K107,'Total Rankings (excl QB)'!$D:$L,4,0),\"\")","v":""},{"$f":"IFERROR(VLOOKUP($K107,'Total Rankings (excl QB)'!$D:$L,5,0),\"\")","v":""},{"$f":"IFERROR(VLOOKUP($K107,'Total Rankings (excl QB)'!$D:$L,6,0),\"\")","v":""},{"$f":"IFERROR(VLOOKUP($K107,'Total Rankings (excl QB)'!$D:$L,7,0),\"\")","v":""},{"$f":"IFERROR(VLOOKUP($K107,'Total Rankings (excl QB)'!$D:$L,8,0),\"\")","v":""}]
[{"$f":"IFERROR(INDEX('Positional Ranks'!B$4:B$195,_xlfn.AGGREGATE(15,6,ROW('Positional Ranks'!B$4:B$195)-ROW('Positional Ranks'!B$4)+1/('Positional Ranks'!B$4:F$195=\"Consistent WR2\"),ROWS('Tiered Rankings'!A$36:A108))),\"\")","v":""},{"$f":"IFERROR(VLOOKUP($A108,'Total Rankings (excl QB)'!$D:$E,2,0),0)","v":0},0,null,{"$f":"IFERROR(VLOOKUP($A108,'Total Rankings (excl QB)'!$D:$L,4,0),\"\")","v":""},{"$f":"IFERROR(VLOOKUP($A108,'Total Rankings (excl QB)'!$D:$L,5,0),\"\")","v":""},{"$f":"IFERROR(VLOOKUP($A108,'Total Rankings (excl QB)'!$D:$L,6,0),\"\")","v":""},{"$f":"IFERROR(VLOOKUP($A108,'Total Rankings (excl QB)'!$D:$L,7,0),\"\")","v":""},{"$f":"IFERROR(VLOOKUP($A108,'Total Rankings (excl QB)'!$D:$L,8,0),\"\")","v":""},null,{"$f":"IFERROR(INDEX('Positional Ranks'!M$4:M$195,_xlfn.AGGREGATE(15,6,ROW('Positional Ranks'!M$4:M$195)-ROW('Positional Ranks'!M$4)+1/('Positional Ranks'!M$4:Q$195=\"Consistent RB2\"),ROWS('Tiered Rankings'!K$36:K108))),\"\")","v":""},{"$f":"IFERROR(VLOOKUP($K108,'Total Rankings (excl QB)'!$D:$E,2,0),0)","v":0},0,null,{"$f":"IFERROR(VLOOKUP($K108,'Total Rankings (excl QB)'!$D:$L,4,0),\"\")","v":""},{"$f":"IFERROR(VLOOKUP($K108,'Total Rankings (excl QB)'!$D:$L,5,0),\"\")","v":""},{"$f":"IFERROR(VLOOKUP($K108,'Total Rankings (excl QB)'!$D:$L,6,0),\"\")","v":""},{"$f":"IFERROR(VLOOKUP($K108,'Total Rankings (excl QB)'!$D:$L,7,0),\"\")","v":""},{"$f":"IFERROR(VLOOKUP($K108,'Total Rankings (excl QB)'!$D:$L,8,0),\"\")","v":""}]
[{"$f":"IFERROR(INDEX('Positional Ranks'!B$4:B$195,_xlfn.AGGREGATE(15,6,ROW('Positional Ranks'!B$4:B$195)-ROW('Positional Ranks'!B$4)+1/('Positional Ranks'!B$4:F$195=\"Consistent WR2\"),ROWS('Tiered Rankings'!A$36:A109))),\"\")","v":""},{"$f":"IFERROR(VLOOKUP($A109,'Total Rankings (excl QB)'!$D:$E,2,0),0)","v":0},0,null,{"$f":"IFERROR(VLOOKUP($A109,'Total Rankings (excl QB)'!$D:$L,4,0),\"\")","v":""},{"$f":"IFERROR(VLOOKUP($A109,'Total Rankings (excl QB)'!$D:$L,5,0),\"\")","v":""},{"$f":"IFERROR(VLOOKUP($A109,'Total Rankings (excl QB)'!$D:$L,6,0),\"\")","v":""},{"$f":"IFERROR(VLOOKUP($A109,'Total Rankings (excl QB)'!$D:$L,7,0),\"\")","v":""},{"$f":"IFERROR(VLOOKUP($A109,'Total Rankings (excl QB)'!$D:$L,8,0),\"\")","v":""},null,{"$f":"IFERROR(INDEX('Positional Ranks'!M$4:M$195,_xlfn.AGGREGATE(15,6,ROW('Positional Ranks'!M$4:M$195)-ROW('Positional Ranks'!M$4)+1/('Positional Ranks'!M$4:Q$195=\"Consistent RB2\"),ROWS('Tiered Rankings'!K$36:K109))),\"\")","v":""},{"$f":"IFERROR(VLOOKUP($K109,'Total Rankings (excl QB)'!$D:$E,2,0),0)","v":0},0,null,{"$f":"IFERROR(VLOOKUP($K109,'Total Rankings (excl QB)'!$D:$L,4,0),\"\")","v":""},{"$f":"IFERROR(VLOOKUP($K109,'Total Rankings (excl QB)'!$D:$L,5,0),\"\")","v":""},{"$f":"IFERROR(VLOOKUP($K109,'Total Rankings (excl QB)'!$D:$L,6,0),\"\")","v":""},{"$f":"IFERROR(VLOOKUP($K109,'Total Rankings (excl QB)'!$D:$L,7,0),\"\")","v":""},{"$f":"IFERROR(VLOOKUP($K109,'Total Rankings (excl QB)'!$D:$L,8,0),\"\")","v":""}]
[{"$f":"IFERROR(INDEX('Positional Ranks'!B$4:B$195,_xlfn.AGGREGATE(15,6,ROW('Positional Ranks'!B$4:B$195)-ROW('Positional Ranks'!B$4)+1/('Positional Ranks'!B$4:F$195=\"Consistent WR2\"),ROWS('Tiered Rankings'!A$36:A110))),\"\")","v":""},{"$f":"IFERROR(VLOOKUP($A110,'Total Rankings (excl QB)'!$D:$E,2,0),0)","v":0},0,null,{"$f":"IFERROR(VLOOKUP($A110,'Total Rankings (excl QB)'!$D:$L,4,0),\"\")","v":""},{"$f":"IFERROR(VLOOKUP($A110,'Total Rankings (excl QB)'!$D:$L,5,0),\"\")","v":""},{"$f":"IFERROR(VLOOKUP($A110,'Total Rankings (excl QB)'!$D:$L,6,0),\"\")","v":""},{"$f":"IFERROR(VLOOKUP($A110,'Total Rankings (excl QB)'!$D:$L,7,0),\"\")","v":""},{"$f":"IFERROR(VLOOKUP($A110,'Total Rankings (excl QB)'!$D:$L,8,0),\"\")","v":""},null,{"$f":"IFERROR(INDEX('Positional Ranks'!M$4:M$195,_xlfn.AGGREGATE(15,6,ROW('Positional Ranks'!M$4:M$195)-ROW('Positional Ranks'!M$4)+1/('Positional Ranks'!M$4:Q$195=\"Consistent RB2\"),ROWS('Tiered Rankings'!K$36:K110))),\"\")","v":""},{"$f":"IFERROR(VLOOKUP($K110,'Total Rankings (excl QB)'!$D:$E,2,0),0)","v":0},0,null,{"$f":"IFERROR(VLOOKUP($K110,'Total Rankings (excl QB)'!$D:$L,4,0),\"\")","v":""},{"$f":"IFERROR(VLOOKUP($K110,'Total Rankings (excl QB)'!$D:$L,5,0),\"\")","v":""},{"$f":"IFERROR(VLOOKUP($K110,'Total Rankings (excl QB)'!$D:$L,6,0),\"\")","v":""},{"$f":"IFERROR(VLOOKUP($K110,'Total Rankings (excl QB)'!$D:$L,7,0),\"\")","v":""},{"$f":"IFERROR(VLOOKUP($K110,'Total Rankings (excl QB)'!$D:$L,8,0),\"\")","v":""}]
[{"$f":"IFERROR(INDEX('Positional Ranks'!B$4:B$195,_xlfn.AGGREGATE(15,6,ROW('Positional Ranks'!B$4:B$195)-ROW('Positional Ranks'!B$4)+1/('Positional Ranks'!B$4:F$195=\"Consistent WR2\"),ROWS('Tiered Rankings'!A$36:A111))),\"\")","v":""},{"$f":"IFERROR(VLOOKUP($A111,'Total Rankings (excl QB)'!$D:$E,2,0),0)","v":0},0,null,{"$f":"IFERROR(VLOOKUP($A111,'Total Rankings (excl QB)'!$D:$L,4,0),\"\")","v":""},{"$f":"IFERROR(VLOOKUP($A111,'Total Rankings (excl QB)'!$D:$L,5,0),\"\")","v":""},{"$f":"IFERROR(VLOOKUP($A111,'Total Rankings (excl QB)'!$D:$L,6,0),\"\")","v":""},{"$f":"IFERROR(VLOOKUP($A111,'Total Rankings (excl QB)'!$D:$L,7,0),\"\")","v":""},{"$f":"IFERROR(VLOOKUP($A111,'Total Rankings (excl QB)'!$D:$L,8,0),\"\")","v":""},null,{"$f":"IFERROR(INDEX('Positional Ranks'!M$4:M$195,_xlfn.AGGREGATE(15,6,ROW('Positional Ranks'!M$4:M$195)-ROW('Positional Ranks'!M$4)+1/('Positional Ranks'!M$4:Q$195=\"Consistent RB2\"),ROWS('Tiered Rankings'!K$36:K111))),\"\")","v":""},{"$f":"IFERROR(VLOOKUP($K111,'Total Rankings (excl QB)'!$D:$E,2,0),0)","v":0},0,null,{"$f":"IFERROR(VLOOKUP($K111,'Total Rankings (excl QB)'!$D:$L,4,0),\"\")","v":""},{"$f":"IFERROR(VLOOKUP($K111,'Total Rankings (excl QB)'!$D:$L,5,0),\"\")","v":""},{"$f":"IFERROR(VLOOKUP($K111,'Total Rankings (excl QB)'!$D:$L,6,0),\"\")","v":""},{"$f":"IFERROR(VLOOKUP($K111,'Total Rankings (excl QB)'!$D:$L,7,0),\"\")","v":""},{"$f":"IFERROR(VLOOKUP($K111,'Total Rankings (excl QB)'!$D:$L,8,0),\"\")","v":""}]
[{"$f":"IFERROR(INDEX('Positional Ranks'!B$4:B$195,_xlfn.AGGREGATE(15,6,ROW('Positional Ranks'!B$4:B$195)-ROW('Positional Ranks'!B$4)+1/('Positional Ranks'!B$4:F$195=\"Consistent WR2\"),ROWS('Tiered Rankings'!A$36:A112))),\"\")","v":""},{"$f":"IFERROR(VLOOKUP($A112,'Total Rankings (excl QB)'!$D:$E,2,0),0)","v":0},0,null,{"$f":"IFERROR(VLOOKUP($A112,'Total Rankings (excl QB)'!$D:$L,4,0),\"\")","v":""},{"$f":"IFERROR(VLOOKUP($A112,'Total Rankings (excl QB)'!$D:$L,5,0),\"\")","v":""},{"$f":"IFERROR(VLOOKUP($A112,'Total Rankings (excl QB)'!$D:$L,6,0),\"\")","v":""},{"$f":"IFERROR(VLOOKUP($A112,'Total Rankings (excl QB)'!$D:$L,7,0),\"\")","v":""},{"$f":"IFERROR(VLOOKUP($A112,'Total Rankings (excl QB)'!$D:$L,8,0),\"\")","v":""},null,{"$f":"IFERROR(INDEX('Positional Ranks'!M$4:M$195,_xlfn.AGGREGATE(15,6,ROW('Positional Ranks'!M$4:M$195)-ROW('Positional Ranks'!M$4)+1/('Positional Ranks'!M$4:Q$195=\"Consistent RB2\"),ROWS('Tiered Rankings'!K$36:K112))),\"\")","v":""},{"$f":"IFERROR(VLOOKUP($K112,'Total Rankings (excl QB)'!$D:$E,2,0),0)","v":0},0,null,{"$f":"IFERROR(VLOOKUP($K112,'Total Rankings (excl QB)'!$D:$L,4,0),\"\")","v":""},{"$f":"IFERROR(VLOOKUP($K112,'Total Rankings (excl QB)'!$D:$L,5,0),\"\")","v":""},{"$f":"IFERROR(VLOOKUP($K112,'Total Rankings (excl QB)'!$D:$L,6,0),\"\")","v":""},{"$f":"IFERROR(VLOOKUP($K112,'Total Rankings (excl QB)'!$D:$L,7,0),\"\")","v":""},{"$f":"IFERROR(VLOOKUP($K112,'Total Rankings (excl QB)'!$D:$L,8,0),\"\")","v":""}]
[{"$f":"IFERROR(INDEX('Positional Ranks'!B$4:B$195,_xlfn.AGGREGATE(15,6,ROW('Positional Ranks'!B$4:B$195)-ROW('Positional Ranks'!B$4)+1/('Positional Ranks'!B$4:F$195=\"Consistent WR2\"),ROWS('Tiered Rankings'!A$36:A113))),\"\")","v":""},{"$f":"IFERROR(VLOOKUP($A113,'Total Rankings (excl QB)'!$D:$E,2,0),0)","v":0},0,null,{"$f":"IFERROR(VLOOKUP($A113,'Total Rankings (excl QB)'!$D:$L,4,0),\"\")","v":""},{"$f":"IFERROR(VLOOKUP($A113,'Total Rankings (excl QB)'!$D:$L,5,0),\"\")","v":""},{"$f":"IFERROR(VLOOKUP($A113,'Total Rankings (excl QB)'!$D:$L,6,0),\"\")","v":""},{"$f":"IFERROR(VLOOKUP($A113,'Total Rankings (excl QB)'!$D:$L,7,0),\"\")","v":""},{"$f":"IFERROR(VLOOKUP($A113,'Total Rankings (excl QB)'!$D:$L,8,0),\"\")","v":""},null,{"$f":"IFERROR(INDEX('Positional Ranks'!M$4:M$195,_xlfn.AGGREGATE(15,6,ROW('Positional Ranks'!M$4:M$195)-ROW('Positional Ranks'!M$4)+1/('Positional Ranks'!M$4:Q$195=\"Consistent RB2\"),ROWS('Tiered Rankings'!K$36:K113))),\"\")","v":""},{"$f":"IFERROR(VLOOKUP($K113,'Total Rankings (excl QB)'!$D:$E,2,0),0)","v":0},0,null,{"$f":"IFERROR(VLOOKUP($K113,'Total Rankings (excl QB)'!$D:$L,4,0),\"\")","v":""},{"$f":"IFERROR(VLOOKUP($K113,'Total Rankings (excl QB)'!$D:$L,5,0),\"\")","v":""},{"$f":"IFERROR(VLOOKUP($K113,'Total Rankings (excl QB)'!$D:$L,6,0),\"\")","v":""},{"$f":"IFERROR(VLOOKUP($K113,'Total Rankings (excl QB)'!$D:$L,7,0),\"\")","v":""},{"$f":"IFERROR(VLOOKUP($K113,'Total Rankings (excl QB)'!$D:$L,8,0),\"\")","v":""}]
[{"$f":"IFERROR(INDEX('Positional Ranks'!B$4:B$195,_xlfn.AGGREGATE(15,6,ROW('Positional Ranks'!B$4:B$195)-ROW('Positional Ranks'!B$4)+1/('Positional Ranks'!B$4:F$195=\"Consistent WR2\"),ROWS('Tiered Rankings'!A$36:A114))),\"\")","v":""},{"$f":"IFERROR(VLOOKUP($A114,'Total Rankings (excl QB)'!$D:$E,2,0),0)","v":0},0,null,{"$f":"IFERROR(VLOOKUP($A114,'Total Rankings (excl QB)'!$D:$L,4,0),\"\")","v":""},{"$f":"IFERROR(VLOOKUP($A114,'Total Rankings (excl QB)'!$D:$L,5,0),\"\")","v":""},{"$f":"IFERROR(VLOOKUP($A114,'Total Rankings (excl QB)'!$D:$L,6,0),\"\")","v":""},{"$f":"IFERROR(VLOOKUP($A114,'Total Rankings (excl QB)'!$D:$L,7,0),\"\")","v":""},{"$f":"IFERROR(VLOOKUP($A114,'Total Rankings (excl QB)'!$D:$L,8,0),\"\")","v":""},null,{"$f":"IFERROR(INDEX('Positional Ranks'!M$4:M$195,_xlfn.AGGREGATE(15,6,ROW('Positional Ranks'!M$4:M$195)-ROW('Positional Ranks'!M$4)+1/('Positional Ranks'!M$4:Q$195=\"Consistent RB2\"),ROWS('Tiered Rankings'!K$36:K114))),\"\")","v":""},{"$f":"IFERROR(VLOOKUP($K114,'Total Rankings (excl QB)'!$D:$E,2,0),0)","v":0},0,null,{"$f":"IFERROR(VLOOKUP($K114,'Total Rankings (excl QB)'!$D:$L,4,0),\"\")","v":""},{"$f":"IFERROR(VLOOKUP($K114,'Total Rankings (excl QB)'!$D:$L,5,0),\"\")","v":""},{"$f":"IFERROR(VLOOKUP($K114,'Total Rankings (excl QB)'!$D:$L,6,0),\"\")","v":""},{"$f":"IFERROR(VLOOKUP($K114,'Total Rankings (excl QB)'!$D:$L,7,0),\"\")","v":""},{"$f":"IFERROR(VLOOKUP($K114,'Total Rankings (excl QB)'!$D:$L,8,0),\"\")","v":""}]
[{"$f":"IFERROR(INDEX('Positional Ranks'!B$4:B$195,_xlfn.AGGREGATE(15,6,ROW('Positional Ranks'!B$4:B$195)-ROW('Positional Ranks'!B$4)+1/('Positional Ranks'!B$4:F$195=\"Consistent WR2\"),ROWS('Tiered Rankings'!A$36:A115))),\"\")","v":""},{"$f":"IFERROR(VLOOKUP($A115,'Total Rankings (excl QB)'!$D:$E,2,0),0)","v":0},0,null,{"$f":"IFERROR(VLOOKUP($A115,'Total Rankings (excl QB)'!$D:$L,4,0),\"\")","v":""},{"$f":"IFERROR(VLOOKUP($A115,'Total Rankings (excl QB)'!$D:$L,5,0),\"\")","v":""},{"$f":"IFERROR(VLOOKUP($A115,'Total Rankings (excl QB)'!$D:$L,6,0),\"\")","v":""},{"$f":"IFERROR(VLOOKUP($A115,'Total Rankings (excl QB)'!$D:$L,7,0),\"\")","v":""},{"$f":"IFERROR(VLOOKUP($A115,'Total Rankings (excl QB)'!$D:$L,8,0),\"\")","v":""},null,{"$f":"IFERROR(INDEX('Positional Ranks'!M$4:M$195,_xlfn.AGGREGATE(15,6,ROW('Positional Ranks'!M$4:M$195)-ROW('Positional Ranks'!M$4)+1/('Positional Ranks'!M$4:Q$195=\"Consistent RB2\"),ROWS('Tiered Rankings'!K$36:K115))),\"\")","v":""},{"$f":"IFERROR(VLOOKUP($K115,'Total Rankings (excl QB)'!$D:$E,2,0),0)","v":0},0,null,{"$f":"IFERROR(VLOOKUP($K115,'Total Rankings (excl QB)'!$D:$L,4,0),\"\")","v":""},{"$f":"IFERROR(VLOOKUP($K115,'Total Rankings (excl QB)'!$D:$L,5,0),\"\")","v":""},{"$f":"IFERROR(VLOOKUP($K115,'Total Rankings (excl QB)'!$D:$L,6,0),\"\")","v":""},{"$f":"IFERROR(VLOOKUP($K115,'Total Rankings (excl QB)'!$D:$L,7,0),\"\")","v":""},{"$f":"IFERROR(VLOOKUP($K115,'Total Rankings (excl QB)'!$D:$L,8,0),\"\")","v":""}]
[{"$f":"IFERROR(INDEX('Positional Ranks'!B$4:B$195,_xlfn.AGGREGATE(15,6,ROW('Positional Ranks'!B$4:B$195)-ROW('Positional Ranks'!B$4)+1/('Positional Ranks'!B$4:F$195=\"Consistent WR2\"),ROWS('Tiered Rankings'!A$36:A116))),\"\")","v":""},{"$f":"IFERROR(VLOOKUP($A116,'Total Rankings (excl QB)'!$D:$E,2,0),0)","v":0},0,null,{"$f":"IFERROR(VLOOKUP($A116,'Total Rankings (excl QB)'!$D:$L,4,0),\"\")","v":""},{"$f":"IFERROR(VLOOKUP($A116,'Total Rankings (excl QB)'!$D:$L,5,0),\"\")","v":""},{"$f":"IFERROR(VLOOKUP($A116,'Total Rankings (excl QB)'!$D:$L,6,0),\"\")","v":""},{"$f":"IFERROR(VLOOKUP($A116,'Total Rankings (excl QB)'!$D:$L,7,0),\"\")","v":""},{"$f":"IFERROR(VLOOKUP($A116,'Total Rankings (excl QB)'!$D:$L,8,0),\"\")","v":""},null,{"$f":"IFERROR(INDEX('Positional Ranks'!M$4:M$195,_xlfn.AGGREGATE(15,6,ROW('Positional Ranks'!M$4:M$195)-ROW('Positional Ranks'!M$4)+1/('Positional Ranks'!M$4:Q$195=\"Consistent RB2\"),ROWS('Tiered Rankings'!K$36:K116))),\"\")","v":""},{"$f":"IFERROR(VLOOKUP($K116,'Total Rankings (excl QB)'!$D:$E,2,0),0)","v":0},0,null,{"$f":"IFERROR(VLOOKUP($K116,'Total Rankings (excl QB)'!$D:$L,4,0),\"\")","v":""},{"$f":"IFERROR(VLOOKUP($K116,'Total Rankings (excl QB)'!$D:$L,5,0),\"\")","v":""},{"$f":"IFERROR(VLOOKUP($K116,'Total Rankings (excl QB)'!$D:$L,6,0),\"\")","v":""},{"$f":"IFERROR(VLOOKUP($K116,'Total Rankings (excl QB)'!$D:$L,7,0),\"\")","v":""},{"$f":"IFERROR(VLOOKUP($K116,'Total Rankings (excl QB)'!$D:$L,8,0),\"\")","v":""}]
[{"$f":"IFERROR(INDEX('Positional Ranks'!B$4:B$195,_xlfn.AGGREGATE(15,6,ROW('Positional Ranks'!B$4:B$195)-ROW('Positional Ranks'!B$4)+1/('Positional Ranks'!B$4:F$195=\"Consistent WR2\"),ROWS('Tiered Rankings'!A$36:A117))),\"\")","v":""},{"$f":"IFERROR(VLOOKUP($A117,'Total Rankings (excl QB)'!$D:$E,2,0),0)","v":0},0,null,{"$f":"IFERROR(VLOOKUP($A117,'Total Rankings (excl QB)'!$D:$L,4,0),\"\")","v":""},{"$f":"IFERROR(VLOOKUP($A117,'Total Rankings (excl QB)'!$D:$L,5,0),\"\")","v":""},{"$f":"IFERROR(VLOOKUP($A117,'Total Rankings (excl QB)'!$D:$L,6,0),\"\")","v":""},{"$f":"IFERROR(VLOOKUP($A117,'Total Rankings (excl QB)'!$D:$L,7,0),\"\")","v":""},{"$f":"IFERROR(VLOOKUP($A117,'Total Rankings (excl QB)'!$D:$L,8,0),\"\")","v":""},null,{"$f":"IFERROR(INDEX('Positional Ranks'!M$4:M$195,_xlfn.AGGREGATE(15,6,ROW('Positional Ranks'!M$4:M$195)-ROW('Positional Ranks'!M$4)+1/('Positional Ranks'!M$4:Q$195=\"Consistent RB2\"),ROWS('Tiered Rankings'!K$36:K117))),\"\")","v":""},{"$f":"IFERROR(VLOOKUP($K117,'Total Rankings (excl QB)'!$D:$E,2,0),0)","v":0},0,null,{"$f":"IFERROR(VLOOKUP($K117,'Total Rankings (excl QB)'!$D:$L,4,0),\"\")","v":""},{"$f":"IFERROR(VLOOKUP($K117,'Total Rankings (excl QB)'!$D:$L,5,0),\"\")","v":""},{"$f":"IFERROR(VLOOKUP($K117,'Total Rankings (excl QB)'!$D:$L,6,0),\"\")","v":""},{"$f":"IFERROR(VLOOKUP($K117,'Total Rankings (excl QB)'!$D:$L,7,0),\"\")","v":""},{"$f":"IFERROR(VLOOKUP($K117,'Total Rankings (excl QB)'!$D:$L,8,0),\"\")","v":""}]
[{"$f":"IFERROR(INDEX('Positional Ranks'!B$4:B$195,_xlfn.AGGREGATE(15,6,ROW('Positional Ranks'!B$4:B$195)-ROW('Positional Ranks'!B$4)+1/('Positional Ranks'!B$4:F$195=\"Consistent WR2\"),ROWS('Tiered Rankings'!A$36:A118))),\"\")","v":""},{"$f":"IFERROR(VLOOKUP($A118,'Total Rankings (excl QB)'!$D:$E,2,0),0)","v":0},0,null,{"$f":"IFERROR(VLOOKUP($A118,'Total Rankings (excl QB)'!$D:$L,4,0),\"\")","v":""},{"$f":"IFERROR(VLOOKUP($A118,'Total Rankings (excl QB)'!$D:$L,5,0),\"\")","v":""},{"$f":"IFERROR(VLOOKUP($A118,'Total Rankings (excl QB)'!$D:$L,6,0),\"\")","v":""},{"$f":"IFERROR(VLOOKUP($A118,'Total Rankings (excl QB)'!$D:$L,7,0),\"\")","v":""},{"$f":"IFERROR(VLOOKUP($A118,'Total Rankings (excl QB)'!$D:$L,8,0),\"\")","v":""},null,{"$f":"IFERROR(INDEX('Positional Ranks'!M$4:M$195,_xlfn.AGGREGATE(15,6,ROW('Positional Ranks'!M$4:M$195)-ROW('Positional Ranks'!M$4)+1/('Positional Ranks'!M$4:Q$195=\"Consistent RB2\"),ROWS('Tiered Rankings'!K$36:K118))),\"\")","v":""},{"$f":"IFERROR(VLOOKUP($K118,'Total Rankings (excl QB)'!$D:$E,2,0),0)","v":0},0,null,{"$f":"IFERROR(VLOOKUP($K118,'Total Rankings (excl QB)'!$D:$L,4,0),\"\")","v":""},{"$f":"IFERROR(VLOOKUP($K118,'Total Rankings (excl QB)'!$D:$L,5,0),\"\")","v":""},{"$f":"IFERROR(VLOOKUP($K118,'Total Rankings (excl QB)'!$D:$L,6,0),\"\")","v":""},{"$f":"IFERROR(VLOOKUP($K118,'Total Rankings (excl QB)'!$D:$L,7,0),\"\")","v":""},{"$f":"IFERROR(VLOOKUP($K118,'Total Rankings (excl QB)'!$D:$L,8,0),\"\")","v":""}]
[{"$f":"IFERROR(INDEX('Positional Ranks'!B$4:B$195,_xlfn.AGGREGATE(15,6,ROW('Positional Ranks'!B$4:B$195)-ROW('Positional Ranks'!B$4)+1/('Positional Ranks'!B$4:F$195=\"Consistent WR2\"),ROWS('Tiered Rankings'!A$36:A119))),\"\")","v":""},{"$f":"IFERROR(VLOOKUP($A119,'Total Rankings (excl QB)'!$D:$E,2,0),0)","v":0},0,null,{"$f":"IFERROR(VLOOKUP($A119,'Total Rankings (excl QB)'!$D:$L,4,0),\"\")","v":""},{"$f":"IFERROR(VLOOKUP($A119,'Total Rankings (excl QB)'!$D:$L,5,0),\"\")","v":""},{"$f":"IFERROR(VLOOKUP($A119,'Total Rankings (excl QB)'!$D:$L,6,0),\"\")","v":""},{"$f":"IFERROR(VLOOKUP($A119,'Total Rankings (excl QB)'!$D:$L,7,0),\"\")","v":""},{"$f":"IFERROR(VLOOKUP($A119,'Total Rankings (excl QB)'!$D:$L,8,0),\"\")","v":""},null,{"$f":"IFERROR(INDEX('Positional Ranks'!M$4:M$195,_xlfn.AGGREGATE(15,6,ROW('Positional Ranks'!M$4:M$195)-ROW('Positional Ranks'!M$4)+1/('Positional Ranks'!M$4:Q$195=\"Consistent RB2\"),ROWS('Tiered Rankings'!K$36:K119))),\"\")","v":""},{"$f":"IFERROR(VLOOKUP($K119,'Total Rankings (excl QB)'!$D:$E,2,0),0)","v":0},0,null,{"$f":"IFERROR(VLOOKUP($K119,'Total Rankings (excl QB)'!$D:$L,4,0),\"\")","v":""},{"$f":"IFERROR(VLOOKUP($K119,'Total Rankings (excl QB)'!$D:$L,5,0),\"\")","v":""},{"$f":"IFERROR(VLOOKUP($K119,'Total Rankings (excl QB)'!$D:$L,6,0),\"\")","v":""},{"$f":"IFERROR(VLOOKUP($K119,'Total Rankings (excl QB)'!$D:$L,7,0),\"\")","v":""},{"$f":"IFERROR(VLOOKUP($K119,'Total Rankings (excl QB)'!$D:$L,8,0),\"\")","v":""}]
[{"$f":"IFERROR(INDEX('Positional Ranks'!B$4:B$195,_xlfn.AGGREGATE(15,6,ROW('Positional Ranks'!B$4:B$195)-ROW('Positional Ranks'!B$4)+1/('Positional Ranks'!B$4:F$195=\"Consistent WR2\"),ROWS('Tiered Rankings'!A$36:A120))),\"\")","v":""},{"$f":"IFERROR(VLOOKUP($A120,'Total Rankings (excl QB)'!$D:$E,2,0),0)","v":0},0,null,{"$f":"IFERROR(VLOOKUP($A120,'Total Rankings (excl QB)'!$D:$L,4,0),\"\")","v":""},{"$f":"IFERROR(VLOOKUP($A120,'Total Rankings (excl QB)'!$D:$L,5,0),\"\")","v":""},{"$f":"IFERROR(VLOOKUP($A120,'Total Rankings (excl QB)'!$D:$L,6,0),\"\")","v":""},{"$f":"IFERROR(VLOOKUP($A120,'Total Rankings (excl QB)'!$D:$L,7,0),\"\")","v":""},{"$f":"IFERROR(VLOOKUP($A120,'Total Rankings (excl QB)'!$D:$L,8,0),\"\")","v":""},null,{"$f":"IFERROR(INDEX('Positional Ranks'!M$4:M$195,_xlfn.AGGREGATE(15,6,ROW('Positional Ranks'!M$4:M$195)-ROW('Positional Ranks'!M$4)+1/('Positional Ranks'!M$4:Q$195=\"Consistent RB2\"),ROWS('Tiered Rankings'!K$36:K120))),\"\")","v":""},{"$f":"IFERROR(VLOOKUP($K120,'Total Rankings (excl QB)'!$D:$E,2,0),0)","v":0},0,null,{"$f":"IFERROR(VLOOKUP($K120,'Total Rankings (excl QB)'!$D:$L,4,0),\"\")","v":""},{"$f":"IFERROR(VLOOKUP($K120,'Total Rankings (excl QB)'!$D:$L,5,0),\"\")","v":""},{"$f":"IFERROR(VLOOKUP($K120,'Total Rankings (excl QB)'!$D:$L,6,0),\"\")","v":""},{"$f":"IFERROR(VLOOKUP($K120,'Total Rankings (excl QB)'!$D:$L,7,0),\"\")","v":""},{"$f":"IFERROR(VLOOKUP($K120,'Total Rankings (excl QB)'!$D:$L,8,0),\"\")","v":""}]
[{"$f":"IFERROR(INDEX('Positional Ranks'!B$4:B$195,_xlfn.AGGREGATE(15,6,ROW('Positional Ranks'!B$4:B$195)-ROW('Positional Ranks'!B$4)+1/('Positional Ranks'!B$4:F$195=\"Consistent WR2\"),ROWS('Tiered Rankings'!A$36:A121))),\"\")","v":""},{"$f":"IFERROR(VLOOKUP($A121,'Total Rankings (excl QB)'!$D:$E,2,0),0)","v":0},0,null,{"$f":"IFERROR(VLOOKUP($A121,'Total Rankings (excl QB)'!$D:$L,4,0),\"\")","v":""},{"$f":"IFERROR(VLOOKUP($A121,'Total Rankings (excl QB)'!$D:$L,5,0),\"\")","v":""},{"$f":"IFERROR(VLOOKUP($A121,'Total Rankings (excl QB)'!$D:$L,6,0),\"\")","v":""},{"$f":"IFERROR(VLOOKUP($A121,'Total Rankings (excl QB)'!$D:$L,7,0),\"\")","v":""},{"$f":"IFERROR(VLOOKUP($A121,'Total Rankings (excl QB)'!$D:$L,8,0),\"\")","v":""},null,{"$f":"IFERROR(INDEX('Positional Ranks'!M$4:M$195,_xlfn.AGGREGATE(15,6,ROW('Positional Ranks'!M$4:M$195)-ROW('Positional Ranks'!M$4)+1/('Positional Ranks'!M$4:Q$195=\"Consistent RB2\"),ROWS('Tiered Rankings'!K$36:K121))),\"\")","v":""},{"$f":"IFERROR(VLOOKUP($K121,'Total Rankings (excl QB)'!$D:$E,2,0),0)","v":0},0,null,{"$f":"IFERROR(VLOOKUP($K121,'Total Rankings (excl QB)'!$D:$L,4,0),\"\")","v":""},{"$f":"IFERROR(VLOOKUP($K121,'Total Rankings (excl QB)'!$D:$L,5,0),\"\")","v":""},{"$f":"IFERROR(VLOOKUP($K121,'Total Rankings (excl QB)'!$D:$L,6,0),\"\")","v":""},{"$f":"IFERROR(VLOOKUP($K121,'Total Rankings (excl QB)'!$D:$L,7,0),\"\")","v":""},{"$f":"IFERROR(VLOOKUP($K121,'Total Rankings (excl QB)'!$D:$L,8,0),\"\")","v":""}]
[{"$f":"IFERROR(INDEX('Positional Ranks'!B$4:B$195,_xlfn.AGGREGATE(15,6,ROW('Positional Ranks'!B$4:B$195)-ROW('Positional Ranks'!B$4)+1/('Positional Ranks'!B$4:F$195=\"Consistent WR2\"),ROWS('Tiered Rankings'!A$36:A122))),\"\")","v":""},{"$f":"IFERROR(VLOOKUP($A122,'Total Rankings (excl QB)'!$D:$E,2,0),0)","v":0},0,null,{"$f":"IFERROR(VLOOKUP($A122,'Total Rankings (excl QB)'!$D:$L,4,0),\"\")","v":""},{"$f":"IFERROR(VLOOKUP($A122,'Total Rankings (excl QB)'!$D:$L,5,0),\"\")","v":""},{"$f":"IFERROR(VLOOKUP($A122,'Total Rankings (excl QB)'!$D:$L,6,0),\"\")","v":""},{"$f":"IFERROR(VLOOKUP($A122,'Total Rankings (excl QB)'!$D:$L,7,0),\"\")","v":""},{"$f":"IFERROR(VLOOKUP($A122,'Total Rankings (excl QB)'!$D:$L,8,0),\"\")","v":""},null,{"$f":"IFERROR(INDEX('Positional Ranks'!M$4:M$195,_xlfn.AGGREGATE(15,6,ROW('Positional Ranks'!M$4:M$195)-ROW('Positional Ranks'!M$4)+1/('Positional Ranks'!M$4:Q$195=\"Consistent RB2\"),ROWS('Tiered Rankings'!K$36:K122))),\"\")","v":""},{"$f":"IFERROR(VLOOKUP($K122,'Total Rankings (excl QB)'!$D:$E,2,0),0)","v":0},0,null,{"$f":"IFERROR(VLOOKUP($K122,'Total Rankings (excl QB)'!$D:$L,4,0),\"\")","v":""},{"$f":"IFERROR(VLOOKUP($K122,'Total Rankings (excl QB)'!$D:$L,5,0),\"\")","v":""},{"$f":"IFERROR(VLOOKUP($K122,'Total Rankings (excl QB)'!$D:$L,6,0),\"\")","v":""},{"$f":"IFERROR(VLOOKUP($K122,'Total Rankings (excl QB)'!$D:$L,7,0),\"\")","v":""},{"$f":"IFERROR(VLOOKUP($K122,'Total Rankings (excl QB)'!$D:$L,8,0),\"\")","v":""}]
[{"$f":"IFERROR(INDEX('Positional Ranks'!B$4:B$195,_xlfn.AGGREGATE(15,6,ROW('Positional Ranks'!B$4:B$195)-ROW('Positional Ranks'!B$4)+1/('Positional Ranks'!B$4:F$195=\"Consistent WR2\"),ROWS('Tiered Rankings'!A$36:A123))),\"\")","v":""},{"$f":"IFERROR(VLOOKUP($A123,'Total Rankings (excl QB)'!$D:$E,2,0),0)","v":0},0,null,{"$f":"IFERROR(VLOOKUP($A123,'Total Rankings (excl QB)'!$D:$L,4,0),\"\")","v":""},{"$f":"IFERROR(VLOOKUP($A123,'Total Rankings (excl QB)'!$D:$L,5,0),\"\")","v":""},{"$f":"IFERROR(VLOOKUP($A123,'Total Rankings (excl QB)'!$D:$L,6,0),\"\")","v":""},{"$f":"IFERROR(VLOOKUP($A123,'Total Rankings (excl QB)'!$D:$L,7,0),\"\")","v":""},{"$f":"IFERROR(VLOOKUP($A123,'Total Rankings (excl QB)'!$D:$L,8,0),\"\")","v":""},null,{"$f":"IFERROR(INDEX('Positional Ranks'!M$4:M$195,_xlfn.AGGREGATE(15,6,ROW('Positional Ranks'!M$4:M$195)-ROW('Positional Ranks'!M$4)+1/('Positional Ranks'!M$4:Q$195=\"Consistent RB2\"),ROWS('Tiered Rankings'!K$36:K123))),\"\")","v":""},{"$f":"IFERROR(VLOOKUP($K123,'Total Rankings (excl QB)'!$D:$E,2,0),0)","v":0},0,null,{"$f":"IFERROR(VLOOKUP($K123,'Total Rankings (excl QB)'!$D:$L,4,0),\"\")","v":""},{"$f":"IFERROR(VLOOKUP($K123,'Total Rankings (excl QB)'!$D:$L,5,0),\"\")","v":""},{"$f":"IFERROR(VLOOKUP($K123,'Total Rankings (excl QB)'!$D:$L,6,0),\"\")","v":""},{"$f":"IFERROR(VLOOKUP($K123,'Total Rankings (excl QB)'!$D:$L,7,0),\"\")","v":""},{"$f":"IFERROR(VLOOKUP($K123,'Total Rankings (excl QB)'!$D:$L,8,0),\"\")","v":""}]
[{"$f":"IFERROR(INDEX('Positional Ranks'!B$4:B$195,_xlfn.AGGREGATE(15,6,ROW('Positional Ranks'!B$4:B$195)-ROW('Positional Ranks'!B$4)+1/('Positional Ranks'!B$4:F$195=\"Consistent WR2\"),ROWS('Tiered Rankings'!A$36:A124))),\"\")","v":""},{"$f":"IFERROR(VLOOKUP($A124,'Total Rankings (excl QB)'!$D:$E,2,0),0)","v":0},0,null,{"$f":"IFERROR(VLOOKUP($A124,'Total Rankings (excl QB)'!$D:$L,4,0),\"\")","v":""},{"$f":"IFERROR(VLOOKUP($A124,'Total Rankings (excl QB)'!$D:$L,5,0),\"\")","v":""},{"$f":"IFERROR(VLOOKUP($A124,'Total Rankings (excl QB)'!$D:$L,6,0),\"\")","v":""},{"$f":"IFERROR(VLOOKUP($A124,'Total Rankings (excl QB)'!$D:$L,7,0),\"\")","v":""},{"$f":"IFERROR(VLOOKUP($A124,'Total Rankings (excl QB)'!$D:$L,8,0),\"\")","v":""},null,{"$f":"IFERROR(INDEX('Positional Ranks'!M$4:M$195,_xlfn.AGGREGATE(15,6,ROW('Positional Ranks'!M$4:M$195)-ROW('Positional Ranks'!M$4)+1/('Positional Ranks'!M$4:Q$195=\"Consistent RB2\"),ROWS('Tiered Rankings'!K$36:K124))),\"\")","v":""},{"$f":"IFERROR(VLOOKUP($K124,'Total Rankings (excl QB)'!$D:$E,2,0),0)","v":0},0,null,{"$f":"IFERROR(VLOOKUP($K124,'Total Rankings (excl QB)'!$D:$L,4,0),\"\")","v":""},{"$f":"IFERROR(VLOOKUP($K124,'Total Rankings (excl QB)'!$D:$L,5,0),\"\")","v":""},{"$f":"IFERROR(VLOOKUP($K124,'Total Rankings (excl QB)'!$D:$L,6,0),\"\")","v":""},{"$f":"IFERROR(VLOOKUP($K124,'Total Rankings (excl QB)'!$D:$L,7,0),\"\")","v":""},{"$f":"IFERROR(VLOOKUP($K124,'Total Rankings (excl QB)'!$D:$L,8,0),\"\")","v":""}]
[{"$f":"IFERROR(INDEX('Positional Ranks'!B$4:B$195,_xlfn.AGGREGATE(15,6,ROW('Positional Ranks'!B$4:B$195)-ROW('Positional Ranks'!B$4)+1/('Positional Ranks'!B$4:F$195=\"Consistent WR2\"),ROWS('Tiered Rankings'!A$36:A125))),\"\")","v":""},{"$f":"IFERROR(VLOOKUP($A125,'Total Rankings (excl QB)'!$D:$E,2,0),0)","v":0},0,null,{"$f":"IFERROR(VLOOKUP($A125,'Total Rankings (excl QB)'!$D:$L,4,0),\"\")","v":""},{"$f":"IFERROR(VLOOKUP($A125,'Total Rankings (excl QB)'!$D:$L,5,0),\"\")","v":""},{"$f":"IFERROR(VLOOKUP($A125,'Total Rankings (excl QB)'!$D:$L,6,0),\"\")","v":""},{"$f":"IFERROR(VLOOKUP($A125,'Total Rankings (excl QB)'!$D:$L,7,0),\"\")","v":""},{"$f":"IFERROR(VLOOKUP($A125,'Total Rankings (excl QB)'!$D:$L,8,0),\"\")","v":""},null,{"$f":"IFERROR(INDEX('Positional Ranks'!M$4:M$195,_xlfn.AGGREGATE(15,6,ROW('Positional Ranks'!M$4:M$195)-ROW('Positional Ranks'!M$4)+1/('Positional Ranks'!M$4:Q$195=\"Consistent RB2\"),ROWS('Tiered Rankings'!K$36:K125))),\"\")","v":""},{"$f":"IFERROR(VLOOKUP($K125,'Total Rankings (excl QB)'!$D:$E,2,0),0)","v":0},0,null,{"$f":"IFERROR(VLOOKUP($K125,'Total Rankings (excl QB)'!$D:$L,4,0),\"\")","v":""},{"$f":"IFERROR(VLOOKUP($K125,'Total Rankings (excl QB)'!$D:$L,5,0),\"\")","v":""},{"$f":"IFERROR(VLOOKUP($K125,'Total Rankings (excl QB)'!$D:$L,6,0),\"\")","v":""},{"$f":"IFERROR(VLOOKUP($K125,'Total Rankings (excl QB)'!$D:$L,7,0),\"\")","v":""},{"$f":"IFERROR(VLOOKUP($K125,'Total Rankings (excl QB)'!$D:$L,8,0),\"\")","v":""}]
[{"$f":"IFERROR(INDEX('Positional Ranks'!B$4:B$195,_xlfn.AGGREGATE(15,6,ROW('Positional Ranks'!B$4:B$195)-ROW('Positional Ranks'!B$4)+1/('Positional Ranks'!B$4:F$195=\"Consistent WR2\"),ROWS('Tiered Rankings'!A$36:A126))),\"\")","v":""},{"$f":"IFERROR(VLOOKUP($A126,'Total Rankings (excl QB)'!$D:$E,2,0),0)","v":0},0,null,{"$f":"IFERROR(VLOOKUP($A126,'Total Rankings (excl QB)'!$D:$L,4,0),\"\")","v":""},{"$f":"IFERROR(VLOOKUP($A126,'Total Rankings (excl QB)'!$D:$L,5,0),\"\")","v":""},{"$f":"IFERROR(VLOOKUP($A126,'Total Rankings (excl QB)'!$D:$L,6,0),\"\")","v":""},{"$f":"IFERROR(VLOOKUP($A126,'Total Rankings (excl QB)'!$D:$L,7,0),\"\")","v":""},{"$f":"IFERROR(VLOOKUP($A126,'Total Rankings (excl QB)'!$D:$L,8,0),\"\")","v":""},null,{"$f":"IFERROR(INDEX('Positional Ranks'!M$4:M$195,_xlfn.AGGREGATE(15,6,ROW('Positional Ranks'!M$4:M$195)-ROW('Positional Ranks'!M$4)+1/('Positional Ranks'!M$4:Q$195=\"Consistent RB2\"),ROWS('Tiered Rankings'!K$36:K126))),\"\")","v":""},{"$f":"IFERROR(VLOOKUP($K126,'Total Rankings (excl QB)'!$D:$E,2,0),0)","v":0},0,null,{"$f":"IFERROR(VLOOKUP($K126,'Total Rankings (excl QB)'!$D:$L,4,0),\"\")","v":""},{"$f":"IFERROR(VLOOKUP($K126,'Total Rankings (excl QB)'!$D:$L,5,0),\"\")","v":""},{"$f":"IFERROR(VLOOKUP($K126,'Total Rankings (excl QB)'!$D:$L,6,0),\"\")","v":""},{"$f":"IFERROR(VLOOKUP($K126,'Total Rankings (excl QB)'!$D:$L,7,0),\"\")","v":""},{"$f":"IFERROR(VLOOKUP($K126,'Total Rankings (excl QB)'!$D:$L,8,0),\"\")","v":""}]
[{"$f":"IFERROR(INDEX('Positional Ranks'!B$4:B$195,_xlfn.AGGREGATE(15,6,ROW('Positional Ranks'!B$4:B$195)-ROW('Positional Ranks'!B$4)+1/('Positional Ranks'!B$4:F$195=\"Consistent WR2\"),ROWS('Tiered Rankings'!A$36:A127))),\"\")","v":""},{"$f":"IFERROR(VLOOKUP($A127,'Total Rankings (excl QB)'!$D:$E,2,0),0)","v":0},0,null,{"$f":"IFERROR(VLOOKUP($A127,'Total Rankings (excl QB)'!$D:$L,4,0),\"\")","v":""},{"$f":"IFERROR(VLOOKUP($A127,'Total Rankings (excl QB)'!$D:$L,5,0),\"\")","v":""},{"$f":"IFERROR(VLOOKUP($A127,'Total Rankings (excl QB)'!$D:$L,6,0),\"\")","v":""},{"$f":"IFERROR(VLOOKUP($A127,'Total Rankings (excl QB)'!$D:$L,7,0),\"\")","v":""},{"$f":"IFERROR(VLOOKUP($A127,'Total Rankings (excl QB)'!$D:$L,8,0),\"\")","v":""},null,{"$f":"IFERROR(INDEX('Positional Ranks'!M$4:M$195,_xlfn.AGGREGATE(15,6,ROW('Positional Ranks'!M$4:M$195)-ROW('Positional Ranks'!M$4)+1/('Positional Ranks'!M$4:Q$195=\"Consistent RB2\"),ROWS('Tiered Rankings'!K$36:K127))),\"\")","v":""},{"$f":"IFERROR(VLOOKUP($K127,'Total Rankings (excl QB)'!$D:$E,2,0),0)","v":0},0,null,{"$f":"IFERROR(VLOOKUP($K127,'Total Rankings (excl QB)'!$D:$L,4,0),\"\")","v":""},{"$f":"IFERROR(VLOOKUP($K127,'Total Rankings (excl QB)'!$D:$L,5,0),\"\")","v":""},{"$f":"IFERROR(VLOOKUP($K127,'Total Rankings (excl QB)'!$D:$L,6,0),\"\")","v":""},{"$f":"IFERROR(VLOOKUP($K127,'Total Rankings (excl QB)'!$D:$L,7,0),\"\")","v":""},{"$f":"IFERROR(VLOOKUP($K127,'Total Rankings (excl QB)'!$D:$L,8,0),\"\")","v":""}]
[{"$f":"IFERROR(INDEX('Positional Ranks'!B$4:B$195,_xlfn.AGGREGATE(15,6,ROW('Positional Ranks'!B$4:B$195)-ROW('Positional Ranks'!B$4)+1/('Positional Ranks'!B$4:F$195=\"Consistent WR2\"),ROWS('Tiered Rankings'!A$36:A128))),\"\")","v":""},{"$f":"IFERROR(VLOOKUP($A128,'Total Rankings (excl QB)'!$D:$E,2,0),0)","v":0},0,null,{"$f":"IFERROR(VLOOKUP($A128,'Total Rankings (excl QB)'!$D:$L,4,0),\"\")","v":""},{"$f":"IFERROR(VLOOKUP($A128,'Total Rankings (excl QB)'!$D:$L,5,0),\"\")","v":""},{"$f":"IFERROR(VLOOKUP($A128,'Total Rankings (excl QB)'!$D:$L,6,0),\"\")","v":""},{"$f":"IFERROR(VLOOKUP($A128,'Total Rankings (excl QB)'!$D:$L,7,0),\"\")","v":""},{"$f":"IFERROR(VLOOKUP($A128,'Total Rankings (excl QB)'!$D:$L,8,0),\"\")","v":""},null,{"$f":"IFERROR(INDEX('Positional Ranks'!M$4:M$195,_xlfn.AGGREGATE(15,6,ROW('Positional Ranks'!M$4:M$195)-ROW('Positional Ranks'!M$4)+1/('Positional Ranks'!M$4:Q$195=\"Consistent RB2\"),ROWS('Tiered Rankings'!K$36:K128))),\"\")","v":""},{"$f":"IFERROR(VLOOKUP($K128,'Total Rankings (excl QB)'!$D:$E,2,0),0)","v":0},0,null,{"$f":"IFERROR(VLOOKUP($K128,'Total Rankings (excl QB)'!$D:$L,4,0),\"\")","v":""},{"$f":"IFERROR(VLOOKUP($K128,'Total Rankings (excl QB)'!$D:$L,5,0),\"\")","v":""},{"$f":"IFERROR(VLOOKUP($K128,'Total Rankings (excl QB)'!$D:$L,6,0),\"\")","v":""},{"$f":"IFERROR(VLOOKUP($K128,'Total Rankings (excl QB)'!$D:$L,7,0),\"\")","v":""},{"$f":"IFERROR(VLOOKUP($K128,'Total Rankings (excl QB)'!$D:$L,8,0),\"\")","v":""}]
[{"$f":"IFERROR(INDEX('Positional Ranks'!B$4:B$195,_xlfn.AGGREGATE(15,6,ROW('Positional Ranks'!B$4:B$195)-ROW('Positional Ranks'!B$4)+1/('Positional Ranks'!B$4:F$195=\"Consistent WR2\"),ROWS('Tiered Rankings'!A$36:A129))),\"\")","v":""},{"$f":"IFERROR(VLOOKUP($A129,'Total Rankings (excl QB)'!$D:$E,2,0),0)","v":0},0,null,{"$f":"IFERROR(VLOOKUP($A129,'Total Rankings (excl QB)'!$D:$L,4,0),\"\")","v":""},{"$f":"IFERROR(VLOOKUP($A129,'Total Rankings (excl QB)'!$D:$L,5,0),\"\")","v":""},{"$f":"IFERROR(VLOOKUP($A129,'Total Rankings (excl QB)'!$D:$L,6,0),\"\")","v":""},{"$f":"IFERROR(VLOOKUP($A129,'Total Rankings (excl QB)'!$D:$L,7,0),\"\")","v":""},{"$f":"IFERROR(VLOOKUP($A129,'Total Rankings (excl QB)'!$D:$L,8,0),\"\")","v":""},null,{"$f":"IFERROR(INDEX('Positional Ranks'!M$4:M$195,_xlfn.AGGREGATE(15,6,ROW('Positional Ranks'!M$4:M$195)-ROW('Positional Ranks'!M$4)+1/('Positional Ranks'!M$4:Q$195=\"Consistent RB2\"),ROWS('Tiered Rankings'!K$36:K129))),\"\")","v":""},{"$f":"IFERROR(VLOOKUP($K129,'Total Rankings (excl QB)'!$D:$E,2,0),0)","v":0},0,null,{"$f":"IFERROR(VLOOKUP($K129,'Total Rankings (excl QB)'!$D:$L,4,0),\"\")","v":""},{"$f":"IFERROR(VLOOKUP($K129,'Total Rankings (excl QB)'!$D:$L,5,0),\"\")","v":""},{"$f":"IFERROR(VLOOKUP($K129,'Total Rankings (excl QB)'!$D:$L,6,0),\"\")","v":""},{"$f":"IFERROR(VLOOKUP($K129,'Total Rankings (excl QB)'!$D:$L,7,0),\"\")","v":""},{"$f":"IFERROR(VLOOKUP($K129,'Total Rankings (excl QB)'!$D:$L,8,0),\"\")","v":""}]
[{"$f":"IFERROR(INDEX('Positional Ranks'!B$4:B$195,_xlfn.AGGREGATE(15,6,ROW('Positional Ranks'!B$4:B$195)-ROW('Positional Ranks'!B$4)+1/('Positional Ranks'!B$4:F$195=\"Consistent WR2\"),ROWS('Tiered Rankings'!A$36:A130))),\"\")","v":""},{"$f":"IFERROR(VLOOKUP($A130,'Total Rankings (excl QB)'!$D:$E,2,0),0)","v":0},0,null,{"$f":"IFERROR(VLOOKUP($A130,'Total Rankings (excl QB)'!$D:$L,4,0),\"\")","v":""},{"$f":"IFERROR(VLOOKUP($A130,'Total Rankings (excl QB)'!$D:$L,5,0),\"\")","v":""},{"$f":"IFERROR(VLOOKUP($A130,'Total Rankings (excl QB)'!$D:$L,6,0),\"\")","v":""},{"$f":"IFERROR(VLOOKUP($A130,'Total Rankings (excl QB)'!$D:$L,7,0),\"\")","v":""},{"$f":"IFERROR(VLOOKUP($A130,'Total Rankings (excl QB)'!$D:$L,8,0),\"\")","v":""},null,{"$f":"IFERROR(INDEX('Positional Ranks'!M$4:M$195,_xlfn.AGGREGATE(15,6,ROW('Positional Ranks'!M$4:M$195)-ROW('Positional Ranks'!M$4)+1/('Positional Ranks'!M$4:Q$195=\"Consistent RB2\"),ROWS('Tiered Rankings'!K$36:K130))),\"\")","v":""},{"$f":"IFERROR(VLOOKUP($K130,'Total Rankings (excl QB)'!$D:$E,2,0),0)","v":0},0,null,{"$f":"IFERROR(VLOOKUP($K130,'Total Rankings (excl QB)'!$D:$L,4,0),\"\")","v":""},{"$f":"IFERROR(VLOOKUP($K130,'Total Rankings (excl QB)'!$D:$L,5,0),\"\")","v":""},{"$f":"IFERROR(VLOOKUP($K130,'Total Rankings (excl QB)'!$D:$L,6,0),\"\")","v":""},{"$f":"IFERROR(VLOOKUP($K130,'Total Rankings (excl QB)'!$D:$L,7,0),\"\")","v":""},{"$f":"IFERROR(VLOOKUP($K130,'Total Rankings (excl QB)'!$D:$L,8,0),\"\")","v":""}]
[{"$f":"IFERROR(INDEX('Positional Ranks'!B$4:B$195,_xlfn.AGGREGATE(15,6,ROW('Positional Ranks'!B$4:B$195)-ROW('Positional Ranks'!B$4)+1/('Positional Ranks'!B$4:F$195=\"Consistent WR2\"),ROWS('Tiered Rankings'!A$36:A131))),\"\")","v":""},{"$f":"IFERROR(VLOOKUP($A131,'Total Rankings (excl QB)'!$D:$E,2,0),0)","v":0},0,null,{"$f":"IFERROR(VLOOKUP($A131,'Total Rankings (excl QB)'!$D:$L,4,0),\"\")","v":""},{"$f":"IFERROR(VLOOKUP($A131,'Total Rankings (excl QB)'!$D:$L,5,0),\"\")","v":""},{"$f":"IFERROR(VLOOKUP($A131,'Total Rankings (excl QB)'!$D:$L,6,0),\"\")","v":""},{"$f":"IFERROR(VLOOKUP($A131,'Total Rankings (excl QB)'!$D:$L,7,0),\"\")","v":""},{"$f":"IFERROR(VLOOKUP($A131,'Total Rankings (excl QB)'!$D:$L,8,0),\"\")","v":""},null,{"$f":"IFERROR(INDEX('Positional Ranks'!M$4:M$195,_xlfn.AGGREGATE(15,6,ROW('Positional Ranks'!M$4:M$195)-ROW('Positional Ranks'!M$4)+1/('Positional Ranks'!M$4:Q$195=\"Consistent RB2\"),ROWS('Tiered Rankings'!K$36:K131))),\"\")","v":""},{"$f":"IFERROR(VLOOKUP($K131,'Total Rankings (excl QB)'!$D:$E,2,0),0)","v":0},0,null,{"$f":"IFERROR(VLOOKUP($K131,'Total Rankings (excl QB)'!$D:$L,4,0),\"\")","v":""},{"$f":"IFERROR(VLOOKUP($K131,'Total Rankings (excl QB)'!$D:$L,5,0),\"\")","v":""},{"$f":"IFERROR(VLOOKUP($K131,'Total Rankings (excl QB)'!$D:$L,6,0),\"\")","v":""},{"$f":"IFERROR(VLOOKUP($K131,'Total Rankings (excl QB)'!$D:$L,7,0),\"\")","v":""},{"$f":"IFERROR(VLOOKUP($K131,'Total Rankings (excl QB)'!$D:$L,8,0),\"\")","v":""}]
[{"$f":"IFERROR(INDEX('Positional Ranks'!B$4:B$195,_xlfn.AGGREGATE(15,6,ROW('Positional Ranks'!B$4:B$195)-ROW('Positional Ranks'!B$4)+1/('Positional Ranks'!B$4:F$195=\"Consistent WR2\"),ROWS('Tiered Rankings'!A$36:A132))),\"\")","v":""},{"$f":"IFERROR(VLOOKUP($A132,'Total Rankings (excl QB)'!$D:$E,2,0),0)","v":0},0,null,{"$f":"IFERROR(VLOOKUP($A132,'Total Rankings (excl QB)'!$D:$L,4,0),\"\")","v":""},{"$f":"IFERROR(VLOOKUP($A132,'Total Rankings (excl QB)'!$D:$L,5,0),\"\")","v":""},{"$f":"IFERROR(VLOOKUP($A132,'Total Rankings (excl QB)'!$D:$L,6,0),\"\")","v":""},{"$f":"IFERROR(VLOOKUP($A132,'Total Rankings (excl QB)'!$D:$L,7,0),\"\")","v":""},{"$f":"IFERROR(VLOOKUP($A132,'Total Rankings (excl QB)'!$D:$L,8,0),\"\")","v":""},null,{"$f":"IFERROR(INDEX('Positional Ranks'!M$4:M$195,_xlfn.AGGREGATE(15,6,ROW('Positional Ranks'!M$4:M$195)-ROW('Positional Ranks'!M$4)+1/('Positional Ranks'!M$4:Q$195=\"Consistent RB2\"),ROWS('Tiered Rankings'!K$36:K132))),\"\")","v":""},{"$f":"IFERROR(VLOOKUP($K132,'Total Rankings (excl QB)'!$D:$E,2,0),0)","v":0},0,null,{"$f":"IFERROR(VLOOKUP($K132,'Total Rankings (excl QB)'!$D:$L,4,0),\"\")","v":""},{"$f":"IFERROR(VLOOKUP($K132,'Total Rankings (excl QB)'!$D:$L,5,0),\"\")","v":""},{"$f":"IFERROR(VLOOKUP($K132,'Total Rankings (excl QB)'!$D:$L,6,0),\"\")","v":""},{"$f":"IFERROR(VLOOKUP($K132,'Total Rankings (excl QB)'!$D:$L,7,0),\"\")","v":""},{"$f":"IFERROR(VLOOKUP($K132,'Total Rankings (excl QB)'!$D:$L,8,0),\"\")","v":""}]
[{"$f":"IFERROR(INDEX('Positional Ranks'!B$4:B$195,_xlfn.AGGREGATE(15,6,ROW('Positional Ranks'!B$4:B$195)-ROW('Positional Ranks'!B$4)+1/('Positional Ranks'!B$4:F$195=\"Consistent WR2\"),ROWS('Tiered Rankings'!A$36:A133))),\"\")","v":""},{"$f":"IFERROR(VLOOKUP($A133,'Total Rankings (excl QB)'!$D:$E,2,0),0)","v":0},0,null,{"$f":"IFERROR(VLOOKUP($A133,'Total Rankings (excl QB)'!$D:$L,4,0),\"\")","v":""},{"$f":"IFERROR(VLOOKUP($A133,'Total Rankings (excl QB)'!$D:$L,5,0),\"\")","v":""},{"$f":"IFERROR(VLOOKUP($A133,'Total Rankings (excl QB)'!$D:$L,6,0),\"\")","v":""},{"$f":"IFERROR(VLOOKUP($A133,'Total Rankings (excl QB)'!$D:$L,7,0),\"\")","v":""},{"$f":"IFERROR(VLOOKUP($A133,'Total Rankings (excl QB)'!$D:$L,8,0),\"\")","v":""},null,{"$f":"IFERROR(INDEX('Positional Ranks'!M$4:M$195,_xlfn.AGGREGATE(15,6,ROW('Positional Ranks'!M$4:M$195)-ROW('Positional Ranks'!M$4)+1/('Positional Ranks'!M$4:Q$195=\"Consistent RB2\"),ROWS('Tiered Rankings'!K$36:K133))),\"\")","v":""},{"$f":"IFERROR(VLOOKUP($K133,'Total Rankings (excl QB)'!$D:$E,2,0),0)","v":0},0,null,{"$f":"IFERROR(VLOOKUP($K133,'Total Rankings (excl QB)'!$D:$L,4,0),\"\")","v":""},{"$f":"IFERROR(VLOOKUP($K133,'Total Rankings (excl QB)'!$D:$L,5,0),\"\")","v":""},{"$f":"IFERROR(VLOOKUP($K133,'Total Rankings (excl QB)'!$D:$L,6,0),\"\")","v":""},{"$f":"IFERROR(VLOOKUP($K133,'Total Rankings (excl QB)'!$D:$L,7,0),\"\")","v":""},{"$f":"IFERROR(VLOOKUP($K133,'Total Rankings (excl QB)'!$D:$L,8,0),\"\")","v":""}]
[{"$f":"IFERROR(INDEX('Positional Ranks'!B$4:B$195,_xlfn.AGGREGATE(15,6,ROW('Positional Ranks'!B$4:B$195)-ROW('Positional Ranks'!B$4)+1/('Positional Ranks'!B$4:F$195=\"Consistent WR2\"),ROWS('Tiered Rankings'!A$36:A134))),\"\")","v":""},{"$f":"IFERROR(VLOOKUP($A134,'Total Rankings (excl QB)'!$D:$E,2,0),0)","v":0},0,null,{"$f":"IFERROR(VLOOKUP($A134,'Total Rankings (excl QB)'!$D:$L,4,0),\"\")","v":""},{"$f":"IFERROR(VLOOKUP($A134,'Total Rankings (excl QB)'!$D:$L,5,0),\"\")","v":""},{"$f":"IFERROR(VLOOKUP($A134,'Total Rankings (excl QB)'!$D:$L,6,0),\"\")","v":""},{"$f":"IFERROR(VLOOKUP($A134,'Total Rankings (excl QB)'!$D:$L,7,0),\"\")","v":""},{"$f":"IFERROR(VLOOKUP($A134,'Total Rankings (excl QB)'!$D:$L,8,0),\"\")","v":""}]
[{"$f":"IFERROR(INDEX('Positional Ranks'!B$4:B$195,_xlfn.AGGREGATE(15,6,ROW('Positional Ranks'!B$4:B$195)-ROW('Positional Ranks'!B$4)+1/('Positional Ranks'!B$4:F$195=\"Consistent WR2\"),ROWS('Tiered Rankings'!A$36:A135))),\"\")","v":""},{"$f":"IFERROR(VLOOKUP($A135,'Total Rankings (excl QB)'!$D:$E,2,0),0)","v":0},{"$f":"IFERROR(B135/17,0)","v":0},null,{"$f":"IFERROR(VLOOKUP($A135,'Total Rankings (excl QB)'!$D:$L,4,0),\"\")","v":""},{"$f":"IFERROR(VLOOKUP($A135,'Total Rankings (excl QB)'!$D:$L,5,0),\"\")","v":""},{"$f":"IFERROR(VLOOKUP($A135,'Total Rankings (excl QB)'!$D:$L,6,0),\"\")","v":""},{"$f":"IFERROR(VLOOKUP($A135,'Total Rankings (excl QB)'!$D:$L,7,0),\"\")","v":""},{"$f":"IFERROR(VLOOKUP($A135,'Total Rankings (excl QB)'!$D:$L,8,0),\"\")","v":""}]
[{"$f":"IFERROR(INDEX('Positional Ranks'!B$4:B$195,_xlfn.AGGREGATE(15,6,ROW('Positional Ranks'!B$4:B$195)-ROW('Positional Ranks'!B$4)+1/('Positional Ranks'!B$4:F$195=\"Consistent WR2\"),ROWS('Tiered Rankings'!A$36:A136))),\"\")","v":""},{"$f":"IFERROR(VLOOKUP($A136,'Total Rankings (excl QB)'!$D:$E,2,0),0)","v":0},0,null,{"$f":"IFERROR(VLOOKUP($A136,'Total Rankings (excl QB)'!$D:$L,4,0),\"\")","v":""},{"$f":"IFERROR(VLOOKUP($A136,'Total Rankings (excl QB)'!$D:$L,5,0),\"\")","v":""},{"$f":"IFERROR(VLOOKUP($A136,'Total Rankings (excl QB)'!$D:$L,6,0),\"\")","v":""},{"$f":"IFERROR(VLOOKUP($A136,'Total Rankings (excl QB)'!$D:$L,7,0),\"\")","v":""},{"$f":"IFERROR(VLOOKUP($A136,'Total Rankings (excl QB)'!$D:$L,8,0),\"\")","v":""}]
[{"$f":"IFERROR(INDEX('Positional Ranks'!B$4:B$195,_xlfn.AGGREGATE(15,6,ROW('Positional Ranks'!B$4:B$195)-ROW('Positional Ranks'!B$4)+1/('Positional Ranks'!B$4:F$195=\"Consistent WR2\"),ROWS('Tiered Rankings'!A$36:A137))),\"\")","v":""},{"$f":"IFERROR(VLOOKUP($A137,'Total Rankings (excl QB)'!$D:$E,2,0),0)","v":0},0,null,{"$f":"IFERROR(VLOOKUP($A137,'Total Rankings (excl QB)'!$D:$L,4,0),\"\")","v":""},{"$f":"IFERROR(VLOOKUP($A137,'Total Rankings (excl QB)'!$D:$L,5,0),\"\")","v":""},{"$f":"IFERROR(VLOOKUP($A137,'Total Rankings (excl QB)'!$D:$L,6,0),\"\")","v":""},{"$f":"IFERROR(VLOOKUP($A137,'Total Rankings (excl QB)'!$D:$L,7,0),\"\")","v":""},{"$f":"IFERROR(VLOOKUP($A137,'Total Rankings (excl QB)'!$D:$L,8,0),\"\")","v":""}]
[{"$f":"IFERROR(INDEX('Positional Ranks'!B$4:B$195,_xlfn.AGGREGATE(15,6,ROW('Positional Ranks'!B$4:B$195)-ROW('Positional Ranks'!B$4)+1/('Positional Ranks'!B$4:F$195=\"Consistent WR2\"),ROWS('Tiered Rankings'!A$36:A138))),\"\")","v":""},{"$f":"IFERROR(VLOOKUP($A138,'Total Rankings (excl QB)'!$D:$E,2,0),0)","v":0},0,null,{"$f":"IFERROR(VLOOKUP($A138,'Total Rankings (excl QB)'!$D:$L,4,0),\"\")","v":""},{"$f":"IFERROR(VLOOKUP($A138,'Total Rankings (excl QB)'!$D:$L,5,0),\"\")","v":""},{"$f":"IFERROR(VLOOKUP($A138,'Total Rankings (excl QB)'!$D:$L,6,0),\"\")","v":""},{"$f":"IFERROR(VLOOKUP($A138,'Total Rankings (excl QB)'!$D:$L,7,0),\"\")","v":""},{"$f":"IFERROR(VLOOKUP($A138,'Total Rankings (excl QB)'!$D:$L,8,0),\"\")","v":""}]
[{"$f":"IFERROR(INDEX('Positional Ranks'!B$4:B$195,_xlfn.AGGREGATE(15,6,ROW('Positional Ranks'!B$4:B$195)-ROW('Positional Ranks'!B$4)+1/('Positional Ranks'!B$4:F$195=\"Consistent WR2\"),ROWS('Tiered Rankings'!A$36:A139))),\"\")","v":""},{"$f":"IFERROR(VLOOKUP($A139,'Total Rankings (excl QB)'!$D:$E,2,0),0)","v":0},0,null,{"$f":"IFERROR(VLOOKUP($A139,'Total Rankings (excl QB)'!$D:$L,4,0),\"\")","v":""},{"$f":"IFERROR(VLOOKUP($A139,'Total Rankings (excl QB)'!$D:$L,5,0),\"\")","v":""},{"$f":"IFERROR(VLOOKUP($A139,'Total Rankings (excl QB)'!$D:$L,6,0),\"\")","v":""},{"$f":"IFERROR(VLOOKUP($A139,'Total Rankings (excl QB)'!$D:$L,7,0),\"\")","v":""},{"$f":"IFERROR(VLOOKUP($A139,'Total Rankings (excl QB)'!$D:$L,8,0),\"\")","v":""}]
[{"$f":"IFERROR(INDEX('Positional Ranks'!B$4:B$195,_xlfn.AGGREGATE(15,6,ROW('Positional Ranks'!B$4:B$195)-ROW('Positional Ranks'!B$4)+1/('Positional Ranks'!B$4:F$195=\"Consistent WR2\"),ROWS('Tiered Rankings'!A$36:A140))),\"\")","v":""},{"$f":"IFERROR(VLOOKUP($A140,'Total Rankings (excl QB)'!$D:$E,2,0),0)","v":0},0,null,{"$f":"IFERROR(VLOOKUP($A140,'Total Rankings (excl QB)'!$D:$L,4,0),\"\")","v":""},{"$f":"IFERROR(VLOOKUP($A140,'Total Rankings (excl QB)'!$D:$L,5,0),\"\")","v":""},{"$f":"IFERROR(VLOOKUP($A140,'Total Rankings (excl QB)'!$D:$L,6,0),\"\")","v":""},{"$f":"IFERROR(VLOOKUP($A140,'Total Rankings (excl QB)'!$D:$L,7,0),\"\")","v":""},{"$f":"IFERROR(VLOOKUP($A140,'Total Rankings (excl QB)'!$D:$L,8,0),\"\")","v":""}]
[{"$f":"IFERROR(INDEX('Positional Ranks'!B$4:B$195,_xlfn.AGGREGATE(15,6,ROW('Positional Ranks'!B$4:B$195)-ROW('Positional Ranks'!B$4)+1/('Positional Ranks'!B$4:F$195=\"Consistent WR2\"),ROWS('Tiered Rankings'!A$36:A141))),\"\")","v":""},{"$f":"IFERROR(VLOOKUP($A141,'Total Rankings (excl QB)'!$D:$E,2,0),0)","v":0},0,null,{"$f":"IFERROR(VLOOKUP($A141,'Total Rankings (excl QB)'!$D:$L,4,0),\"\")","v":""},{"$f":"IFERROR(VLOOKUP($A141,'Total Rankings (excl QB)'!$D:$L,5,0),\"\")","v":""},{"$f":"IFERROR(VLOOKUP($A141,'Total Rankings (excl QB)'!$D:$L,6,0),\"\")","v":""},{"$f":"IFERROR(VLOOKUP($A141,'Total Rankings (excl QB)'!$D:$L,7,0),\"\")","v":""},{"$f":"IFERROR(VLOOKUP($A141,'Total Rankings (excl QB)'!$D:$L,8,0),\"\")","v":""}]
[{"$f":"IFERROR(INDEX('Positional Ranks'!B$4:B$195,_xlfn.AGGREGATE(15,6,ROW('Positional Ranks'!B$4:B$195)-ROW('Positional Ranks'!B$4)+1/('Positional Ranks'!B$4:F$195=\"Consistent WR2\"),ROWS('Tiered Rankings'!A$36:A142))),\"\")","v":""},{"$f":"IFERROR(VLOOKUP($A142,'Total Rankings (excl QB)'!$D:$E,2,0),0)","v":0},0,null,{"$f":"IFERROR(VLOOKUP($A142,'Total Rankings (excl QB)'!$D:$L,4,0),\"\")","v":""},{"$f":"IFERROR(VLOOKUP($A142,'Total Rankings (excl QB)'!$D:$L,5,0),\"\")","v":""},{"$f":"IFERROR(VLOOKUP($A142,'Total Rankings (excl QB)'!$D:$L,6,0),\"\")","v":""},{"$f":"IFERROR(VLOOKUP($A142,'Total Rankings (excl QB)'!$D:$L,7,0),\"\")","v":""},{"$f":"IFERROR(VLOOKUP($A142,'Total Rankings (excl QB)'!$D:$L,8,0),\"\")","v":""}]
[{"$f":"IFERROR(INDEX('Positional Ranks'!B$4:B$195,_xlfn.AGGREGATE(15,6,ROW('Positional Ranks'!B$4:B$195)-ROW('Positional Ranks'!B$4)+1/('Positional Ranks'!B$4:F$195=\"Consistent WR2\"),ROWS('Tiered Rankings'!A$36:A143))),\"\")","v":""},{"$f":"IFERROR(VLOOKUP($A143,'Total Rankings (excl QB)'!$D:$E,2,0),0)","v":0},0,null,{"$f":"IFERROR(VLOOKUP($A143,'Total Rankings (excl QB)'!$D:$L,4,0),\"\")","v":""},{"$f":"IFERROR(VLOOKUP($A143,'Total Rankings (excl QB)'!$D:$L,5,0),\"\")","v":""},{"$f":"IFERROR(VLOOKUP($A143,'Total Rankings (excl QB)'!$D:$L,6,0),\"\")","v":""},{"$f":"IFERROR(VLOOKUP($A143,'Total Rankings (excl QB)'!$D:$L,7,0),\"\")","v":""},{"$f":"IFERROR(VLOOKUP($A143,'Total Rankings (excl QB)'!$D:$L,8,0),\"\")","v":""}]
[{"$f":"IFERROR(INDEX('Positional Ranks'!B$4:B$195,_xlfn.AGGREGATE(15,6,ROW('Positional Ranks'!B$4:B$195)-ROW('Positional Ranks'!B$4)+1/('Positional Ranks'!B$4:F$195=\"Consistent WR2\"),ROWS('Tiered Rankings'!A$36:A144))),\"\")","v":""},{"$f":"IFERROR(VLOOKUP($A144,'Total Rankings (excl QB)'!$D:$E,2,0),0)","v":0},0,null,{"$f":"IFERROR(VLOOKUP($A144,'Total Rankings (excl QB)'!$D:$L,4,0),\"\")","v":""},{"$f":"IFERROR(VLOOKUP($A144,'Total Rankings (excl QB)'!$D:$L,5,0),\"\")","v":""},{"$f":"IFERROR(VLOOKUP($A144,'Total Rankings (excl QB)'!$D:$L,6,0),\"\")","v":""},{"$f":"IFERROR(VLOOKUP($A144,'Total Rankings (excl QB)'!$D:$L,7,0),\"\")","v":""},{"$f":"IFERROR(VLOOKUP($A144,'Total Rankings (excl QB)'!$D:$L,8,0),\"\")","v":""}]
[{"$f":"IFERROR(INDEX('Positional Ranks'!B$4:B$195,_xlfn.AGGREGATE(15,6,ROW('Positional Ranks'!B$4:B$195)-ROW('Positional Ranks'!B$4)+1/('Positional Ranks'!B$4:F$195=\"Consistent WR2\"),ROWS('Tiered Rankings'!A$36:A145))),\"\")","v":""},{"$f":"IFERROR(VLOOKUP($A145,'Total Rankings (excl QB)'!$D:$E,2,0),0)","v":0},0,null,{"$f":"IFERROR(VLOOKUP($A145,'Total Rankings (excl QB)'!$D:$L,4,0),\"\")","v":""},{"$f":"IFERROR(VLOOKUP($A145,'Total Rankings (excl QB)'!$D:$L,5,0),\"\")","v":""},{"$f":"IFERROR(VLOOKUP($A145,'Total Rankings (excl QB)'!$D:$L,6,0),\"\")","v":""},{"$f":"IFERROR(VLOOKUP($A145,'Total Rankings (excl QB)'!$D:$L,7,0),\"\")","v":""},{"$f":"IFERROR(VLOOKUP($A145,'Total Rankings (excl QB)'!$D:$L,8,0),\"\")","v":""}]
[{"$f":"IFERROR(INDEX('Positional Ranks'!B$4:B$195,_xlfn.AGGREGATE(15,6,ROW('Positional Ranks'!B$4:B$195)-ROW('Positional Ranks'!B$4)+1/('Positional Ranks'!B$4:F$195=\"Consistent WR2\"),ROWS('Tiered Rankings'!A$36:A146))),\"\")","v":""},{"$f":"IFERROR(VLOOKUP($A146,'Total Rankings (excl QB)'!$D:$E,2,0),0)","v":0},0,null,{"$f":"IFERROR(VLOOKUP($A146,'Total Rankings (excl QB)'!$D:$L,4,0),\"\")","v":""},{"$f":"IFERROR(VLOOKUP($A146,'Total Rankings (excl QB)'!$D:$L,5,0),\"\")","v":""},{"$f":"IFERROR(VLOOKUP($A146,'Total Rankings (excl QB)'!$D:$L,6,0),\"\")","v":""},{"$f":"IFERROR(VLOOKUP($A146,'Total Rankings (excl QB)'!$D:$L,7,0),\"\")","v":""},{"$f":"IFERROR(VLOOKUP($A146,'Total Rankings (excl QB)'!$D:$L,8,0),\"\")","v":""}]
[{"$f":"IFERROR(INDEX('Positional Ranks'!B$4:B$195,_xlfn.AGGREGATE(15,6,ROW('Positional Ranks'!B$4:B$195)-ROW('Positional Ranks'!B$4)+1/('Positional Ranks'!B$4:F$195=\"Consistent WR2\"),ROWS('Tiered Rankings'!A$36:A147))),\"\")","v":""},{"$f":"IFERROR(VLOOKUP($A147,'Total Rankings (excl QB)'!$D:$E,2,0),0)","v":0},0,null,{"$f":"IFERROR(VLOOKUP($A147,'Total Rankings (excl QB)'!$D:$L,4,0),\"\")","v":""},{"$f":"IFERROR(VLOOKUP($A147,'Total Rankings (excl QB)'!$D:$L,5,0),\"\")","v":""},{"$f":"IFERROR(VLOOKUP($A147,'Total Rankings (excl QB)'!$D:$L,6,0),\"\")","v":""},{"$f":"IFERROR(VLOOKUP($A147,'Total Rankings (excl QB)'!$D:$L,7,0),\"\")","v":""},{"$f":"IFERROR(VLOOKUP($A147,'Total Rankings (excl QB)'!$D:$L,8,0),\"\")","v":""}]
[{"$f":"IFERROR(INDEX('Positional Ranks'!B$4:B$195,_xlfn.AGGREGATE(15,6,ROW('Positional Ranks'!B$4:B$195)-ROW('Positional Ranks'!B$4)+1/('Positional Ranks'!B$4:F$195=\"Consistent WR2\"),ROWS('Tiered Rankings'!A$36:A148))),\"\")","v":""},{"$f":"IFERROR(VLOOKUP($A148,'Total Rankings (excl QB)'!$D:$E,2,0),0)","v":0},0,null,{"$f":"IFERROR(VLOOKUP($A148,'Total Rankings (excl QB)'!$D:$L,4,0),\"\")","v":""},{"$f":"IFERROR(VLOOKUP($A148,'Total Rankings (excl QB)'!$D:$L,5,0),\"\")","v":""},{"$f":"IFERROR(VLOOKUP($A148,'Total Rankings (excl QB)'!$D:$L,6,0),\"\")","v":""},{"$f":"IFERROR(VLOOKUP($A148,'Total Rankings (excl QB)'!$D:$L,7,0),\"\")","v":""},{"$f":"IFERROR(VLOOKUP($A148,'Total Rankings (excl QB)'!$D:$L,8,0),\"\")","v":""}]
[{"$f":"IFERROR(INDEX('Positional Ranks'!B$4:B$195,_xlfn.AGGREGATE(15,6,ROW('Positional Ranks'!B$4:B$195)-ROW('Positional Ranks'!B$4)+1/('Positional Ranks'!B$4:F$195=\"Consistent WR2\"),ROWS('Tiered Rankings'!A$36:A149))),\"\")","v":""},{"$f":"IFERROR(VLOOKUP($A149,'Total Rankings (excl QB)'!$D:$E,2,0),0)","v":0},0,null,{"$f":"IFERROR(VLOOKUP($A149,'Total Rankings (excl QB)'!$D:$L,4,0),\"\")","v":""},{"$f":"IFERROR(VLOOKUP($A149,'Total Rankings (excl QB)'!$D:$L,5,0),\"\")","v":""},{"$f":"IFERROR(VLOOKUP($A149,'Total Rankings (excl QB)'!$D:$L,6,0),\"\")","v":""},{"$f":"IFERROR(VLOOKUP($A149,'Total Rankings (excl QB)'!$D:$L,7,0),\"\")","v":""},{"$f":"IFERROR(VLOOKUP($A149,'Total Rankings (excl QB)'!$D:$L,8,0),\"\")","v":""}]
[{"$f":"IFERROR(INDEX('Positional Ranks'!B$4:B$195,_xlfn.AGGREGATE(15,6,ROW('Positional Ranks'!B$4:B$195)-ROW('Positional Ranks'!B$4)+1/('Positional Ranks'!B$4:F$195=\"Consistent WR2\"),ROWS('Tiered Rankings'!A$36:A150))),\"\")","v":""},{"$f":"IFERROR(VLOOKUP($A150,'Total Rankings (excl QB)'!$D:$E,2,0),0)","v":0},0,null,{"$f":"IFERROR(VLOOKUP($A150,'Total Rankings (excl QB)'!$D:$L,4,0),\"\")","v":""},{"$f":"IFERROR(VLOOKUP($A150,'Total Rankings (excl QB)'!$D:$L,5,0),\"\")","v":""},{"$f":"IFERROR(VLOOKUP($A150,'Total Rankings (excl QB)'!$D:$L,6,0),\"\")","v":""},{"$f":"IFERROR(VLOOKUP($A150,'Total Rankings (excl QB)'!$D:$L,7,0),\"\")","v":""},{"$f":"IFERROR(VLOOKUP($A150,'Total Rankings (excl QB)'!$D:$L,8,0),\"\")","v":""}]
[{"$f":"IFERROR(INDEX('Positional Ranks'!B$4:B$195,_xlfn.AGGREGATE(15,6,ROW('Positional Ranks'!B$4:B$195)-ROW('Positional Ranks'!B$4)+1/('Positional Ranks'!B$4:F$195=\"Consistent WR2\"),ROWS('Tiered Rankings'!A$36:A151))),\"\")","v":""},{"$f":"IFERROR(VLOOKUP($A151,'Total Rankings (excl QB)'!$D:$E,2,0),0)","v":0},0,null,{"$f":"IFERROR(VLOOKUP($A151,'Total Rankings (excl QB)'!$D:$L,4,0),\"\")","v":""},{"$f":"IFERROR(VLOOKUP($A151,'Total Rankings (excl QB)'!$D:$L,5,0),\"\")","v":""},{"$f":"IFERROR(VLOOKUP($A151,'Total Rankings (excl QB)'!$D:$L,6,0),\"\")","v":""},{"$f":"IFERROR(VLOOKUP($A151,'Total Rankings (excl QB)'!$D:$L,7,0),\"\")","v":""},{"$f":"IFERROR(VLOOKUP($A151,'Total Rankings (excl QB)'!$D:$L,8,0),\"\")","v":""}]
[{"$f":"IFERROR(INDEX('Positional Ranks'!B$4:B$195,_xlfn.AGGREGATE(15,6,ROW('Positional Ranks'!B$4:B$195)-ROW('Positional Ranks'!B$4)+1/('Positional Ranks'!B$4:F$195=\"Consistent WR2\"),ROWS('Tiered Rankings'!A$36:A152))),\"\")","v":""},{"$f":"IFERROR(VLOOKUP($A152,'Total Rankings (excl QB)'!$D:$E,2,0),0)","v":0},0,null,{"$f":"IFERROR(VLOOKUP($A152,'Total Rankings (excl QB)'!$D:$L,4,0),\"\")","v":""},{"$f":"IFERROR(VLOOKUP($A152,'Total Rankings (excl QB)'!$D:$L,5,0),\"\")","v":""},{"$f":"IFERROR(VLOOKUP($A152,'Total Rankings (excl QB)'!$D:$L,6,0),\"\")","v":""},{"$f":"IFERROR(VLOOKUP($A152,'Total Rankings (excl QB)'!$D:$L,7,0),\"\")","v":""},{"$f":"IFERROR(VLOOKUP($A152,'Total Rankings (excl QB)'!$D:$L,8,0),\"\")","v":""}]
[{"$f":"IFERROR(INDEX('Positional Ranks'!B$4:B$195,_xlfn.AGGREGATE(15,6,ROW('Positional Ranks'!B$4:B$195)-ROW('Positional Ranks'!B$4)+1/('Positional Ranks'!B$4:F$195=\"Consistent WR2\"),ROWS('Tiered Rankings'!A$36:A153))),\"\")","v":""},{"$f":"IFERROR(VLOOKUP($A153,'Total Rankings (excl QB)'!$D:$E,2,0),0)","v":0},0,null,{"$f":"IFERROR(VLOOKUP($A153,'Total Rankings (excl QB)'!$D:$L,4,0),\"\")","v":""},{"$f":"IFERROR(VLOOKUP($A153,'Total Rankings (excl QB)'!$D:$L,5,0),\"\")","v":""},{"$f":"IFERROR(VLOOKUP($A153,'Total Rankings (excl QB)'!$D:$L,6,0),\"\")","v":""},{"$f":"IFERROR(VLOOKUP($A153,'Total Rankings (excl QB)'!$D:$L,7,0),\"\")","v":""},{"$f":"IFERROR(VLOOKUP($A153,'Total Rankings (excl QB)'!$D:$L,8,0),\"\")","v":""}]
[{"$f":"IFERROR(INDEX('Positional Ranks'!B$4:B$195,_xlfn.AGGREGATE(15,6,ROW('Positional Ranks'!B$4:B$195)-ROW('Positional Ranks'!B$4)+1/('Positional Ranks'!B$4:F$195=\"Consistent WR2\"),ROWS('Tiered Rankings'!A$36:A154))),\"\")","v":""},{"$f":"IFERROR(VLOOKUP($A154,'Total Rankings (excl QB)'!$D:$E,2,0),0)","v":0},0,null,{"$f":"IFERROR(VLOOKUP($A154,'Total Rankings (excl QB)'!$D:$L,4,0),\"\")","v":""},{"$f":"IFERROR(VLOOKUP($A154,'Total Rankings (excl QB)'!$D:$L,5,0),\"\")","v":""},{"$f":"IFERROR(VLOOKUP($A154,'Total Rankings (excl QB)'!$D:$L,6,0),\"\")","v":""},{"$f":"IFERROR(VLOOKUP($A154,'Total Rankings (excl QB)'!$D:$L,7,0),\"\")","v":""},{"$f":"IFERROR(VLOOKUP($A154,'Total Rankings (excl QB)'!$D:$L,8,0),\"\")","v":""}]
[{"$f":"IFERROR(INDEX('Positional Ranks'!B$4:B$195,_xlfn.AGGREGATE(15,6,ROW('Positional Ranks'!B$4:B$195)-ROW('Positional Ranks'!B$4)+1/('Positional Ranks'!B$4:F$195=\"Consistent WR2\"),ROWS('Tiered Rankings'!A$36:A155))),\"\")","v":""},{"$f":"IFERROR(VLOOKUP($A155,'Total Rankings (excl QB)'!$D:$E,2,0),0)","v":0},0,null,{"$f":"IFERROR(VLOOKUP($A155,'Total Rankings (excl QB)'!$D:$L,4,0),\"\")","v":""},{"$f":"IFERROR(VLOOKUP($A155,'Total Rankings (excl QB)'!$D:$L,5,0),\"\")","v":""},{"$f":"IFERROR(VLOOKUP($A155,'Total Rankings (excl QB)'!$D:$L,6,0),\"\")","v":""},{"$f":"IFERROR(VLOOKUP($A155,'Total Rankings (excl QB)'!$D:$L,7,0),\"\")","v":""},{"$f":"IFERROR(VLOOKUP($A155,'Total Rankings (excl QB)'!$D:$L,8,0),\"\")","v":""}]
[{"$f":"IFERROR(INDEX('Positional Ranks'!B$4:B$195,_xlfn.AGGREGATE(15,6,ROW('Positional Ranks'!B$4:B$195)-ROW('Positional Ranks'!B$4)+1/('Positional Ranks'!B$4:F$195=\"Consistent WR2\"),ROWS('Tiered Rankings'!A$36:A156))),\"\")","v":""},{"$f":"IFERROR(VLOOKUP($A156,'Total Rankings (excl QB)'!$D:$E,2,0),0)","v":0},0,null,{"$f":"IFERROR(VLOOKUP($A156,'Total Rankings (excl QB)'!$D:$L,4,0),\"\")","v":""},{"$f":"IFERROR(VLOOKUP($A156,'Total Rankings (excl QB)'!$D:$L,5,0),\"\")","v":""},{"$f":"IFERROR(VLOOKUP($A156,'Total Rankings (excl QB)'!$D:$L,6,0),\"\")","v":""},{"$f":"IFERROR(VLOOKUP($A156,'Total Rankings (excl QB)'!$D:$L,7,0),\"\")","v":""},{"$f":"IFERROR(VLOOKUP($A156,'Total Rankings (excl QB)'!$D:$L,8,0),\"\")","v":""}]
[{"$f":"IFERROR(INDEX('Positional Ranks'!B$4:B$195,_xlfn.AGGREGATE(15,6,ROW('Positional Ranks'!B$4:B$195)-ROW('Positional Ranks'!B$4)+1/('Positional Ranks'!B$4:F$195=\"Consistent WR2\"),ROWS('Tiered Rankings'!A$36:A157))),\"\")","v":""},{"$f":"IFERROR(VLOOKUP($A157,'Total Rankings (excl QB)'!$D:$E,2,0),0)","v":0},0,null,{"$f":"IFERROR(VLOOKUP($A157,'Total Rankings (excl QB)'!$D:$L,4,0),\"\")","v":""},{"$f":"IFERROR(VLOOKUP($A157,'Total Rankings (excl QB)'!$D:$L,5,0),\"\")","v":""},{"$f":"IFERROR(VLOOKUP($A157,'Total Rankings (excl QB)'!$D:$L,6,0),\"\")","v":""},{"$f":"IFERROR(VLOOKUP($A157,'Total Rankings (excl QB)'!$D:$L,7,0),\"\")","v":""},{"$f":"IFERROR(VLOOKUP($A157,'Total Rankings (excl QB)'!$D:$L,8,0),\"\")","v":""}]
[{"$f":"IFERROR(INDEX('Positional Ranks'!B$4:B$195,_xlfn.AGGREGATE(15,6,ROW('Positional Ranks'!B$4:B$195)-ROW('Positional Ranks'!B$4)+1/('Positional Ranks'!B$4:F$195=\"Consistent WR2\"),ROWS('Tiered Rankings'!A$36:A158))),\"\")","v":""},{"$f":"IFERROR(VLOOKUP($A158,'Total Rankings (excl QB)'!$D:$E,2,0),0)","v":0},0,null,{"$f":"IFERROR(VLOOKUP($A158,'Total Rankings (excl QB)'!$D:$L,4,0),\"\")","v":""},{"$f":"IFERROR(VLOOKUP($A158,'Total Rankings (excl QB)'!$D:$L,5,0),\"\")","v":""},{"$f":"IFERROR(VLOOKUP($A158,'Total Rankings (excl QB)'!$D:$L,6,0),\"\")","v":""},{"$f":"IFERROR(VLOOKUP($A158,'Total Rankings (excl QB)'!$D:$L,7,0),\"\")","v":""},{"$f":"IFERROR(VLOOKUP($A158,'Total Rankings (excl QB)'!$D:$L,8,0),\"\")","v":""}]
[{"$f":"IFERROR(INDEX('Positional Ranks'!B$4:B$195,_xlfn.AGGREGATE(15,6,ROW('Positional Ranks'!B$4:B$195)-ROW('Positional Ranks'!B$4)+1/('Positional Ranks'!B$4:F$195=\"Consistent WR2\"),ROWS('Tiered Rankings'!A$36:A159))),\"\")","v":""},{"$f":"IFERROR(VLOOKUP($A159,'Total Rankings (excl QB)'!$D:$E,2,0),0)","v":0},0,null,{"$f":"IFERROR(VLOOKUP($A159,'Total Rankings (excl QB)'!$D:$L,4,0),\"\")","v":""},{"$f":"IFERROR(VLOOKUP($A159,'Total Rankings (excl QB)'!$D:$L,5,0),\"\")","v":""},{"$f":"IFERROR(VLOOKUP($A159,'Total Rankings (excl QB)'!$D:$L,6,0),\"\")","v":""},{"$f":"IFERROR(VLOOKUP($A159,'Total Rankings (excl QB)'!$D:$L,7,0),\"\")","v":""},{"$f":"IFERROR(VLOOKUP($A159,'Total Rankings (excl QB)'!$D:$L,8,0),\"\")","v":""}]
[{"$f":"IFERROR(INDEX('Positional Ranks'!B$4:B$195,_xlfn.AGGREGATE(15,6,ROW('Positional Ranks'!B$4:B$195)-ROW('Positional Ranks'!B$4)+1/('Positional Ranks'!B$4:F$195=\"Consistent WR2\"),ROWS('Tiered Rankings'!A$36:A160))),\"\")","v":""},{"$f":"IFERROR(VLOOKUP($A160,'Total Rankings (excl QB)'!$D:$E,2,0),0)","v":0},0,null,{"$f":"IFERROR(VLOOKUP($A160,'Total Rankings (excl QB)'!$D:$L,4,0),\"\")","v":""},{"$f":"IFERROR(VLOOKUP($A160,'Total Rankings (excl QB)'!$D:$L,5,0),\"\")","v":""},{"$f":"IFERROR(VLOOKUP($A160,'Total Rankings (excl QB)'!$D:$L,6,0),\"\")","v":""},{"$f":"IFERROR(VLOOKUP($A160,'Total Rankings (excl QB)'!$D:$L,7,0),\"\")","v":""},{"$f":"IFERROR(VLOOKUP($A160,'Total Rankings (excl QB)'!$D:$L,8,0),\"\")","v":""}]
[{"$f":"IFERROR(INDEX('Positional Ranks'!B$4:B$195,_xlfn.AGGREGATE(15,6,ROW('Positional Ranks'!B$4:B$195)-ROW('Positional Ranks'!B$4)+1/('Positional Ranks'!B$4:F$195=\"Consistent WR2\"),ROWS('Tiered Rankings'!A$36:A161))),\"\")","v":""},{"$f":"IFERROR(VLOOKUP($A161,'Total Rankings (excl QB)'!$D:$E,2,0),0)","v":0},0,null,{"$f":"IFERROR(VLOOKUP($A161,'Total Rankings (excl QB)'!$D:$L,4,0),\"\")","v":""},{"$f":"IFERROR(VLOOKUP($A161,'Total Rankings (excl QB)'!$D:$L,5,0),\"\")","v":""},{"$f":"IFERROR(VLOOKUP($A161,'Total Rankings (excl QB)'!$D:$L,6,0),\"\")","v":""},{"$f":"IFERROR(VLOOKUP($A161,'Total Rankings (excl QB)'!$D:$L,7,0),\"\")","v":""},{"$f":"IFERROR(VLOOKUP($A161,'Total Rankings (excl QB)'!$D:$L,8,0),\"\")","v":""}]
[{"$f":"IFERROR(INDEX('Positional Ranks'!B$4:B$195,_xlfn.AGGREGATE(15,6,ROW('Positional Ranks'!B$4:B$195)-ROW('Positional Ranks'!B$4)+1/('Positional Ranks'!B$4:F$195=\"Consistent WR2\"),ROWS('Tiered Rankings'!A$36:A162))),\"\")","v":""},{"$f":"IFERROR(VLOOKUP($A162,'Total Rankings (excl QB)'!$D:$E,2,0),0)","v":0},0,null,{"$f":"IFERROR(VLOOKUP($A162,'Total Rankings (excl QB)'!$D:$L,4,0),\"\")","v":""},{"$f":"IFERROR(VLOOKUP($A162,'Total Rankings (excl QB)'!$D:$L,5,0),\"\")","v":""},{"$f":"IFERROR(VLOOKUP($A162,'Total Rankings (excl QB)'!$D:$L,6,0),\"\")","v":""},{"$f":"IFERROR(VLOOKUP($A162,'Total Rankings (excl QB)'!$D:$L,7,0),\"\")","v":""},{"$f":"IFERROR(VLOOKUP($A162,'Total Rankings (excl QB)'!$D:$L,8,0),\"\")","v":""}]
[{"$f":"IFERROR(INDEX('Positional Ranks'!B$4:B$195,_xlfn.AGGREGATE(15,6,ROW('Positional Ranks'!B$4:B$195)-ROW('Positional Ranks'!B$4)+1/('Positional Ranks'!B$4:F$195=\"Consistent WR2\"),ROWS('Tiered Rankings'!A$36:A163))),\"\")","v":""},{"$f":"IFERROR(VLOOKUP($A163,'Total Rankings (excl QB)'!$D:$E,2,0),0)","v":0},0,null,{"$f":"IFERROR(VLOOKUP($A163,'Total Rankings (excl QB)'!$D:$L,4,0),\"\")","v":""},{"$f":"IFERROR(VLOOKUP($A163,'Total Rankings (excl QB)'!$D:$L,5,0),\"\")","v":""},{"$f":"IFERROR(VLOOKUP($A163,'Total Rankings (excl QB)'!$D:$L,6,0),\"\")","v":""},{"$f":"IFERROR(VLOOKUP($A163,'Total Rankings (excl QB)'!$D:$L,7,0),\"\")","v":""},{"$f":"IFERROR(VLOOKUP($A163,'Total Rankings (excl QB)'!$D:$L,8,0),\"\")","v":""}]
[{"$f":"IFERROR(INDEX('Positional Ranks'!B$4:B$195,_xlfn.AGGREGATE(15,6,ROW('Positional Ranks'!B$4:B$195)-ROW('Positional Ranks'!B$4)+1/('Positional Ranks'!B$4:F$195=\"Consistent WR2\"),ROWS('Tiered Rankings'!A$36:A164))),\"\")","v":""},{"$f":"IFERROR(VLOOKUP($A164,'Total Rankings (excl QB)'!$D:$E,2,0),0)","v":0},0,null,{"$f":"IFERROR(VLOOKUP($A164,'Total Rankings (excl QB)'!$D:$L,4,0),\"\")","v":""},{"$f":"IFERROR(VLOOKUP($A164,'Total Rankings (excl QB)'!$D:$L,5,0),\"\")","v":""},{"$f":"IFERROR(VLOOKUP($A164,'Total Rankings (excl QB)'!$D:$L,6,0),\"\")","v":""},{"$f":"IFERROR(VLOOKUP($A164,'Total Rankings (excl QB)'!$D:$L,7,0),\"\")","v":""},{"$f":"IFERROR(VLOOKUP($A164,'Total Rankings (excl QB)'!$D:$L,8,0),\"\")","v":""}]
[{"$f":"IFERROR(INDEX('Positional Ranks'!B$4:B$195,_xlfn.AGGREGATE(15,6,ROW('Positional Ranks'!B$4:B$195)-ROW('Positional Ranks'!B$4)+1/('Positional Ranks'!B$4:F$195=\"Consistent WR2\"),ROWS('Tiered Rankings'!A$36:A165))),\"\")","v":""},{"$f":"IFERROR(VLOOKUP($A165,'Total Rankings (excl QB)'!$D:$E,2,0),0)","v":0},0,null,{"$f":"IFERROR(VLOOKUP($A165,'Total Rankings (excl QB)'!$D:$L,4,0),\"\")","v":""},{"$f":"IFERROR(VLOOKUP($A165,'Total Rankings (excl QB)'!$D:$L,5,0),\"\")","v":""},{"$f":"IFERROR(VLOOKUP($A165,'Total Rankings (excl QB)'!$D:$L,6,0),\"\")","v":""},{"$f":"IFERROR(VLOOKUP($A165,'Total Rankings (excl QB)'!$D:$L,7,0),\"\")","v":""},{"$f":"IFERROR(VLOOKUP($A165,'Total Rankings (excl QB)'!$D:$L,8,0),\"\")","v":""}]
[{"$f":"IFERROR(INDEX('Positional Ranks'!B$4:B$195,_xlfn.AGGREGATE(15,6,ROW('Positional Ranks'!B$4:B$195)-ROW('Positional Ranks'!B$4)+1/('Positional Ranks'!B$4:F$195=\"Consistent WR2\"),ROWS('Tiered Rankings'!A$36:A166))),\"\")","v":""},{"$f":"IFERROR(VLOOKUP($A166,'Total Rankings (excl QB)'!$D:$E,2,0),0)","v":0},0,null,{"$f":"IFERROR(VLOOKUP($A166,'Total Rankings (excl QB)'!$D:$L,4,0),\"\")","v":""},{"$f":"IFERROR(VLOOKUP($A166,'Total Rankings (excl QB)'!$D:$L,5,0),\"\")","v":""},{"$f":"IFERROR(VLOOKUP($A166,'Total Rankings (excl QB)'!$D:$L,6,0),\"\")","v":""},{"$f":"IFERROR(VLOOKUP($A166,'Total Rankings (excl QB)'!$D:$L,7,0),\"\")","v":""},{"$f":"IFERROR(VLOOKUP($A166,'Total Rankings (excl QB)'!$D:$L,8,0),\"\")","v":""}]
[{"$f":"IFERROR(INDEX('Positional Ranks'!B$4:B$195,_xlfn.AGGREGATE(15,6,ROW('Positional Ranks'!B$4:B$195)-ROW('Positional Ranks'!B$4)+1/('Positional Ranks'!B$4:F$195=\"Consistent WR2\"),ROWS('Tiered Rankings'!A$36:A167))),\"\")","v":""},{"$f":"IFERROR(VLOOKUP($A167,'Total Rankings (excl QB)'!$D:$E,2,0),0)","v":0},0,null,{"$f":"IFERROR(VLOOKUP($A167,'Total Rankings (excl QB)'!$D:$L,4,0),\"\")","v":""},{"$f":"IFERROR(VLOOKUP($A167,'Total Rankings (excl QB)'!$D:$L,5,0),\"\")","v":""},{"$f":"IFERROR(VLOOKUP($A167,'Total Rankings (excl QB)'!$D:$L,6,0),\"\")","v":""},{"$f":"IFERROR(VLOOKUP($A167,'Total Rankings (excl QB)'!$D:$L,7,0),\"\")","v":""},{"$f":"IFERROR(VLOOKUP($A167,'Total Rankings (excl QB)'!$D:$L,8,0),\"\")","v":""}]
[{"$f":"IFERROR(INDEX('Positional Ranks'!B$4:B$195,_xlfn.AGGREGATE(15,6,ROW('Positional Ranks'!B$4:B$195)-ROW('Positional Ranks'!B$4)+1/('Positional Ranks'!B$4:F$195=\"Consistent WR2\"),ROWS('Tiered Rankings'!A$36:A168))),\"\")","v":""},{"$f":"IFERROR(VLOOKUP($A168,'Total Rankings (excl QB)'!$D:$E,2,0),0)","v":0},0,null,{"$f":"IFERROR(VLOOKUP($A168,'Total Rankings (excl QB)'!$D:$L,4,0),\"\")","v":""},{"$f":"IFERROR(VLOOKUP($A168,'Total Rankings (excl QB)'!$D:$L,5,0),\"\")","v":""},{"$f":"IFERROR(VLOOKUP($A168,'Total Rankings (excl QB)'!$D:$L,6,0),\"\")","v":""},{"$f":"IFERROR(VLOOKUP($A168,'Total Rankings (excl QB)'!$D:$L,7,0),\"\")","v":""},{"$f":"IFERROR(VLOOKUP($A168,'Total Rankings (excl QB)'!$D:$L,8,0),\"\")","v":""}]
[{"$f":"IFERROR(INDEX('Positional Ranks'!B$4:B$195,_xlfn.AGGREGATE(15,6,ROW('Positional Ranks'!B$4:B$195)-ROW('Positional Ranks'!B$4)+1/('Positional Ranks'!B$4:F$195=\"Consistent WR2\"),ROWS('Tiered Rankings'!A$36:A169))),\"\")","v":""},{"$f":"IFERROR(VLOOKUP($A169,'Total Rankings (excl QB)'!$D:$E,2,0),0)","v":0},0,null,{"$f":"IFERROR(VLOOKUP($A169,'Total Rankings (excl QB)'!$D:$L,4,0),\"\")","v":""},{"$f":"IFERROR(VLOOKUP($A169,'Total Rankings (excl QB)'!$D:$L,5,0),\"\")","v":""},{"$f":"IFERROR(VLOOKUP($A169,'Total Rankings (excl QB)'!$D:$L,6,0),\"\")","v":""},{"$f":"IFERROR(VLOOKUP($A169,'Total Rankings (excl QB)'!$D:$L,7,0),\"\")","v":""},{"$f":"IFERROR(VLOOKUP($A169,'Total Rankings (excl QB)'!$D:$L,8,0),\"\")","v":""}]
[{"$f":"IFERROR(INDEX('Positional Ranks'!B$4:B$195,_xlfn.AGGREGATE(15,6,ROW('Positional Ranks'!B$4:B$195)-ROW('Positional Ranks'!B$4)+1/('Positional Ranks'!B$4:F$195=\"Consistent WR2\"),ROWS('Tiered Rankings'!A$36:A170))),\"\")","v":""},{"$f":"IFERROR(VLOOKUP($A170,'Total Rankings (excl QB)'!$D:$E,2,0),0)","v":0},0,null,{"$f":"IFERROR(VLOOKUP($A170,'Total Rankings (excl QB)'!$D:$L,4,0),\"\")","v":""},{"$f":"IFERROR(VLOOKUP($A170,'Total Rankings (excl QB)'!$D:$L,5,0),\"\")","v":""},{"$f":"IFERROR(VLOOKUP($A170,'Total Rankings (excl QB)'!$D:$L,6,0),\"\")","v":""},{"$f":"IFERROR(VLOOKUP($A170,'Total Rankings (excl QB)'!$D:$L,7,0),\"\")","v":""},{"$f":"IFERROR(VLOOKUP($A170,'Total Rankings (excl QB)'!$D:$L,8,0),\"\")","v":""}]
[{"$f":"IFERROR(INDEX('Positional Ranks'!B$4:B$195,_xlfn.AGGREGATE(15,6,ROW('Positional Ranks'!B$4:B$195)-ROW('Positional Ranks'!B$4)+1/('Positional Ranks'!B$4:F$195=\"Consistent WR2\"),ROWS('Tiered Rankings'!A$36:A171))),\"\")","v":""},{"$f":"IFERROR(VLOOKUP($A171,'Total Rankings (excl QB)'!$D:$E,2,0),0)","v":0},0,null,{"$f":"IFERROR(VLOOKUP($A171,'Total Rankings (excl QB)'!$D:$L,4,0),\"\")","v":""},{"$f":"IFERROR(VLOOKUP($A171,'Total Rankings (excl QB)'!$D:$L,5,0),\"\")","v":""},{"$f":"IFERROR(VLOOKUP($A171,'Total Rankings (excl QB)'!$D:$L,6,0),\"\")","v":""},{"$f":"IFERROR(VLOOKUP($A171,'Total Rankings (excl QB)'!$D:$L,7,0),\"\")","v":""},{"$f":"IFERROR(VLOOKUP($A171,'Total Rankings (excl QB)'!$D:$L,8,0),\"\")","v":""}]
[{"$f":"IFERROR(INDEX('Positional Ranks'!B$4:B$195,_xlfn.AGGREGATE(15,6,ROW('Positional Ranks'!B$4:B$195)-ROW('Positional Ranks'!B$4)+1/('Positional Ranks'!B$4:F$195=\"Consistent WR2\"),ROWS('Tiered Rankings'!A$36:A172))),\"\")","v":""},{"$f":"IFERROR(VLOOKUP($A172,'Total Rankings (excl QB)'!$D:$E,2,0),0)","v":0},0,null,{"$f":"IFERROR(VLOOKUP($A172,'Total Rankings (excl QB)'!$D:$L,4,0),\"\")","v":""},{"$f":"IFERROR(VLOOKUP($A172,'Total Rankings (excl QB)'!$D:$L,5,0),\"\")","v":""},{"$f":"IFERROR(VLOOKUP($A172,'Total Rankings (excl QB)'!$D:$L,6,0),\"\")","v":""},{"$f":"IFERROR(VLOOKUP($A172,'Total Rankings (excl QB)'!$D:$L,7,0),\"\")","v":""},{"$f":"IFERROR(VLOOKUP($A172,'Total Rankings (excl QB)'!$D:$L,8,0),\"\")","v":""}]
[{"$f":"IFERROR(INDEX('Positional Ranks'!B$4:B$195,_xlfn.AGGREGATE(15,6,ROW('Positional Ranks'!B$4:B$195)-ROW('Positional Ranks'!B$4)+1/('Positional Ranks'!B$4:F$195=\"Consistent WR2\"),ROWS('Tiered Rankings'!A$36:A173))),\"\")","v":""},{"$f":"IFERROR(VLOOKUP($A173,'Total Rankings (excl QB)'!$D:$E,2,0),0)","v":0},0,null,{"$f":"IFERROR(VLOOKUP($A173,'Total Rankings (excl QB)'!$D:$L,4,0),\"\")","v":""},{"$f":"IFERROR(VLOOKUP($A173,'Total Rankings (excl QB)'!$D:$L,5,0),\"\")","v":""},{"$f":"IFERROR(VLOOKUP($A173,'Total Rankings (excl QB)'!$D:$L,6,0),\"\")","v":""},{"$f":"IFERROR(VLOOKUP($A173,'Total Rankings (excl QB)'!$D:$L,7,0),\"\")","v":""},{"$f":"IFERROR(VLOOKUP($A173,'Total Rankings (excl QB)'!$D:$L,8,0),\"\")","v":""}]
[{"$f":"IFERROR(INDEX('Positional Ranks'!B$4:B$195,_xlfn.AGGREGATE(15,6,ROW('Positional Ranks'!B$4:B$195)-ROW('Positional Ranks'!B$4)+1/('Positional Ranks'!B$4:F$195=\"Consistent WR2\"),ROWS('Tiered Rankings'!A$36:A174))),\"\")","v":""},{"$f":"IFERROR(VLOOKUP($A174,'Total Rankings (excl QB)'!$D:$E,2,0),0)","v":0},0,null,{"$f":"IFERROR(VLOOKUP($A174,'Total Rankings (excl QB)'!$D:$L,4,0),\"\")","v":""},{"$f":"IFERROR(VLOOKUP($A174,'Total Rankings (excl QB)'!$D:$L,5,0),\"\")","v":""},{"$f":"IFERROR(VLOOKUP($A174,'Total Rankings (excl QB)'!$D:$L,6,0),\"\")","v":""},{"$f":"IFERROR(VLOOKUP($A174,'Total Rankings (excl QB)'!$D:$L,7,0),\"\")","v":""},{"$f":"IFERROR(VLOOKUP($A174,'Total Rankings (excl QB)'!$D:$L,8,0),\"\")","v":""}]
[{"$f":"IFERROR(INDEX('Positional Ranks'!B$4:B$195,_xlfn.AGGREGATE(15,6,ROW('Positional Ranks'!B$4:B$195)-ROW('Positional Ranks'!B$4)+1/('Positional Ranks'!B$4:F$195=\"Consistent WR2\"),ROWS('Tiered Rankings'!A$36:A175))),\"\")","v":""},{"$f":"IFERROR(VLOOKUP($A175,'Total Rankings (excl QB)'!$D:$E,2,0),0)","v":0},0,null,{"$f":"IFERROR(VLOOKUP($A175,'Total Rankings (excl QB)'!$D:$L,4,0),\"\")","v":""},{"$f":"IFERROR(VLOOKUP($A175,'Total Rankings (excl QB)'!$D:$L,5,0),\"\")","v":""},{"$f":"IFERROR(VLOOKUP($A175,'Total Rankings (excl QB)'!$D:$L,6,0),\"\")","v":""},{"$f":"IFERROR(VLOOKUP($A175,'Total Rankings (excl QB)'!$D:$L,7,0),\"\")","v":""},{"$f":"IFERROR(VLOOKUP($A175,'Total Rankings (excl QB)'!$D:$L,8,0),\"\")","v":""}]
[{"$f":"IFERROR(INDEX('Positional Ranks'!B$4:B$195,_xlfn.AGGREGATE(15,6,ROW('Positional Ranks'!B$4:B$195)-ROW('Positional Ranks'!B$4)+1/('Positional Ranks'!B$4:F$195=\"Consistent WR2\"),ROWS('Tiered Rankings'!A$36:A176))),\"\")","v":""},{"$f":"IFERROR(VLOOKUP($A176,'Total Rankings (excl QB)'!$D:$E,2,0),0)","v":0},0,null,{"$f":"IFERROR(VLOOKUP($A176,'Total Rankings (excl QB)'!$D:$L,4,0),\"\")","v":""},{"$f":"IFERROR(VLOOKUP($A176,'Total Rankings (excl QB)'!$D:$L,5,0),\"\")","v":""},{"$f":"IFERROR(VLOOKUP($A176,'Total Rankings (excl QB)'!$D:$L,6,0),\"\")","v":""},{"$f":"IFERROR(VLOOKUP($A176,'Total Rankings (excl QB)'!$D:$L,7,0),\"\")","v":""},{"$f":"IFERROR(VLOOKUP($A176,'Total Rankings (excl QB)'!$D:$L,8,0),\"\")","v":""}]
[{"$f":"IFERROR(INDEX('Positional Ranks'!B$4:B$195,_xlfn.AGGREGATE(15,6,ROW('Positional Ranks'!B$4:B$195)-ROW('Positional Ranks'!B$4)+1/('Positional Ranks'!B$4:F$195=\"Consistent WR2\"),ROWS('Tiered Rankings'!A$36:A177))),\"\")","v":""},{"$f":"IFERROR(VLOOKUP($A177,'Total Rankings (excl QB)'!$D:$E,2,0),0)","v":0},0,null,{"$f":"IFERROR(VLOOKUP($A177,'Total Rankings (excl QB)'!$D:$L,4,0),\"\")","v":""},{"$f":"IFERROR(VLOOKUP($A177,'Total Rankings (excl QB)'!$D:$L,5,0),\"\")","v":""},{"$f":"IFERROR(VLOOKUP($A177,'Total Rankings (excl QB)'!$D:$L,6,0),\"\")","v":""},{"$f":"IFERROR(VLOOKUP($A177,'Total Rankings (excl QB)'!$D:$L,7,0),\"\")","v":""},{"$f":"IFERROR(VLOOKUP($A177,'Total Rankings (excl QB)'!$D:$L,8,0),\"\")","v":""}]
[{"$f":"IFERROR(INDEX('Positional Ranks'!B$4:B$195,_xlfn.AGGREGATE(15,6,ROW('Positional Ranks'!B$4:B$195)-ROW('Positional Ranks'!B$4)+1/('Positional Ranks'!B$4:F$195=\"Consistent WR2\"),ROWS('Tiered Rankings'!A$36:A178))),\"\")","v":""},{"$f":"IFERROR(VLOOKUP($A178,'Total Rankings (excl QB)'!$D:$E,2,0),0)","v":0},0,null,{"$f":"IFERROR(VLOOKUP($A178,'Total Rankings (excl QB)'!$D:$L,4,0),\"\")","v":""},{"$f":"IFERROR(VLOOKUP($A178,'Total Rankings (excl QB)'!$D:$L,5,0),\"\")","v":""},{"$f":"IFERROR(VLOOKUP($A178,'Total Rankings (excl QB)'!$D:$L,6,0),\"\")","v":""},{"$f":"IFERROR(VLOOKUP($A178,'Total Rankings (excl QB)'!$D:$L,7,0),\"\")","v":""},{"$f":"IFERROR(VLOOKUP($A178,'Total Rankings (excl QB)'!$D:$L,8,0),\"\")","v":""}]
[{"$f":"IFERROR(INDEX('Positional Ranks'!B$4:B$195,_xlfn.AGGREGATE(15,6,ROW('Positional Ranks'!B$4:B$195)-ROW('Positional Ranks'!B$4)+1/('Positional Ranks'!B$4:F$195=\"Consistent WR2\"),ROWS('Tiered Rankings'!A$36:A179))),\"\")","v":""},{"$f":"IFERROR(VLOOKUP($A179,'Total Rankings (excl QB)'!$D:$E,2,0),0)","v":0},0,null,{"$f":"IFERROR(VLOOKUP($A179,'Total Rankings (excl QB)'!$D:$L,4,0),\"\")","v":""},{"$f":"IFERROR(VLOOKUP($A179,'Total Rankings (excl QB)'!$D:$L,5,0),\"\")","v":""},{"$f":"IFERROR(VLOOKUP($A179,'Total Rankings (excl QB)'!$D:$L,6,0),\"\")","v":""},{"$f":"IFERROR(VLOOKUP($A179,'Total Rankings (excl QB)'!$D:$L,7,0),\"\")","v":""},{"$f":"IFERROR(VLOOKUP($A179,'Total Rankings (excl QB)'!$D:$L,8,0),\"\")","v":""}]
[{"$f":"IFERROR(INDEX('Positional Ranks'!B$4:B$195,_xlfn.AGGREGATE(15,6,ROW('Positional Ranks'!B$4:B$195)-ROW('Positional Ranks'!B$4)+1/('Positional Ranks'!B$4:F$195=\"Consistent WR2\"),ROWS('Tiered Rankings'!A$36:A180))),\"\")","v":""},{"$f":"IFERROR(VLOOKUP($A180,'Total Rankings (excl QB)'!$D:$E,2,0),0)","v":0},0,null,{"$f":"IFERROR(VLOOKUP($A180,'Total Rankings (excl QB)'!$D:$L,4,0),\"\")","v":""},{"$f":"IFERROR(VLOOKUP($A180,'Total Rankings (excl QB)'!$D:$L,5,0),\"\")","v":""},{"$f":"IFERROR(VLOOKUP($A180,'Total Rankings (excl QB)'!$D:$L,6,0),\"\")","v":""},{"$f":"IFERROR(VLOOKUP($A180,'Total Rankings (excl QB)'!$D:$L,7,0),\"\")","v":""},{"$f":"IFERROR(VLOOKUP($A180,'Total Rankings (excl QB)'!$D:$L,8,0),\"\")","v":""}]
[{"$f":"IFERROR(INDEX('Positional Ranks'!B$4:B$195,_xlfn.AGGREGATE(15,6,ROW('Positional Ranks'!B$4:B$195)-ROW('Positional Ranks'!B$4)+1/('Positional Ranks'!B$4:F$195=\"Consistent WR2\"),ROWS('Tiered Rankings'!A$36:A181))),\"\")","v":""},{"$f":"IFERROR(VLOOKUP($A181,'Total Rankings (excl QB)'!$D:$E,2,0),0)","v":0},0,null,{"$f":"IFERROR(VLOOKUP($A181,'Total Rankings (excl QB)'!$D:$L,4,0),\"\")","v":""},{"$f":"IFERROR(VLOOKUP($A181,'Total Rankings (excl QB)'!$D:$L,5,0),\"\")","v":""},{"$f":"IFERROR(VLOOKUP($A181,'Total Rankings (excl QB)'!$D:$L,6,0),\"\")","v":""},{"$f":"IFERROR(VLOOKUP($A181,'Total Rankings (excl QB)'!$D:$L,7,0),\"\")","v":""},{"$f":"IFERROR(VLOOKUP($A181,'Total Rankings (excl QB)'!$D:$L,8,0),\"\")","v":""}]
[{"$f":"IFERROR(INDEX('Positional Ranks'!B$4:B$195,_xlfn.AGGREGATE(15,6,ROW('Positional Ranks'!B$4:B$195)-ROW('Positional Ranks'!B$4)+1/('Positional Ranks'!B$4:F$195=\"Consistent WR2\"),ROWS('Tiered Rankings'!A$36:A182))),\"\")","v":""},{"$f":"IFERROR(VLOOKUP($A182,'Total Rankings (excl QB)'!$D:$E,2,0),0)","v":0},0,null,{"$f":"IFERROR(VLOOKUP($A182,'Total Rankings (excl QB)'!$D:$L,4,0),\"\")","v":""},{"$f":"IFERROR(VLOOKUP($A182,'Total Rankings (excl QB)'!$D:$L,5,0),\"\")","v":""},{"$f":"IFERROR(VLOOKUP($A182,'Total Rankings (excl QB)'!$D:$L,6,0),\"\")","v":""},{"$f":"IFERROR(VLOOKUP($A182,'Total Rankings (excl QB)'!$D:$L,7,0),\"\")","v":""},{"$f":"IFERROR(VLOOKUP($A182,'Total Rankings (excl QB)'!$D:$L,8,0),\"\")","v":""}]
[{"$f":"IFERROR(INDEX('Positional Ranks'!B$4:B$195,_xlfn.AGGREGATE(15,6,ROW('Positional Ranks'!B$4:B$195)-ROW('Positional Ranks'!B$4)+1/('Positional Ranks'!B$4:F$195=\"Consistent WR2\"),ROWS('Tiered Rankings'!A$36:A183))),\"\")","v":""},{"$f":"IFERROR(VLOOKUP($A183,'Total Rankings (excl QB)'!$D:$E,2,0),0)","v":0},0,null,{"$f":"IFERROR(VLOOKUP($A183,'Total Rankings (excl QB)'!$D:$L,4,0),\"\")","v":""},{"$f":"IFERROR(VLOOKUP($A183,'Total Rankings (excl QB)'!$D:$L,5,0),\"\")","v":""},{"$f":"IFERROR(VLOOKUP($A183,'Total Rankings (excl QB)'!$D:$L,6,0),\"\")","v":""},{"$f":"IFERROR(VLOOKUP($A183,'Total Rankings (excl QB)'!$D:$L,7,0),\"\")","v":""},{"$f":"IFERROR(VLOOKUP($A183,'Total Rankings (excl QB)'!$D:$L,8,0),\"\")","v":""}]
[{"$f":"IFERROR(INDEX('Positional Ranks'!B$4:B$195,_xlfn.AGGREGATE(15,6,ROW('Positional Ranks'!B$4:B$195)-ROW('Positional Ranks'!B$4)+1/('Positional Ranks'!B$4:F$195=\"Consistent WR2\"),ROWS('Tiered Rankings'!A$36:A184))),\"\")","v":""},{"$f":"IFERROR(VLOOKUP($A184,'Total Rankings (excl QB)'!$D:$E,2,0),0)","v":0},0,null,{"$f":"IFERROR(VLOOKUP($A184,'Total Rankings (excl QB)'!$D:$L,4,0),\"\")","v":""},{"$f":"IFERROR(VLOOKUP($A184,'Total Rankings (excl QB)'!$D:$L,5,0),\"\")","v":""},{"$f":"IFERROR(VLOOKUP($A184,'Total Rankings (excl QB)'!$D:$L,6,0),\"\")","v":""},{"$f":"IFERROR(VLOOKUP($A184,'Total Rankings (excl QB)'!$D:$L,7,0),\"\")","v":""},{"$f":"IFERROR(VLOOKUP($A184,'Total Rankings (excl QB)'!$D:$L,8,0),\"\")","v":""}]
[{"$f":"IFERROR(INDEX('Positional Ranks'!B$4:B$195,_xlfn.AGGREGATE(15,6,ROW('Positional Ranks'!B$4:B$195)-ROW('Positional Ranks'!B$4)+1/('Positional Ranks'!B$4:F$195=\"Consistent WR2\"),ROWS('Tiered Rankings'!A$36:A185))),\"\")","v":""},{"$f":"IFERROR(VLOOKUP($A185,'Total Rankings (excl QB)'!$D:$E,2,0),0)","v":0},0,null,{"$f":"IFERROR(VLOOKUP($A185,'Total Rankings (excl QB)'!$D:$L,4,0),\"\")","v":""},{"$f":"IFERROR(VLOOKUP($A185,'Total Rankings (excl QB)'!$D:$L,5,0),\"\")","v":""},{"$f":"IFERROR(VLOOKUP($A185,'Total Rankings (excl QB)'!$D:$L,6,0),\"\")","v":""},{"$f":"IFERROR(VLOOKUP($A185,'Total Rankings (excl QB)'!$D:$L,7,0),\"\")","v":""},{"$f":"IFERROR(VLOOKUP($A185,'Total Rankings (excl QB)'!$D:$L,8,0),\"\")","v":""}]
[{"$f":"IFERROR(INDEX('Positional Ranks'!B$4:B$195,_xlfn.AGGREGATE(15,6,ROW('Positional Ranks'!B$4:B$195)-ROW('Positional Ranks'!B$4)+1/('Positional Ranks'!B$4:F$195=\"Consistent WR2\"),ROWS('Tiered Rankings'!A$36:A186))),\"\")","v":""},{"$f":"IFERROR(VLOOKUP($A186,'Total Rankings (excl QB)'!$D:$E,2,0),0)","v":0},0,null,{"$f":"IFERROR(VLOOKUP($A186,'Total Rankings (excl QB)'!$D:$L,4,0),\"\")","v":""},{"$f":"IFERROR(VLOOKUP($A186,'Total Rankings (excl QB)'!$D:$L,5,0),\"\")","v":""},{"$f":"IFERROR(VLOOKUP($A186,'Total Rankings (excl QB)'!$D:$L,6,0),\"\")","v":""},{"$f":"IFERROR(VLOOKUP($A186,'Total Rankings (excl QB)'!$D:$L,7,0),\"\")","v":""},{"$f":"IFERROR(VLOOKUP($A186,'Total Rankings (excl QB)'!$D:$L,8,0),\"\")","v":""}]
[{"$f":"IFERROR(INDEX('Positional Ranks'!B$4:B$195,_xlfn.AGGREGATE(15,6,ROW('Positional Ranks'!B$4:B$195)-ROW('Positional Ranks'!B$4)+1/('Positional Ranks'!B$4:F$195=\"Consistent WR2\"),ROWS('Tiered Rankings'!A$36:A187))),\"\")","v":""},{"$f":"IFERROR(VLOOKUP($A187,'Total Rankings (excl QB)'!$D:$E,2,0),0)","v":0},0,null,{"$f":"IFERROR(VLOOKUP($A187,'Total Rankings (excl QB)'!$D:$L,4,0),\"\")","v":""},{"$f":"IFERROR(VLOOKUP($A187,'Total Rankings (excl QB)'!$D:$L,5,0),\"\")","v":""},{"$f":"IFERROR(VLOOKUP($A187,'Total Rankings (excl QB)'!$D:$L,6,0),\"\")","v":""},{"$f":"IFERROR(VLOOKUP($A187,'Total Rankings (excl QB)'!$D:$L,7,0),\"\")","v":""},{"$f":"IFERROR(VLOOKUP($A187,'Total Rankings (excl QB)'!$D:$L,8,0),\"\")","v":""}]
[{"$f":"IFERROR(INDEX('Positional Ranks'!B$4:B$195,_xlfn.AGGREGATE(15,6,ROW('Positional Ranks'!B$4:B$195)-ROW('Positional Ranks'!B$4)+1/('Positional Ranks'!B$4:F$195=\"Consistent WR2\"),ROWS('Tiered Rankings'!A$36:A188))),\"\")","v":""},{"$f":"IFERROR(VLOOKUP($A188,'Total Rankings (excl QB)'!$D:$E,2,0),0)","v":0},0,null,{"$f":"IFERROR(VLOOKUP($A188,'Total Rankings (excl QB)'!$D:$L,4,0),\"\")","v":""},{"$f":"IFERROR(VLOOKUP($A188,'Total Rankings (excl QB)'!$D:$L,5,0),\"\")","v":""},{"$f":"IFERROR(VLOOKUP($A188,'Total Rankings (excl QB)'!$D:$L,6,0),\"\")","v":""},{"$f":"IFERROR(VLOOKUP($A188,'Total Rankings (excl QB)'!$D:$L,7,0),\"\")","v":""},{"$f":"IFERROR(VLOOKUP($A188,'Total Rankings (excl QB)'!$D:$L,8,0),\"\")","v":""}]
[{"$f":"IFERROR(INDEX('Positional Ranks'!B$4:B$195,_xlfn.AGGREGATE(15,6,ROW('Positional Ranks'!B$4:B$195)-ROW('Positional Ranks'!B$4)+1/('Positional Ranks'!B$4:F$195=\"Consistent WR2\"),ROWS('Tiered Rankings'!A$36:A189))),\"\")","v":""},{"$f":"IFERROR(VLOOKUP($A189,'Total Rankings (excl QB)'!$D:$E,2,0),0)","v":0},0,null,{"$f":"IFERROR(VLOOKUP($A189,'Total Rankings (excl QB)'!$D:$L,4,0),\"\")","v":""},{"$f":"IFERROR(VLOOKUP($A189,'Total Rankings (excl QB)'!$D:$L,5,0),\"\")","v":""},{"$f":"IFERROR(VLOOKUP($A189,'Total Rankings (excl QB)'!$D:$L,6,0),\"\")","v":""},{"$f":"IFERROR(VLOOKUP($A189,'Total Rankings (excl QB)'!$D:$L,7,0),\"\")","v":""},{"$f":"IFERROR(VLOOKUP($A189,'Total Rankings (excl QB)'!$D:$L,8,0),\"\")","v":""}]
[{"$f":"IFERROR(INDEX('Positional Ranks'!B$4:B$195,_xlfn.AGGREGATE(15,6,ROW('Positional Ranks'!B$4:B$195)-ROW('Positional Ranks'!B$4)+1/('Positional Ranks'!B$4:F$195=\"Consistent WR2\"),ROWS('Tiered Rankings'!A$36:A190))),\"\")","v":""},{"$f":"IFERROR(VLOOKUP($A190,'Total Rankings (excl QB)'!$D:$E,2,0),0)","v":0},0,null,{"$f":"IFERROR(VLOOKUP($A190,'Total Rankings (excl QB)'!$D:$L,4,0),\"\")","v":""},{"$f":"IFERROR(VLOOKUP($A190,'Total Rankings (excl QB)'!$D:$L,5,0),\"\")","v":""},{"$f":"IFERROR(VLOOKUP($A190,'Total Rankings (excl QB)'!$D:$L,6,0),\"\")","v":""},{"$f":"IFERROR(VLOOKUP($A190,'Total Rankings (excl QB)'!$D:$L,7,0),\"\")","v":""},{"$f":"IFERROR(VLOOKUP($A190,'Total Rankings (excl QB)'!$D:$L,8,0),\"\")","v":""}]
[{"$f":"IFERROR(INDEX('Positional Ranks'!B$4:B$195,_xlfn.AGGREGATE(15,6,ROW('Positional Ranks'!B$4:B$195)-ROW('Positional Ranks'!B$4)+1/('Positional Ranks'!B$4:F$195=\"Consistent WR2\"),ROWS('Tiered Rankings'!A$36:A191))),\"\")","v":""},{"$f":"IFERROR(VLOOKUP($A191,'Total Rankings (excl QB)'!$D:$E,2,0),0)","v":0},0,null,{"$f":"IFERROR(VLOOKUP($A191,'Total Rankings (excl QB)'!$D:$L,4,0),\"\")","v":""},{"$f":"IFERROR(VLOOKUP($A191,'Total Rankings (excl QB)'!$D:$L,5,0),\"\")","v":""},{"$f":"IFERROR(VLOOKUP($A191,'Total Rankings (excl QB)'!$D:$L,6,0),\"\")","v":""},{"$f":"IFERROR(VLOOKUP($A191,'Total Rankings (excl QB)'!$D:$L,7,0),\"\")","v":""},{"$f":"IFERROR(VLOOKUP($A191,'Total Rankings (excl QB)'!$D:$L,8,0),\"\")","v":""}]
[{"$f":"IFERROR(INDEX('Positional Ranks'!B$4:B$195,_xlfn.AGGREGATE(15,6,ROW('Positional Ranks'!B$4:B$195)-ROW('Positional Ranks'!B$4)+1/('Positional Ranks'!B$4:F$195=\"Consistent WR2\"),ROWS('Tiered Rankings'!A$36:A192))),\"\")","v":""},{"$f":"IFERROR(VLOOKUP($A192,'Total Rankings (excl QB)'!$D:$E,2,0),0)","v":0},0,null,{"$f":"IFERROR(VLOOKUP($A192,'Total Rankings (excl QB)'!$D:$L,4,0),\"\")","v":""},{"$f":"IFERROR(VLOOKUP($A192,'Total Rankings (excl QB)'!$D:$L,5,0),\"\")","v":""},{"$f":"IFERROR(VLOOKUP($A192,'Total Rankings (excl QB)'!$D:$L,6,0),\"\")","v":""},{"$f":"IFERROR(VLOOKUP($A192,'Total Rankings (excl QB)'!$D:$L,7,0),\"\")","v":""},{"$f":"IFERROR(VLOOKUP($A192,'Total Rankings (excl QB)'!$D:$L,8,0),\"\")","v":""}]
[{"$f":"IFERROR(INDEX('Positional Ranks'!B$4:B$195,_xlfn.AGGREGATE(15,6,ROW('Positional Ranks'!B$4:B$195)-ROW('Positional Ranks'!B$4)+1/('Positional Ranks'!B$4:F$195=\"Consistent WR2\"),ROWS('Tiered Rankings'!A$36:A193))),\"\")","v":""},{"$f":"IFERROR(VLOOKUP($A193,'Total Rankings (excl QB)'!$D:$E,2,0),0)","v":0},0,null,{"$f":"IFERROR(VLOOKUP($A193,'Total Rankings (excl QB)'!$D:$L,4,0),\"\")","v":""},{"$f":"IFERROR(VLOOKUP($A193,'Total Rankings (excl QB)'!$D:$L,5,0),\"\")","v":""},{"$f":"IFERROR(VLOOKUP($A193,'Total Rankings (excl QB)'!$D:$L,6,0),\"\")","v":""},{"$f":"IFERROR(VLOOKUP($A193,'Total Rankings (excl QB)'!$D:$L,7,0),\"\")","v":""},{"$f":"IFERROR(VLOOKUP($A193,'Total Rankings (excl QB)'!$D:$L,8,0),\"\")","v":""}]
[{"$f":"IFERROR(INDEX('Positional Ranks'!B$4:B$195,_xlfn.AGGREGATE(15,6,ROW('Positional Ranks'!B$4:B$195)-ROW('Positional Ranks'!B$4)+1/('Positional Ranks'!B$4:F$195=\"Consistent WR2\"),ROWS('Tiered Rankings'!A$36:A194))),\"\")","v":""},{"$f":"IFERROR(VLOOKUP($A194,'Total Rankings (excl QB)'!$D:$E,2,0),0)","v":0},0,null,{"$f":"IFERROR(VLOOKUP($A194,'Total Rankings (excl QB)'!$D:$L,4,0),\"\")","v":""},{"$f":"IFERROR(VLOOKUP($A194,'Total Rankings (excl QB)'!$D:$L,5,0),\"\")","v":""},{"$f":"IFERROR(VLOOKUP($A194,'Total Rankings (excl QB)'!$D:$L,6,0),\"\")","v":""},{"$f":"IFERROR(VLOOKUP($A194,'Total Rankings (excl QB)'!$D:$L,7,0),\"\")","v":""},{"$f":"IFERROR(VLOOKUP($A194,'Total Rankings (excl QB)'!$D:$L,8,0),\"\")","v":""}]
[{"$f":"IFERROR(INDEX('Positional Ranks'!B$4:B$195,_xlfn.AGGREGATE(15,6,ROW('Positional Ranks'!B$4:B$195)-ROW('Positional Ranks'!B$4)+1/('Positional Ranks'!B$4:F$195=\"Consistent WR2\"),ROWS('Tiered Rankings'!A$36:A195))),\"\")","v":""},{"$f":"IFERROR(VLOOKUP($A195,'Total Rankings (excl QB)'!$D:$E,2,0),0)","v":0},0,null,{"$f":"IFERROR(VLOOKUP($A195,'Total Rankings (excl QB)'!$D:$L,4,0),\"\")","v":""},{"$f":"IFERROR(VLOOKUP($A195,'Total Rankings (excl QB)'!$D:$L,5,0),\"\")","v":""},{"$f":"IFERROR(VLOOKUP($A195,'Total Rankings (excl QB)'!$D:$L,6,0),\"\")","v":""},{"$f":"IFERROR(VLOOKUP($A195,'Total Rankings (excl QB)'!$D:$L,7,0),\"\")","v":""},{"$f":"IFERROR(VLOOKUP($A195,'Total Rankings (excl QB)'!$D:$L,8,0),\"\")","v":""}]
[{"$f":"IFERROR(INDEX('Positional Ranks'!B$4:B$195,_xlfn.AGGREGATE(15,6,ROW('Positional Ranks'!B$4:B$195)-ROW('Positional Ranks'!B$4)+1/('Positional Ranks'!B$4:F$195=\"Consistent WR2\"),ROWS('Tiered Rankings'!A$36:A196))),\"\")","v":""},{"$f":"IFERROR(VLOOKUP($A196,'Total Rankings (excl QB)'!$D:$E,2,0),0)","v":0},0,null,{"$f":"IFERROR(VLOOKUP($A196,'Total Rankings (excl QB)'!$D:$L,4,0),\"\")","v":""},{"$f":"IFERROR(VLOOKUP($A196,'Total Rankings (excl QB)'!$D:$L,5,0),\"\")","v":""},{"$f":"IFERROR(VLOOKUP($A196,'Total Rankings (excl QB)'!$D:$L,6,0),\"\")","v":""},{"$f":"IFERROR(VLOOKUP($A196,'Total Rankings (excl QB)'!$D:$L,7,0),\"\")","v":""},{"$f":"IFERROR(VLOOKUP($A196,'Total Rankings (excl QB)'!$D:$L,8,0),\"\")","v":""}]
[{"$f":"IFERROR(INDEX('Positional Ranks'!B$4:B$195,_xlfn.AGGREGATE(15,6,ROW('Positional Ranks'!B$4:B$195)-ROW('Positional Ranks'!B$4)+1/('Positional Ranks'!B$4:F$195=\"Consistent WR2\"),ROWS('Tiered Rankings'!A$36:A197))),\"\")","v":""},{"$f":"IFERROR(VLOOKUP($A197,'Total Rankings (excl QB)'!$D:$E,2,0),0)","v":0},0,null,{"$f":"IFERROR(VLOOKUP($A197,'Total Rankings (excl QB)'!$D:$L,4,0),\"\")","v":""},{"$f":"IFERROR(VLOOKUP($A197,'Total Rankings (excl QB)'!$D:$L,5,0),\"\")","v":""},{"$f":"IFERROR(VLOOKUP($A197,'Total Rankings (excl QB)'!$D:$L,6,0),\"\")","v":""},{"$f":"IFERROR(VLOOKUP($A197,'Total Rankings (excl QB)'!$D:$L,7,0),\"\")","v":""},{"$f":"IFERROR(VLOOKUP($A197,'Total Rankings (excl QB)'!$D:$L,8,0),\"\")","v":""}]

{"sheet":"Top 12 Export","index":8,"n_rows":4,"n_cols":5,"rows_kept":4,"cut":false,"hidden":true,"merged":[]}
["Wide Receivers",null,null,"Select Rankings","Running Backs"]
["Running Backs"]
["Tight Ends"]
["Quarterbacks"]

{"sheet":"To Hide","index":9,"n_rows":23,"n_cols":8,"rows_kept":23,"cut":false,"hidden":true,"merged":[]}
["Wide Receivers",null,null,"Select Rankings",{"$f":"'Top 12 Export'!E1","v":"Running Backs"}]
["Running Backs"]
["Tight Ends"]
["Quarterbacks"]
[]
[]
[]
[null,null,null,null,null,null,null,{"$f":"E1","v":"Running Backs"}]
[null,null,null,null,null,null,1,{"$f":"IFERROR(IF($E$1=$A$1,VLOOKUP(G9,'Positional Ranks'!A:B,2,0),IF($E$1=$A$2,VLOOKUP(G9,'Positional Ranks'!L:M,2,0),IF($E$1=$A$3,VLOOKUP(G9,'Positional Ranks'!W:X,2,0),IF($E$1=$A$4,VLOOKUP(G9,'Positional Ranks'!AH:AI,2,0),\"PROJECTIONS INCOMPLETE\")))),\"PROJECTIONS INCOMPLETE\")","v":"James Conner"}]
[null,null,null,null,null,null,2,{"$f":"IFERROR(IF($E$1=$A$1,VLOOKUP(G10,'Positional Ranks'!A:B,2,0),IF($E$1=$A$2,VLOOKUP(G10,'Positional Ranks'!L:M,2,0),IF($E$1=$A$3,VLOOKUP(G10,'Positional Ranks'!W:X,2,0),IF($E$1=$A$4,VLOOKUP(G10,'Positional Ranks'!AH:AI,2,0),\"PROJECTIONS INCOMPLETE\")))),\"PROJECTIONS INCOMPLETE\")","v":"Trey Benson"}]
[null,null,null,null,null,null,3,{"$f":"IFERROR(IF($E$1=$A$1,VLOOKUP(G11,'Positional Ranks'!A:B,2,0),IF($E$1=$A$2,VLOOKUP(G11,'Positional Ranks'!L:M,2,0),IF($E$1=$A$3,VLOOKUP(G11,'Positional Ranks'!W:X,2,0),IF($E$1=$A$4,VLOOKUP(G11,'Positional Ranks'!AH:AI,2,0),\"PROJECTIONS INCOMPLETE\")))),\"PROJECTIONS INCOMPLETE\")","v":"Emari Demercado"}]
[null,null,null,null,null,null,4,{"$f":"IFERROR(IF($E$1=$A$1,VLOOKUP(G12,'Positional Ranks'!A:B,2,0),IF($E$1=$A$2,VLOOKUP(G12,'Positional Ranks'!L:M,2,0),IF($E$1=$A$3,VLOOKUP(G12,'Positional Ranks'!W:X,2,0),IF($E$1=$A$4,VLOOKUP(G12,'Positional Ranks'!AH:AI,2,0),\"PROJECTIONS INCOMPLETE\")))),\"PROJECTIONS INCOMPLETE\")","v":""}]
[null,null,null,null,null,null,5,{"$f":"IFERROR(IF($E$1=$A$1,VLOOKUP(G13,'Positional Ranks'!A:B,2,0),IF($E$1=$A$2,VLOOKUP(G13,'Positional Ranks'!L:M,2,0),IF($E$1=$A$3,VLOOKUP(G13,'Positional Ranks'!W:X,2,0),IF($E$1=$A$4,VLOOKUP(G13,'Positional Ranks'!AH:AI,2,0),\"PROJECTIONS INCOMPLETE\")))),\"PROJECTIONS INCOMPLETE\")","v":""}]
[null,null,null,null,null,null,6,{"$f":"IFERROR(IF($E$1=$A$1,VLOOKUP(G14,'Positional Ranks'!A:B,2,0),IF($E$1=$A$2,VLOOKUP(G14,'Positional Ranks'!L:M,2,0),IF($E$1=$A$3,VLOOKUP(G14,'Positional Ranks'!W:X,2,0),IF($E$1=$A$4,VLOOKUP(G14,'Positional Ranks'!AH:AI,2,0),\"PROJECTIONS INCOMPLETE\")))),\"PROJECTIONS INCOMPLETE\")","v":""}]
[null,null,null,null,null,null,7,{"$f":"IFERROR(IF($E$1=$A$1,VLOOKUP(G15,'Positional Ranks'!A:B,2,0),IF($E$1=$A$2,VLOOKUP(G15,'Positional Ranks'!L:M,2,0),IF($E$1=$A$3,VLOOKUP(G15,'Positional Ranks'!W:X,2,0),IF($E$1=$A$4,VLOOKUP(G15,'Positional Ranks'!AH:AI,2,0),\"PROJECTIONS INCOMPLETE\")))),\"PROJECTIONS INCOMPLETE\")","v":""}]
[null,null,null,null,null,null,8,{"$f":"IFERROR(IF($E$1=$A$1,VLOOKUP(G16,'Positional Ranks'!A:B,2,0),IF($E$1=$A$2,VLOOKUP(G16,'Positional Ranks'!L:M,2,0),IF($E$1=$A$3,VLOOKUP(G16,'Positional Ranks'!W:X,2,0),IF($E$1=$A$4,VLOOKUP(G16,'Positional Ranks'!AH:AI,2,0),\"PROJECTIONS INCOMPLETE\")))),\"PROJECTIONS INCOMPLETE\")","v":""}]
[null,null,null,null,null,null,9,{"$f":"IFERROR(IF($E$1=$A$1,VLOOKUP(G17,'Positional Ranks'!A:B,2,0),IF($E$1=$A$2,VLOOKUP(G17,'Positional Ranks'!L:M,2,0),IF($E$1=$A$3,VLOOKUP(G17,'Positional Ranks'!W:X,2,0),IF($E$1=$A$4,VLOOKUP(G17,'Positional Ranks'!AH:AI,2,0),\"PROJECTIONS INCOMPLETE\")))),\"PROJECTIONS INCOMPLETE\")","v":""}]
[null,null,null,null,null,null,10,{"$f":"IFERROR(IF($E$1=$A$1,VLOOKUP(G18,'Positional Ranks'!A:B,2,0),IF($E$1=$A$2,VLOOKUP(G18,'Positional Ranks'!L:M,2,0),IF($E$1=$A$3,VLOOKUP(G18,'Positional Ranks'!W:X,2,0),IF($E$1=$A$4,VLOOKUP(G18,'Positional Ranks'!AH:AI,2,0),\"PROJECTIONS INCOMPLETE\")))),\"PROJECTIONS INCOMPLETE\")","v":""}]
[null,null,null,null,null,null,11,{"$f":"IFERROR(IF($E$1=$A$1,VLOOKUP(G19,'Positional Ranks'!A:B,2,0),IF($E$1=$A$2,VLOOKUP(G19,'Positional Ranks'!L:M,2,0),IF($E$1=$A$3,VLOOKUP(G19,'Positional Ranks'!W:X,2,0),IF($E$1=$A$4,VLOOKUP(G19,'Positional Ranks'!AH:AI,2,0),\"PROJECTIONS INCOMPLETE\")))),\"PROJECTIONS INCOMPLETE\")","v":""}]
[null,null,null,null,null,null,12,{"$f":"IFERROR(IF($E$1=$A$1,VLOOKUP(G20,'Positional Ranks'!A:B,2,0),IF($E$1=$A$2,VLOOKUP(G20,'Positional Ranks'!L:M,2,0),IF($E$1=$A$3,VLOOKUP(G20,'Positional Ranks'!W:X,2,0),IF($E$1=$A$4,VLOOKUP(G20,'Positional Ranks'!AH:AI,2,0),\"PROJECTIONS INCOMPLETE\")))),\"PROJECTIONS INCOMPLETE\")","v":""}]
[]
[null,null,null,null,null,null,null,{"$f":"IF('Settings & Instructions'!G5=\"Yes\",\"#SFB13 Rankings\",IF('Settings & Instructions'!C13=1,\"PPR\",IF('Settings & Instructions'!C13=0.5,\"Half-PPR\",IF('Settings & Instructions'!C13=0,\"Non-PPR\",\"\"))))","v":"PPR"}]
[null,null,null,null,null,null,null,{"$f":"IF('Settings & Instructions'!G5=\"Yes\",\"\",IF(H8=\"Tight Ends\",IF('Settings & Instructions'!C14=0,\"\",'Settings & Instructions'!C14&\" x Tight End Premium\"),\"\"))","v":""}]

{"sheet":"Team Output","index":10,"n_rows":46,"n_cols":3,"rows_kept":46,"cut":false,"hidden":false,"merged":[]}
["Select Team","Arizona Cardinals",{"$f":"_xlfn.XLOOKUP(B1,Table2[Column1],Table2[Column2])","v":"Arizona_Cardinals"}]
[]
[]
[null,{"$f":"B1","v":"Arizona Cardinals"}]
[]
[]
[]
[null,"Quarterback"]
[null,{"$f":"INDEX(INDIRECT(\"'\"&$B$1&\"'!\"&\"$B$102:$R$103\"),MATCH(MAX(INDIRECT(\"'\"&$B$1&\"'!\"&\"$P$102:$P$103\")),INDIRECT(\"'\"&$B$1&\"'!\"&\"$P$102:$P$103\"),0),1)","v":"Kyler Murray"},{"$f":"INDEX(INDIRECT(\"'\"&$B$1&\"'!\"&\"$B$102:$Q$103\"),MATCH($B$9,INDIRECT(\"'\"&$B$1&\"'!\"&\"$B$102:$B$103\"),0),16)","v":"QB1"}]
[null,null,{"$f":"ROUND(VLOOKUP(B9,'QB Projections'!$C:$M,11,0),0)&\" Fantasy Points\"","v":"307 Fantasy Points"}]
[null,null,{"$f":"ROUND(VLOOKUP(B9,'QB Projections'!$C:$M,11,0)/17,0)&\" Fantasy Points per Game\"","v":"18 Fantasy Points per Game"}]
[]
[null,"Running Back"]
[null,{"$f":"INDEX(INDIRECT(\"'\"&$B$1&\"'!\"&\"$B$142:$P$145\"),MATCH(LARGE(INDIRECT(\"'\"&$B$1&\"'!\"&\"$P$142:$P$145\"),1),INDIRECT(\"'\"&$B$1&\"'!\"&\"$P$142:$P$145\"),0),1)","v":"James Conner"},{"$f":"INDEX(INDIRECT(\"'\"&$B$1&\"'!\"&\"$B$142:$Q$145\"),MATCH($B14,INDIRECT(\"'\"&$B$1&\"'!\"&\"$B$142:$B$145\"),0),16)","v":"RB1"}]
[null,null,{"$f":"ROUND(VLOOKUP(B14,'Total Projections (excl QB)'!$D:$S,16,0),0)&\" Fantasy Points\"","v":"182 Fantasy Points"}]
[null,null,{"$f":"ROUND(VLOOKUP(B14,'Total Projections (excl QB)'!$D:$S,16,0)/17,0)&\" Fantasy Points per Game\"","v":"11 Fantasy Points per Game"}]
[]
[null,{"$f":"INDEX(INDIRECT(\"'\"&$B$1&\"'!\"&\"$B$142:$P$145\"),MATCH(LARGE(INDIRECT(\"'\"&$B$1&\"'!\"&\"$P$142:$P$145\"),2),INDIRECT(\"'\"&$B$1&\"'!\"&\"$P$142:$P$145\"),0),1)","v":"Trey Benson"},{"$f":"INDEX(INDIRECT(\"'\"&$B$1&\"'!\"&\"$B$142:$Q$145\"),MATCH($B18,INDIRECT(\"'\"&$B$1&\"'!\"&\"$B$142:$B$145\"),0),16)","v":"RB2"}]
[null,null,{"$f":"ROUND(VLOOKUP(B18,'Total Projections (excl QB)'!$D:$S,16,0),0)&\" Fantasy Points\"","v":"119 Fantasy Points"}]
[null,null,{"$f":"ROUND(VLOOKUP(B18,'Total Projections (excl QB)'!$D:$S,16,0)/17,0)&\" Fantasy Points per Game\"","v":"7 Fantasy Points per Game"}]
[]
[null,"Wide Receiver"]
[null,{"$f":"INDEX(INDIRECT(\"'\"&$B$1&\"'!\"&\"$B$118:$P$125\"),MATCH(LARGE(INDIRECT(\"'\"&$B$1&\"'!\"&\"$P$118:$P$125\"),1),INDIRECT(\"'\"&$B$1&\"'!\"&\"$P$118:$P$125\"),0),1)","v":"Marvin Harrison"},{"$f":"INDEX(INDIRECT(\"'\"&$B$1&\"'!\"&\"$B$118:$Q$125\"),MATCH($B23,INDIRECT(\"'\"&$B$1&\"'!\"&\"$B$118:$B$125\"),0),16)","v":"WR1"}]
[null,null,{"$f":"ROUND(VLOOKUP(B23,'Total Projections (excl QB)'!$D:$S,16,0),0)&\" Fantasy Points\"","v":"296 Fantasy Points"}]
[null,null,{"$f":"ROUND(VLOOKUP(B23,'Total Projections (excl QB)'!$D:$S,16,0)/17,0)&\" Fantasy Points per Game\"","v":"17 Fantasy Points per Game"}]
[]
[null,{"$f":"INDEX(INDIRECT(\"'\"&$B$1&\"'!\"&\"$B$118:$P$125\"),MATCH(LARGE(INDIRECT(\"'\"&$B$1&\"'!\"&\"$P$118:$P$125\"),2),INDIRECT(\"'\"&$B$1&\"'!\"&\"$P$118:$P$125\"),0),1)","v":"Michael Wilson"},{"$f":"INDEX(INDIRECT(\"'\"&$B$1&\"'!\"&\"$B$118:$Q$125\"),MATCH($B27,INDIRECT(\"'\"&$B$1&\"'!\"&\"$B$118:$B$125\"),0),16)","v":"WR2"}]
[null,null,{"$f":"ROUND(VLOOKUP(B27,'Total Projections (excl QB)'!$D:$S,16,0),0)&\" Fantasy Points\"","v":"113 Fantasy Points"}]
[null,null,{"$f":"ROUND(VLOOKUP(B27,'Total Projections (excl QB)'!$D:$S,16,0)/17,0)&\" Fantasy Points per Game\"","v":"7 Fantasy Points per Game"}]
[]
[null,{"$f":"INDEX(INDIRECT(\"'\"&$B$1&\"'!\"&\"$B$118:$P$125\"),MATCH(LARGE(INDIRECT(\"'\"&$B$1&\"'!\"&\"$P$118:$P$125\"),3),INDIRECT(\"'\"&$B$1&\"'!\"&\"$P$118:$P$125\"),0),1)","v":"Greg Dortch"},{"$f":"INDEX(INDIRECT(\"'\"&$B$1&\"'!\"&\"$B$118:$Q$125\"),MATCH($B31,INDIRECT(\"'\"&$B$1&\"'!\"&\"$B$118:$B$125\"),0),16)","v":"WR3"}]
[null,null,{"$f":"ROUND(VLOOKUP(B31,'Total Projections (excl QB)'!$D:$S,16,0),0)&\" Fantasy Points\"","v":"113 Fantasy Points"}]
[null,null,{"$f":"ROUND(VLOOKUP(B31,'Total Projections (excl QB)'!$D:$S,16,0)/17,0)&\" Fantasy Points per Game\"","v":"7 Fantasy Points per Game"}]
[]
[null,"Tight End"]
[null,{"$f":"INDEX(INDIRECT(\"'\"&$B$1&\"'!\"&\"$B$162:$P$165\"),MATCH(LARGE(INDIRECT(\"'\"&$B$1&\"'!\"&\"$P$162:$P$165\"),1),INDIRECT(\"'\"&$B$1&\"'!\"&\"$P$162:$P$165\"),0),1)","v":"Trey McBride"},{"$f":"INDEX(INDIRECT(\"'\"&$B$1&\"'!\"&\"$B$162:$Q$165\"),MATCH($B36,INDIRECT(\"'\"&$B$1&\"'!\"&\"$B$162:$B$165\"),0),16)","v":"TE1"}]
[null,null,{"$f":"ROUND(VLOOKUP(B36,'Total Projections (excl QB)'!$D:$S,16,0),0)&\" Fantasy Points\"","v":"317 Fantasy Points"}]
[null,null,{"$f":"ROUND(VLOOKUP(B36,'Total Projections (excl QB)'!$D:$S,16,0)/17,0)&\" Fantasy Points per Game\"","v":"19 Fantasy Points per Game"}]
[]
[null,{"$f":"IF('Settings & Instructions'!G5=\"Yes\",\"#SFB13 Projections\",\"\")","v":""}]
[]
["Key League Settings"]
["Points Per Reception",{"$f":"'Settings & Instructions'!C13","v":1}]
["Premium - Tight End",{"$f":"'Settings & Instructions'!C14","v":1}]
["Premium - Wide Receiver",{"$f":"'Settings & Instructions'!C15","v":0}]
["Premium - Running Back",{"$f":"'Settings & Instructions'!C16","v":0}]

{"sheet":"Prop Checker","index":11,"n_rows":22,"n_cols":21,"rows_kept":22,"cut":false,"hidden":false,"merged":[[2,0,2,1],[4,1,4,2],[5,1,5,2],[7,1,7,2]]}
["Yards Per Fantasy Prop Checker"]
[null,null,null,null,null,null,null,null,null,null,null,null,null,null,"Targets",null,"Quarterback",null,"Low Risk",0.9,1.1000000000000001]
["Populate the light blue cells",null,null,null,null,null,null,null,null,null,null,null,null,null,"Receptions",null,"Wide Receiver",null,"Medium Risk",0.95,1.05]
[null,null,null,null,null,null,null,null,null,null,null,null,null,null,"Receiving Yards",null,"Running Back",null,"High Risk",1,1]
["INSERT PLAYER:",null,null,null,null,null,null,null,null,null,null,null,null,null,"Receiving TDs",null,"Tight End"]
["POSITION:","Wide Receiver",null,null,null,null,null,null,null,null,null,null,null,null,"Rush Att"]
[null,null,null,null,null,null,null,null,null,null,null,null,null,null,"Rushing Yards",null,null,null,null,{"$f":"IF($F$8=$S$2,T2,IF($F$8=$S$3,T3,IF($F$8=$S$4,T4,0)))","v":0.9},{"$f":"IF($F$8=$S$2,U2,IF($F$8=$S$3,U3,IF($F$8=$S$4,U4,0)))","v":1.1000000000000001}]
["SELECT PROP:","Targets",null,null,"RISK APPETITE","Low Risk",null,null,null,null,null,null,null,null,"Rushing TDs"]
["OVER/UNDER:",null,null,null,null,null,null,null,null,null,null,null,null,null,"Pass Att.",null,null,null,null,{"$f":"IFERROR(B11/B9,0)","v":0}]
[null,null,null,null,null,null,null,null,null,null,null,null,null,null,"Completions"]
["PROJECTION:",{"$f":"IF(B6=\"Quarterback\",INDEX('QB Projections'!A3:K67,MATCH('Prop Checker'!B5,'QB Projections'!C3:C67,0),MATCH('Prop Checker'!B8,'QB Projections'!A3:K3,0)),INDEX('Total Projections (excl QB)'!A3:Q515,MATCH('Prop Checker'!B5,'Total Projections (excl QB)'!D3:D515,0),MATCH('Prop Checker'!B8,'Total Projections (excl QB)'!A3:Q3,0)))","v":0},null,null,null,null,null,null,null,null,null,null,null,null,"Pass Yds."]
[null,null,null,null,null,null,null,null,null,null,null,null,null,null,"Pass TD"]
["+/- to Prop",{"$f":"B11-B9","v":0},null,null,"Recommendation:",{"$f":"IF(T9>U7,\"OVER\",IF(T9<T7,\"UNDER\",\"NO BET\"))","v":"UNDER"}]
[]
[]
["PROMO CODES"]
["BetUS - use promo code YARDSPER"]
["Underdog - use promo code YARDSPER"]
[]
[null,null,null,null,"Note: This is a tool to give you a recommendation based on your own projections, it is not gambling advice"]
[null,null,null,null,"Please ensure you've given full consideration before making any bets"]
[null,null,null,null,"If you need any help, call 1-800-GAMBLER"]

{"sheet":"Arizona Cardinals","index":12,"n_rows":730,"n_cols":51,"rows_kept":730,"cut":false,"hidden":false,"merged":[[168,9,168,14],[7,6,12,7],[26,9,27,9],[128,9,128,14],[104,9,104,14],[148,9,148,14]]}
[null,null,null,"*If the file is running slow, ensure Calculation Options (under the Formulas menu) is set to 'Manual'. Then Press F9 to Calculate at any time*"]
[]
[null,null,"ARI"]
[null,null,null,null,null,"2024 Schedule",null,null,null,"2023 Results"]
[null,null,"Arizona Cardinals",null,null,"Week","@","Opponent",null,"Team Totals","Opponent","Off Plays","Pass Att","Rush Att","Pass %",null,"Total TDs","Pass TDs","Rush TDs","Pass TD %"]
[null,null,null,null,null,"Week 1",null,null,null,"Week 1","@ Washington Commanders",55,30,25,0.54545454545454541,null,0,0,0,{"$error":"#DIV/0!"}]
[null,null,null,null,null,"Week 2",null,null,null,"Week 2","New York Giants",60,31,29,0.51666666666666672,null,3,1,2,0.33333333333333331]
[null,"Head Coach",null,"Jonathan Gannon",null,"Week 3","COMING SOON WHEN SCHEDULE IS RELEASED",null,null,"Week 3","Dallas Cowboys",51,21,30,0.41176470588235292,null,3,1,2,0.33333333333333331]
[null,"Offensive Coordinator",null,"Drew Petzing",null,"Week 4",null,null,null,"Week 4","@ San Francisco 49ers",66,41,25,0.62121212121212122,null,2,2,0,1]
[null,null,null,null,null,"Week 5",null,null,null,"Week 5","Cincinnati Bengals",54,32,22,0.59259259259259256,null,3,2,1,0.66666666666666663]
[null,"Division",null,"NFC West",null,"Week 6",null,null,null,"Week 6","@ Los Angeles Rams",71,41,30,0.57746478873239437,null,0,0,0,{"$error":"#DIV/0!"}]
[null,"Last Season Finish",null,"4-13",null,"Week 7",null,null,null,"Week 7","@ Seattle Seahawks",59,34,25,0.57627118644067798,null,1,0,1,0]
[null,null,null,null,null,"Week 8",null,null,null,"Week 8","Baltimore Ravens",69,37,32,0.53623188405797106,null,3,2,1,0.66666666666666663]
[null,null,null,null,null,"Week 9",null,null,null,"Week 9","@ Cleveland Browns",41,20,21,0.48780487804878048,null,0,0,0,{"$error":"#DIV/0!"}]
[null,"Top Projected Players",null,null,null,"Week 10",null,null,null,"Week 10","Atlanta Falcons",58,32,26,0.55172413793103448,null,2,0,2,0]
[null,null,null,null,null,"Week 11",null,null,null,"Week 11","@ Houston Texans",55,30,25,0.54545454545454541,null,2,1,1,0.5]
[null,{"$f":"IFERROR(INDEX($B$102:$S$165,MATCH(1,$S$102:$S$165,0),1),\"\")","v":"Trey McBride"},{"$f":"IFERROR(INDEX($B$102:$Q$165,MATCH(B17,$B$102:$B$165,0),16),\"\")","v":"TE1"},{"$f":"IFERROR(INDEX($B$102:$R$165,MATCH(B17,$B$102:$B$165,0),17),\"\")","v":"Top TE"},null,"Week 12",null,null,null,"Week 12","Los Angeles Rams",60,45,15,0.75,null,2,1,1,0.5]
[null,{"$f":"IFERROR(INDEX($B$102:$S$165,MATCH(2,$S$102:$S$165,0),1),\"\")","v":"Kyler Murray"},{"$f":"IFERROR(INDEX($B$102:$Q$165,MATCH(B18,$B$102:$B$165,0),16),\"\")","v":"QB1"},{"$f":"IFERROR(INDEX($B$102:$R$165,MATCH(B18,$B$102:$B$165,0),17),\"\")","v":"2nd Tier QB1"},null,"Week 13",null,null,null,"Week 13","@ Pittsburgh Steelers",61,23,38,0.37704918032786883,null,3,1,2,0.33333333333333331]
[null,{"$f":"IFERROR(INDEX($B$102:$S$165,MATCH(3,$S$102:$S$165,0),1),\"\")","v":"Marvin Harrison"},{"$f":"IFERROR(INDEX($B$102:$Q$165,MATCH(B19,$B$102:$B$165,0),16),\"\")","v":"WR1"},{"$f":"IFERROR(INDEX($B$102:$R$165,MATCH(B19,$B$102:$B$165,0),17),\"\")","v":"2nd Tier WR1"},null,"Week 14",null,null,null,"Week 14","BYE"]
[null,{"$f":"IFERROR(INDEX($B$102:$S$165,MATCH(4,$S$102:$S$165,0),1),\"\")","v":"James Conner"},{"$f":"IFERROR(INDEX($B$102:$Q$165,MATCH(B20,$B$102:$B$165,0),16),\"\")","v":"RB1"},{"$f":"IFERROR(INDEX($B$102:$R$165,MATCH(B20,$B$102:$B$165,0),17),\"\")","v":"Consistent RB2"},null,"Week 15",null,null,null,"Week 15","San Francisco 49ers",69,39,30,0.56521739130434778,null,3,1,2,0.33333333333333331]
[null,{"$f":"IFERROR(INDEX($B$102:$S$165,MATCH(5,$S$102:$S$165,0),1),\"\")","v":"Trey Benson"},{"$f":"IFERROR(INDEX($B$102:$Q$165,MATCH(B21,$B$102:$B$165,0),16),\"\")","v":"RB2"},{"$f":"IFERROR(INDEX($B$102:$R$165,MATCH(B21,$B$102:$B$165,0),17),\"\")","v":"Not a top RB"},null,"Week 16",null,null,null,"Week 16","@ Chicago Bears",58,38,20,0.65517241379310343,null,2,2,0,1]
[null,null,null,null,null,"Week 17",null,null,null,"Week 17","@ Philadelphia Eagles",71,31,40,0.43661971830985913,null,4,3,1,0.75]
[null,null,null,null,null,"Week 18",null,null,null,"Week 18","Seattle Seahawks",68,30,38,0.44117647058823528,null,2,1,1,0.5]
[]
[null,"Team Projection",null,"STEP 1: Project the total team plays and pass % expectation",null,null,null,null,null,"Total",null,1026,555,471,0.54093567251461994,null,35,18,17,0.51428571428571423]
[]
[null,null,"Off Plays","Pass %",null,"Pass Plays","Run Plays",null,null,"2023 League Averages","Full Season",{"$f":"M27+N27","v":1028},572,456,{"$f":"M27/L27","v":0.55642023346303504},null,{"$f":"R27+S27","v":39},24,15,{"$f":"R27/Q27","v":0.61538461538461542}]
[null,"Per Game",62,0.55000000000000004,null,{"$f":"C28*D28","v":34.1},{"$f":"C28-F28","v":27.9},null,null,null,"Per Game",{"$f":"L27/17","v":60.470588235294116},{"$f":"M27/17","v":33.647058823529413},26.823529411764707,{"$f":"O27","v":0.55642023346303504},null,{"$f":"Q27/17","v":2.2941176470588234},1.411764705882353,0.88235294117647056,{"$f":"T27","v":0.61538461538461542}]
[null,"Full Season",{"$f":"C28*17","v":1054},null,null,{"$f":"F28*17","v":579.70000000000005},{"$f":"G28*17","v":474.29999999999995}]
[null,null,null,null,null,null,null,null,null,"2022 Total",null,1098,664,434,0.60473588342440798,null,32,17,15,0.53125]
[null,"Throwaway %",0.03,null,"Throwaway Relevant Data",null,null,null,null,"2021 Total",null,1087,591,496,0.54369825206991718,null,50,27,23,0.54]
[null,null,null,null,"League Average",null,4.4999999999999998E-2,null,null,"2020 Total",null,1054,575,479,0.54554079696394686,null,49,27,22,0.55102040816326525]
[null,null,null,null,"Last Season",null,{"$f":"SUMIFS(INPUTS!CF:CF,INPUTS!BW:BW,$C$3)/SUMIFS(INPUTS!CC:CC,INPUTS!BW:BW,$C$3)","v":1.7301038062283738E-2}]
[]
[]
[]
[null,"Team Wins and Touchdown Expectation",null,null,null,null,"OPTIONAL STEP: Project the expected team wins and the Low/High range of team wins"]
[null,null,null,null,null,null,null,null,"Low","High"]
[null,null,null,null,"Team Wins Projection",7,null,"Range of Outcomes",4,10]
[null,null,null,null,"Expected Team Touchdowns",{"$f":"IFERROR(VLOOKUP(F39,INPUTS!$A$1:$B$34,2,0),\"\")","v":35},null,"Expected Team Touchdowns",{"$f":"IFERROR(VLOOKUP(I39,INPUTS!$A$1:$B$34,2,0),\"\")","v":30},{"$f":"IFERROR(VLOOKUP(J39,INPUTS!$A$1:$B$34,2,0),\"\")","v":40}]
[]
[null,null,null,null,"Current Team Touchdown Projection",{"$f":"L102+L103+SUM(N118:N127)+SUM(I118:I127)+SUM(I142:I145)+SUM(N142:N145)+SUM(N162:N165)+SUM(I162:I165)","v":35},"Note: This section is intended to give you a guide on the expected number of team touchdowns, based on the projected team win total - the more games a team wins, the more touchdowns they'll score"]
[null,null,null,null,null,null,"In the range of outcomes, you can set the low & high ends of expected team wins to see the impact on players expected fantasy points. "]
[null,"Weekly Team Touchdown Expectation"]
[null,null,null,null,null,null,"It's a theoretical guide to try and give you some potential range of outcomes for each player, based solely off the data. It won't capture the individual nature of a player - it's just a guide!"]
[null,"Vegas Over/Under",null,"Spread",null,null,"Also remember that players on bad teams are likely to score less touchdowns. The volume can give you a guide but if they don't score then they won't live up to those expectations!"]
[null,"Implied Total",{"$f":"(C46/2)-(E46/2)","v":0},"Expected Touchdowns",{"$f":"(C47*0.65)/6","v":0}]
[]
[null,"(Expand if needed - click the + on the left)"]
[]
[]
[null,"Supporting Info",null,null,null,null,null,null,null,"*CHECK BACK TO THIS SECTION IN THE NEXT REVISION AS WE GET CLOSER TO THE SEASON AND MORE INFORMATION BECOMES AVAILABLE*"]
[]
[null,"Last Season","(Click the + to see Last Season details and Key Changes from this offseason)",null,null,null,null,null,null,"Key Changes & Need to Know",null,null,"*Scroll Right for Further Analysis*",null,null,null,null,null,null,null,null,"Further Analysis"]
[]
[null,null,null,null,null,null,null,null,null,"Kyler Murray - A disjointed season coming back from injury in 2023, Kyler is fresh for 2024 and has been reaffirmed as the face of the franchise"]
[]
[null,null,null,null,null,null,null,null,null,"Upgraded Skill Players - A potentially generational addition at wide receiver and a solid running back addition will look to boost this team to the next level"]
[]
[]
[]
[null,null,null,null,null,null,null,null,null,"Free Agency - Notable New Players",null,null,null,null,null,"Free Agency - Notable Players who have left"]
[]
[null,null,null,null,null,null,null,null,null,"Desmond Ridder - Quarterback",null,"DeeJay Dallas - Running Back",null,null,null,"Rondale Moore - Wide Receiver"]
[null,null,null,null,null,null,null,null,null,"Evan Brown - Center",null,"Jonah Williams - Offensive Tackle",null,null,null,"Marquise Brown - Wide Receiver"]
[null,null,null,null,null,null,null,null,null,"Chris Moore - Wide Receiver",null,null,null,null,null,"Zach Ertz - Tight End"]
[]
[null,null,null,null,null,null,null,null,null,"Drafted Players"]
[]
[null,null,null,null,null,null,null,null,null,1.04,"Marvin Harrison Jr.","WR",null,4.04,"Dadrion Taylor-Demerson",null,"S"]
[null,null,null,null,null,null,null,null,null,1.27,"Darius Robinson","DE",null,5.03,"Xavier Thomas",null,"Edge"]
[null,null,null,null,null,null,null,null,null,2.11,"Max Melton","CB",null,5.27,"Christian Jones",null,"OT"]
[null,null,null,null,null,null,null,null,null,3.02,"Trey Benson","RB",null,6.15,"Tejhaun Palmer",null,"WR"]
[null,null,null,null,null,null,null,null,null,3.07,"Isaiah Adams","G",null,7.06,"Jaden Davis",null,"DB"]
[null,null,null,null,null,null,null,null,null,3.18,"Tip Reiman","TE"]
[null,null,null,null,null,null,null,null,null,3.27,"Elijah Jones","CB"]
[]
[null,null,null,null,null,null,null,null,null,"Expectations"]
[]
[null,null,null,null,null,null,null,null,null,"*CHECK BACK FOR THE NEXT REVISION AS WE GET CLOSER TO THE SEASON*"]
[]
[]
[]
[null,null,null,null,null,null,null,null,null,"Vegas Win-Total",null,"Regression Notes"]
[]
[null,null,null,null,null,null,null,null,null,"TBC",null,"A lot of stats close to league average across the board"]
[null,null,null,null,null,null,null,null,null,null,null,"Somewhat skewed towards rushing touchdowns over passing touchdowns compared to the league"]
[]
[]
[null,"Player Projections",null,null,null,null,null,"*If the file is running slow, ensure Calculation Options (under the Formulas menu) is set to 'Manual'. Then Press F9 to Calculate at any time*"]
[]
[null,"Target Share And Rush Share Checks",null,null,null,null,"CHECK: For the Projections to work correctly, these %'s should be at 0% - if they're not then you need to reallocate the target / rush shares until they reach 0%"]
[]
[null,null,null,null,"Remaining Target Share to distribute:",{"$f":"1-C31-SUM(C118:C127)-SUM(C142:C147)-SUM(C162:C167)","v":0},null,null,null,null,null,null,"Remaining Rush Share to distribute (remember QB Rush Share):",{"$f":"1-SUM(H102:H103)-SUM(J118:J127)-SUM(J142:J147)-SUM(J162:J167)","v":-1.1102230246251565E-16}]
[]
[]
[null,null,null,null,null,null,null,null,null,null,null,null,null,null,null,null,null,null,null,"Ensure Low & High Touchdowns have been entered in cells I39 & J39 above"]
[null,"Quarterbacks",null,"Note: White Cells will populate automatically",null,null,null,null,"STEP 2: Project the individual player stats in the light blue cells"]
[null,"(Click the + on the left to expand)",null,"Quarterback Passing populates from receiving stats",null,null,null,null,"Ensure 100% of target share and rush share - see above checks",null,null,null,null,null,null,null,null,null,null,"Range of Outcomes"]
[null,null,null,"Project Interceptions and Rushing Stats only for Quarterback",null,null,null,null,null,null,null,null,null,null,null,null,null,null,null,"Low",null,"High",null,null,null,null,null,null,null,null,null,null,null,null,null,null,null,null,null,null,null,"League Averages"]
[null,"Player","Pass Att.","Completions","Pass Yds.","Pass TD","Int","Rush Att Share %","Rush Att.","Yards Per Carry","Rushing Yds","Rushing TDs","QB Completion %","QB TD %","YPA","Fantasy Points","Positional Rank","Tier \n(Volume Based)",null,"Fantasy Points","Tier","Fantasy Points","Tier",null,null,null,null,null,null,null,null,null,null,null,null,null,null,null,null,null,null,"YPA","Pass Att"]
[null,"Kyler Murray",{"$f":"SUM(D118:D127)+SUM(D142:D147)+SUM(D162:D167)-C103","v":562.30899999999997},{"$f":"SUM(F118:F127)+SUM(F142:F147)+SUM(F162:F167)-D103","v":393.50036},{"$f":"SUM(H118:H127)+SUM(H142:H147)+SUM(H162:H167)-E103","v":4417.6618200000012},{"$f":"SUM(I118:I127)+SUM(I142:I147)+SUM(I162:I167)-F103","v":22},12,0.15,{"$f":"H102*$G$29","v":71.144999999999996},6,{"$f":"I102*J102","v":426.87},4,{"$f":"IFERROR(D102/C102,0)","v":0.69979381443298971},{"$f":"IFERROR(F102/C102,0)","v":3.9124396017136485E-2},{"$f":"IFERROR(E102/C102,0)","v":7.8562886597938171},{"$f":"(E102*'Settings & Instructions'!$C$8)+(F102*'Settings & Instructions'!$C$7)+(G102*'Settings & Instructions'!$C$9)+(K102*'Settings & Instructions'!$C$17)+(L102*'Settings & Instructions'!$C$12)+(D102*'Settings & Instructions'!$C$10)+((C102-D102)*'Settings & Instructions'!$C$11)+(I102*'Settings & Instructions'!$C$20)","v":307.39347280000004},{"$f":"IFERROR(\"QB\"&INDEX('Positional Ranks'!$AH:$AI,MATCH($B102,'Positional Ranks'!$AI:$AI,0),1),\"\")","v":"QB1"},{"$f":"IF(I102>(INPUTS!$DB$5-1),\"Top QB\",IF(AND(C102>(INPUTS!$DB$6-1),I102>(INPUTS!$DC$6-1)),\"Top QB\",IF(AND(C102>(INPUTS!$DB$7-1),I102>(INPUTS!$DC$7-1)),\"2nd Tier QB1\",\"Not a top QB\")))","v":"2nd Tier QB1"},{"$f":"RANK(P102,($P$102:$P$103,$P$118:$P$125,$P$142:$P$145,$P$162:$P$165),0)","v":2},{"$f":"IFERROR(IF($I$40>$F$42,P102,P102-((L102+F102)*'Settings & Instructions'!$C$12)+((((L102+F102)/$F$42)*$I$40)*'Settings & Instructions'!$C$12))+(IF(O102>AP102,(AP102-O102)*C102*'Settings & Instructions'!$C$8,0))+(IF(C102>AQ102,(AQ102-C102)*0.5*AP102*'Settings & Instructions'!$C$8,0)),\"\")","v":268.09704171428569},{"$f":"IF(I102>(INPUTS!$DB$5-1),\"Top QB\",IF(AND((IF(C102>AQ102,C102+((AQ102-C102)*0.3),C102)>(INPUTS!$DB$6-1)),I102>(INPUTS!$DC$6-1)),\"Top QB\",IF(AND((IF(C102>AQ102,C102+((AQ102-C102)*0.3),C102)>(INPUTS!$DB$7-1)),I102>(INPUTS!$DC$7-1)),\"2nd Tier QB1\",\"Not a top QB\")))","v":"2nd Tier QB1"},{"$f":"IFERROR(IF($J$40<$F$42,P102,P102-((L102+F102)*'Settings & Instructions'!$C$12)+(((L102+F102)/$F$42)*$J$40)*'Settings & Instructions'!$C$12)+(IF(O102<AP102,(AP102-O102)*C102*'Settings & Instructions'!$C$8,0))+(IF(C102<AQ102,(AQ102-C102)*0.3*AP102*'Settings & Instructions'!$C$8,0)),\"\")","v":330.5048602857143},{"$f":"IF(I102>(INPUTS!$DB$5-1),\"Top QB\",IF(AND((IF(C102<AQ102,C102+((AQ102-C102)*0.3),C102)>(INPUTS!$DB$6-1)),I102>(INPUTS!$DC$6-1)),\"Top QB\",IF(AND((IF(C102<AQ102,C102+((AQ102-C102)*0.5),C102)>(INPUTS!$DB$7-1)),I102>(INPUTS!$DC$7-1)),\"2nd Tier QB1\",\"Not a top QB\")))","v":"2nd Tier QB1"},null,null,null,null,null,null,null,null,null,null,null,null,null,null,null,null,null,null,7.1,{"$f":"M27","v":572}]
[null,null,null,null,null,null,null,null,{"$f":"H103*$G$29","v":0},null,{"$f":"I103*J103","v":0},null,{"$f":"IFERROR(D103/C103,0)","v":0},{"$f":"IFERROR(F103/C103,0)","v":0},{"$f":"IFERROR(E103/C103,0)","v":0},{"$f":"(E103*'Settings & Instructions'!$C$8)+(F103*'Settings & Instructions'!$C$7)+(G103*'Settings & Instructions'!$C$9)+(K103*'Settings & Instructions'!$C$17)+(L103*'Settings & Instructions'!$C$12)+(D103*'Settings & Instructions'!$C$10)+((C103-D103)*'Settings & Instructions'!$C$11)+(I103*'Settings & Instructions'!$C$20)","v":0},{"$f":"IFERROR(\"QB\"&INDEX('Positional Ranks'!$AH:$AI,MATCH($B103,'Positional Ranks'!$AI:$AI,0),1),\"\")","v":"QB2"},null,{"$f":"RANK(P103,($P$102:$P$103,$P$118:$P$125,$P$142:$P$145,$P$162:$P$165),0)","v":14},{"$f":"IFERROR(IF($I$40>$F$42,P103,P103-((L103+F103)*'Settings & Instructions'!$C$12)+((((L103+F103)/$F$42)*$I$40)*'Settings & Instructions'!$C$12)),\"\")","v":0},null,{"$f":"IFERROR(IF($J$40<$F$42,P103,P103-((L103+F103)*'Settings & Instructions'!$C$12)+(((L103+F103)/$F$42)*$J$40)*'Settings & Instructions'!$C$12),\"\")","v":0}]
[]
[null,"Last Season Data Check",null,"Use this section to see last season's stats as a guide or comparison",null,null,null,null,null,"*HOT TIP* if the selected player doesn’t return any last-season data, check the spelling and remove suffixes (e.g. \" Jr.\", \" III\", \" II\")",null,null,null,null,null,null,"Games Played","Points per Game",null,"2023 Worst Performance",null,"2023 Best Performance"]
[null,{"$f":"B102","v":"Kyler Murray"},{"$f":"IFERROR(VLOOKUP($B$106,INPUTS!$F:$AI,9,0),\"N/A\")","v":268},{"$f":"IFERROR(VLOOKUP($B$106,INPUTS!$F:$AI,8,0),\"N/A\")","v":176},{"$f":"IFERROR(VLOOKUP($B$106,INPUTS!$F:$AI,11,0),\"N/A\")","v":1799},{"$f":"IFERROR(VLOOKUP($B$106,INPUTS!$F:$AI,12,0),\"N/A\")","v":10},{"$f":"IFERROR(VLOOKUP($B$106,INPUTS!$F:$AI,14,0),\"N/A\")","v":5},{"$f":"IFERROR(INDEX($E$512:$Z$532,21,MATCH($B106,$E$512:$Z$512,0)),\"N/A\")","v":9.3418259023354558E-2},{"$f":"IFERROR(VLOOKUP($B$106,INPUTS!$AL:$AY,7,0),\"N/A\")","v":44},{"$f":"IFERROR(VLOOKUP($B$106,INPUTS!$AL:$AY,12,0),\"N/A\")","v":5.5},{"$f":"IFERROR(VLOOKUP($B$106,INPUTS!$AL:$AY,8,0),\"N/A\")","v":244},{"$f":"IFERROR(VLOOKUP($B$106,INPUTS!$AL:$AY,9,0),\"N/A\")","v":3},{"$f":"IFERROR(VLOOKUP($B$106,INPUTS!$F:$AI,10,0)/100,\"N/A\")","v":0.65700000000000003},{"$f":"IFERROR(VLOOKUP($B$106,INPUTS!$F:$AI,13,0)/100,\"N/A\")","v":3.7000000000000005E-2},{"$f":"IFERROR(VLOOKUP($B$106,INPUTS!$F:$AI,18,0),\"N/A\")","v":6.7},{"$f":"IFERROR((E106*'Settings & Instructions'!$C$8),0)+IFERROR((F106*'Settings & Instructions'!$C$7),0)+IFERROR((G106*'Settings & Instructions'!$C$9),0)+IFERROR((K106*'Settings & Instructions'!$C$17),0)+IFERROR((L106*'Settings & Instructions'!$C$12),0)+IFERROR((D106*'Settings & Instructions'!$C$10),0)+IFERROR(((C106-D106)*'Settings & Instructions'!$C$11),0)","v":144.36000000000001},{"$f":"IFERROR(VLOOKUP($B$106,INPUTS!$F:$AI,5,0),\"N/A\")","v":8},{"$f":"IFERROR(P106/Q106,\"N/A\")","v":18.045000000000002},null,{"$f":"IFERROR(VLOOKUP($B106,INPUTS!$DQ:$DS,2,0),0)","v":11.8},"PPR Points",{"$f":"IFERROR(VLOOKUP($B106,INPUTS!$DQ:$DS,3,0),0)","v":22.7},"PPR Points"]
[null,"The Real Story",{"$f":"IF(VLOOKUP($B$106,INPUTS!$DT:$DY,2,0)=0,\"\",VLOOKUP($B$106,INPUTS!$DT:$DY,2,0))","v":"Came back from injury in week 10 and played the rest of the season. 4 top 12 finishes with a high of QB5, and a lowest finish of QB19"}]
[null,null,{"$f":"IF(VLOOKUP($B$106,INPUTS!$DT:$DY,3,0)=0,\"\",VLOOKUP($B$106,INPUTS!$DT:$DY,3,0))","v":"Top 12 finishes were all multiple touchdowns including some rushing touchdowns. The rushing touchdowns helps to boost the ability to hit those multiple-touchdown games"}]
[null,null,{"$f":"IF(VLOOKUP($B$106,INPUTS!$DT:$DY,4,0)=0,\"\",VLOOKUP($B$106,INPUTS!$DT:$DY,4,0))","v":"Rarely gets above 250 passing yards but is generally above 200 yards, with solid rushing production to boost the overall yardage"}]
[null,null,{"$f":"IF(VLOOKUP($B$106,INPUTS!$DT:$DY,5,0)=0,\"\",VLOOKUP($B$106,INPUTS!$DT:$DY,5,0))","v":"Underlying stats (touchdown rate, yards per attempt, intended air yards per attempt) are generally in the high 20s so still plenty of room for improvement"}]
[null,null,{"$f":"IF(VLOOKUP($B$106,INPUTS!$DT:$DY,6,0)=0,\"\",VLOOKUP($B$106,INPUTS!$DT:$DY,6,0))","v":""}]
[]
[]
[null,"Wide Receivers",null,"Note: White Cells will populate automatically",null,null,null,null,"STEP 2: Project the individual player stats in the light blue cells"]
[null,"(Click the + on the left to expand)",null,null,null,null,null,null,"Ensure 100% of target share and rush share - see above checks",null,null,null,null,null,null,null,null,null,null,"Range of Outcomes",null,null,null,null,null,null,null,null,null,null,null,null,null,null,null,null,null,null,null,null,null,null,null,"WR1+2+TE1"]
[null,null,null,null,null,null,null,null,null,null,null,null,null,null,null,null,null,null,null,"Low",null,"High",null,null,null,null,null,null,null,null,null,null,null,null,null,null,null,null,null,null,null,null,null,{"$f":"VLOOKUP(1,AR118:AS125,2)+VLOOKUP(2,AR118:AS125,2)+VLOOKUP(1,AR162:AS165,2,0)","v":0.72},{"$f":"IF(AR116<0.5,0.5-AR116,0)","v":0}]
[null,"Player","Target Share %","Targets","Catch %","Receptions","Yards per Reception","Receiving Yards","Receiving TDs","Rush Att Share %","Rush Att","Yards per Carry","Rushing Yards","Rushing TDs","Premium","Fantasy Points","Positional Rank","Tier \n(Volume Based)",null,"Fantasy Points","Tier","Fantasy Points","Tier",null,null,null,null,null,null,null,null,null,null,null,null,null,null,null,null,null,null,"Max Target share"]
[null,"Marvin Harrison",0.25,{"$f":"C118*$F$29","v":144.92500000000001},0.7,{"$f":"D118*E118","v":101.44750000000001},15,{"$f":"G118*F118","v":1521.7125000000001},7,null,{"$f":"J118*$G$29","v":0},null,{"$f":"L118*K118","v":0},null,{"$f":"'Settings & Instructions'!$C$15","v":0},{"$f":"(F118*'Settings & Instructions'!$C$13)+(H118*'Settings & Instructions'!$C$18)+(I118*'Settings & Instructions'!$C$19)+(M118*'Settings & Instructions'!$C$17)+(N118*'Settings & Instructions'!$C$12)+(O118*F118)+(K118*'Settings & Instructions'!$C$20)","v":295.61875000000003},{"$f":"IFERROR(\"WR\"&INDEX('Positional Ranks'!$A:$B,MATCH($B118,'Positional Ranks'!$B:$B,0),1),\"\")","v":"WR1"},{"$f":"IFERROR(IF(AND((D118+K118)>(INPUTS!$CP$5-1),E118>(INPUTS!$CQ$5-0.01),(I118/D118)>(INPUTS!$CR$5-0.01)),\"Elite WR\",IF(AND((D118+K118)>(INPUTS!$CP$6-1),E118>(INPUTS!$CQ$6-0.01),(I118/D118)>(INPUTS!$CR$6-0.01)),\"2nd Tier WR1\",IF((D118+K118)>(INPUTS!$CP$7-1),\"Consistent WR2\",\"Not a top WR\"))),\"Not a top WR\")","v":"2nd Tier WR1"},{"$f":"RANK(P118,($P$102:$P$103,$P$118:$P$125,$P$142:$P$145,$P$162:$P$165),0)","v":3},{"$f":"IFERROR(IF($I$40>$F$42,P118,P118-((N118+I118)*'Settings & Instructions'!$C$12)+((((N118+I118)/$F$42)*$I$40)*'Settings & Instructions'!$C$12))+((AU118-C118)*$F$29*E118*G118*'Settings & Instructions'!$C$18),\"\")","v":271.35820000000001},{"$f":"IFERROR(IF((AU118*$F$29)>(INPUTS!$CP$5-1),\"Elite WR\",IF((AU118*$F$29)>(INPUTS!$CP$6-1),\"2nd Tier WR1\",IF((AU118*$F$29)>(INPUTS!$CP$7-1),\"Consistent WR2\",\"Not a top WR\"))),\"Not a top WR\")","v":"Consistent WR2"},{"$f":"IFERROR(IF($J$40<$F$42,P118,P118-((N118+I118)*'Settings & Instructions'!$C$12)+(((N118+I118)/$F$42)*$J$40)*'Settings & Instructions'!$C$12)+((AP118-C118)*$F$29*E118*G118*'Settings & Instructions'!$C$18),\"\")","v":332.05300000000005},{"$f":"IF((AP118*$F$29)>(INPUTS!$CP$5-1),\"Elite WR\",IF((AP118*$F$29)>(INPUTS!$CP$6-1),\"2nd Tier WR1\",IF((AP118*$F$29)>(INPUTS!$CP$7-1),\"Consistent WR2\",\"Not a top WR\")))","v":"Elite WR"},null,null,null,null,null,null,null,null,null,null,null,null,null,null,null,null,null,null,{"$f":"IFERROR(MAX(IF(RANK(C118,($C$118:$C$125,$C$127,$C$142:$C$145,$C$147,$C$162:$C$165,$C$167),0)=1,0.3,IF(RANK(C118,($C$118:$C$125,$C$127,$C$142:$C$145,$C$147,$C$162:$C$165,$C$167),0)=2,0.25,C118)),IF(AR118=1,C118+$AS$116,IF(AR118=2,C118+$AS$116,0))),0)","v":0.3},null,{"$f":"IFERROR(RANK(C118,($C$118:$C$125,$C$127),0),0)","v":1},{"$f":"C118","v":0.25},null,{"$f":"IF(AND(C118>20%,VLOOKUP(2,$AR$118:$AS$125,2,0)>15%),20%,IF(AND(C118>20%,VLOOKUP(2,$AR$118:$AS$125,2,0)<15%),MAX(C118-3%,20%),IF(C118>10%,C118-3%,IF(C118>5%,C118-2%,C118))))","v":0.22}]
[null,"Michael Wilson",0.11,{"$f":"C119*$F$29","v":63.767000000000003},0.62,{"$f":"D119*E119","v":39.535540000000005},14,553.49756000000002,3,null,{"$f":"J119*$G$29","v":0},null,{"$f":"L119*K119","v":0},null,{"$f":"'Settings & Instructions'!$C$15","v":0},{"$f":"(F119*'Settings & Instructions'!$C$13)+(H119*'Settings & Instructions'!$C$18)+(I119*'Settings & Instructions'!$C$19)+(M119*'Settings & Instructions'!$C$17)+(N119*'Settings & Instructions'!$C$12)+(O119*F119)+(K119*'Settings & Instructions'!$C$20)","v":112.88529600000001},{"$f":"IFERROR(\"WR\"&INDEX('Positional Ranks'!$A:$B,MATCH($B119,'Positional Ranks'!$B:$B,0),1),\"\")","v":"WR2"},{"$f":"IFERROR(IF(AND((D119+K119)>(INPUTS!$CP$5-1),E119>(INPUTS!$CQ$5-0.01),(I119/D119)>(INPUTS!$CR$5-0.01)),\"Elite WR\",IF(AND((D119+K119)>(INPUTS!$CP$6-1),E119>(INPUTS!$CQ$6-0.01),(I119/D119)>(INPUTS!$CR$6-0.01)),\"2nd Tier WR1\",IF((D119+K119)>(INPUTS!$CP$7-1),\"Consistent WR2\",\"Not a top WR\"))),\"Not a top WR\")","v":"Not a top WR"},{"$f":"RANK(P119,($P$102:$P$103,$P$118:$P$125,$P$142:$P$145,$P$162:$P$165),0)","v":6},{"$f":"IFERROR(IF($I$40>$F$42,P119,P119-((N119+I119)*'Settings & Instructions'!$C$12)+((((N119+I119)/$F$42)*$I$40)*'Settings & Instructions'!$C$12))+((AU119-C119)*$F$29*E119*G119*'Settings & Instructions'!$C$18),\"\")","v":95.218479428571442},{"$f":"IFERROR(IF((AU119*$F$29)>(INPUTS!$CP$5-1),\"Elite WR\",IF((AU119*$F$29)>(INPUTS!$CP$6-1),\"2nd Tier WR1\",IF((AU119*$F$29)>(INPUTS!$CP$7-1),\"Consistent WR2\",\"Not a top WR\"))),\"Not a top WR\")","v":"Not a top WR"},{"$f":"IFERROR(IF($J$40<$F$42,P119,P119-((N119+I119)*'Settings & Instructions'!$C$12)+(((N119+I119)/$F$42)*$J$40)*'Settings & Instructions'!$C$12)+((AP119-C119)*$F$29*E119*G119*'Settings & Instructions'!$C$18),\"\")","v":115.45672457142858},{"$f":"IF((AP119*$F$29)>(INPUTS!$CP$5-1),\"Elite WR\",IF((AP119*$F$29)>(INPUTS!$CP$6-1),\"2nd Tier WR1\",IF((AP119*$F$29)>(INPUTS!$CP$7-1),\"Consistent WR2\",\"Not a top WR\")))","v":"Not a top WR"},null,null,null,null,null,null,null,null,null,null,null,null,null,null,null,null,null,null,{"$f":"IFERROR(MAX(IF(RANK(C119,($C$118:$C$125,$C$127,$C$142:$C$145,$C$147,$C$162:$C$165,$C$167),0)=1,0.3,IF(RANK(C119,($C$118:$C$125,$C$127,$C$142:$C$145,$C$147,$C$162:$C$165,$C$167),0)=2,0.25,C119)),IF(AR119=1,C119+$AS$116,IF(AR119=2,C119+$AS$116,0))),0)","v":0.11},null,{"$f":"IFERROR(RANK(C119,($C$118:$C$125,$C$127),0),0)","v":3},0.11,null,{"$f":"IF(AND(C119>20%,VLOOKUP(2,$AR$118:$AS$125,2,0)>15%),20%,IF(AND(C119>20%,VLOOKUP(2,$AR$118:$AS$125,2,0)<15%),MAX(C119-3%,20%),IF(C119>10%,C119-3%,IF(C119>5%,C119-2%,C119))))","v":0.08}]
[null,"Greg Dortch",0.12,69.564000000000007,0.68,47.303520000000006,10,473.03520000000003,3,null,0,null,0,null,{"$f":"'Settings & Instructions'!$C$15","v":0},{"$f":"(F120*'Settings & Instructions'!$C$13)+(H120*'Settings & Instructions'!$C$18)+(I120*'Settings & Instructions'!$C$19)+(M120*'Settings & Instructions'!$C$17)+(N120*'Settings & Instructions'!$C$12)+(O120*F120)+(K120*'Settings & Instructions'!$C$20)","v":112.60704000000001},{"$f":"IFERROR(\"WR\"&INDEX('Positional Ranks'!$A:$B,MATCH($B120,'Positional Ranks'!$B:$B,0),1),\"\")","v":"WR3"},{"$f":"IFERROR(IF(AND((D120+K120)>(INPUTS!$CP$5-1),E120>(INPUTS!$CQ$5-0.01),(I120/D120)>(INPUTS!$CR$5-0.01)),\"Elite WR\",IF(AND((D120+K120)>(INPUTS!$CP$6-1),E120>(INPUTS!$CQ$6-0.01),(I120/D120)>(INPUTS!$CR$6-0.01)),\"2nd Tier WR1\",IF((D120+K120)>(INPUTS!$CP$7-1),\"Consistent WR2\",\"Not a top WR\"))),\"Not a top WR\")","v":"Not a top WR"},{"$f":"RANK(P120,($P$102:$P$103,$P$118:$P$125,$P$142:$P$145,$P$162:$P$165),0)","v":7},{"$f":"IFERROR(IF($I$40>$F$42,P120,P120-((N120+I120)*'Settings & Instructions'!$C$12)+((((N120+I120)/$F$42)*$I$40)*'Settings & Instructions'!$C$12))+((AU120-C120)*$F$29*E120*G120*'Settings & Instructions'!$C$18),\"\")","v":98.209731428571445},{"$f":"IFERROR(IF((AU120*$F$29)>(INPUTS!$CP$5-1),\"Elite WR\",IF((AU120*$F$29)>(INPUTS!$CP$6-1),\"2nd Tier WR1\",IF((AU120*$F$29)>(INPUTS!$CP$7-1),\"Consistent WR2\",\"Not a top WR\"))),\"Not a top WR\")","v":"Not a top WR"},{"$f":"IFERROR(IF($J$40<$F$42,P120,P120-((N120+I120)*'Settings & Instructions'!$C$12)+(((N120+I120)/$F$42)*$J$40)*'Settings & Instructions'!$C$12)+((AP120-C120)*$F$29*E120*G120*'Settings & Instructions'!$C$18),\"\")","v":115.17846857142858},{"$f":"IF((AP120*$F$29)>(INPUTS!$CP$5-1),\"Elite WR\",IF((AP120*$F$29)>(INPUTS!$CP$6-1),\"2nd Tier WR1\",IF((AP120*$F$29)>(INPUTS!$CP$7-1),\"Consistent WR2\",\"Not a top WR\")))","v":"Not a top WR"},null,null,null,null,null,null,null,null,null,null,null,null,null,null,null,null,null,null,{"$f":"IFERROR(MAX(IF(RANK(C120,($C$118:$C$125,$C$127,$C$142:$C$145,$C$147,$C$162:$C$165,$C$167),0)=1,0.3,IF(RANK(C120,($C$118:$C$125,$C$127,$C$142:$C$145,$C$147,$C$162:$C$165,$C$167),0)=2,0.25,C120)),IF(AR120=1,C120+$AS$116,IF(AR120=2,C120+$AS$116,0))),0)","v":0.12},null,{"$f":"IFERROR(RANK(C120,($C$118:$C$125,$C$127),0),0)","v":2},0.12,null,0.09]
[null,"Zach Pascal",0.06,34.782000000000004,0.64,22.260480000000001,10,222.60480000000001,1,null,0,null,0,null,{"$f":"'Settings & Instructions'!$C$15","v":0},{"$f":"(F121*'Settings & Instructions'!$C$13)+(H121*'Settings & Instructions'!$C$18)+(I121*'Settings & Instructions'!$C$19)+(M121*'Settings & Instructions'!$C$17)+(N121*'Settings & Instructions'!$C$12)+(O121*F121)+(K121*'Settings & Instructions'!$C$20)","v":50.520960000000002},{"$f":"IFERROR(\"WR\"&INDEX('Positional Ranks'!$A:$B,MATCH($B121,'Positional Ranks'!$B:$B,0),1),\"\")","v":"WR4"},{"$f":"IFERROR(IF(AND((D121+K121)>(INPUTS!$CP$5-1),E121>(INPUTS!$CQ$5-0.01),(I121/D121)>(INPUTS!$CR$5-0.01)),\"Elite WR\",IF(AND((D121+K121)>(INPUTS!$CP$6-1),E121>(INPUTS!$CQ$6-0.01),(I121/D121)>(INPUTS!$CR$6-0.01)),\"2nd Tier WR1\",IF((D121+K121)>(INPUTS!$CP$7-1),\"Consistent WR2\",\"Not a top WR\"))),\"Not a top WR\")","v":"Not a top WR"},{"$f":"RANK(P121,($P$102:$P$103,$P$118:$P$125,$P$142:$P$145,$P$162:$P$165),0)","v":8},{"$f":"IFERROR(IF($I$40>$F$42,P121,P121-((N121+I121)*'Settings & Instructions'!$C$12)+((((N121+I121)/$F$42)*$I$40)*'Settings & Instructions'!$C$12))+((AU121-C121)*$F$29*E121*G121*'Settings & Instructions'!$C$18),\"\")","v":42.243657142857138},{"$f":"IFERROR(IF((AU121*$F$29)>(INPUTS!$CP$5-1),\"Elite WR\",IF((AU121*$F$29)>(INPUTS!$CP$6-1),\"2nd Tier WR1\",IF((AU121*$F$29)>(INPUTS!$CP$7-1),\"Consistent WR2\",\"Not a top WR\"))),\"Not a top WR\")","v":"Not a top WR"},{"$f":"IFERROR(IF($J$40<$F$42,P121,P121-((N121+I121)*'Settings & Instructions'!$C$12)+(((N121+I121)/$F$42)*$J$40)*'Settings & Instructions'!$C$12)+((AP121-C121)*$F$29*E121*G121*'Settings & Instructions'!$C$18),\"\")","v":51.378102857142856},{"$f":"IF((AP121*$F$29)>(INPUTS!$CP$5-1),\"Elite WR\",IF((AP121*$F$29)>(INPUTS!$CP$6-1),\"2nd Tier WR1\",IF((AP121*$F$29)>(INPUTS!$CP$7-1),\"Consistent WR2\",\"Not a top WR\")))","v":"Not a top WR"},null,null,null,null,null,null,null,null,null,null,null,null,null,null,null,null,null,null,{"$f":"IFERROR(MAX(IF(RANK(C121,($C$118:$C$125,$C$127,$C$142:$C$145,$C$147,$C$162:$C$165,$C$167),0)=1,0.3,IF(RANK(C121,($C$118:$C$125,$C$127,$C$142:$C$145,$C$147,$C$162:$C$165,$C$167),0)=2,0.25,C121)),IF(AR121=1,C121+$AS$116,IF(AR121=2,C121+$AS$116,0))),0)","v":0.06},null,{"$f":"IFERROR(RANK(C121,($C$118:$C$125,$C$127),0),0)","v":4},0.06,null,3.9999999999999994E-2]
[null,"Chris Moore",0.04,23.188000000000002,0.57999999999999996,{"$f":"D122*E122","v":13.44904},14,{"$f":"G122*F122","v":188.28656000000001},null,null,0,null,{"$f":"L122*K122","v":0},null,{"$f":"'Settings & Instructions'!$C$15","v":0},{"$f":"(F122*'Settings & Instructions'!$C$13)+(H122*'Settings & Instructions'!$C$18)+(I122*'Settings & Instructions'!$C$19)+(M122*'Settings & Instructions'!$C$17)+(N122*'Settings & Instructions'!$C$12)+(O122*F122)+(K122*'Settings & Instructions'!$C$20)","v":32.277696000000006},{"$f":"IFERROR(\"WR\"&INDEX('Positional Ranks'!$A:$B,MATCH($B122,'Positional Ranks'!$B:$B,0),1),\"\")","v":"WR5"},{"$f":"IFERROR(IF(AND((D122+K122)>(INPUTS!$CP$5-1),E122>(INPUTS!$CQ$5-0.01),(I122/D122)>(INPUTS!$CR$5-0.01)),\"Elite WR\",IF(AND((D122+K122)>(INPUTS!$CP$6-1),E122>(INPUTS!$CQ$6-0.01),(I122/D122)>(INPUTS!$CR$6-0.01)),\"2nd Tier WR1\",IF((D122+K122)>(INPUTS!$CP$7-1),\"Consistent WR2\",\"Not a top WR\"))),\"Not a top WR\")","v":"Not a top WR"},{"$f":"RANK(P122,($P$102:$P$103,$P$118:$P$125,$P$142:$P$145,$P$162:$P$165),0)","v":9},{"$f":"IFERROR(IF($I$40>$F$42,P122,P122-((N122+I122)*'Settings & Instructions'!$C$12)+((((N122+I122)/$F$42)*$I$40)*'Settings & Instructions'!$C$12))+((AU122-C122)*$F$29*E122*G122*'Settings & Instructions'!$C$18),\"\")","v":32.277696000000006},{"$f":"IFERROR(IF((AU122*$F$29)>(INPUTS!$CP$5-1),\"Elite WR\",IF((AU122*$F$29)>(INPUTS!$CP$6-1),\"2nd Tier WR1\",IF((AU122*$F$29)>(INPUTS!$CP$7-1),\"Consistent WR2\",\"Not a top WR\"))),\"Not a top WR\")","v":"Not a top WR"},{"$f":"IFERROR(IF($J$40<$F$42,P122,P122-((N122+I122)*'Settings & Instructions'!$C$12)+(((N122+I122)/$F$42)*$J$40)*'Settings & Instructions'!$C$12)+((AP122-C122)*$F$29*E122*G122*'Settings & Instructions'!$C$18),\"\")","v":32.277696000000006},{"$f":"IF((AP122*$F$29)>(INPUTS!$CP$5-1),\"Elite WR\",IF((AP122*$F$29)>(INPUTS!$CP$6-1),\"2nd Tier WR1\",IF((AP122*$F$29)>(INPUTS!$CP$7-1),\"Consistent WR2\",\"Not a top WR\")))","v":"Not a top WR"},null,null,null,null,null,null,null,null,null,null,null,null,null,null,null,null,null,null,{"$f":"IFERROR(MAX(IF(RANK(C122,($C$118:$C$125,$C$127,$C$142:$C$145,$C$147,$C$162:$C$165,$C$167),0)=1,0.3,IF(RANK(C122,($C$118:$C$125,$C$127,$C$142:$C$145,$C$147,$C$162:$C$165,$C$167),0)=2,0.25,C122)),IF(AR122=1,C122+$AS$116,IF(AR122=2,C122+$AS$116,0))),0)","v":0.04},null,{"$f":"IFERROR(RANK(C122,($C$118:$C$125,$C$127),0),0)","v":5},0.04,null,0.04]
[null,"Tejhaun Palmer",0.02,11.594000000000001,0.6,6.9564000000000004,12,83.476799999999997,null,null,0,null,0,null,{"$f":"'Settings & Instructions'!$C$15","v":0},{"$f":"(F123*'Settings & Instructions'!$C$13)+(H123*'Settings & Instructions'!$C$18)+(I123*'Settings & Instructions'!$C$19)+(M123*'Settings & Instructions'!$C$17)+(N123*'Settings & Instructions'!$C$12)+(O123*F123)+(K123*'Settings & Instructions'!$C$20)","v":15.304080000000001},{"$f":"IFERROR(\"WR\"&INDEX('Positional Ranks'!$A:$B,MATCH($B123,'Positional Ranks'!$B:$B,0),1),\"\")","v":"WR6"},{"$f":"IFERROR(IF(AND((D123+K123)>(INPUTS!$CP$5-1),E123>(INPUTS!$CQ$5-0.01),(I123/D123)>(INPUTS!$CR$5-0.01)),\"Elite WR\",IF(AND((D123+K123)>(INPUTS!$CP$6-1),E123>(INPUTS!$CQ$6-0.01),(I123/D123)>(INPUTS!$CR$6-0.01)),\"2nd Tier WR1\",IF((D123+K123)>(INPUTS!$CP$7-1),\"Consistent WR2\",\"Not a top WR\"))),\"Not a top WR\")","v":"Not a top WR"},{"$f":"RANK(P123,($P$102:$P$103,$P$118:$P$125,$P$142:$P$145,$P$162:$P$165),0)","v":13},{"$f":"IFERROR(IF($I$40>$F$42,P123,P123-((N123+I123)*'Settings & Instructions'!$C$12)+((((N123+I123)/$F$42)*$I$40)*'Settings & Instructions'!$C$12))+((AU123-C123)*$F$29*E123*G123*'Settings & Instructions'!$C$18),\"\")","v":15.304080000000001},{"$f":"IFERROR(IF((AU123*$F$29)>(INPUTS!$CP$5-1),\"Elite WR\",IF((AU123*$F$29)>(INPUTS!$CP$6-1),\"2nd Tier WR1\",IF((AU123*$F$29)>(INPUTS!$CP$7-1),\"Consistent WR2\",\"Not a top WR\"))),\"Not a top WR\")","v":"Not a top WR"},{"$f":"IFERROR(IF($J$40<$F$42,P123,P123-((N123+I123)*'Settings & Instructions'!$C$12)+(((N123+I123)/$F$42)*$J$40)*'Settings & Instructions'!$C$12)+((AP123-C123)*$F$29*E123*G123*'Settings & Instructions'!$C$18),\"\")","v":15.304080000000001},{"$f":"IF((AP123*$F$29)>(INPUTS!$CP$5-1),\"Elite WR\",IF((AP123*$F$29)>(INPUTS!$CP$6-1),\"2nd Tier WR1\",IF((AP123*$F$29)>(INPUTS!$CP$7-1),\"Consistent WR2\",\"Not a top WR\")))","v":"Not a top WR"},null,null,null,null,null,null,null,null,null,null,null,null,null,null,null,null,null,null,{"$f":"IFERROR(MAX(IF(RANK(C123,($C$118:$C$125,$C$127,$C$142:$C$145,$C$147,$C$162:$C$165,$C$167),0)=1,0.3,IF(RANK(C123,($C$118:$C$125,$C$127,$C$142:$C$145,$C$147,$C$162:$C$165,$C$167),0)=2,0.25,C123)),IF(AR123=1,C123+$AS$116,IF(AR123=2,C123+$AS$116,0))),0)","v":0.02},null,{"$f":"IFERROR(RANK(C123,($C$118:$C$125,$C$127),0),0)","v":6},0.02,null,0.02]
[null,null,null,0,null,0,null,0,null,null,0,null,0,null,{"$f":"'Settings & Instructions'!$C$15","v":0},{"$f":"(F124*'Settings & Instructions'!$C$13)+(H124*'Settings & Instructions'!$C$18)+(I124*'Settings & Instructions'!$C$19)+(M124*'Settings & Instructions'!$C$17)+(N124*'Settings & Instructions'!$C$12)+(O124*F124)+(K124*'Settings & Instructions'!$C$20)","v":0},{"$f":"IFERROR(\"WR\"&INDEX('Positional Ranks'!$A:$B,MATCH($B124,'Positional Ranks'!$B:$B,0),1),\"\")","v":"WR7"},{"$f":"IFERROR(IF(AND((D124+K124)>(INPUTS!$CP$5-1),E124>(INPUTS!$CQ$5-0.01),(I124/D124)>(INPUTS!$CR$5-0.01)),\"Elite WR\",IF(AND((D124+K124)>(INPUTS!$CP$6-1),E124>(INPUTS!$CQ$6-0.01),(I124/D124)>(INPUTS!$CR$6-0.01)),\"2nd Tier WR1\",IF((D124+K124)>(INPUTS!$CP$7-1),\"Consistent WR2\",\"Not a top WR\"))),\"Not a top WR\")","v":"Not a top WR"},{"$f":"RANK(P124,($P$102:$P$103,$P$118:$P$125,$P$142:$P$145,$P$162:$P$165),0)","v":14},{"$f":"IFERROR(IF($I$40>$F$42,P124,P124-((N124+I124)*'Settings & Instructions'!$C$12)+((((N124+I124)/$F$42)*$I$40)*'Settings & Instructions'!$C$12))+((AU124-C124)*$F$29*E124*G124*'Settings & Instructions'!$C$18),\"\")","v":0},{"$f":"IFERROR(IF((AU124*$F$29)>(INPUTS!$CP$5-1),\"Elite WR\",IF((AU124*$F$29)>(INPUTS!$CP$6-1),\"2nd Tier WR1\",IF((AU124*$F$29)>(INPUTS!$CP$7-1),\"Consistent WR2\",\"Not a top WR\"))),\"Not a top WR\")","v":"Not a top WR"},{"$f":"IFERROR(IF($J$40<$F$42,P124,P124-((N124+I124)*'Settings & Instructions'!$C$12)+(((N124+I124)/$F$42)*$J$40)*'Settings & Instructions'!$C$12)+((AP124-C124)*$F$29*E124*G124*'Settings & Instructions'!$C$18),\"\")","v":0},{"$f":"IF((AP124*$F$29)>(INPUTS!$CP$5-1),\"Elite WR\",IF((AP124*$F$29)>(INPUTS!$CP$6-1),\"2nd Tier WR1\",IF((AP124*$F$29)>(INPUTS!$CP$7-1),\"Consistent WR2\",\"Not a top WR\")))","v":"Not a top WR"},null,null,null,null,null,null,null,null,null,null,null,null,null,null,null,null,null,null,{"$f":"IFERROR(MAX(IF(RANK(C124,($C$118:$C$125,$C$127,$C$142:$C$145,$C$147,$C$162:$C$165,$C$167),0)=1,0.3,IF(RANK(C124,($C$118:$C$125,$C$127,$C$142:$C$145,$C$147,$C$162:$C$165,$C$167),0)=2,0.25,C124)),IF(AR124=1,C124+$AS$116,IF(AR124=2,C124+$AS$116,0))),0)","v":0},null,{"$f":"IFERROR(RANK(C124,($C$118:$C$125,$C$127),0),0)","v":0},0,null,0]
[null,null,null,0,null,0,null,0,null,null,0,null,0,null,{"$f":"'Settings & Instructions'!$C$15","v":0},{"$f":"(F125*'Settings & Instructions'!$C$13)+(H125*'Settings & Instructions'!$C$18)+(I125*'Settings & Instructions'!$C$19)+(M125*'Settings & Instructions'!$C$17)+(N125*'Settings & Instructions'!$C$12)+(O125*F125)+(K125*'Settings & Instructions'!$C$20)","v":0},{"$f":"IFERROR(\"WR\"&INDEX('Positional Ranks'!$A:$B,MATCH($B125,'Positional Ranks'!$B:$B,0),1),\"\")","v":"WR7"},{"$f":"IFERROR(IF(AND((D125+K125)>(INPUTS!$CP$5-1),E125>(INPUTS!$CQ$5-0.01),(I125/D125)>(INPUTS!$CR$5-0.01)),\"Elite WR\",IF(AND((D125+K125)>(INPUTS!$CP$6-1),E125>(INPUTS!$CQ$6-0.01),(I125/D125)>(INPUTS!$CR$6-0.01)),\"2nd Tier WR1\",IF((D125+K125)>(INPUTS!$CP$7-1),\"Consistent WR2\",\"Not a top WR\"))),\"Not a top WR\")","v":"Not a top WR"},{"$f":"RANK(P125,($P$102:$P$103,$P$118:$P$125,$P$142:$P$145,$P$162:$P$165),0)","v":14},{"$f":"IFERROR(IF($I$40>$F$42,P125,P125-((N125+I125)*'Settings & Instructions'!$C$12)+((((N125+I125)/$F$42)*$I$40)*'Settings & Instructions'!$C$12))+((AU125-C125)*$F$29*E125*G125*'Settings & Instructions'!$C$18),\"\")","v":0},{"$f":"IFERROR(IF((AU125*$F$29)>(INPUTS!$CP$5-1),\"Elite WR\",IF((AU125*$F$29)>(INPUTS!$CP$6-1),\"2nd Tier WR1\",IF((AU125*$F$29)>(INPUTS!$CP$7-1),\"Consistent WR2\",\"Not a top WR\"))),\"Not a top WR\")","v":"Not a top WR"},{"$f":"IFERROR(IF($J$40<$F$42,P125,P125-((N125+I125)*'Settings & Instructions'!$C$12)+(((N125+I125)/$F$42)*$J$40)*'Settings & Instructions'!$C$12)+((AP125-C125)*$F$29*E125*G125*'Settings & Instructions'!$C$18),\"\")","v":0},{"$f":"IF((AP125*$F$29)>(INPUTS!$CP$5-1),\"Elite WR\",IF((AP125*$F$29)>(INPUTS!$CP$6-1),\"2nd Tier WR1\",IF((AP125*$F$29)>(INPUTS!$CP$7-1),\"Consistent WR2\",\"Not a top WR\")))","v":"Not a top WR"},null,null,null,null,null,null,null,null,null,null,null,null,null,null,null,null,null,null,{"$f":"IFERROR(MAX(IF(RANK(C125,($C$118:$C$125,$C$127,$C$142:$C$145,$C$147,$C$162:$C$165,$C$167),0)=1,0.3,IF(RANK(C125,($C$118:$C$125,$C$127,$C$142:$C$145,$C$147,$C$162:$C$165,$C$167),0)=2,0.25,C125)),IF(AR125=1,C125+$AS$116,IF(AR125=2,C125+$AS$116,0))),0)","v":0},null,{"$f":"IFERROR(RANK(C125,($C$118:$C$125,$C$127),0),0)","v":0},0,null,0]
[]
[null,"Other",0.02,{"$f":"C127*$F$29","v":11.594000000000001},0.62,7.1882800000000007,null,0,null,null,{"$f":"J127*$G$29","v":0},null,0,null,{"$f":"'Settings & Instructions'!$C$15","v":0},{"$f":"(F127*'Settings & Instructions'!$C$13)+(H127*'Settings & Instructions'!$C$18)+(I127*'Settings & Instructions'!$C$19)+(M127*'Settings & Instructions'!$C$17)+(N127*'Settings & Instructions'!$C$12)+(O127*F127)+(K127*'Settings & Instructions'!$C$20)","v":7.1882800000000007}]
[]
[null,"Last Season Data Check",null,"Use this section to see last season's stats as a guide or comparison",null,null,null,null,null,"*HOT TIP* if the selected player doesn’t return any last-season data, check the spelling and remove suffixes (e.g. \" Jr.\", \" III\", \" II\")",null,null,null,null,null,null,"Games Played","Points per Game",null,"2023 Worst Performance",null,"2023 Best Performance"]
[null,"Marvin Harrison",{"$f":"IFERROR(INDEX($E$204:$Z$224,21,MATCH($B130,$E$204:$Z$204,0)),\"N/A\")","v":"N/A"},{"$f":"IFERROR(VLOOKUP($B130,INPUTS!$BB:$BS,7,0),\"N/A\")","v":"N/A"},{"$f":"IFERROR(VLOOKUP($B130,INPUTS!$BB:$BS,9,0),\"N/A\")","v":"N/A"},{"$f":"IFERROR(VLOOKUP($B130,INPUTS!$BB:$BS,8,0),\"N/A\")","v":"N/A"},{"$f":"IFERROR(VLOOKUP($B130,INPUTS!$BB:$BS,11,0),\"N/A\")","v":"N/A"},{"$f":"IFERROR(VLOOKUP($B130,INPUTS!$BB:$BS,10,0),\"N/A\")","v":"N/A"},{"$f":"IFERROR(VLOOKUP($B130,INPUTS!$BB:$BS,12,0),\"N/A\")","v":"N/A"},{"$f":"IFERROR(INDEX($E$512:$Z$532,21,MATCH($B130,$E$512:$Z$512,0)),\"N/A\")","v":"N/A"},{"$f":"IFERROR(VLOOKUP($B130,INPUTS!$AL:$AY,7,0),\"N/A\")","v":"N/A"},{"$f":"IFERROR(VLOOKUP($B130,INPUTS!$AL:$AY,12,0),\"N/A\")","v":"N/A"},{"$f":"IFERROR(VLOOKUP($B130,INPUTS!$AL:$AY,8,0),\"N/A\")","v":"N/A"},{"$f":"IFERROR(VLOOKUP($B130,INPUTS!$AL:$AY,9,0),\"N/A\")","v":"N/A"},{"$f":"'Settings & Instructions'!$C$15","v":0},{"$f":"IFERROR((F130*'Settings & Instructions'!$C$13),0)+IFERROR((H130*'Settings & Instructions'!$C$18),0)+IFERROR((I130*'Settings & Instructions'!$C$19),0)+IFERROR((M130*'Settings & Instructions'!$C$17),0)+IFERROR((N130*'Settings & Instructions'!$C$12),0)+IFERROR((O130*F130),0)+IFERROR((K130*'Settings & Instructions'!$C$20),0)","v":0},{"$f":"IFERROR(VLOOKUP($B130,INPUTS!$AL:$AP,5,0),IFERROR(VLOOKUP($B130,INPUTS!$BB:$BF,5,0),\"N/A\"))","v":"N/A"},{"$f":"IFERROR(P130/Q130,\"N/A\")","v":"N/A"},null,{"$f":"IFERROR(VLOOKUP($B130,INPUTS!$DQ:$DS,2,0),0)","v":0},"PPR Points",{"$f":"IFERROR(VLOOKUP($B130,INPUTS!$DQ:$DS,3,0),0)","v":0},"PPR Points"]
[null,"The Real Story",{"$f":"IF(VLOOKUP($B$130,INPUTS!$DT:$DY,2,0)=0,\"\",VLOOKUP($B$130,INPUTS!$DT:$DY,2,0))","v":"*ROOKIE*"}]
[null,null,{"$f":"IF(VLOOKUP($B$130,INPUTS!$DT:$DY,3,0)=0,\"\",VLOOKUP($B$130,INPUTS!$DT:$DY,3,0))","v":"He fits the mold of a prototypical alpha X-wide receiver. He is going to be a big-bodied playmaker for quarterback Kyler Murray who will appreciate Harrison’s ability to contort his body to track and attack the football in traffic."}]
[null,null,{"$f":"IF(VLOOKUP($B$130,INPUTS!$DT:$DY,4,0)=0,\"\",VLOOKUP($B$130,INPUTS!$DT:$DY,4,0))","v":"Harrison immediately slides in as the top passing catcher in Arizona and should command a high volume of targets as a rookie. "}]
[null,null,{"$f":"IF(VLOOKUP($B$130,INPUTS!$DT:$DY,5,0)=0,\"\",VLOOKUP($B$130,INPUTS!$DT:$DY,5,0))","v":"He compares favorably to AJ Green and Justin Jefferson—both of which had incredible rookie seasons and it’s likely we see something similar from Harrison."}]
[null,null,{"$f":"IF(VLOOKUP($B$130,INPUTS!$DT:$DY,6,0)=0,\"\",VLOOKUP($B$130,INPUTS!$DT:$DY,6,0))","v":""}]
[]
[]
[null,"Running Backs",null,"Note: White Cells will populate automatically",null,null,null,null,"STEP 2: Project the individual player stats in the light blue cells"]
[null,"(Click the + on the left to expand)",null,null,null,null,null,null,"Ensure 100% of target share and rush share - see above checks",null,null,null,null,null,null,null,null,null,null,"Range of Outcomes",null,null,null,null,null,null,null,null,null,null,null,null,null,null,null,null,null,null,null,null,null,null,null,null,null,null,"RB1+2"]
[null,null,null,null,null,null,null,null,null,null,null,null,null,null,null,null,null,null,null,"Low",null,"High",null,null,null,null,null,null,null,null,null,null,null,null,null,null,null,null,null,null,null,null,null,null,null,null,{"$f":"VLOOKUP(1,AU142:AV145,2,0)+VLOOKUP(2,AU142:AV145,2,0)","v":0.75},{"$f":"IF(AU140<0.7,0.7-AU140,0)","v":0}]
[null,"Player","Target Share %","Targets","Catch %","Receptions","Yards per Reception","Receiving Yards","Receiving TDs","Rush Att Share %","Rush Att","Yards per Carry","Rushing Yards","Rushing TDs","Premium","Fantasy Points","Positional Rank","Tier \n(Volume Based)",null,"Fantasy Points","Tier","Fantasy Points","Tier",null,null,null,null,null,null,null,null,null,null,null,null,null,null,null,null,null,null,"Max Target share",null,null,null,"Max Rush share"]
[null,"James Conner",0.05,{"$f":"C142*$F$29","v":28.985000000000003},0.8,{"$f":"D142*E142","v":23.188000000000002},6.5,{"$f":"G142*F142","v":150.72200000000001},2,0.45,{"$f":"J142*$G$29","v":213.43499999999997},4.5,{"$f":"L142*K142","v":960.45749999999987},6,{"$f":"'Settings & Instructions'!$C$16","v":0},{"$f":"(F142*'Settings & Instructions'!$C$13)+(H142*'Settings & Instructions'!$C$18)+(I142*'Settings & Instructions'!$C$19)+(M142*'Settings & Instructions'!$C$17)+(N142*'Settings & Instructions'!$C$12)+(O142*F142)+(K142*'Settings & Instructions'!$C$20)","v":182.30595},{"$f":"IFERROR(\"RB\"&INDEX('Positional Ranks'!$L:$M,MATCH($B142,'Positional Ranks'!$M:$M,0),1),\"\")","v":"RB1"},{"$f":"IF(K142>(INPUTS!$CU$5-1),\"Elite RB\",IF(AND(K142>(INPUTS!$CU$6-1),D142>(INPUTS!$CV$6-1)),\"Elite RB\",IF(AND(K142>(INPUTS!$CU$7-1),D142>(INPUTS!$CV$7-1)),\"Elite RB\",IF(AND(K142>(INPUTS!$CU$8-1),D142>(INPUTS!$CV$8-1)),\"2nd Tier RB1\",IF(K142>(INPUTS!$CU$9-1),\"Consistent RB2\",IF(D142>(INPUTS!$CV$10-1),\"Consistent RB2\",\"Not a top RB\"))))))","v":"Consistent RB2"},{"$f":"RANK(P142,($P$102:$P$103,$P$118:$P$125,$P$142:$P$145,$P$162:$P$165),0)","v":4},{"$f":"IFERROR(IF($I$40>$F$42,P142,P142-((N142+I142)*'Settings & Instructions'!$C$12)+((((N142+I142)/$F$42)*$I$40)*'Settings & Instructions'!$C$12)),\"\")","v":175.44880714285713},{"$f":"IF((AX142*$G$29)>(INPUTS!$CU$5-1),\"Elite RB\",IF(AND((AX142*$G$29)>(INPUTS!$CU$6-1),(AY142*$F$29)>(INPUTS!$CV$6-1)),\"Elite RB\",IF(AND((AX142*$G$29)>(INPUTS!$CU$7-1),(AY142*$F$29)>(INPUTS!$CV$7-1)),\"Elite RB\",IF(AND((AX142*$G$29)>(INPUTS!$CU$8-1),(AY142*$F$29)>(INPUTS!$CV$8-1)),\"2nd Tier RB1\",IF((AX142*$G$29)>(INPUTS!$CU$9-1),\"Consistent RB2\",IF((AY142*$F$29)>(INPUTS!$CV$10-1),\"Consistent RB2\",\"Not a top RB\"))))))","v":"Not a top RB"},{"$f":"IFERROR(IF($J$40<$F$42,P142,P142-((N142+I142)*'Settings & Instructions'!$C$12)+(((N142+I142)/$F$42)*$J$40)*'Settings & Instructions'!$C$12)+((AT142-J142)*$G$29*L142*'Settings & Instructions'!$C$17)+((AP142-C142)*$F$29*E142*G142*'Settings & Instructions'!$C$18),\"\")","v":251.32274285714288},{"$f":"IF((AT142*$G$29)>(INPUTS!$CU$5-1),\"Elite RB\",IF(AND((AT142*$G$29)>(INPUTS!$CU$6-1),(AP142*$F$29)>(INPUTS!$CV$6-1)),\"Elite RB\",IF(AND((AT142*$G$29)>(INPUTS!$CU$7-1),(AP142*$F$29)>(INPUTS!$CV$7-1)),\"Elite RB\",IF(AND((AT142*$G$29)>(INPUTS!$CU$8-1),(AP142*$F$29)>(INPUTS!$CV$8-1)),\"2nd Tier RB1\",IF((AT142*$G$29)>(INPUTS!$CU$9-1),\"Consistent RB2\",IF((AP142*$F$29)>(INPUTS!$CV$10-1),\"Consistent RB2\",\"Not a top RB\"))))))","v":"Elite RB"},null,null,null,null,null,null,null,null,null,null,null,null,null,null,null,null,null,null,{"$f":"IF(AR142=1,IF($H$102<0.2,IF(C142<0.15,0.15,C142),C142),C142)","v":0.15},null,{"$f":"IFERROR(RANK(C142,($C$142:$C$145,$C$142),0),0)","v":1},{"$f":"C142","v":0.05},{"$f":"IFERROR(MAX(IF(AU142=1,IF(J142<0.6,0.6,J142),J142),IF(AU142=1,J142+$AV$140,IF(AU142=2,J142+$AV$140,0))),0)","v":0.6},{"$f":"IFERROR(RANK(J142,$J$142:$J$147),0)","v":1},{"$f":"J142","v":0.45},null,{"$f":"IF(J142>49.9%,50%,IF(J142>34.9%,35%,IF(J142>19.9%,20%,IF(J142>4.9%,J142-3%,J142))))","v":0.35},{"$f":"IF(C142>15%,15%,IF(C142>10%,10%,IF(C142>5%,5%,C142)))","v":0.05}]
[null,"Trey Benson",0.04,23.188000000000002,0.8,{"$f":"D143*E143","v":18.550400000000003},6.5,120.57760000000002,1,0.3,142.29,4.5,{"$f":"L143*K143","v":640.30499999999995},3,{"$f":"'Settings & Instructions'!$C$16","v":0},{"$f":"(F143*'Settings & Instructions'!$C$13)+(H143*'Settings & Instructions'!$C$18)+(I143*'Settings & Instructions'!$C$19)+(M143*'Settings & Instructions'!$C$17)+(N143*'Settings & Instructions'!$C$12)+(O143*F143)+(K143*'Settings & Instructions'!$C$20)","v":118.63866000000002},{"$f":"IFERROR(\"RB\"&INDEX('Positional Ranks'!$L:$M,MATCH($B143,'Positional Ranks'!$M:$M,0),1),\"\")","v":"RB2"},{"$f":"IF(K143>(INPUTS!$CU$5-1),\"Elite RB\",IF(AND(K143>(INPUTS!$CU$6-1),D143>(INPUTS!$CV$6-1)),\"Elite RB\",IF(AND(K143>(INPUTS!$CU$7-1),D143>(INPUTS!$CV$7-1)),\"Elite RB\",IF(AND(K143>(INPUTS!$CU$8-1),D143>(INPUTS!$CV$8-1)),\"2nd Tier RB1\",IF(K143>(INPUTS!$CU$9-1),\"Consistent RB2\",IF(D143>(INPUTS!$CV$10-1),\"Consistent RB2\",\"Not a top RB\"))))))","v":"Not a top RB"},{"$f":"RANK(P143,($P$102:$P$103,$P$118:$P$125,$P$142:$P$145,$P$162:$P$165),0)","v":5},{"$f":"IFERROR(IF($I$40>$F$42,P143,P143-((N143+I143)*'Settings & Instructions'!$C$12)+((((N143+I143)/$F$42)*$I$40)*'Settings & Instructions'!$C$12)),\"\")","v":115.21008857142859},{"$f":"IF((AX143*$G$29)>(INPUTS!$CU$5-1),\"Elite RB\",IF(AND((AX143*$G$29)>(INPUTS!$CU$6-1),(AY143*$F$29)>(INPUTS!$CV$6-1)),\"Elite RB\",IF(AND((AX143*$G$29)>(INPUTS!$CU$7-1),(AY143*$F$29)>(INPUTS!$CV$7-1)),\"Elite RB\",IF(AND((AX143*$G$29)>(INPUTS!$CU$8-1),(AY143*$F$29)>(INPUTS!$CV$8-1)),\"2nd Tier RB1\",IF((AX143*$G$29)>(INPUTS!$CU$9-1),\"Consistent RB2\",IF((AY143*$F$29)>(INPUTS!$CV$10-1),\"Consistent RB2\",\"Not a top RB\"))))))","v":"Not a top RB"},{"$f":"IFERROR(IF($J$40<$F$42,P143,P143-((N143+I143)*'Settings & Instructions'!$C$12)+(((N143+I143)/$F$42)*$J$40)*'Settings & Instructions'!$C$12)+((AT143-J143)*$G$29*L143*'Settings & Instructions'!$C$17)+((AP143-C143)*$F$29*E143*G143*'Settings & Instructions'!$C$18),\"\")","v":122.06723142857145},{"$f":"IF((AT143*$G$29)>(INPUTS!$CU$5-1),\"Elite RB\",IF(AND((AT143*$G$29)>(INPUTS!$CU$6-1),(AP143*$F$29)>(INPUTS!$CV$6-1)),\"Elite RB\",IF(AND((AT143*$G$29)>(INPUTS!$CU$7-1),(AP143*$F$29)>(INPUTS!$CV$7-1)),\"Elite RB\",IF(AND((AT143*$G$29)>(INPUTS!$CU$8-1),(AP143*$F$29)>(INPUTS!$CV$8-1)),\"2nd Tier RB1\",IF((AT143*$G$29)>(INPUTS!$CU$9-1),\"Consistent RB2\",IF((AP143*$F$29)>(INPUTS!$CV$10-1),\"Consistent RB2\",\"Not a top RB\"))))))","v":"Not a top RB"},null,null,null,null,null,null,null,null,null,null,null,null,null,null,null,null,null,null,{"$f":"IF(AR143=1,IF($H$102<0.2,IF(C143<0.15,0.15,C143),C143),C143)","v":0.04},null,{"$f":"IFERROR(RANK(C143,($C$142:$C$145,$C$142),0),0)","v":3},{"$f":"C143","v":0.04},{"$f":"IFERROR(MAX(IF(AU143=1,IF(J143<0.6,0.6,J143),J143),IF(AU143=1,J143+$AV$140,IF(AU143=2,J143+$AV$140,0))),0)","v":0.3},{"$f":"IFERROR(RANK(J143,$J$142:$J$147),0)","v":2},{"$f":"J143","v":0.3},null,{"$f":"IF(J143>49.9%,50%,IF(J143>34.9%,35%,IF(J143>19.9%,20%,IF(J143>4.9%,J143-3%,J143))))","v":0.2},{"$f":"IF(C143>15%,15%,IF(C143>10%,10%,IF(C143>5%,5%,C143)))","v":0.04}]
[null,"Emari Demercado",0.01,5.7970000000000006,0.8,4.6376000000000008,6.5,30.144400000000005,null,0.05,23.715,4.5,106.7175,null,{"$f":"'Settings & Instructions'!$C$16","v":0},{"$f":"(F144*'Settings & Instructions'!$C$13)+(H144*'Settings & Instructions'!$C$18)+(I144*'Settings & Instructions'!$C$19)+(M144*'Settings & Instructions'!$C$17)+(N144*'Settings & Instructions'!$C$12)+(O144*F144)+(K144*'Settings & Instructions'!$C$20)","v":18.323790000000002},{"$f":"IFERROR(\"RB\"&INDEX('Positional Ranks'!$L:$M,MATCH($B144,'Positional Ranks'!$M:$M,0),1),\"\")","v":"RB3"},{"$f":"IF(K144>(INPUTS!$CU$5-1),\"Elite RB\",IF(AND(K144>(INPUTS!$CU$6-1),D144>(INPUTS!$CV$6-1)),\"Elite RB\",IF(AND(K144>(INPUTS!$CU$7-1),D144>(INPUTS!$CV$7-1)),\"Elite RB\",IF(AND(K144>(INPUTS!$CU$8-1),D144>(INPUTS!$CV$8-1)),\"2nd Tier RB1\",IF(K144>(INPUTS!$CU$9-1),\"Consistent RB2\",IF(D144>(INPUTS!$CV$10-1),\"Consistent RB2\",\"Not a top RB\"))))))","v":"Not a top RB"},{"$f":"RANK(P144,($P$102:$P$103,$P$118:$P$125,$P$142:$P$145,$P$162:$P$165),0)","v":11},{"$f":"IFERROR(IF($I$40>$F$42,P144,P144-((N144+I144)*'Settings & Instructions'!$C$12)+((((N144+I144)/$F$42)*$I$40)*'Settings & Instructions'!$C$12)),\"\")","v":18.323790000000002},{"$f":"IF((AX144*$G$29)>(INPUTS!$CU$5-1),\"Elite RB\",IF(AND((AX144*$G$29)>(INPUTS!$CU$6-1),(AY144*$F$29)>(INPUTS!$CV$6-1)),\"Elite RB\",IF(AND((AX144*$G$29)>(INPUTS!$CU$7-1),(AY144*$F$29)>(INPUTS!$CV$7-1)),\"Elite RB\",IF(AND((AX144*$G$29)>(INPUTS!$CU$8-1),(AY144*$F$29)>(INPUTS!$CV$8-1)),\"2nd Tier RB1\",IF((AX144*$G$29)>(INPUTS!$CU$9-1),\"Consistent RB2\",IF((AY144*$F$29)>(INPUTS!$CV$10-1),\"Consistent RB2\",\"Not a top RB\"))))))","v":"Not a top RB"},{"$f":"IFERROR(IF($J$40<$F$42,P144,P144-((N144+I144)*'Settings & Instructions'!$C$12)+(((N144+I144)/$F$42)*$J$40)*'Settings & Instructions'!$C$12)+((AT144-J144)*$G$29*L144*'Settings & Instructions'!$C$17)+((AP144-C144)*$F$29*E144*G144*'Settings & Instructions'!$C$18),\"\")","v":18.323790000000002},{"$f":"IF((AT144*$G$29)>(INPUTS!$CU$5-1),\"Elite RB\",IF(AND((AT144*$G$29)>(INPUTS!$CU$6-1),(AP144*$F$29)>(INPUTS!$CV$6-1)),\"Elite RB\",IF(AND((AT144*$G$29)>(INPUTS!$CU$7-1),(AP144*$F$29)>(INPUTS!$CV$7-1)),\"Elite RB\",IF(AND((AT144*$G$29)>(INPUTS!$CU$8-1),(AP144*$F$29)>(INPUTS!$CV$8-1)),\"2nd Tier RB1\",IF((AT144*$G$29)>(INPUTS!$CU$9-1),\"Consistent RB2\",IF((AP144*$F$29)>(INPUTS!$CV$10-1),\"Consistent RB2\",\"Not a top RB\"))))))","v":"Not a top RB"},null,null,null,null,null,null,null,null,null,null,null,null,null,null,null,null,null,null,0.01,null,{"$f":"IFERROR(RANK(C144,($C$142:$C$145,$C$142),0),0)","v":4},{"$f":"C144","v":0.01},0.05,3,{"$f":"J144","v":0.05},null,{"$f":"IF(J144>49.9%,50%,IF(J144>34.9%,35%,IF(J144>19.9%,20%,IF(J144>4.9%,J144-3%,J144))))","v":2.0000000000000004E-2},{"$f":"IF(C144>15%,15%,IF(C144>10%,10%,IF(C144>5%,5%,C144)))","v":0.01}]
[null,"Michael Carter",0.01,5.7970000000000006,0.8,4.6376000000000008,6.5,30.144400000000005,null,0.05,23.715,4.5,106.7175,null,{"$f":"'Settings & Instructions'!$C$16","v":0},{"$f":"(F145*'Settings & Instructions'!$C$13)+(H145*'Settings & Instructions'!$C$18)+(I145*'Settings & Instructions'!$C$19)+(M145*'Settings & Instructions'!$C$17)+(N145*'Settings & Instructions'!$C$12)+(O145*F145)+(K145*'Settings & Instructions'!$C$20)","v":18.323790000000002},{"$f":"IFERROR(\"RB\"&INDEX('Positional Ranks'!$L:$M,MATCH($B145,'Positional Ranks'!$M:$M,0),1),\"\")","v":""},{"$f":"IF(K145>(INPUTS!$CU$5-1),\"Elite RB\",IF(AND(K145>(INPUTS!$CU$6-1),D145>(INPUTS!$CV$6-1)),\"Elite RB\",IF(AND(K145>(INPUTS!$CU$7-1),D145>(INPUTS!$CV$7-1)),\"Elite RB\",IF(AND(K145>(INPUTS!$CU$8-1),D145>(INPUTS!$CV$8-1)),\"2nd Tier RB1\",IF(K145>(INPUTS!$CU$9-1),\"Consistent RB2\",IF(D145>(INPUTS!$CV$10-1),\"Consistent RB2\",\"Not a top RB\"))))))","v":"Not a top RB"},{"$f":"RANK(P145,($P$102:$P$103,$P$118:$P$125,$P$142:$P$145,$P$162:$P$165),0)","v":11},{"$f":"IFERROR(IF($I$40>$F$42,P145,P145-((N145+I145)*'Settings & Instructions'!$C$12)+((((N145+I145)/$F$42)*$I$40)*'Settings & Instructions'!$C$12)),\"\")","v":18.323790000000002},{"$f":"IF((AX145*$G$29)>(INPUTS!$CU$5-1),\"Elite RB\",IF(AND((AX145*$G$29)>(INPUTS!$CU$6-1),(AY145*$F$29)>(INPUTS!$CV$6-1)),\"Elite RB\",IF(AND((AX145*$G$29)>(INPUTS!$CU$7-1),(AY145*$F$29)>(INPUTS!$CV$7-1)),\"Elite RB\",IF(AND((AX145*$G$29)>(INPUTS!$CU$8-1),(AY145*$F$29)>(INPUTS!$CV$8-1)),\"2nd Tier RB1\",IF((AX145*$G$29)>(INPUTS!$CU$9-1),\"Consistent RB2\",IF((AY145*$F$29)>(INPUTS!$CV$10-1),\"Consistent RB2\",\"Not a top RB\"))))))","v":"Not a top RB"},{"$f":"IFERROR(IF($J$40<$F$42,P145,P145-((N145+I145)*'Settings & Instructions'!$C$12)+(((N145+I145)/$F$42)*$J$40)*'Settings & Instructions'!$C$12)+((AT145-J145)*$G$29*L145*'Settings & Instructions'!$C$17)+((AP145-C145)*$F$29*E145*G145*'Settings & Instructions'!$C$18),\"\")","v":18.323790000000002},{"$f":"IF((AT145*$G$29)>(INPUTS!$CU$5-1),\"Elite RB\",IF(AND((AT145*$G$29)>(INPUTS!$CU$6-1),(AP145*$F$29)>(INPUTS!$CV$6-1)),\"Elite RB\",IF(AND((AT145*$G$29)>(INPUTS!$CU$7-1),(AP145*$F$29)>(INPUTS!$CV$7-1)),\"Elite RB\",IF(AND((AT145*$G$29)>(INPUTS!$CU$8-1),(AP145*$F$29)>(INPUTS!$CV$8-1)),\"2nd Tier RB1\",IF((AT145*$G$29)>(INPUTS!$CU$9-1),\"Consistent RB2\",IF((AP145*$F$29)>(INPUTS!$CV$10-1),\"Consistent RB2\",\"Not a top RB\"))))))","v":"Not a top RB"},null,null,null,null,null,null,null,null,null,null,null,null,null,null,null,null,null,null,0.01,null,{"$f":"IFERROR(RANK(C145,($C$142:$C$145,$C$142),0),0)","v":4},{"$f":"C145","v":0.01},0.05,3,{"$f":"J145","v":0.05},null,{"$f":"IF(J145>49.9%,50%,IF(J145>34.9%,35%,IF(J145>19.9%,20%,IF(J145>4.9%,J145-3%,J145))))","v":2.0000000000000004E-2},{"$f":"IF(C145>15%,15%,IF(C145>10%,10%,IF(C145>5%,5%,C145)))","v":0.01}]
[]
[null,"Other",null,{"$f":"C147*$F$29","v":0},null,{"$f":"D147*E147","v":0},null,{"$f":"G147*F147","v":0},null,null,{"$f":"J147*$G$29","v":0},null,{"$f":"L147*K147","v":0},null,{"$f":"'Settings & Instructions'!$C$16","v":0},{"$f":"(F147*'Settings & Instructions'!$C$13)+(H147*'Settings & Instructions'!$C$18)+(I147*'Settings & Instructions'!$C$19)+(M147*'Settings & Instructions'!$C$17)+(N147*'Settings & Instructions'!$C$12)+(O147*F147)+(K147*'Settings & Instructions'!$C$20)","v":0}]
[]
[null,"Last Season Data Check",null,"Use this section to see last season's stats as a guide or comparison",null,null,null,null,null,"*HOT TIP* if the selected player doesn’t return any last-season data, check the spelling and remove suffixes (e.g. \" Jr.\", \" III\", \" II\")",null,null,null,null,null,null,"Games Played","Points per Game",null,"2023 Worst Performance",null,"2023 Best Performance"]
[null,"James Conner",{"$f":"IFERROR(INDEX($E$204:$Z$224,21,MATCH($B150,$E$204:$Z$204,0)),\"N/A\")","v":5.9459459459459463E-2},{"$f":"IFERROR(VLOOKUP($B150,INPUTS!$BB:$BS,7,0),\"N/A\")","v":33},{"$f":"IFERROR(VLOOKUP($B150,INPUTS!$BB:$BS,9,0),\"N/A\")","v":0.81799999999999995},{"$f":"IFERROR(VLOOKUP($B150,INPUTS!$BB:$BS,8,0),\"N/A\")","v":27},{"$f":"IFERROR(VLOOKUP($B150,INPUTS!$BB:$BS,11,0),\"N/A\")","v":6.1},{"$f":"IFERROR(VLOOKUP($B150,INPUTS!$BB:$BS,10,0),\"N/A\")","v":165},{"$f":"IFERROR(VLOOKUP($B150,INPUTS!$BB:$BS,12,0),\"N/A\")","v":2},{"$f":"IFERROR(INDEX($E$512:$Z$532,21,MATCH($B150,$E$512:$Z$512,0)),\"N/A\")","v":0.44161358811040341},{"$f":"IFERROR(VLOOKUP($B150,INPUTS!$AL:$AY,7,0),\"N/A\")","v":208},{"$f":"IFERROR(VLOOKUP($B150,INPUTS!$AL:$AY,12,0),\"N/A\")","v":5},{"$f":"IFERROR(VLOOKUP($B150,INPUTS!$AL:$AY,8,0),\"N/A\")","v":1040},{"$f":"IFERROR(VLOOKUP($B150,INPUTS!$AL:$AY,9,0),\"N/A\")","v":7},{"$f":"'Settings & Instructions'!$C$16","v":0},{"$f":"IFERROR((F150*'Settings & Instructions'!$C$13),0)+IFERROR((H150*'Settings & Instructions'!$C$18),0)+IFERROR((I150*'Settings & Instructions'!$C$19),0)+IFERROR((M150*'Settings & Instructions'!$C$17),0)+IFERROR((N150*'Settings & Instructions'!$C$12),0)+IFERROR((O150*F150),0)+IFERROR((K150*'Settings & Instructions'!$C$20),0)","v":201.5},{"$f":"IFERROR(VLOOKUP($B150,INPUTS!$AL:$AP,5,0),IFERROR(VLOOKUP($B150,INPUTS!$BB:$BF,5,0),\"N/A\"))","v":13},{"$f":"IFERROR(P150/Q150,\"N/A\")","v":15.5},null,{"$f":"IFERROR(VLOOKUP($B150,INPUTS!$DQ:$DS,2,0),0)","v":4.5999999999999996},"PPR Points",{"$f":"IFERROR(VLOOKUP($B150,INPUTS!$DQ:$DS,3,0),0)","v":26.3},"PPR Points"]
[null,"The Real Story",{"$f":"IF(VLOOKUP($B$150,INPUTS!$DT:$DY,2,0)=0,\"\",VLOOKUP($B$150,INPUTS!$DT:$DY,2,0))","v":"A reasonable start to the season with finishes of RB21, RB15 and RB6 before a tough opponent in San Francisco and then an injury until week 10"}]
[null,null,{"$f":"IF(VLOOKUP($B$150,INPUTS!$DT:$DY,3,0)=0,\"\",VLOOKUP($B$150,INPUTS!$DT:$DY,3,0))","v":"Struggled in the first 3 games back from injury but was an RB1 down the stretch - 3 games in the top 5 and the other in the top 12"}]
[null,null,{"$f":"IF(VLOOKUP($B$150,INPUTS!$DT:$DY,4,0)=0,\"\",VLOOKUP($B$150,INPUTS!$DT:$DY,4,0))","v":"An increase in team rushing volume and touchdown opportunity seemed to make the big difference in the last few games, including more opportunities in the red zone"}]
[null,null,{"$f":"IF(VLOOKUP($B$150,INPUTS!$DT:$DY,5,0)=0,\"\",VLOOKUP($B$150,INPUTS!$DT:$DY,5,0))","v":"That late season flurry coincided with the games that Marquise Brown missed"}]
[null,null,{"$f":"IF(VLOOKUP($B$150,INPUTS!$DT:$DY,6,0)=0,\"\",VLOOKUP($B$150,INPUTS!$DT:$DY,6,0))","v":""}]
[]
[]
[null,"Tight Ends",null,"Note: White Cells will populate automatically",null,null,null,null,"STEP 2: Project the individual player stats in the light blue cells"]
[null,"(Click the + on the left to expand)",null,null,null,null,null,null,"Ensure 100% of target share and rush share - see above checks",null,null,null,null,null,null,null,null,null,null,"Range of Outcomes"]
[null,null,null,null,null,null,null,null,null,null,null,null,null,null,null,null,null,null,null,"Low",null,"High"]
[null,"Player","Target Share %","Targets","Catch %","Receptions","Yards per Reception","Receiving Yards","Receiving TDs","Rush Att Share %","Rush Att","Yards per Carry","Rushing Yards","Rushing TDs","Premium","Fantasy Points","Positional Rank","Tier \n(Volume Based)",null,"Fantasy Points","Tier","Fantasy Points","Tier",null,null,null,null,null,null,null,null,null,null,null,null,null,null,null,null,null,null,"Max Target share"]
[null,"Trey McBride",0.22,{"$f":"C162*$F$29","v":127.53400000000001},0.75,{"$f":"D162*E162","v":95.650500000000008},10,{"$f":"G162*F162","v":956.50500000000011},5,null,{"$f":"J162*$G$29","v":0},null,{"$f":"L162*K162","v":0},null,{"$f":"'Settings & Instructions'!$C$14","v":1},{"$f":"(F162*'Settings & Instructions'!$C$13)+(H162*'Settings & Instructions'!$C$18)+(I162*'Settings & Instructions'!$C$19)+(M162*'Settings & Instructions'!$C$17)+(N162*'Settings & Instructions'!$C$12)+(O162*F162)+(K162*'Settings & Instructions'!$C$20)","v":316.95150000000007},{"$f":"IFERROR(\"TE\"&INDEX('Positional Ranks'!$W:$X,MATCH($B162,'Positional Ranks'!$X:$X,0),1),\"\")","v":"TE1"},{"$f":"IF(D162>(INPUTS!$CY$5-1),\"Top TE\",IF(D162>(INPUTS!$CY$6-1),\"2nd Tier TE1\",\"Not a top TE\"))","v":"Top TE"},{"$f":"RANK(P162,($P$102:$P$103,$P$118:$P$125,$P$142:$P$145,$P$162:$P$165),0)","v":1},{"$f":"IFERROR(IF($I$40>$F$42,P162,P162-((N162+I162)*'Settings & Instructions'!$C$12)+((((N162+I162)/$F$42)*$I$40)*'Settings & Instructions'!$C$12))+((AU162-C162)*$F$29*E162*G162*'Settings & Instructions'!$C$18)+((AU162-C162)*$F$29*'Settings & Instructions'!$C$14),\"\")","v":292.37628571428581},{"$f":"IF((AU162*$F$29)>(INPUTS!$CY$5-1),\"Top TE\",IF((AU162*$F$29)>(INPUTS!$CY$6-1),\"2nd Tier TE1\",\"Not a top TE\"))","v":"Top TE"},{"$f":"IFERROR(IF($J$40<$F$42,P162,P162-((N162+I162)*'Settings & Instructions'!$C$12)+(((N162+I162)/$F$42)*$J$40)*'Settings & Instructions'!$C$12)+((AP162-C162)*$F$29*E162*G162*'Settings & Instructions'!$C$18),\"\")","v":334.28046428571434},{"$f":"IF((AP162*$F$29)>(INPUTS!$CY$5-1),\"Top TE\",IF((AP162*$F$29)>(INPUTS!$CY$6-1),\"2nd Tier TE1\",\"Not a top TE\"))","v":"Top TE"},null,null,null,null,null,null,null,null,null,null,null,null,null,null,null,null,null,null,{"$f":"IFERROR(MAX(IF(RANK(C162,($C$118:$C$125,$C$122,$C$142:$C$145,$C$142,$C$162:$C$165,$C$162),0)=1,0.3,IF(RANK(C162,($C$118:$C$125,$C$122,$C$142:$C$145,$C$142,$C$162:$C$165,$C$162),0)=2,0.25,C162)),IF(AR162=1,C162+$AB$106,IF(AR162=2,C162+$AB$106,0))),0)","v":0.25},null,{"$f":"IFERROR(RANK(C162,($C$162:$C$165,$C$162),0),0)","v":1},{"$f":"C162","v":0.22},null,{"$f":"IF(C162>20%,20%,IF(C162>13%,13%,IF(C162>5%,C162-2%,C162)))","v":0.2}]
[null,"Tip Reiman",0.02,11.594000000000001,0.75,{"$f":"D163*E163","v":8.6955000000000009},10,86.955000000000013,null,null,0,null,{"$f":"L163*K163","v":0},null,{"$f":"'Settings & Instructions'!$C$14","v":1},{"$f":"(F163*'Settings & Instructions'!$C$13)+(H163*'Settings & Instructions'!$C$18)+(I163*'Settings & Instructions'!$C$19)+(M163*'Settings & Instructions'!$C$17)+(N163*'Settings & Instructions'!$C$12)+(O163*F163)+(K163*'Settings & Instructions'!$C$20)","v":26.086500000000001},{"$f":"IFERROR(\"TE\"&INDEX('Positional Ranks'!$W:$X,MATCH($B163,'Positional Ranks'!$X:$X,0),1),\"\")","v":"TE2"},{"$f":"IF(D163>(INPUTS!$CY$5-1),\"Top TE\",IF(D163>(INPUTS!$CY$6-1),\"2nd Tier TE1\",\"Not a top TE\"))","v":"Not a top TE"},{"$f":"RANK(P163,($P$102:$P$103,$P$118:$P$125,$P$142:$P$145,$P$162:$P$165),0)","v":10},{"$f":"IFERROR(IF($I$40>$F$42,P163,P163-((N163+I163)*'Settings & Instructions'!$C$12)+((((N163+I163)/$F$42)*$I$40)*'Settings & Instructions'!$C$12))+((AU163-C163)*$F$29*E163*G163*'Settings & Instructions'!$C$18)+((AU163-C163)*$F$29*'Settings & Instructions'!$C$14),\"\")","v":26.086500000000001},{"$f":"IF((AU163*$F$29)>(INPUTS!$CY$5-1),\"Top TE\",IF((AU163*$F$29)>(INPUTS!$CY$6-1),\"2nd Tier TE1\",\"Not a top TE\"))","v":"Not a top TE"},{"$f":"IFERROR(IF($J$40<$F$42,P163,P163-((N163+I163)*'Settings & Instructions'!$C$12)+(((N163+I163)/$F$42)*$J$40)*'Settings & Instructions'!$C$12)+((AP163-C163)*$F$29*E163*G163*'Settings & Instructions'!$C$18),\"\")","v":26.086500000000001},{"$f":"IF((AP163*$F$29)>(INPUTS!$CY$5-1),\"Top TE\",IF((AP163*$F$29)>(INPUTS!$CY$6-1),\"2nd Tier TE1\",\"Not a top TE\"))","v":"Not a top TE"},null,null,null,null,null,null,null,null,null,null,null,null,null,null,null,null,null,null,{"$f":"IFERROR(MAX(IF(RANK(C163,($C$118:$C$125,$C$122,$C$142:$C$145,$C$142,$C$162:$C$165,$C$162),0)=1,0.3,IF(RANK(C163,($C$118:$C$125,$C$122,$C$142:$C$145,$C$142,$C$162:$C$165,$C$162),0)=2,0.25,C163)),IF(AR163=1,C163+$AB$106,IF(AR163=2,C163+$AB$106,0))),0)","v":0.02},null,{"$f":"IFERROR(RANK(C163,($C$162:$C$165,$C$162),0),0)","v":3},{"$f":"C163","v":0.02},null,{"$f":"IF(C163>20%,20%,IF(C163>13%,13%,IF(C163>5%,C163-2%,C163)))","v":0.02}]
[null,null,null,0,null,0,null,0,null,null,0,null,0,null,{"$f":"'Settings & Instructions'!$C$14","v":1},{"$f":"(F164*'Settings & Instructions'!$C$13)+(H164*'Settings & Instructions'!$C$18)+(I164*'Settings & Instructions'!$C$19)+(M164*'Settings & Instructions'!$C$17)+(N164*'Settings & Instructions'!$C$12)+(O164*F164)+(K164*'Settings & Instructions'!$C$20)","v":0},{"$f":"IFERROR(\"TE\"&INDEX('Positional Ranks'!$W:$X,MATCH($B164,'Positional Ranks'!$X:$X,0),1),\"\")","v":"TE3"},{"$f":"IF(D164>(INPUTS!$CY$5-1),\"Top TE\",IF(D164>(INPUTS!$CY$6-1),\"2nd Tier TE1\",\"Not a top TE\"))","v":"Not a top TE"},{"$f":"RANK(P164,($P$102:$P$103,$P$118:$P$125,$P$142:$P$145,$P$162:$P$165),0)","v":14},{"$f":"IFERROR(IF($I$40>$F$42,P164,P164-((N164+I164)*'Settings & Instructions'!$C$12)+((((N164+I164)/$F$42)*$I$40)*'Settings & Instructions'!$C$12))+((AU164-C164)*$F$29*E164*G164*'Settings & Instructions'!$C$18)+((AU164-C164)*$F$29*'Settings & Instructions'!$C$14),\"\")","v":0},{"$f":"IF((AU164*$F$29)>(INPUTS!$CY$5-1),\"Top TE\",IF((AU164*$F$29)>(INPUTS!$CY$6-1),\"2nd Tier TE1\",\"Not a top TE\"))","v":"Not a top TE"},{"$f":"IFERROR(IF($J$40<$F$42,P164,P164-((N164+I164)*'Settings & Instructions'!$C$12)+(((N164+I164)/$F$42)*$J$40)*'Settings & Instructions'!$C$12)+((AP164-C164)*$F$29*E164*G164*'Settings & Instructions'!$C$18),\"\")","v":0},{"$f":"IF((AP164*$F$29)>(INPUTS!$CY$5-1),\"Top TE\",IF((AP164*$F$29)>(INPUTS!$CY$6-1),\"2nd Tier TE1\",\"Not a top TE\"))","v":"Not a top TE"},null,null,null,null,null,null,null,null,null,null,null,null,null,null,null,null,null,null,{"$f":"IFERROR(MAX(IF(RANK(C164,($C$118:$C$125,$C$122,$C$142:$C$145,$C$142,$C$162:$C$165,$C$162),0)=1,0.3,IF(RANK(C164,($C$118:$C$125,$C$122,$C$142:$C$145,$C$142,$C$162:$C$165,$C$162),0)=2,0.25,C164)),IF(AR164=1,C164+$AB$106,IF(AR164=2,C164+$AB$106,0))),0)","v":0},null,{"$f":"IFERROR(RANK(C164,($C$162:$C$165,$C$162),0),0)","v":0},{"$f":"C164","v":0},null,{"$f":"IF(C164>20%,20%,IF(C164>13%,13%,IF(C164>5%,C164-2%,C164)))","v":0}]
[null,null,null,0,null,0,null,0,null,null,0,null,0,null,{"$f":"'Settings & Instructions'!$C$14","v":1},{"$f":"(F165*'Settings & Instructions'!$C$13)+(H165*'Settings & Instructions'!$C$18)+(I165*'Settings & Instructions'!$C$19)+(M165*'Settings & Instructions'!$C$17)+(N165*'Settings & Instructions'!$C$12)+(O165*F165)+(K165*'Settings & Instructions'!$C$20)","v":0},{"$f":"IFERROR(\"TE\"&INDEX('Positional Ranks'!$W:$X,MATCH($B165,'Positional Ranks'!$X:$X,0),1),\"\")","v":"TE3"},{"$f":"IF(D165>(INPUTS!$CY$5-1),\"Top TE\",IF(D165>(INPUTS!$CY$6-1),\"2nd Tier TE1\",\"Not a top TE\"))","v":"Not a top TE"},{"$f":"RANK(P165,($P$102:$P$103,$P$118:$P$125,$P$142:$P$145,$P$162:$P$165),0)","v":14},{"$f":"IFERROR(IF($I$40>$F$42,P165,P165-((N165+I165)*'Settings & Instructions'!$C$12)+((((N165+I165)/$F$42)*$I$40)*'Settings & Instructions'!$C$12))+((AU165-C165)*$F$29*E165*G165*'Settings & Instructions'!$C$18)+((AU165-C165)*$F$29*'Settings & Instructions'!$C$14),\"\")","v":0},{"$f":"IF((AU165*$F$29)>(INPUTS!$CY$5-1),\"Top TE\",IF((AU165*$F$29)>(INPUTS!$CY$6-1),\"2nd Tier TE1\",\"Not a top TE\"))","v":"Not a top TE"},{"$f":"IFERROR(IF($J$40<$F$42,P165,P165-((N165+I165)*'Settings & Instructions'!$C$12)+(((N165+I165)/$F$42)*$J$40)*'Settings & Instructions'!$C$12)+((AP165-C165)*$F$29*E165*G165*'Settings & Instructions'!$C$18),\"\")","v":0},{"$f":"IF((AP165*$F$29)>(INPUTS!$CY$5-1),\"Top TE\",IF((AP165*$F$29)>(INPUTS!$CY$6-1),\"2nd Tier TE1\",\"Not a top TE\"))","v":"Not a top TE"},null,null,null,null,null,null,null,null,null,null,null,null,null,null,null,null,null,null,{"$f":"IFERROR(MAX(IF(RANK(C165,($C$118:$C$125,$C$122,$C$142:$C$145,$C$142,$C$162:$C$165,$C$162),0)=1,0.3,IF(RANK(C165,($C$118:$C$125,$C$122,$C$142:$C$145,$C$142,$C$162:$C$165,$C$162),0)=2,0.25,C165)),IF(AR165=1,C165+$AB$106,IF(AR165=2,C165+$AB$106,0))),0)","v":0},null,{"$f":"IFERROR(RANK(C165,($C$162:$C$165,$C$162),0),0)","v":0},{"$f":"C165","v":0},null,{"$f":"IF(C165>20%,20%,IF(C165>13%,13%,IF(C165>5%,C165-2%,C165)))","v":0}]
[]
[null,"Other",null,{"$f":"C167*$F$29","v":0},null,{"$f":"D167*E167","v":0},null,{"$f":"G167*F167","v":0},null,null,{"$f":"J167*$G$29","v":0},null,{"$f":"L167*K167","v":0},null,{"$f":"'Settings & Instructions'!$C$14","v":1},{"$f":"(F167*'Settings & Instructions'!$C$13)+(H167*'Settings & Instructions'!$C$18)+(I167*'Settings & Instructions'!$C$19)+(M167*'Settings & Instructions'!$C$17)+(N167*'Settings & Instructions'!$C$12)+(O167*F167)+(K167*'Settings & Instructions'!$C$20)","v":0}]
[]
[null,"Last Season Data Check",null,"Use this section to see last season's stats as a guide or comparison",null,null,null,null,null,"*HOT TIP* if the selected player doesn’t return any last-season data, check the spelling and remove suffixes (e.g. \" Jr.\", \" III\", \" II\")",null,null,null,null,null,null,"Games Played","Points per Game",null,"2023 Worst Performance",null,"2023 Best Performance"]
[null,"Trey McBride",{"$f":"IFERROR(INDEX($E$204:$Z$224,21,MATCH($B170,$E$204:$Z$204,0)),\"N/A\")","v":0.19099099099099098},{"$f":"IFERROR(VLOOKUP($B170,INPUTS!$BB:$BS,7,0),\"N/A\")","v":106},{"$f":"IFERROR(VLOOKUP($B170,INPUTS!$BB:$BS,9,0),\"N/A\")","v":0.76400000000000001},{"$f":"IFERROR(VLOOKUP($B170,INPUTS!$BB:$BS,8,0),\"N/A\")","v":81},{"$f":"IFERROR(VLOOKUP($B170,INPUTS!$BB:$BS,11,0),\"N/A\")","v":10.199999999999999},{"$f":"IFERROR(VLOOKUP($B170,INPUTS!$BB:$BS,10,0),\"N/A\")","v":825},{"$f":"IFERROR(VLOOKUP($B170,INPUTS!$BB:$BS,12,0),\"N/A\")","v":3},{"$f":"IFERROR(INDEX($E$512:$Z$532,21,MATCH($B170,$E$512:$Z$512,0)),\"N/A\")","v":"N/A"},{"$f":"IFERROR(VLOOKUP($B170,INPUTS!$AL:$AY,7,0),\"N/A\")","v":"N/A"},{"$f":"IFERROR(VLOOKUP($B170,INPUTS!$AL:$AY,12,0),\"N/A\")","v":"N/A"},{"$f":"IFERROR(VLOOKUP($B170,INPUTS!$AL:$AY,8,0),\"N/A\")","v":"N/A"},{"$f":"IFERROR(VLOOKUP($B170,INPUTS!$AL:$AY,9,0),\"N/A\")","v":"N/A"},{"$f":"'Settings & Instructions'!$C$14","v":1},{"$f":"IFERROR((F170*'Settings & Instructions'!$C$13),0)+IFERROR((H170*'Settings & Instructions'!$C$18),0)+IFERROR((I170*'Settings & Instructions'!$C$19),0)+IFERROR((M170*'Settings & Instructions'!$C$17),0)+IFERROR((N170*'Settings & Instructions'!$C$12),0)+IFERROR((O170*F170),0)+IFERROR((K170*'Settings & Instructions'!$C$20),0)","v":262.5},{"$f":"IFERROR(VLOOKUP($B170,INPUTS!$AL:$AP,5,0),IFERROR(VLOOKUP($B170,INPUTS!$BB:$BF,5,0),\"N/A\"))","v":17},{"$f":"IFERROR(P170/Q170,\"N/A\")","v":15.441176470588236},null,{"$f":"IFERROR(VLOOKUP($B170,INPUTS!$DQ:$DS,2,0),0)","v":1.2},"PPR Points",{"$f":"IFERROR(VLOOKUP($B170,INPUTS!$DQ:$DS,3,0),0)","v":25.5},"PPR Points"]
[null,"The Real Story",{"$f":"IF(VLOOKUP($B$170,INPUTS!$DT:$DY,2,0)=0,\"\",VLOOKUP($B$170,INPUTS!$DT:$DY,2,0))","v":"4 top 5 finishes is 4th in the league, 7 top 12 finishes is 9th in the league, and 10 top 24 finishes is 11th"}]
[null,null,{"$f":"IF(VLOOKUP($B$170,INPUTS!$DT:$DY,3,0)=0,\"\",VLOOKUP($B$170,INPUTS!$DT:$DY,3,0))","v":"A tale of two seasons with nearly 4 times as many targets per game after the first third of the season, when Zach Ertz was no more for the Cardinals"}]
[null,null,{"$f":"IF(VLOOKUP($B$170,INPUTS!$DT:$DY,4,0)=0,\"\",VLOOKUP($B$170,INPUTS!$DT:$DY,4,0))","v":"After that point he had a target share of 27%, 2 double-digit catch games, 2 100+ yard games, and only 1 game with less than 5 catches"}]
[null,null,{"$f":"IF(VLOOKUP($B$170,INPUTS!$DT:$DY,5,0)=0,\"\",VLOOKUP($B$170,INPUTS!$DT:$DY,5,0))","v":"All that while only scoring 2 touchdowns shows there's very good production with a potentially high ceiling if the touchdowns come"}]
[null,null,{"$f":"IF(VLOOKUP($B$170,INPUTS!$DT:$DY,6,0)=0,\"\",VLOOKUP($B$170,INPUTS!$DT:$DY,6,0))","v":""}]
[]
[]
[null,"2023 Data For Reference"]
[]
[null,"Receiving","(Click the + on the left to expand)"]
[]
[null,"Targets","Opponent","QB","Trey McBride","Marquise Brown","Rondale Moore","Michael Wilson","James Conner","Zach Ertz","Greg Dortch","Emari Demercado","Elijah Higgins","Geoff Swaim","Keaontay Ingram","Zach Pascal","Damien Williams","Travis Homer","Ryan Tannehill","Michael Carter","Tony Jones","","","","",""]
[null,"Week 1","@ Washington Commanders","Joshua Dobbs",2,5,3,4,5,10,0,0,0,0,0,1,0,0,0,0,0,0,0,0,0,0]
[null,"Week 2","New York Giants","Joshua Dobbs",3,10,1,3,1,8,0,2,0,0,0,1,0,0,0,0,0,0,0,0,0,0]
[null,"Week 3","Dallas Cowboys","Joshua Dobbs",1,7,6,2,2,2,0,0,0,0,1,0,0,0,0,0,0,0,0,0,0,0]
[null,"Week 4","@ San Francisco 49ers","Joshua Dobbs",1,10,2,7,2,10,0,4,0,1,0,4,0,0,0,0,0,0,0,0,0,0]
[null,"Week 5","Cincinnati Bengals","Joshua Dobbs",3,10,5,2,0,4,0,3,0,2,0,1,0,0,0,0,0,0,0,0,0,0]
[null,"Week 6","@ Los Angeles Rams","Joshua Dobbs",5,11,7,4,0,5,1,1,0,0,2,1,1,0,0,0,0,0,0,0,0,0]
[null,"Week 7","@ Seattle Seahawks","Joshua Dobbs",6,7,4,5,0,4,0,5,1,1,0,0,0,1,0,0,0,0,0,0,0,0]
[null,"Week 8","Baltimore Ravens","Joshua Dobbs",14,9,3,6,0,0,0,1,0,0,1,1,1,0,0,0,0,0,0,0,0,0]
[null,"Week 9","@ Cleveland Browns","Clayton Tune",5,8,2,0,0,0,1,0,0,0,0,1,0,0,0,0,3,0,0,0,0,0]
[null,"Week 10","Atlanta Falcons","Kyler Murray",9,4,8,6,0,0,0,0,1,2,0,1,0,0,0,1,0,0,0,0,0,0]
[null,"Week 11","@ Houston Texans","Kyler Murray",7,5,1,0,3,0,8,0,2,2,0,0,0,0,0,0,1,0,0,0,0,0]
[null,"Week 12","Los Angeles Rams","Kyler Murray",9,12,3,0,5,0,9,0,2,0,0,0,0,0,0,4,0,0,0,0,0,0]
[null,"Week 13","@ Pittsburgh Steelers","Kyler Murray",9,3,2,0,2,0,3,0,2,2,0,0,0,0,0,0,0,0,0,0,0,0]
[null,"Week 14","BYE",""]
[null,"Week 15","San Francisco 49ers","Kyler Murray",11,0,3,3,3,0,3,3,4,1,0,4,0,0,0,3,0,0,0,0,0,0]
[null,"Week 16","@ Chicago Bears","Kyler Murray",8,0,3,4,5,0,5,8,3,0,0,0,0,0,0,1,0,0,0,0,0,0]
[null,"Week 17","@ Philadelphia Eagles","Kyler Murray",7,0,4,6,1,0,7,3,2,0,0,0,0,0,0,1,0,0,0,0,0,0]
[null,"Week 18","Seattle Seahawks","Kyler Murray",6,0,5,6,4,0,4,0,2,0,0,0,0,0,1,2,0,0,0,0,0,0]
[]
[null,"Total",null,null,106,101,62,58,33,43,41,30,19,11,4,15,2,1,1,12,4,0,0,0,0,0]
[]
[null,"Target Share (%)","Opponent","QB","Trey McBride","Marquise Brown","Rondale Moore","Michael Wilson","James Conner","Zach Ertz","Greg Dortch","Emari Demercado","Elijah Higgins","Geoff Swaim","Keaontay Ingram","Zach Pascal","Damien Williams","Travis Homer","Ryan Tannehill","Michael Carter","Tony Jones","","","","",""]
[null,"Week 1","@ Washington Commanders","Joshua Dobbs",6.6666666666666666E-2,0.16666666666666666,0.1,0.13333333333333333,0.16666666666666666,0.33333333333333331,0,0,0,0,0,3.3333333333333333E-2,0,0,0,0,0,0,0,0,0,0]
[null,"Week 2","New York Giants","Joshua Dobbs",9.6774193548387094E-2,0.32258064516129031,3.2258064516129031E-2,9.6774193548387094E-2,3.2258064516129031E-2,0.25806451612903225,0,6.4516129032258063E-2,0,0,0,3.2258064516129031E-2,0,0,0,0,0,0,0,0,0,0]
[null,"Week 3","Dallas Cowboys","Joshua Dobbs",4.7619047619047616E-2,0.33333333333333331,0.2857142857142857,9.5238095238095233E-2,9.5238095238095233E-2,9.5238095238095233E-2,0,0,0,0,4.7619047619047616E-2,0,0,0,0,0,0,0,0,0,0,0]
[null,"Week 4","@ San Francisco 49ers","Joshua Dobbs",2.4390243902439025E-2,0.24390243902439024,4.878048780487805E-2,0.17073170731707318,4.878048780487805E-2,0.24390243902439024,0,9.7560975609756101E-2,0,2.4390243902439025E-2,0,9.7560975609756101E-2,0,0,0,0,0,0,0,0,0,0]
[null,"Week 5","Cincinnati Bengals","Joshua Dobbs",9.375E-2,0.3125,0.15625,6.25E-2,0,0.125,0,9.375E-2,0,6.25E-2,0,3.125E-2,0,0,0,0,0,0,0,0,0,0]
[null,"Week 6","@ Los Angeles Rams","Joshua Dobbs",0.12195121951219512,0.26829268292682928,0.17073170731707318,9.7560975609756101E-2,0,0.12195121951219512,2.4390243902439025E-2,2.4390243902439025E-2,0,0,4.878048780487805E-2,2.4390243902439025E-2,2.4390243902439025E-2,0,0,0,0,0,0,0,0,0]
[null,"Week 7","@ Seattle Seahawks","Joshua Dobbs",0.17647058823529413,0.20588235294117646,0.11764705882352941,0.14705882352941177,0,0.11764705882352941,0,0.14705882352941177,2.9411764705882353E-2,2.9411764705882353E-2,0,0,0,2.9411764705882353E-2,0,0,0,0,0,0,0,0]
[null,"Week 8","Baltimore Ravens","Joshua Dobbs",0.3783783783783784,0.24324324324324326,8.1081081081081086E-2,0.16216216216216217,0,0,0,2.7027027027027029E-2,0,0,2.7027027027027029E-2,2.7027027027027029E-2,2.7027027027027029E-2,0,0,0,0,0,0,0,0,0]
[null,"Week 9","@ Cleveland Browns","Clayton Tune",0.25,0.4,0.1,0,0,0,0.05,0,0,0,0,0.05,0,0,0,0,0.15,0,0,0,0,0]
[null,"Week 10","Atlanta Falcons","Kyler Murray",0.28125,0.125,0.25,0.1875,0,0,0,0,3.125E-2,6.25E-2,0,3.125E-2,0,0,0,3.125E-2,0,0,0,0,0,0]
[null,"Week 11","@ Houston Texans","Kyler Murray",0.23333333333333334,0.16666666666666666,3.3333333333333333E-2,0,0.1,0,0.26666666666666666,0,6.6666666666666666E-2,6.6666666666666666E-2,0,0,0,0,0,0,3.3333333333333333E-2,0,0,0,0,0]
[null,"Week 12","Los Angeles Rams","Kyler Murray",0.2,0.26666666666666666,6.6666666666666666E-2,0,0.1111111111111111,0,0.2,0,4.4444444444444446E-2,0,0,0,0,0,0,8.8888888888888892E-2,0,0,0,0,0,0]
[null,"Week 13","@ Pittsburgh Steelers","Kyler Murray",0.39130434782608697,0.13043478260869565,8.6956521739130432E-2,0,8.6956521739130432E-2,0,0.13043478260869565,0,8.6956521739130432E-2,8.6956521739130432E-2,0,0,0,0,0,0,0,0,0,0,0,0]
[null,"Week 14","BYE",""]
[null,"Week 15","San Francisco 49ers","Kyler Murray",0.28205128205128205,0,7.6923076923076927E-2,7.6923076923076927E-2,7.6923076923076927E-2,0,7.6923076923076927E-2,7.6923076923076927E-2,0.10256410256410256,2.564102564102564E-2,0,0.10256410256410256,0,0,0,7.6923076923076927E-2,0,0,0,0,0,0]
[null,"Week 16","@ Chicago Bears","Kyler Murray",0.21052631578947367,0,7.8947368421052627E-2,0.10526315789473684,0.13157894736842105,0,0.13157894736842105,0.21052631578947367,7.8947368421052627E-2,0,0,0,0,0,0,2.6315789473684209E-2,0,0,0,0,0,0]
[null,"Week 17","@ Philadelphia Eagles","Kyler Murray",0.22580645161290322,0,0.12903225806451613,0.19354838709677419,3.2258064516129031E-2,0,0.22580645161290322,9.6774193548387094E-2,6.4516129032258063E-2,0,0,0,0,0,0,3.2258064516129031E-2,0,0,0,0,0,0]
[null,"Week 18","Seattle Seahawks","Kyler Murray",0.2,0,0.16666666666666666,0.2,0.13333333333333333,0,0.13333333333333333,0,6.6666666666666666E-2,0,0,0,0,0,3.3333333333333333E-2,6.6666666666666666E-2,0,0,0,0,0,0]
[]
[null,"Total",null,null,0.19099099099099098,0.18198198198198198,0.11171171171171171,0.10450450450450451,5.9459459459459463E-2,7.7477477477477477E-2,7.3873873873873869E-2,5.4054054054054057E-2,3.4234234234234232E-2,1.9819819819819819E-2,7.2072072072072073E-3,2.7027027027027029E-2,3.6036036036036037E-3,1.8018018018018018E-3,1.8018018018018018E-3,2.1621621621621623E-2,7.2072072072072073E-3,0,0,0,0,0]
[]
[null,"aDOT (Cumulative)","Opponent","QB","Trey McBride","Marquise Brown","Rondale Moore","Michael Wilson","James Conner","Zach Ertz","Greg Dortch","Emari Demercado","Elijah Higgins","Geoff Swaim","Keaontay Ingram","Zach Pascal","Damien Williams","Travis Homer","Ryan Tannehill","Michael Carter","Tony Jones","","","","",""]
[null,"Week 1","@ Washington Commanders","Joshua Dobbs",7,9.6,2.7,16,-1.2,5.6,0,0,0,0,0,8,0,0,0,2.5,0,0,0,0,0,0]
[null,"Week 2","New York Giants","Joshua Dobbs",6,9.9,5.5,15.3,-1.8,7.2,0,-2.5,0,0,0,2.5,0,0,0,2.5,-2,0,0,0,0,0]
[null,"Week 3","Dallas Cowboys","Joshua Dobbs",5.2,10.5,3.5,16.8,-1.8,6.4,0,-2.5,0,0,-5,2.5,0,0,0,2.2000000000000002,-0.8,0,0,0,0,0]
[null,"Week 4","@ San Francisco 49ers","Joshua Dobbs",5,11.8,2.9,13.3,-1.2,7.7,0,0,0,-4,-5,5,0,0,0,2.8,-0.8,0,0,0,0,0]
[null,"Week 5","Cincinnati Bengals","Joshua Dobbs",6.9,11.8,2.9,13.5,-1.2,7.7,0,2,0,2,-5,5.7,0,0,0,1.7,-0.8,0,0,0,0,0]
[null,"Week 6","@ Los Angeles Rams","Joshua Dobbs",7.1,13.2,2.1,13.8,-1.2,7.9,37,2.1,0,2,-2.7,7.4,1,0,0,1.8,-0.8,0,0,0,0,0]
[null,"Week 7","@ Seattle Seahawks","Joshua Dobbs",6.3,12.9,1.9,13.2,-1.2,7.7,37,1.6,0,2.8,-2.7,7.4,1,-5,0,1.8,-0.8,0,0,0,0,0]
[null,"Week 8","Baltimore Ravens","Joshua Dobbs",6.6,11.6,2.2999999999999998,13,-1.2,7.7,37,1.3,0,2.8,-1.3,9.1999999999999993,0.5,-5,0,1.5,-0.8,0,0,0,0,0]
[null,"Week 9","@ Cleveland Browns","Clayton Tune",6.5,10.9,2,13,-1.2,7.7,17.5,1.3,0,2.8,-1.3,8.8000000000000007,0.5,-5,0,1,-2,0,0,0,0,0]
[null,"Week 10","Atlanta Falcons","Kyler Murray",7,11.2,3.3,12.5,-1.2,7.7,17.5,1.3,9,3.3,-1.3,9.1,0.5,-5,0,1.1000000000000001,-2,0,0,0,0,0]
[null,"Week 11","@ Houston Texans","Kyler Murray",7,11.6,4.4000000000000004,12.5,-1.2,7.7,8,1.3,6,3.9,-1.3,9.1,0.5,-5,0,1.1000000000000001,-1.8,0,0,0,0,0]
[null,"Week 12","Los Angeles Rams","Kyler Murray",6.6,12.1,4.7,12.5,-0.4,7.7,9.5,1.3,8,3.9,-1.3,9.1,0.5,-5,0,1.1000000000000001,-1.8,0,0,0,0,0]
[null,"Week 13","@ Pittsburgh Steelers","Kyler Murray",6.4,11.9,5.5,12.5,0.3,7.7,10,1.3,7.3,3.6,-1.3,9.1,0.5,-5,0,1.1000000000000001,-1.8,0,0,0,0,0]
[null,"Week 14","BYE",""]
[null,"Week 15","San Francisco 49ers","Kyler Murray",6.3,11.9,5.0999999999999996,12.5,-0.1,7.7,10.199999999999999,0.9,7.4,5.5,-1.3,10.7,0.5,-5,0,1.1000000000000001,-1.8,0,0,0,0,0]
[null,"Week 16","@ Chicago Bears","Kyler Murray",6.2,11.9,5.7,13,-0.2,7.7,10.5,0.7,6,5.5,-1.3,10.7,0.5,-5,0,1.2,-1.8,0,0,0,0,0]
[null,"Week 17","@ Philadelphia Eagles","Kyler Murray",5.8,11.9,5.5,12.5,0,7.7,9.8000000000000007,0.9,6.2,5.5,-1.3,10.7,0.5,-5,0,1.1000000000000001,-1.8,0,0,0,0,0]
[null,"Week 18","Seattle Seahawks","Kyler Murray",6,11.9,5.2,12.3,-0.4,7.7,9.5,0.9,6.7,5.5,-1.3,10.7,0.5,-5,-1,1.1000000000000001,-1.8,0,0,0,0,0]
[]
[]
[null,"aDOT by week","Opponent","QB","Trey McBride","Marquise Brown","Rondale Moore","Michael Wilson","James Conner","Zach Ertz","Greg Dortch","Emari Demercado","Elijah Higgins","Geoff Swaim","Keaontay Ingram","Zach Pascal","Damien Williams","Travis Homer","Ryan Tannehill","Michael Carter","Tony Jones","","","","",""]
[null,"Week 1","@ Washington Commanders","Joshua Dobbs",7,9.6,2.7000000000000006,16,-1.2,5.6,0,0,0,0,0,8,0,0,0,0,0,0,0,0,0,0]
[null,"Week 2","New York Giants","Joshua Dobbs",5.333333333333333,10.050000000000001,13.899999999999999,14.366666666666669,-4.8000000000000007,9.1999999999999993,0,-2.5,0,0,0,-3,0,0,0,0,0,0,0,0,0,0]
[null,"Week 3","Dallas Cowboys","Joshua Dobbs",1.2000000000000028,11.785714285714286,2.1666666666666665,22.050000000000004,-1.7999999999999998,-0.79999999999999716,0,0,0,0,-5,0,0,0,0,0,0,0,0,0,0,0]
[null,"Week 4","@ San Francisco 49ers","Joshua Dobbs",3.7999999999999972,14.660000000000002,-0.10000000000000142,8.7999999999999972,1.2000000000000002,10.3,0,1.25,0,-4,0,6.25,0,0,0,0,0,0,0,0,0,0]
[null,"Week 5","Cincinnati Bengals","Joshua Dobbs",11.333333333333334,11.8,2.9,15.100000000000001,0,7.7000000000000028,0,6,0,5,0,9.8999999999999986,0,0,0,0,0,0,0,0,0,0]
[null,"Week 6","@ Los Angeles Rams","Joshua Dobbs",7.5,18.545454545454536,0.15714285714285836,15.150000000000009,0,9.2600000000000016,37,3,0,0,-1.5500000000000007,19.300000000000004,1,0,0,0,0,0,0,0,0,0]
[null,"Week 7","@ Seattle Seahawks","Joshua Dobbs",4.2999999999999972,10.628571428571442,0.69999999999999751,10.559999999999993,0,5.75,0,0.6,0,5.1999999999999993,0,0,0,-5,0,0,0,0,0,0,0,0]
[null,"Week 8","Baltimore Ravens","Joshua Dobbs",7.0500000000000034,2.9333333333333309,6.0333333333333314,12.100000000000003,0,0,0,-3.1999999999999993,0,0,2.9000000000000012,23.599999999999994,0,0,0,0,0,0,0,0,0,0]
[null,"Week 9","@ Cleveland Browns","Clayton Tune",5.7999999999999945,4.8625000000000114,-2.649999999999995,0,0,0,-2,0,0,0,0,5.2000000000000028,0,0,0,0,-2,0,0,0,0,0]
[null,"Week 10","Atlanta Falcons","Kyler Murray",9.2222222222222197,16.974999999999966,8.6624999999999979,9.7500000000000018,0,0,0,0,18,4.2999999999999989,0,12.099999999999994,0,0,0,1.1000000000000001,0,0,0,0,0,0]
[null,"Week 11","@ Houston Texans","Kyler Murray",6.9999999999999956,18.08000000000002,49.500000000000028,0,-1.2,0,5.625,0,3,5.7000000000000011,0,0,0,0,0,0,-1.2000000000000002,0,0,0,0,0]
[null,"Week 12","Los Angeles Rams","Kyler Murray",4.1111111111111081,15.683333333333328,8.8999999999999968,0,1.6799999999999997,0,11.166666666666666,0,12,0,0,0,0,0,0,1.1000000000000001,0,0,0,0,0,0]
[null,"Week 13","@ Pittsburgh Steelers","Kyler Murray",4.9555555555555548,5.3666666666667124,23.5,0,6.6000000000000005,0,13.166666666666666,0,5.1999999999999993,2.4000000000000004,0,0,0,0,0,0,0,0,0,0,0,0]
[null,"Week 14","BYE",""]
[null,"Week 15","San Francisco 49ers","Kyler Murray",5.6272727272727225,0,-1.1666666666666785,12.500000000000005,-2.7666666666666644,0,11.666666666666657,-1.2333333333333332,7.6000000000000014,24.500000000000004,0,15.099999999999994,0,0,0,1.1000000000000001,0,0,0,0,0,0]
[null,"Week 16","@ Chicago Bears","Kyler Murray",5.1374999999999993,0,15.700000000000026,18.25,-0.66000000000000125,0,12,0.22499999999999964,0.39999999999999858,0,0,0,0,0,0,1.9999999999999978,0,0,0,0,0,0]
[null,"Week 17","@ Philadelphia Eagles","Kyler Murray",0.48571428571428249,0,2.8499999999999925,8.6666666666666696,5.6,0,6.8000000000000034,2.7000000000000006,7.7000000000000064,0,0,0,0,0,0,0.20000000000000062,0,0,0,0,0,0]
[null,"Week 18","Seattle Seahawks","Kyler Murray",9.3333333333333286,0,1.7800000000000054,10.566666666666684,-3.3,0,6.7250000000000014,0,10.949999999999989,0,0,0,0,0,-1,1.1000000000000003,0,0,0,0,0,0]
[]
[]
[null,"Air Yards","Opponent","QB","Trey McBride","Marquise Brown","Rondale Moore","Michael Wilson","James Conner","Zach Ertz","Greg Dortch","Emari Demercado","Elijah Higgins","Geoff Swaim","Keaontay Ingram","Zach Pascal","Damien Williams","Travis Homer","Ryan Tannehill","Michael Carter","Tony Jones","","","","",""]
[null,"Week 1","@ Washington Commanders","Joshua Dobbs",14,48,8.1000000000000014,64,-6,56,0,0,0,0,0,8,0,0,0,0,0,0,0,0,0,0]
[null,"Week 2","New York Giants","Joshua Dobbs",16,100.5,13.899999999999999,43.100000000000009,-4.8000000000000007,73.599999999999994,0,-5,0,0,0,-3,0,0,0,0,0,0,0,0,0,0]
[null,"Week 3","Dallas Cowboys","Joshua Dobbs",1.2000000000000028,82.5,13,44.100000000000009,-3.5999999999999996,-1.5999999999999943,0,0,0,0,-5,0,0,0,0,0,0,0,0,0,0,0]
[null,"Week 4","@ San Francisco 49ers","Joshua Dobbs",3.7999999999999972,146.60000000000002,-0.20000000000000284,61.59999999999998,2.4000000000000004,103,0,5,0,-4,0,25,0,0,0,0,0,0,0,0,0,0]
[null,"Week 5","Cincinnati Bengals","Joshua Dobbs",34,118,14.5,30.200000000000003,0,30.800000000000011,0,18,0,10,0,9.8999999999999986,0,0,0,0,0,0,0,0,0,0]
[null,"Week 6","@ Los Angeles Rams","Joshua Dobbs",37.5,203.99999999999989,1.1000000000000085,60.600000000000037,0,46.300000000000011,37,3,0,0,-3.1000000000000014,19.300000000000004,1,0,0,0,0,0,0,0,0,0]
[null,"Week 7","@ Seattle Seahawks","Joshua Dobbs",25.799999999999983,74.400000000000091,2.7999999999999901,52.799999999999969,0,23,0,3,0,5.1999999999999993,0,0,0,-5,0,0,0,0,0,0,0,0]
[null,"Week 8","Baltimore Ravens","Joshua Dobbs",98.700000000000045,26.399999999999977,18.099999999999994,72.600000000000023,0,0,0,-3.1999999999999993,0,0,2.9000000000000012,23.599999999999994,0,0,0,0,0,0,0,0,0,0]
[null,"Week 9","@ Cleveland Browns","Clayton Tune",28.999999999999972,38.900000000000091,-5.2999999999999901,0,0,0,-2,0,0,0,0,5.2000000000000028,0,0,0,0,-6,0,0,0,0,0]
[null,"Week 10","Atlanta Falcons","Kyler Murray",82.999999999999972,67.899999999999864,69.299999999999983,58.500000000000014,0,0,0,0,18,8.5999999999999979,0,12.099999999999994,0,0,0,1.1000000000000001,0,0,0,0,0,0]
[null,"Week 11","@ Houston Texans","Kyler Murray",48.999999999999972,90.400000000000091,49.500000000000028,0,-3.5999999999999996,0,45,0,6,11.400000000000002,0,0,0,0,0,0,-1.2000000000000002,0,0,0,0,0]
[null,"Week 12","Los Angeles Rams","Kyler Murray",36.999999999999972,188.19999999999993,26.699999999999989,0,8.3999999999999986,0,100.5,0,24,0,0,0,0,0,0,4.4000000000000004,0,0,0,0,0,0]
[null,"Week 13","@ Pittsburgh Steelers","Kyler Murray",44.599999999999994,16.100000000000136,47,0,13.200000000000001,0,39.5,0,10.399999999999999,4.8000000000000007,0,0,0,0,0,-4.4408920985006262E-16,0,0,0,0,0,0]
[null,"Week 14","BYE",""]
[null,"Week 15","San Francisco 49ers","Kyler Murray",61.899999999999949,0,-3.5000000000000355,37.500000000000014,-8.2999999999999936,0,34.999999999999972,-3.6999999999999993,30.400000000000006,24.500000000000004,0,60.399999999999977,0,0,0,3.3000000000000003,0,0,0,0,0,0]
[null,"Week 16","@ Chicago Bears","Kyler Murray",41.099999999999994,0,47.10000000000008,73,-3.300000000000006,0,60,1.7999999999999972,1.1999999999999957,0,0,2.8421709430404007E-14,0,0,0,1.9999999999999978,0,0,0,0,0,0]
[null,"Week 17","@ Philadelphia Eagles","Kyler Murray",3.3999999999999773,0,11.39999999999997,52.000000000000014,5.6,0,47.600000000000023,8.1000000000000014,15.400000000000013,0,0,0,0,0,0,0.20000000000000062,0,0,0,0,0,0]
[null,"Week 18","Seattle Seahawks","Kyler Murray",55.999999999999972,0,8.900000000000027,63.400000000000105,-13.2,0,26.900000000000006,0,21.899999999999977,0,0,0,0,0,-1,2.2000000000000006,0,0,0,0,0,0]
[]
[null,"Total",null,null,636,1201.9000000000001,322.40000000000003,713.40000000000009,-13.2,331.1,389.5,27,127.29999999999998,60.5,-5.2,160.5,1,-5,-1,13.200000000000001,-7.2,0,0,0,0,0]
[]
[null,"YAC/R","Opponent","QB","Trey McBride","Marquise Brown","Rondale Moore","Michael Wilson","James Conner","Zach Ertz","Greg Dortch","Emari Demercado","Elijah Higgins","Geoff Swaim","Keaontay Ingram","Zach Pascal","Damien Williams","Travis Homer","Ryan Tannehill","Michael Carter","Tony Jones","","","","",""]
[null,"Week 1","@ Washington Commanders","Joshua Dobbs",4.5,0,8.3000000000000007,-0.5,2.8,1,0,0,0,0,0,0,0,0,0,0,0,0,0,0,0,0]
[null,"Week 2","New York Giants","Joshua Dobbs",6,3.1666666666666665,0,4.333333333333333,0,3,0,6,0,0,0,12,0,0,0,0,0,0,0,0,0,0]
[null,"Week 3","Dallas Cowboys","Joshua Dobbs",1,0.4,4.75,21,10.5,4,0,0,0,0,13,0,0,0,0,0,0,0,0,0,0,0]
[null,"Week 4","@ San Francisco 49ers","Joshua Dobbs",1,4.5714285714285712,0,2.1428571428571428,6,1,0,6.333333333333333,0,0,0,0,0,0,0,0,0,0,0,0,0,0]
[null,"Week 5","Cincinnati Bengals","Joshua Dobbs",4,10,5,0,0,0.5,0,8,0,6,0,0,0,0,0,0,0,0,0,0,0,0]
[null,"Week 6","@ Los Angeles Rams","Joshua Dobbs",7.5,0,8,2.3333333333333335,0,2,0,3,0,0,7,0,7,0,0,0,0,0,0,0,0,0]
[null,"Week 7","@ Seattle Seahawks","Joshua Dobbs",9,2.6666666666666665,2,0.66666666666666663,0,1,0,3.25,0,3,0,0,0,0,0,0,0,0,0,0,0,0]
[null,"Week 8","Baltimore Ravens","Joshua Dobbs",4.5,3.1666666666666665,1.5,3.5,0,0,0,4,0,0,4,0,4,0,0,0,0,0,0,0,0,0]
[null,"Week 9","@ Cleveland Browns","Clayton Tune",3.6666666666666665,1.75,10,0,0,0,4,0,0,0,0,0,0,0,0,0,5.5,0,0,0,0,0]
[null,"Week 10","Atlanta Falcons","Kyler Murray",7.5,6,7.2,2.6666666666666665,0,0,0,0,0,2,0,0,0,0,0,0,0,0,0,0,0,0]
[null,"Week 11","@ Houston Texans","Kyler Murray",5,1,1,0,4,0,8.3333333333333339,0,1,2,0,0,0,0,0,0,11,0,0,0,0,0]
[null,"Week 12","Los Angeles Rams","Kyler Murray",4.8571428571428568,4.833333333333333,6,0,3.75,0,1.3333333333333333,0,11,0,0,0,0,0,0,2.5,0,0,0,0,0,0]
[null,"Week 13","@ Pittsburgh Steelers","Kyler Murray",6,0,3,0,0,0,0,0,16,2.5,0,0,0,0,0,0,0,0,0,0,0,0]
[null,"Week 14","BYE",""]
[null,"Week 15","San Francisco 49ers","Kyler Murray",5,0,7,0,3.3333333333333335,0,6,2,3.25,2,0,0,0,0,0,2,0,0,0,0,0,0]
[null,"Week 16","@ Chicago Bears","Kyler Murray",2,0,2,0,14.2,0,19.5,6,5.5,0,0,0,0,0,0,0,0,0,0,0,0,0]
[null,"Week 17","@ Philadelphia Eagles","Kyler Murray",6,0,4.333333333333333,3,0,0,5.2857142857142856,6,2.5,0,0,0,0,0,0,6,0,0,0,0,0,0]
[null,"Week 18","Seattle Seahawks","Kyler Murray",10,0,6.25,4.5,16.5,0,3,0,5,0,0,0,0,0,0,7,0,0,0,0,0,0]
[]
[null,"Total",null,null,5.4,3.2,5.4,3.7,7.8,1.7,6.3,5.2,4.8,3,7.8,3,5.5,0,0,3.6,6.3,0,0,0,0,0]
[]
[null,"Yards per Reception","Opponent","QB","Trey McBride","Marquise Brown","Rondale Moore","Michael Wilson","James Conner","Zach Ertz","Greg Dortch","Emari Demercado","Elijah Higgins","Geoff Swaim","Keaontay Ingram","Zach Pascal","Damien Williams","Travis Homer","Ryan Tannehill","Michael Carter","Tony Jones","","","","",""]
[null,"Week 1","@ Washington Commanders","Joshua Dobbs",11.5,9.3333333333333339,11,9.5,1.6,3.5,0,0,0,0,0,0,0,0,0,0,0,0,0,0,0,0]
[null,"Week 2","New York Giants","Joshua Dobbs",16,9,14,18.666666666666668,0,9.3333333333333339,0,3.5,0,0,0,9,0,0,0,0,0,0,0,0,0,0]
[null,"Week 3","Dallas Cowboys","Joshua Dobbs",2,12.2,2,43,9,3,0,0,0,0,8,0,0,0,0,0,0,0,0,0,0,0]
[null,"Week 4","@ San Francisco 49ers","Joshua Dobbs",5,13.714285714285714,0,10.857142857142858,4,8.8333333333333339,0,7,0,0,0,3.3333333333333335,0,0,0,0,0,0,0,0,0,0]
[null,"Week 5","Cincinnati Bengals","Joshua Dobbs",8.5,15.25,8.6666666666666661,18,0,5,0,12,0,11,0,0,0,0,0,0,0,0,0,0,0,0]
[null,"Week 6","@ Los Angeles Rams","Joshua Dobbs",15.5,8.5,7.5,20.666666666666668,0,11,0,6,0,0,5.5,0,8,0,0,0,0,0,0,0,0,0]
[null,"Week 7","@ Seattle Seahawks","Joshua Dobbs",9.6666666666666661,16.333333333333332,1,8.6666666666666661,0,6.333333333333333,0,4.25,0,8,0,0,0,0,0,0,0,0,0,0,0,0]
[null,"Week 8","Baltimore Ravens","Joshua Dobbs",9.5,5.5,5,14.5,0,0,0,1,0,0,7,0,4,0,0,0,0,0,0,0,0,0]
[null,"Week 9","@ Cleveland Browns","Clayton Tune",7.333333333333333,6,5,0,0,0,2,0,0,0,0,0,0,0,0,0,2.5,0,0,0,0,0]
[null,"Week 10","Atlanta Falcons","Kyler Murray",16.375,28,8.6,11.333333333333334,0,0,0,0,0,6.5,0,0,0,0,0,0,0,0,0,0,0,0]
[null,"Week 11","@ Houston Texans","Kyler Murray",8.6,9,48,0,0.5,0,12.666666666666666,0,2,7.5,0,0,0,0,0,0,11,0,0,0,0,0]
[null,"Week 12","Los Angeles Rams","Kyler Murray",8.5714285714285712,14.666666666666666,17.5,0,1.25,0,9,0,26,0,0,0,0,0,0,3.75,0,0,0,0,0,0]
[null,"Week 13","@ Pittsburgh Steelers","Kyler Murray",11.125,0,6,0,0,0,19,0,21,5,0,0,0,0,0,0,0,0,0,0,0,0]
[null,"Week 14","BYE",""]
[null,"Week 15","San Francisco 49ers","Kyler Murray",10.199999999999999,0,2.5,0,1,0,7.5,6,11,26,0,0,0,0,0,3.3333333333333335,0,0,0,0,0,0]
[null,"Week 16","@ Chicago Bears","Kyler Murray",5.166666666666667,0,15,0,13.4,0,22.5,5.7142857142857144,8.5,0,0,0,0,0,0,0,0,0,0,0,0,0]
[null,"Week 17","@ Philadelphia Eagles","Kyler Murray",8,0,8.6666666666666661,8.75,5,0,11.714285714285714,9,10.5,0,0,0,0,0,0,6,0,0,0,0,0,0]
[null,"Week 18","Seattle Seahawks","Kyler Murray",11.333333333333334,0,7.75,15.833333333333334,13.5,0,7,0,16,0,0,0,0,0,0,2,0,0,0,0,0,0]
[]
[null,"Total",null,null,10.185185185185185,11.254901960784315,8.8000000000000007,14.868421052631579,6.1111111111111107,6.9259259259259256,11.666666666666666,5.666666666666667,11.642857142857142,9.4,6.5,4.75,6,0,0,4.208333333333333,5.2857142857142856,0,0,0,0,0]
[]
[null,"Catch %","Opponent","QB","Trey McBride","Marquise Brown","Rondale Moore","Michael Wilson","James Conner","Zach Ertz","Greg Dortch","Emari Demercado","Elijah Higgins","Geoff Swaim","Keaontay Ingram","Zach Pascal","Damien Williams","Travis Homer","Ryan Tannehill","Michael Carter","Tony Jones","","","","",""]
[null,"Week 1","@ Washington Commanders","Joshua Dobbs",1,0.6,1,0.5,1,0.6,0,0,0,0,0,0,0,0,0,0,0,0,0,0,0,0]
[null,"Week 2","New York Giants","Joshua Dobbs",0.66666666666666663,0.6,1,1,0,0.75,0,1,0,0,0,1,0,0,0,0,0,0,0,0,0,0]
[null,"Week 3","Dallas Cowboys","Joshua Dobbs",1,0.7142857142857143,0.66666666666666663,1,1,1,0,0,0,0,1,0,0,0,0,0,0,0,0,0,0,0]
[null,"Week 4","@ San Francisco 49ers","Joshua Dobbs",1,0.7,0,1,0.5,0.6,0,0.75,0,0,0,0.75,0,0,0,0,0,0,0,0,0,0]
[null,"Week 5","Cincinnati Bengals","Joshua Dobbs",0.66666666666666663,0.4,0.6,0.5,0,0.5,0,0.33333333333333331,0,1,0,0,0,0,0,0,0,0,0,0,0,0]
[null,"Week 6","@ Los Angeles Rams","Joshua Dobbs",0.8,0.36363636363636365,0.5714285714285714,0.75,0,0.4,0,1,0,0,1,0,1,0,0,0,0,0,0,0,0,0]
[null,"Week 7","@ Seattle Seahawks","Joshua Dobbs",0.5,0.42857142857142855,0.5,0.6,0,0.75,0,0.8,1,1,0,0,0,0,0,0,0,0,0,0,0,0]
[null,"Week 8","Baltimore Ravens","Joshua Dobbs",0.7142857142857143,0.66666666666666663,0.66666666666666663,0.66666666666666663,0,0,0,1,0,0,1,0,1,0,0,0,0,0,0,0,0,0]
[null,"Week 9","@ Cleveland Browns","Clayton Tune",0.6,0.5,0.5,0,0,0,1,0,0,0,0,0,0,0,0,0,0.66666666666666663,0,0,0,0,0]
[null,"Week 10","Atlanta Falcons","Kyler Murray",0.88888888888888884,0.25,0.625,0.5,0,0,0,0,0,1,0,0,0,0,0,0,0,0,0,0,0,0]
[null,"Week 11","@ Houston Texans","Kyler Murray",0.7142857142857143,0.4,1,0,0.66666666666666663,0,0.75,0,0.5,1,0,0,0,0,0,0,1,0,0,0,0,0]
[null,"Week 12","Los Angeles Rams","Kyler Murray",0.77777777777777779,0.5,0.66666666666666663,0,0.8,0,0.33333333333333331,0,0.5,0,0,0,0,0,0,1,0,0,0,0,0,0]
[null,"Week 13","@ Pittsburgh Steelers","Kyler Murray",0.88888888888888884,0,0.5,0,0,0,0.33333333333333331,0,0.5,1,0,0,0,0,0,0,0,0,0,0,0,0]
[null,"Week 14","BYE",""]
[null,"Week 15","San Francisco 49ers","Kyler Murray",0.90909090909090906,0,0.66666666666666663,0,1,0,0.66666666666666663,0.33333333333333331,1,1,0,0,0,0,0,1,0,0,0,0,0,0]
[null,"Week 16","@ Chicago Bears","Kyler Murray",0.75,0,0.66666666666666663,0,1,0,0.4,0.875,0.66666666666666663,0,0,0,0,0,0,0,0,0,0,0,0,0]
[null,"Week 17","@ Philadelphia Eagles","Kyler Murray",0.8571428571428571,0,0.75,0.66666666666666663,1,0,1,0.33333333333333331,1,0,0,0,0,0,0,1,0,0,0,0,0,0]
[null,"Week 18","Seattle Seahawks","Kyler Murray",0.5,0,0.8,1,1,0,0.5,0,1,0,0,0,0,0,0,0.5,0,0,0,0,0,0]
[]
[null,"Total",null,null,0.76415094339622647,0.50495049504950495,0.64516129032258063,0.65517241379310343,0.81818181818181823,0.62790697674418605,0.58536585365853655,0.7,0.73684210526315785,0.90909090909090906,1,0.26666666666666666,1,0,0,0.77419354838709675,0.7,0,0,0,0,0]
[]
[null,"Receiving Yards","Opponent","QB","Trey McBride","Marquise Brown","Rondale Moore","Michael Wilson","James Conner","Zach Ertz","Greg Dortch","Emari Demercado","Elijah Higgins","Geoff Swaim","Keaontay Ingram","Zach Pascal","Damien Williams","Travis Homer","Ryan Tannehill","Michael Carter","Tony Jones","","","","",""]
[null,"Week 1","@ Washington Commanders","Joshua Dobbs",23,28,33,19,8,21,0,0,0,0,0,0,0,0,0,0,0,0,0,0,0,0]
[null,"Week 2","New York Giants","Joshua Dobbs",32,54,14,56,0,56,0,7,0,0,0,9,0,0,0,0,0,0,0,0,0,0]
[null,"Week 3","Dallas Cowboys","Joshua Dobbs",2,61,8,86,18,6,0,0,0,0,8,0,0,0,0,0,0,0,0,0,0,0]
[null,"Week 4","@ San Francisco 49ers","Joshua Dobbs",5,96,0,76,4,53,0,21,0,0,0,10,0,0,0,0,0,0,0,0,0,0]
[null,"Week 5","Cincinnati Bengals","Joshua Dobbs",17,61,26,18,0,10,0,12,0,22,0,0,0,0,0,0,0,0,0,0,0,0]
[null,"Week 6","@ Los Angeles Rams","Joshua Dobbs",62,34,30,62,0,22,0,6,0,0,11,0,8,0,0,0,0,0,0,0,0,0]
[null,"Week 7","@ Seattle Seahawks","Joshua Dobbs",29,49,2,26,0,19,0,17,0,8,0,0,0,0,0,0,0,0,0,0,0,0]
[null,"Week 8","Baltimore Ravens","Joshua Dobbs",95,33,10,58,0,0,0,1,0,0,7,0,4,0,0,0,0,0,0,0,0,0]
[null,"Week 9","@ Cleveland Browns","Clayton Tune",22,24,5,0,0,0,2,0,0,0,0,0,0,0,0,0,5,0,0,0,0,0]
[null,"Week 10","Atlanta Falcons","Kyler Murray",131,28,43,34,0,0,0,0,0,13,0,0,0,0,0,0,0,0,0,0,0,0]
[null,"Week 11","@ Houston Texans","Kyler Murray",43,18,48,0,1,0,76,0,2,15,0,0,0,0,0,0,11,0,0,0,0,0]
[null,"Week 12","Los Angeles Rams","Kyler Murray",60,88,35,0,5,0,27,0,26,0,0,0,0,0,0,15,0,0,0,0,0,0]
[null,"Week 13","@ Pittsburgh Steelers","Kyler Murray",89,0,6,0,0,0,19,0,21,10,0,0,0,0,0,0,0,0,0,0,0,0]
[null,"Week 14","BYE",""]
[null,"Week 15","San Francisco 49ers","Kyler Murray",102,0,5,0,3,0,15,6,44,26,0,0,0,0,0,10,0,0,0,0,0,0]
[null,"Week 16","@ Chicago Bears","Kyler Murray",31,0,30,0,67,0,45,40,17,0,0,0,0,0,0,0,0,0,0,0,0,0]
[null,"Week 17","@ Philadelphia Eagles","Kyler Murray",48,0,26,35,5,0,82,9,21,0,0,0,0,0,0,6,0,0,0,0,0,0]
[null,"Week 18","Seattle Seahawks","Kyler Murray",34,0,31,95,54,0,14,0,32,0,0,0,0,0,0,2,0,0,0,0,0,0]
[]
[null,"Total",null,null,825,574,352,565,165,187,280,119,163,94,26,19,12,0,0,33,16,0,0,0,0,0]
[]
[null,"Receiving yards per team pass attempt","Opponent","QB","Trey McBride","Marquise Brown","Rondale Moore","Michael Wilson","James Conner","Zach Ertz","Greg Dortch","Emari Demercado","Elijah Higgins","Geoff Swaim","Keaontay Ingram","Zach Pascal","Damien Williams","Travis Homer","Ryan Tannehill","Michael Carter","Tony Jones","","","","",""]
[null,"Week 1","@ Washington Commanders","Joshua Dobbs",0.76666666666666672,0.93333333333333335,1.1000000000000001,0.6333333333333333,0.26666666666666666,0.7,0,0,0,0,0,0,0,0,0,0,0,0,0,0,0,0]
[null,"Week 2","New York Giants","Joshua Dobbs",1.032258064516129,1.7419354838709677,0.45161290322580644,1.8064516129032258,0,1.8064516129032258,0,0.22580645161290322,0,0,0,0.29032258064516131,0,0,0,0,0,0,0,0,0,0]
[null,"Week 3","Dallas Cowboys","Joshua Dobbs",9.5238095238095233E-2,2.9047619047619047,0.38095238095238093,4.0952380952380949,0.8571428571428571,0.2857142857142857,0,0,0,0,0.38095238095238093,0,0,0,0,0,0,0,0,0,0,0]
[null,"Week 4","@ San Francisco 49ers","Joshua Dobbs",0.12195121951219512,2.3414634146341462,0,1.8536585365853659,9.7560975609756101E-2,1.2926829268292683,0,0.51219512195121952,0,0,0,0.24390243902439024,0,0,0,0,0,0,0,0,0,0]
[null,"Week 5","Cincinnati Bengals","Joshua Dobbs",0.53125,1.90625,0.8125,0.5625,0,0.3125,0,0.375,0,0.6875,0,0,0,0,0,0,0,0,0,0,0,0]
[null,"Week 6","@ Los Angeles Rams","Joshua Dobbs",1.5121951219512195,0.82926829268292679,0.73170731707317072,1.5121951219512195,0,0.53658536585365857,0,0.14634146341463414,0,0,0.26829268292682928,0,0.1951219512195122,0,0,0,0,0,0,0,0,0]
[null,"Week 7","@ Seattle Seahawks","Joshua Dobbs",0.8529411764705882,1.4411764705882353,5.8823529411764705E-2,0.76470588235294112,0,0.55882352941176472,0,0.5,0,0.23529411764705882,0,0,0,0,0,0,0,0,0,0,0,0]
[null,"Week 8","Baltimore Ravens","Joshua Dobbs",2.5675675675675675,0.89189189189189189,0.27027027027027029,1.5675675675675675,0,0,0,2.7027027027027029E-2,0,0,0.1891891891891892,0,0.10810810810810811,0,0,0,0,0,0,0,0,0]
[null,"Week 9","@ Cleveland Browns","Clayton Tune",1.1000000000000001,1.2,0.25,0,0,0,0.1,0,0,0,0,0,0,0,0,0,0.25,0,0,0,0,0]
[null,"Week 10","Atlanta Falcons","Kyler Murray",4.09375,0.875,1.34375,1.0625,0,0,0,0,0,0.40625,0,0,0,0,0,0,0,0,0,0,0,0]
[null,"Week 11","@ Houston Texans","Kyler Murray",1.4333333333333333,0.6,1.6,0,3.3333333333333333E-2,0,2.5333333333333332,0,6.6666666666666666E-2,0.5,0,0,0,0,0,0,0.36666666666666664,0,0,0,0,0]
[null,"Week 12","Los Angeles Rams","Kyler Murray",1.3333333333333333,1.9555555555555555,0.77777777777777779,0,0.1111111111111111,0,0.6,0,0.57777777777777772,0,0,0,0,0,0,0.33333333333333331,0,0,0,0,0,0]
[null,"Week 13","@ Pittsburgh Steelers","Kyler Murray",3.8695652173913042,0,0.2608695652173913,0,0,0,0.82608695652173914,0,0.91304347826086951,0.43478260869565216,0,0,0,0,0,0,0,0,0,0,0,0]
[null,"Week 14","BYE",""]
[null,"Week 15","San Francisco 49ers","Kyler Murray",2.6153846153846154,0,0.12820512820512819,0,7.6923076923076927E-2,0,0.38461538461538464,0.15384615384615385,1.1282051282051282,0.66666666666666663,0,0,0,0,0,0.25641025641025639,0,0,0,0,0,0]
[null,"Week 16","@ Chicago Bears","Kyler Murray",0.81578947368421051,0,0.78947368421052633,0,1.763157894736842,0,1.1842105263157894,1.0526315789473684,0.44736842105263158,0,0,0,0,0,0,0,0,0,0,0,0,0]
[null,"Week 17","@ Philadelphia Eagles","Kyler Murray",1.5483870967741935,0,0.83870967741935487,1.1290322580645162,0.16129032258064516,0,2.6451612903225805,0.29032258064516131,0.67741935483870963,0,0,0,0,0,0,0.19354838709677419,0,0,0,0,0,0]
[null,"Week 18","Seattle Seahawks","Kyler Murray",1.1333333333333333,0,1.0333333333333334,3.1666666666666665,1.8,0,0.46666666666666667,0,1.0666666666666667,0,0,0,0,0,0,6.6666666666666666E-2,0,0,0,0,0,0]
[]
[null,"Total",null,null,1.4864864864864864,1.0342342342342343,0.6342342342342342,1.0180180180180181,0.29729729729729731,0.33693693693693694,0.50450450450450446,0.21441441441441442,0.29369369369369369,0.16936936936936936,4.6846846846846847E-2,3.4234234234234232E-2,2.1621621621621623E-2,0,0,5.9459459459459463E-2,2.8828828828828829E-2,0,0,0,0,0]
[]
[null,"RZ Targets (Inside 20)","Opponent","QB","Trey McBride","Marquise Brown","Rondale Moore","Michael Wilson","James Conner","Zach Ertz","Greg Dortch","Emari Demercado","Elijah Higgins","Geoff Swaim","Keaontay Ingram","Zach Pascal","Damien Williams","Travis Homer","Ryan Tannehill","Michael Carter","Tony Jones","","","","",""]
[null,"Week 1","@ Washington Commanders","Joshua Dobbs",0,1,1,0,1,2,0,0,0,0,0,0,0,0,0,0,0,0,0,0,0,0]
[null,"Week 2","New York Giants","Joshua Dobbs",0,2,0,0,0,0,0,0,0,0,0,0,0,0,0,0,0,0,0,0,0,0]
[null,"Week 3","Dallas Cowboys","Joshua Dobbs",0,1,0,0,1,1,0,0,0,0,0,0,0,0,0,0,0,0,0,0,0,0]
[null,"Week 4","@ San Francisco 49ers","Joshua Dobbs",1,0,0,2,0,2,0,0,0,0,0,2,0,0,0,0,0,0,0,0,0,0]
[null,"Week 5","Cincinnati Bengals","Joshua Dobbs",0,0,0,0,0,1,0,0,0,1,0,0,0,0,0,0,0,0,0,0,0,0]
[null,"Week 6","@ Los Angeles Rams","Joshua Dobbs",0,3,0,0,0,1,0,0,0,0,0,0,0,0,0,0,0,0,0,0,0,0]
[null,"Week 7","@ Seattle Seahawks","Joshua Dobbs",0,0,0,0,0,0,0,0,0,0,0,0,0,0,0,0,0,0,0,0,0,0]
[null,"Week 8","Baltimore Ravens","Joshua Dobbs",3,2,1,1,0,0,0,0,0,0,0,0,0,0,0,0,0,0,0,0,0,0]
[null,"Week 9","@ Cleveland Browns","Clayton Tune",0,0,0,0,0,0,0,0,0,0,0,0,0,0,0,0,0,0,0,0,0,0]
[null,"Week 10","Atlanta Falcons","Kyler Murray",0,0,0,1,0,0,0,0,0,1,0,0,0,0,0,1,0,0,0,0,0,0]
[null,"Week 11","@ Houston Texans","Kyler Murray",0,0,0,0,0,0,1,0,0,0,0,0,0,0,0,0,0,0,0,0,0,0]
[null,"Week 12","Los Angeles Rams","Kyler Murray",2,0,0,0,1,0,1,0,0,0,0,0,0,0,0,0,0,0,0,0,0,0]
[null,"Week 13","@ Pittsburgh Steelers","Kyler Murray",2,0,0,0,0,0,0,0,0,0,0,0,0,0,0,0,0,0,0,0,0,0]
[null,"Week 14","BYE",""]
[null,"Week 15","San Francisco 49ers","Kyler Murray",1,0,1,1,0,0,0,0,2,0,0,1,0,0,0,1,0,0,0,0,0,0]
[null,"Week 16","@ Chicago Bears","Kyler Murray",0,0,0,0,1,0,0,0,0,0,0,0,0,0,0,0,0,0,0,0,0,0]
[null,"Week 17","@ Philadelphia Eagles","Kyler Murray",0,0,0,2,1,0,1,1,0,0,0,0,0,0,0,1,0,0,0,0,0,0]
[null,"Week 18","Seattle Seahawks","Kyler Murray",2,0,2,0,0,0,0,0,0,0,0,0,0,0,0,1,0,0,0,0,0,0]
[]
[null,"Total",null,null,11,9,5,7,5,7,3,1,2,2,0,3,0,0,0,4,0,0,0,0,0,0]
[]
[null,"RZ Target % (Inside 20)","Opponent","QB","Trey McBride","Marquise Brown","Rondale Moore","Michael Wilson","James Conner","Zach Ertz","Greg Dortch","Emari Demercado","Elijah Higgins","Geoff Swaim","Keaontay Ingram","Zach Pascal","Damien Williams","Travis Homer","Ryan Tannehill","Michael Carter","Tony Jones","","","","",""]
[null,"Week 1","@ Washington Commanders","Joshua Dobbs",0,0.2,0.2,0,0.2,0.4,0,0,0,0,0,0,0,0,0,0,0,0,0,0,0,0]
[null,"Week 2","New York Giants","Joshua Dobbs",0,1,0,0,0,0,0,0,0,0,0,0,0,0,0,0,0,0,0,0,0,0]
[null,"Week 3","Dallas Cowboys","Joshua Dobbs",0,0.33333333333333331,0,0,0.33333333333333331,0.33333333333333331,0,0,0,0,0,0,0,0,0,0,0,0,0,0,0,0]
[null,"Week 4","@ San Francisco 49ers","Joshua Dobbs",0.14285714285714285,0,0,0.2857142857142857,0,0.2857142857142857,0,0,0,0,0,0.2857142857142857,0,0,0,0,0,0,0,0,0,0]
[null,"Week 5","Cincinnati Bengals","Joshua Dobbs",0,0,0,0,0,0.5,0,0,0,0.5,0,0,0,0,0,0,0,0,0,0,0,0]
[null,"Week 6","@ Los Angeles Rams","Joshua Dobbs",0,0.75,0,0,0,0.25,0,0,0,0,0,0,0,0,0,0,0,0,0,0,0,0]
[null,"Week 7","@ Seattle Seahawks","Joshua Dobbs",0,0,0,0,0,0,0,0,0,0,0,0,0,0,0,0,0,0,0,0,0,0]
[null,"Week 8","Baltimore Ravens","Joshua Dobbs",0.42857142857142855,0.2857142857142857,0.14285714285714285,0.14285714285714285,0,0,0,0,0,0,0,0,0,0,0,0,0,0,0,0,0,0]
[null,"Week 9","@ Cleveland Browns","Clayton Tune",0,0,0,0,0,0,0,0,0,0,0,0,0,0,0,0,0,0,0,0,0,0]
[null,"Week 10","Atlanta Falcons","Kyler Murray",0,0,0,0.5,0,0,0,0,0,0.5,0,0,0,0,0,0.5,0,0,0,0,0,0]
[null,"Week 11","@ Houston Texans","Kyler Murray",0,0,0,0,0,0,1,0,0,0,0,0,0,0,0,0,0,0,0,0,0,0]
[null,"Week 12","Los Angeles Rams","Kyler Murray",0.5,0,0,0,0.25,0,0.25,0,0,0,0,0,0,0,0,0,0,0,0,0,0,0]
[null,"Week 13","@ Pittsburgh Steelers","Kyler Murray",1,0,0,0,0,0,0,0,0,0,0,0,0,0,0,0,0,0,0,0,0,0]
[null,"Week 14","BYE",""]
[null,"Week 15","San Francisco 49ers","Kyler Murray",0.14285714285714285,0,0.14285714285714285,0.14285714285714285,0,0,0,0,0.2857142857142857,0,0,0.14285714285714285,0,0,0,0.14285714285714285,0,0,0,0,0,0]
[null,"Week 16","@ Chicago Bears","Kyler Murray",0,0,0,0,1,0,0,0,0,0,0,0,0,0,0,0,0,0,0,0,0,0]
[null,"Week 17","@ Philadelphia Eagles","Kyler Murray",0,0,0,0.33333333333333331,0.16666666666666666,0,0.16666666666666666,0.16666666666666666,0,0,0,0,0,0,0,0.16666666666666666,0,0,0,0,0,0]
[null,"Week 18","Seattle Seahawks","Kyler Murray",0.4,0,0.4,0,0,0,0,0,0,0,0,0,0,0,0,0.2,0,0,0,0,0,0]
[]
[null,"Total",null,null,0.18965517241379309,0.15517241379310345,8.6206896551724144E-2,0.1206896551724138,8.6206896551724144E-2,0.1206896551724138,5.1724137931034482E-2,1.7241379310344827E-2,3.4482758620689655E-2,3.4482758620689655E-2,0,5.1724137931034482E-2,0,0,0,6.8965517241379309E-2,0,0,0,0,0,0]
[]
[null,"RZ Targets (Inside 10)","Opponent","QB","Trey McBride","Marquise Brown","Rondale Moore","Michael Wilson","James Conner","Zach Ertz","Greg Dortch","Emari Demercado","Elijah Higgins","Geoff Swaim","Keaontay Ingram","Zach Pascal","Damien Williams","Travis Homer","Ryan Tannehill","Michael Carter","Tony Jones","","","","",""]
[null,"Week 1","@ Washington Commanders","Joshua Dobbs",0,0,0,0,0,0,0,0,0,0,0,0,0,0,0,0,0,0,0,0,0,0]
[null,"Week 2","New York Giants","Joshua Dobbs",0,1,0,0,0,0,0,0,0,0,0,0,0,0,0,0,0,0,0,0,0,0]
[null,"Week 3","Dallas Cowboys","Joshua Dobbs",0,1,0,0,0,1,0,0,0,0,0,0,0,0,0,0,0,0,0,0,0,0]
[null,"Week 4","@ San Francisco 49ers","Joshua Dobbs",0,0,0,1,0,0,0,0,0,0,0,0,0,0,0,0,0,0,0,0,0,0]
[null,"Week 5","Cincinnati Bengals","Joshua Dobbs",0,0,0,0,0,1,0,0,0,0,0,0,0,0,0,0,0,0,0,0,0,0]
[null,"Week 6","@ Los Angeles Rams","Joshua Dobbs",0,0,0,0,0,0,0,0,0,0,0,0,0,0,0,0,0,0,0,0,0,0]
[null,"Week 7","@ Seattle Seahawks","Joshua Dobbs",0,0,0,0,0,0,0,0,0,0,0,0,0,0,0,0,0,0,0,0,0,0]
[null,"Week 8","Baltimore Ravens","Joshua Dobbs",2,2,0,0,0,0,0,0,0,0,0,0,0,0,0,0,0,0,0,0,0,0]
[null,"Week 9","@ Cleveland Browns","Clayton Tune",0,0,0,0,0,0,0,0,0,0,0,0,0,0,0,0,0,0,0,0,0,0]
[null,"Week 10","Atlanta Falcons","Kyler Murray",0,0,0,0,0,0,0,0,0,0,0,0,0,0,0,0,0,0,0,0,0,0]
[null,"Week 11","@ Houston Texans","Kyler Murray",0,0,0,0,0,0,1,0,0,0,0,0,0,0,0,0,0,0,0,0,0,0]
[null,"Week 12","Los Angeles Rams","Kyler Murray",1,0,0,0,0,0,1,0,0,0,0,0,0,0,0,0,0,0,0,0,0,0]
[null,"Week 13","@ Pittsburgh Steelers","Kyler Murray",2,0,0,0,0,0,0,0,0,0,0,0,0,0,0,0,0,0,0,0,0,0]
[null,"Week 14","BYE",""]
[null,"Week 15","San Francisco 49ers","Kyler Murray",0,0,1,1,0,0,0,0,1,0,0,1,0,0,0,1,0,0,0,0,0,0]
[null,"Week 16","@ Chicago Bears","Kyler Murray",0,0,0,0,0,0,0,0,0,0,0,0,0,0,0,0,0,0,0,0,0,0]
[null,"Week 17","@ Philadelphia Eagles","Kyler Murray",0,0,0,2,1,0,0,1,0,0,0,0,0,0,0,1,0,0,0,0,0,0]
[null,"Week 18","Seattle Seahawks","Kyler Murray",2,0,0,0,0,0,0,0,0,0,0,0,0,0,0,0,0,0,0,0,0,0]
[]
[null,"Total",null,null,7,4,1,4,1,2,2,1,1,0,0,1,0,0,0,2,0,0,0,0,0,0]
[]
[null,"RZ Target % (Inside 10)","Opponent","QB","Trey McBride","Marquise Brown","Rondale Moore","Michael Wilson","James Conner","Zach Ertz","Greg Dortch","Emari Demercado","Elijah Higgins","Geoff Swaim","Keaontay Ingram","Zach Pascal","Damien Williams","Travis Homer","Ryan Tannehill","Michael Carter","Tony Jones","","","","",""]
[null,"Week 1","@ Washington Commanders","Joshua Dobbs",0,0,0,0,0,0,0,0,0,0,0,0,0,0,0,0,0,0,0,0,0,0]
[null,"Week 2","New York Giants","Joshua Dobbs",0,1,0,0,0,0,0,0,0,0,0,0,0,0,0,0,0,0,0,0,0,0]
[null,"Week 3","Dallas Cowboys","Joshua Dobbs",0,0.5,0,0,0,0.5,0,0,0,0,0,0,0,0,0,0,0,0,0,0,0,0]
[null,"Week 4","@ San Francisco 49ers","Joshua Dobbs",0,0,0,1,0,0,0,0,0,0,0,0,0,0,0,0,0,0,0,0,0,0]
[null,"Week 5","Cincinnati Bengals","Joshua Dobbs",0,0,0,0,0,1,0,0,0,0,0,0,0,0,0,0,0,0,0,0,0,0]
[null,"Week 6","@ Los Angeles Rams","Joshua Dobbs",0,0,0,0,0,0,0,0,0,0,0,0,0,0,0,0,0,0,0,0,0,0]
[null,"Week 7","@ Seattle Seahawks","Joshua Dobbs",0,0,0,0,0,0,0,0,0,0,0,0,0,0,0,0,0,0,0,0,0,0]
[null,"Week 8","Baltimore Ravens","Joshua Dobbs",0.5,0.5,0,0,0,0,0,0,0,0,0,0,0,0,0,0,0,0,0,0,0,0]
[null,"Week 9","@ Cleveland Browns","Clayton Tune",0,0,0,0,0,0,0,0,0,0,0,0,0,0,0,0,0,0,0,0,0,0]
[null,"Week 10","Atlanta Falcons","Kyler Murray",0,0,0,0,0,0,0,0,0,0,0,0,0,0,0,0,0,0,0,0,0,0]
[null,"Week 11","@ Houston Texans","Kyler Murray",0,0,0,0,0,0,1,0,0,0,0,0,0,0,0,0,0,0,0,0,0,0]
[null,"Week 12","Los Angeles Rams","Kyler Murray",0.5,0,0,0,0,0,0.5,0,0,0,0,0,0,0,0,0,0,0,0,0,0,0]
[null,"Week 13","@ Pittsburgh Steelers","Kyler Murray",1,0,0,0,0,0,0,0,0,0,0,0,0,0,0,0,0,0,0,0,0,0]
[null,"Week 14","BYE",""]
[null,"Week 15","San Francisco 49ers","Kyler Murray",0,0,0.2,0.2,0,0,0,0,0.2,0,0,0.2,0,0,0,0.2,0,0,0,0,0,0]
[null,"Week 16","@ Chicago Bears","Kyler Murray",0,0,0,0,0,0,0,0,0,0,0,0,0,0,0,0,0,0,0,0,0,0]
[null,"Week 17","@ Philadelphia Eagles","Kyler Murray",0,0,0,0.4,0.2,0,0,0.2,0,0,0,0,0,0,0,0.2,0,0,0,0,0,0]
[null,"Week 18","Seattle Seahawks","Kyler Murray",1,0,0,0,0,0,0,0,0,0,0,0,0,0,0,0,0,0,0,0,0,0]
[]
[null,"Total",null,null,0.26923076923076922,0.15384615384615385,3.8461538461538464E-2,0.15384615384615385,3.8461538461538464E-2,7.6923076923076927E-2,7.6923076923076927E-2,3.8461538461538464E-2,3.8461538461538464E-2,0,0,3.8461538461538464E-2,0,0,0,7.6923076923076927E-2,0,0,0,0,0,0]
[]
[null,"Rushing"]
[]
[null,"Rush Att","Opponent","QB","James Conner","Joshua Dobbs","Emari Demercado","Kyler Murray","Keaontay Ingram","Rondale Moore","Damien Williams","Clayton Tune","Marquise Brown","Greg Dortch","Blake Gillikin","Zeke Turner","Joshua Dobbs","","","","","","","","",""]
[null,"Week 1","@ Washington Commanders","Joshua Dobbs",14,3,0,0,5,2,0,0,1,0,0,0,3,0,0,0,0,0,0,0,0,0]
[null,"Week 2","New York Giants","Joshua Dobbs",23,3,1,0,2,0,0,0,0,0,0,0,3,0,0,0,0,0,0,0,0,0]
[null,"Week 3","Dallas Cowboys","Joshua Dobbs",14,6,2,0,5,3,0,0,0,0,0,0,6,0,0,0,0,0,0,0,0,0]
[null,"Week 4","@ San Francisco 49ers","Joshua Dobbs",11,12,1,0,0,0,0,0,0,0,0,1,12,0,0,0,0,0,0,0,0,0]
[null,"Week 5","Cincinnati Bengals","Joshua Dobbs",6,3,10,0,0,3,0,0,0,0,0,0,3,0,0,0,0,0,0,0,0,0]
[null,"Week 6","@ Los Angeles Rams","Joshua Dobbs",0,7,2,0,10,3,8,0,0,0,0,0,7,0,0,0,0,0,0,0,0,0]
[null,"Week 7","@ Seattle Seahawks","Joshua Dobbs",0,7,13,0,0,4,1,0,0,0,0,0,7,0,0,0,0,0,0,0,0,0]
[null,"Week 8","Baltimore Ravens","Joshua Dobbs",0,6,20,0,2,2,2,0,0,0,0,0,6,0,0,0,0,0,0,0,0,0]
[null,"Week 9","@ Cleveland Browns","Clayton Tune",0,0,0,0,9,4,0,5,0,0,0,0,0,0,0,0,0,0,0,0,0,0]
[null,"Week 10","Atlanta Falcons","Kyler Murray",16,0,0,6,2,0,0,1,0,0,0,0,0,0,0,0,0,0,0,0,0,0]
[null,"Week 11","@ Houston Texans","Kyler Murray",14,0,0,7,0,2,0,0,1,0,0,0,0,0,0,0,0,0,0,0,0,0]
[null,"Week 12","Los Angeles Rams","Kyler Murray",6,0,3,1,0,0,0,0,0,0,1,0,0,0,0,0,0,0,0,0,0,0]
[null,"Week 13","@ Pittsburgh Steelers","Kyler Murray",25,0,0,9,0,0,0,0,0,0,0,0,0,0,0,0,0,0,0,0,0,0]
[null,"Week 14","BYE",""]
[null,"Week 15","San Francisco 49ers","Kyler Murray",14,0,4,6,0,1,0,1,0,1,0,0,0,0,0,0,0,0,0,0,0,0]
[null,"Week 16","@ Chicago Bears","Kyler Murray",12,0,2,5,0,1,0,0,0,0,0,0,0,0,0,0,0,0,0,0,0,0]
[null,"Week 17","@ Philadelphia Eagles","Kyler Murray",26,0,0,5,0,2,0,0,0,0,0,0,0,0,0,0,0,0,0,0,0,0]
[null,"Week 18","Seattle Seahawks","Kyler Murray",27,0,0,5,0,1,0,1,0,0,0,0,0,0,0,0,0,0,0,0,0,0]
[]
[null,"Total",null,null,208,47,58,44,35,28,11,8,2,1,1,1,47,0,0,0,0,0,0,0,0,0]
[]
[null,"Rush Att Share (%)","Opponent","QB","James Conner","Joshua Dobbs","Emari Demercado","Kyler Murray","Keaontay Ingram","Rondale Moore","Damien Williams","Clayton Tune","Marquise Brown","Greg Dortch","Blake Gillikin","Zeke Turner","Joshua Dobbs","","","","","","","","",""]
[null,"Week 1","@ Washington Commanders","Joshua Dobbs",0.56000000000000005,0.12,0,0,0.2,0.08,0,0,0.04,0,0,0,0.12,0,0,0,0,0,0,0,0,0]
[null,"Week 2","New York Giants","Joshua Dobbs",0.7931034482758621,0.10344827586206896,3.4482758620689655E-2,0,6.8965517241379309E-2,0,0,0,0,0,0,0,0.10344827586206896,0,0,0,0,0,0,0,0,0]
[null,"Week 3","Dallas Cowboys","Joshua Dobbs",0.46666666666666667,0.2,6.6666666666666666E-2,0,0.16666666666666666,0.1,0,0,0,0,0,0,0.2,0,0,0,0,0,0,0,0,0]
[null,"Week 4","@ San Francisco 49ers","Joshua Dobbs",0.44,0.48,0.04,0,0,0,0,0,0,0,0,0.04,0.48,0,0,0,0,0,0,0,0,0]
[null,"Week 5","Cincinnati Bengals","Joshua Dobbs",0.27272727272727271,0.13636363636363635,0.45454545454545453,0,0,0.13636363636363635,0,0,0,0,0,0,0.13636363636363635,0,0,0,0,0,0,0,0,0]
[null,"Week 6","@ Los Angeles Rams","Joshua Dobbs",0,0.23333333333333334,6.6666666666666666E-2,0,0.33333333333333331,0.1,0.26666666666666666,0,0,0,0,0,0.23333333333333334,0,0,0,0,0,0,0,0,0]
[null,"Week 7","@ Seattle Seahawks","Joshua Dobbs",0,0.28000000000000003,0.52,0,0,0.16,0.04,0,0,0,0,0,0.28000000000000003,0,0,0,0,0,0,0,0,0]
[null,"Week 8","Baltimore Ravens","Joshua Dobbs",0,0.1875,0.625,0,6.25E-2,6.25E-2,6.25E-2,0,0,0,0,0,0.1875,0,0,0,0,0,0,0,0,0]
[null,"Week 9","@ Cleveland Browns","Clayton Tune",0,0,0,0,0.42857142857142855,0.19047619047619047,0,0.23809523809523808,0,0,0,0,0,0,0,0,0,0,0,0,0,0]
[null,"Week 10","Atlanta Falcons","Kyler Murray",0.61538461538461542,0,0,0.23076923076923078,7.6923076923076927E-2,0,0,3.8461538461538464E-2,0,0,0,0,0,0,0,0,0,0,0,0,0,0]
[null,"Week 11","@ Houston Texans","Kyler Murray",0.56000000000000005,0,0,0.28000000000000003,0,0.08,0,0,0.04,0,0,0,0,0,0,0,0,0,0,0,0,0]
[null,"Week 12","Los Angeles Rams","Kyler Murray",0.4,0,0.2,6.6666666666666666E-2,0,0,0,0,0,0,6.6666666666666666E-2,0,0,0,0,0,0,0,0,0,0,0]
[null,"Week 13","@ Pittsburgh Steelers","Kyler Murray",0.65789473684210531,0,0,0.23684210526315788,0,0,0,0,0,0,0,0,0,0,0,0,0,0,0,0,0,0]
[null,"Week 14","BYE",""]
[null,"Week 15","San Francisco 49ers","Kyler Murray",0.46666666666666667,0,0.13333333333333333,0.2,0,3.3333333333333333E-2,0,3.3333333333333333E-2,0,3.3333333333333333E-2,0,0,0,0,0,0,0,0,0,0,0,0]
[null,"Week 16","@ Chicago Bears","Kyler Murray",0.6,0,0.1,0.25,0,0.05,0,0,0,0,0,0,0,0,0,0,0,0,0,0,0,0]
[null,"Week 17","@ Philadelphia Eagles","Kyler Murray",0.65,0,0,0.125,0,0.05,0,0,0,0,0,0,0,0,0,0,0,0,0,0,0,0]
[null,"Week 18","Seattle Seahawks","Kyler Murray",0.71052631578947367,0,0,0.13157894736842105,0,2.6315789473684209E-2,0,2.6315789473684209E-2,0,0,0,0,0,0,0,0,0,0,0,0,0,0]
[]
[null,"Total",null,null,0.44161358811040341,9.9787685774946927E-2,0.12314225053078556,9.3418259023354558E-2,7.4309978768577492E-2,5.9447983014861996E-2,2.3354564755838639E-2,1.6985138004246284E-2,4.246284501061571E-3,2.1231422505307855E-3,2.1231422505307855E-3,2.1231422505307855E-3,9.9787685774946927E-2,0,0,0,0,0,0,0,0,0]
[]
[null,"YPC","Opponent","QB","James Conner","Joshua Dobbs","Emari Demercado","Kyler Murray","Keaontay Ingram","Rondale Moore","Damien Williams","Clayton Tune","Marquise Brown","Greg Dortch","Blake Gillikin","Zeke Turner","Joshua Dobbs","","","","","","","","",""]
[null,"Week 1","@ Washington Commanders","Joshua Dobbs",4.4285714285714288,-1,0,0,-0.8,6,0,0,29,0,0,0,-1,0,0,0,0,0,0,0,0,0]
[null,"Week 2","New York Giants","Joshua Dobbs",4.6086956521739131,13.666666666666666,-2,0,3,0,0,0,0,0,0,0,13.666666666666666,0,0,0,0,0,0,0,0,0]
[null,"Week 3","Dallas Cowboys","Joshua Dobbs",7,9.1666666666666661,1,0,2.6,18,0,0,0,0,0,0,9.1666666666666661,0,0,0,0,0,0,0,0,0]
[null,"Week 4","@ San Francisco 49ers","Joshua Dobbs",4.7272727272727275,4,3,0,0,0,0,0,0,0,0,2,4,0,0,0,0,0,0,0,0,0]
[null,"Week 5","Cincinnati Bengals","Joshua Dobbs",7.666666666666667,0.33333333333333331,4.5,0,0,16.666666666666668,0,0,0,0,0,0,0.33333333333333331,0,0,0,0,0,0,0,0,0]
[null,"Week 6","@ Los Angeles Rams","Joshua Dobbs",0,6.7142857142857144,5.5,0,4,-1.3333333333333333,4.5,0,0,0,0,0,6.7142857142857144,0,0,0,0,0,0,0,0,0]
[null,"Week 7","@ Seattle Seahawks","Joshua Dobbs",0,6.1428571428571432,4.4615384615384617,0,0,6,2,0,0,0,0,0,6.1428571428571432,0,0,0,0,0,0,0,0,0]
[null,"Week 8","Baltimore Ravens","Joshua Dobbs",0,4.333333333333333,3.9,0,4.5,5.5,2.5,0,0,0,0,0,4.333333333333333,0,0,0,0,0,0,0,0,0]
[null,"Week 9","@ Cleveland Browns","Clayton Tune",0,0,0,0,0.88888888888888884,0.75,0,5.6,0,0,0,0,0,0,0,0,0,0,0,0,0,0]
[null,"Week 10","Atlanta Falcons","Kyler Murray",4.5625,0,0,5.5,1,0,0,1,0,0,0,0,0,0,0,0,0,0,0,0,0,0]
[null,"Week 11","@ Houston Texans","Kyler Murray",4.4285714285714288,0,0,7.2857142857142856,0,3,0,0,-6,0,0,0,0,0,0,0,0,0,0,0,0,0]
[null,"Week 12","Los Angeles Rams","Kyler Murray",4.5,0,5,2,0,0,0,0,0,0,10,0,0,0,0,0,0,0,0,0,0,0]
[null,"Week 13","@ Pittsburgh Steelers","Kyler Murray",4.2,0,0,2.2222222222222223,0,0,0,0,0,0,0,0,0,0,0,0,0,0,0,0,0,0]
[null,"Week 14","BYE",""]
[null,"Week 15","San Francisco 49ers","Kyler Murray",6.1428571428571432,0,16,8.1666666666666661,0,3,0,0,0,5,0,0,0,0,0,0,0,0,0,0,0,0]
[null,"Week 16","@ Chicago Bears","Kyler Murray",3.75,0,5,6.4,0,6,0,0,0,0,0,0,0,0,0,0,0,0,0,0,0,0]
[null,"Week 17","@ Philadelphia Eagles","Kyler Murray",4.9230769230769234,0,0,4.8,0,4,0,0,0,0,0,0,0,0,0,0,0,0,0,0,0,0]
[null,"Week 18","Seattle Seahawks","Kyler Murray",5.5555555555555554,0,0,6.6,0,5,0,1,0,0,0,0,0,0,0,0,0,0,0,0,0,0]
[]
[null,"Total",null,null,5,5.4675324675324672,4.8965517241379306,5.5454545454545459,2.1142857142857143,6.3571428571428568,3.9090909090909092,3.75,11.5,5,10,2,5.4675324675324672,0,0,0,0,0,0,0,0,0]
[]
[null,"RZ Rush (Inside 20)","Opponent","QB","James Conner","Joshua Dobbs","Emari Demercado","Kyler Murray","Keaontay Ingram","Rondale Moore","Damien Williams","Clayton Tune","Marquise Brown","Greg Dortch","Blake Gillikin","Zeke Turner","Joshua Dobbs","","","","","","","","",""]
[null,"Week 1","@ Washington Commanders","Joshua Dobbs",0,1,0,0,0,0,0,0,0,0,0,0,1,0,0,0,0,0,0,0,0,0]
[null,"Week 2","New York Giants","Joshua Dobbs",3,0,0,0,0,0,0,0,0,0,0,0,0,0,0,0,0,0,0,0,0,0]
[null,"Week 3","Dallas Cowboys","Joshua Dobbs",3,0,0,0,0,0,0,0,0,0,0,0,0,0,0,0,0,0,0,0,0,0]
[null,"Week 4","@ San Francisco 49ers","Joshua Dobbs",0,1,0,0,0,0,0,0,0,0,0,0,1,0,0,0,0,0,0,0,0,0]
[null,"Week 5","Cincinnati Bengals","Joshua Dobbs",0,1,2,0,0,0,0,0,0,0,0,0,1,0,0,0,0,0,0,0,0,0]
[null,"Week 6","@ Los Angeles Rams","Joshua Dobbs",0,0,0,0,2,1,0,0,0,0,0,0,0,0,0,0,0,0,0,0,0,0]
[null,"Week 7","@ Seattle Seahawks","Joshua Dobbs",0,1,0,0,0,0,0,0,0,0,0,0,1,0,0,0,0,0,0,0,0,0]
[null,"Week 8","Baltimore Ravens","Joshua Dobbs",0,2,0,0,0,0,0,0,0,0,0,0,2,0,0,0,0,0,0,0,0,0]
[null,"Week 9","@ Cleveland Browns","Clayton Tune",0,0,0,0,0,0,0,0,0,0,0,0,0,0,0,0,0,0,0,0,0,0]
[null,"Week 10","Atlanta Falcons","Kyler Murray",2,0,0,3,0,0,0,1,0,0,0,0,0,0,0,0,0,0,0,0,0,0]
[null,"Week 11","@ Houston Texans","Kyler Murray",1,0,0,2,0,0,0,0,0,0,0,0,0,0,0,0,0,0,0,0,0,0]
[null,"Week 12","Los Angeles Rams","Kyler Murray",2,0,0,1,0,0,0,0,0,0,0,0,0,0,0,0,0,0,0,0,0,0]
[null,"Week 13","@ Pittsburgh Steelers","Kyler Murray",8,0,0,0,0,0,0,0,0,0,0,0,0,0,0,0,0,0,0,0,0,0]
[null,"Week 14","BYE",""]
[null,"Week 15","San Francisco 49ers","Kyler Murray",2,0,0,2,0,0,0,0,0,0,0,0,0,0,0,0,0,0,0,0,0,0]
[null,"Week 16","@ Chicago Bears","Kyler Murray",0,0,0,0,0,0,0,0,0,0,0,0,0,0,0,0,0,0,0,0,0,0]
[null,"Week 17","@ Philadelphia Eagles","Kyler Murray",8,0,0,2,0,0,0,0,0,0,0,0,0,0,0,0,0,0,0,0,0,0]
[null,"Week 18","Seattle Seahawks","Kyler Murray",3,0,0,1,0,0,0,0,0,0,0,0,0,0,0,0,0,0,0,0,0,0]
[]
[null,"Total",null,null,32,6,2,11,2,1,0,1,0,0,0,0,6,0,0,0,0,0,0,0,0,0]
[]
[null,"RZ Rush % (Inside 20)","Opponent","QB","James Conner","Joshua Dobbs","Emari Demercado","Kyler Murray","Keaontay Ingram","Rondale Moore","Damien Williams","Clayton Tune","Marquise Brown","Greg Dortch","Blake Gillikin","Zeke Turner","Joshua Dobbs","","","","","","","","",""]
[null,"Week 1","@ Washington Commanders","Joshua Dobbs",0,0,0,0,0,0,0,0,0,0,0,0,0,0,0,0,0,0,0,0,0,0]
[null,"Week 2","New York Giants","Joshua Dobbs",1,0,0,0,0,0,0,0,0,0,0,0,0,0,0,0,0,0,0,0,0,0]
[null,"Week 3","Dallas Cowboys","Joshua Dobbs",1,0,0,0,0,0,0,0,0,0,0,0,0,0,0,0,0,0,0,0,0,0]
[null,"Week 4","@ San Francisco 49ers","Joshua Dobbs",0,1,0,0,0,0,0,0,0,0,0,0,1,0,0,0,0,0,0,0,0,0]
[null,"Week 5","Cincinnati Bengals","Joshua Dobbs",0,0.33333333333333331,0.66666666666666663,0,0,0,0,0,0,0,0,0,0.33333333333333331,0,0,0,0,0,0,0,0,0]
[null,"Week 6","@ Los Angeles Rams","Joshua Dobbs",0,0,0,0,0.66666666666666663,0.33333333333333331,0,0,0,0,0,0,0,0,0,0,0,0,0,0,0,0]
[null,"Week 7","@ Seattle Seahawks","Joshua Dobbs",0,1,0,0,0,0,0,0,0,0,0,0,1,0,0,0,0,0,0,0,0,0]
[null,"Week 8","Baltimore Ravens","Joshua Dobbs",0,1,0,0,0,0,0,0,0,0,0,0,1,0,0,0,0,0,0,0,0,0]
[null,"Week 9","@ Cleveland Browns","Clayton Tune",0,0,0,0,0,0,0,0,0,0,0,0,0,0,0,0,0,0,0,0,0,0]
[null,"Week 10","Atlanta Falcons","Kyler Murray",0.33333333333333331,0,0,0.5,0,0,0,0.16666666666666666,0,0,0,0,0,0,0,0,0,0,0,0,0,0]
[null,"Week 11","@ Houston Texans","Kyler Murray",0.33333333333333331,0,0,0.66666666666666663,0,0,0,0,0,0,0,0,0,0,0,0,0,0,0,0,0,0]
[null,"Week 12","Los Angeles Rams","Kyler Murray",0.5,0,0,0.25,0,0,0,0,0,0,0,0,0,0,0,0,0,0,0,0,0,0]
[null,"Week 13","@ Pittsburgh Steelers","Kyler Murray",1,0,0,0,0,0,0,0,0,0,0,0,0,0,0,0,0,0,0,0,0,0]
[null,"Week 14","BYE",""]
[null,"Week 15","San Francisco 49ers","Kyler Murray",0.5,0,0,0.5,0,0,0,0,0,0,0,0,0,0,0,0,0,0,0,0,0,0]
[null,"Week 16","@ Chicago Bears","Kyler Murray",0,0,0,0,0,0,0,0,0,0,0,0,0,0,0,0,0,0,0,0,0,0]
[null,"Week 17","@ Philadelphia Eagles","Kyler Murray",0.72727272727272729,0,0,0.18181818181818182,0,0,0,0,0,0,0,0,0,0,0,0,0,0,0,0,0,0]
[null,"Week 18","Seattle Seahawks","Kyler Murray",0.6,0,0,0.2,0,0,0,0,0,0,0,0,0,0,0,0,0,0,0,0,0,0]
[]
[null,"Total",null,null,0.56140350877192979,0.10526315789473684,3.5087719298245612E-2,0.19298245614035087,3.5087719298245612E-2,1.7543859649122806E-2,0,1.7543859649122806E-2,0,0,0,0,0.10526315789473684,0,0,0,0,0,0,0,0,0]
[]
[null,"RZ Rush (Inside 10)","Opponent","QB","James Conner","Joshua Dobbs","Emari Demercado","Kyler Murray","Keaontay Ingram","Rondale Moore","Damien Williams","Clayton Tune","Marquise Brown","Greg Dortch","Blake Gillikin","Zeke Turner","Joshua Dobbs","","","","","","","","",""]
[null,"Week 1","@ Washington Commanders","Joshua Dobbs",0,0,0,0,0,0,0,0,0,0,0,0,0,0,0,0,0,0,0,0,0,0]
[null,"Week 2","New York Giants","Joshua Dobbs",2,0,0,0,0,0,0,0,0,0,0,0,0,0,0,0,0,0,0,0,0,0]
[null,"Week 3","Dallas Cowboys","Joshua Dobbs",2,0,0,0,0,0,0,0,0,0,0,0,0,0,0,0,0,0,0,0,0,0]
[null,"Week 4","@ San Francisco 49ers","Joshua Dobbs",0,0,0,0,0,0,0,0,0,0,0,0,0,0,0,0,0,0,0,0,0,0]
[null,"Week 5","Cincinnati Bengals","Joshua Dobbs",0,0,1,0,0,0,0,0,0,0,0,0,0,0,0,0,0,0,0,0,0,0]
[null,"Week 6","@ Los Angeles Rams","Joshua Dobbs",0,0,0,0,1,0,0,0,0,0,0,0,0,0,0,0,0,0,0,0,0,0]
[null,"Week 7","@ Seattle Seahawks","Joshua Dobbs",0,0,0,0,0,0,0,0,0,0,0,0,0,0,0,0,0,0,0,0,0,0]
[null,"Week 8","Baltimore Ravens","Joshua Dobbs",0,2,0,0,0,0,0,0,0,0,0,0,2,0,0,0,0,0,0,0,0,0]
[null,"Week 9","@ Cleveland Browns","Clayton Tune",0,0,0,0,0,0,0,0,0,0,0,0,0,0,0,0,0,0,0,0,0,0]
[null,"Week 10","Atlanta Falcons","Kyler Murray",2,0,0,2,0,0,0,1,0,0,0,0,0,0,0,0,0,0,0,0,0,0]
[null,"Week 11","@ Houston Texans","Kyler Murray",1,0,0,2,0,0,0,0,0,0,0,0,0,0,0,0,0,0,0,0,0,0]
[null,"Week 12","Los Angeles Rams","Kyler Murray",1,0,0,1,0,0,0,0,0,0,0,0,0,0,0,0,0,0,0,0,0,0]
[null,"Week 13","@ Pittsburgh Steelers","Kyler Murray",4,0,0,0,0,0,0,0,0,0,0,0,0,0,0,0,0,0,0,0,0,0]
[null,"Week 14","BYE",""]
[null,"Week 15","San Francisco 49ers","Kyler Murray",2,0,0,1,0,0,0,0,0,0,0,0,0,0,0,0,0,0,0,0,0,0]
[null,"Week 16","@ Chicago Bears","Kyler Murray",0,0,0,0,0,0,0,0,0,0,0,0,0,0,0,0,0,0,0,0,0,0]
[null,"Week 17","@ Philadelphia Eagles","Kyler Murray",3,0,0,2,0,0,0,0,0,0,0,0,0,0,0,0,0,0,0,0,0,0]
[null,"Week 18","Seattle Seahawks","Kyler Murray",1,0,0,1,0,0,0,0,0,0,0,0,0,0,0,0,0,0,0,0,0,0]
[]
[null,"Total",null,null,18,2,1,9,1,0,0,1,0,0,0,0,2,0,0,0,0,0,0,0,0,0]
[]
[null,"RZ Rush % (Inside 10)","Opponent","QB","James Conner","Joshua Dobbs","Emari Demercado","Kyler Murray","Keaontay Ingram","Rondale Moore","Damien Williams","Clayton Tune","Marquise Brown","Greg Dortch","Blake Gillikin","Zeke Turner","Joshua Dobbs","","","","","","","","",""]
[null,"Week 1","@ Washington Commanders","Joshua Dobbs",0,0,0,0,0,0,0,0,0,0,0,0,0,0,0,0,0,0,0,0,0,0]
[null,"Week 2","New York Giants","Joshua Dobbs",1,0,0,0,0,0,0,0,0,0,0,0,0,0,0,0,0,0,0,0,0,0]
[null,"Week 3","Dallas Cowboys","Joshua Dobbs",1,0,0,0,0,0,0,0,0,0,0,0,0,0,0,0,0,0,0,0,0,0]
[null,"Week 4","@ San Francisco 49ers","Joshua Dobbs",0,0,0,0,0,0,0,0,0,0,0,0,0,0,0,0,0,0,0,0,0,0]
[null,"Week 5","Cincinnati Bengals","Joshua Dobbs",0,0,1,0,0,0,0,0,0,0,0,0,0,0,0,0,0,0,0,0,0,0]
[null,"Week 6","@ Los Angeles Rams","Joshua Dobbs",0,0,0,0,1,0,0,0,0,0,0,0,0,0,0,0,0,0,0,0,0,0]
[null,"Week 7","@ Seattle Seahawks","Joshua Dobbs",0,0,0,0,0,0,0,0,0,0,0,0,0,0,0,0,0,0,0,0,0,0]
[null,"Week 8","Baltimore Ravens","Joshua Dobbs",0,1,0,0,0,0,0,0,0,0,0,0,1,0,0,0,0,0,0,0,0,0]
[null,"Week 9","@ Cleveland Browns","Clayton Tune",0,0,0,0,0,0,0,0,0,0,0,0,0,0,0,0,0,0,0,0,0,0]
[null,"Week 10","Atlanta Falcons","Kyler Murray",0.4,0,0,0.4,0,0,0,0.2,0,0,0,0,0,0,0,0,0,0,0,0,0,0]
[null,"Week 11","@ Houston Texans","Kyler Murray",0.33333333333333331,0,0,0.66666666666666663,0,0,0,0,0,0,0,0,0,0,0,0,0,0,0,0,0,0]
[null,"Week 12","Los Angeles Rams","Kyler Murray",0.5,0,0,0.5,0,0,0,0,0,0,0,0,0,0,0,0,0,0,0,0,0,0]
[null,"Week 13","@ Pittsburgh Steelers","Kyler Murray",1,0,0,0,0,0,0,0,0,0,0,0,0,0,0,0,0,0,0,0,0,0]
[null,"Week 14","BYE",""]
[null,"Week 15","San Francisco 49ers","Kyler Murray",0.66666666666666663,0,0,0.33333333333333331,0,0,0,0,0,0,0,0,0,0,0,0,0,0,0,0,0,0]
[null,"Week 16","@ Chicago Bears","Kyler Murray",0,0,0,0,0,0,0,0,0,0,0,0,0,0,0,0,0,0,0,0,0,0]
[null,"Week 17","@ Philadelphia Eagles","Kyler Murray",0.5,0,0,0.33333333333333331,0,0,0,0,0,0,0,0,0,0,0,0,0,0,0,0,0,0]
[null,"Week 18","Seattle Seahawks","Kyler Murray",0.5,0,0,0.5,0,0,0,0,0,0,0,0,0,0,0,0,0,0,0,0,0,0]
[]
[null,"Total",null,null,0.54545454545454541,6.0606060606060608E-2,3.0303030303030304E-2,0.27272727272727271,3.0303030303030304E-2,0,0,3.0303030303030304E-2,0,0,0,0,6.0606060606060608E-2,0,0,0,0,0,0,0,0,0]
[]
[null,"RZ Rush (Inside 5)","Opponent","QB","James Conner","Joshua Dobbs","Emari Demercado","Kyler Murray","Keaontay Ingram","Rondale Moore","Damien Williams","Clayton Tune","Marquise Brown","Greg Dortch","Blake Gillikin","Zeke Turner","Joshua Dobbs","","","","","","","","",""]
[null,"Week 1","@ Washington Commanders","Joshua Dobbs",0,0,0,0,0,0,0,0,0,0,0,0,0,0,0,0,0,0,0,0,0,0]
[null,"Week 2","New York Giants","Joshua Dobbs",2,0,0,0,0,0,0,0,0,0,0,0,0,0,0,0,0,0,0,0,0,0]
[null,"Week 3","Dallas Cowboys","Joshua Dobbs",0,0,0,0,0,0,0,0,0,0,0,0,0,0,0,0,0,0,0,0,0,0]
[null,"Week 4","@ San Francisco 49ers","Joshua Dobbs",0,0,0,0,0,0,0,0,0,0,0,0,0,0,0,0,0,0,0,0,0,0]
[null,"Week 5","Cincinnati Bengals","Joshua Dobbs",0,0,1,0,0,0,0,0,0,0,0,0,0,0,0,0,0,0,0,0,0,0]
[null,"Week 6","@ Los Angeles Rams","Joshua Dobbs",0,0,0,0,0,0,0,0,0,0,0,0,0,0,0,0,0,0,0,0,0,0]
[null,"Week 7","@ Seattle Seahawks","Joshua Dobbs",0,0,0,0,0,0,0,0,0,0,0,0,0,0,0,0,0,0,0,0,0,0]
[null,"Week 8","Baltimore Ravens","Joshua Dobbs",0,2,0,0,0,0,0,0,0,0,0,0,2,0,0,0,0,0,0,0,0,0]
[null,"Week 9","@ Cleveland Browns","Clayton Tune",0,0,0,0,0,0,0,0,0,0,0,0,0,0,0,0,0,0,0,0,0,0]
[null,"Week 10","Atlanta Falcons","Kyler Murray",1,0,0,1,0,0,0,1,0,0,0,0,0,0,0,0,0,0,0,0,0,0]
[null,"Week 11","@ Houston Texans","Kyler Murray",0,0,0,1,0,0,0,0,0,0,0,0,0,0,0,0,0,0,0,0,0,0]
[null,"Week 12","Los Angeles Rams","Kyler Murray",1,0,0,1,0,0,0,0,0,0,0,0,0,0,0,0,0,0,0,0,0,0]
[null,"Week 13","@ Pittsburgh Steelers","Kyler Murray",2,0,0,0,0,0,0,0,0,0,0,0,0,0,0,0,0,0,0,0,0,0]
[null,"Week 14","BYE",""]
[null,"Week 15","San Francisco 49ers","Kyler Murray",1,0,0,0,0,0,0,0,0,0,0,0,0,0,0,0,0,0,0,0,0,0]
[null,"Week 16","@ Chicago Bears","Kyler Murray",0,0,0,0,0,0,0,0,0,0,0,0,0,0,0,0,0,0,0,0,0,0]
[null,"Week 17","@ Philadelphia Eagles","Kyler Murray",1,0,0,1,0,0,0,0,0,0,0,0,0,0,0,0,0,0,0,0,0,0]
[null,"Week 18","Seattle Seahawks","Kyler Murray",1,0,0,1,0,0,0,0,0,0,0,0,0,0,0,0,0,0,0,0,0,0]
[]
[null,"Total",null,null,9,2,1,5,0,0,0,1,0,0,0,0,2,0,0,0,0,0,0,0,0,0]
[]
[null,"RZ Rush % (Inside 5)","Opponent","QB","James Conner","Joshua Dobbs","Emari Demercado","Kyler Murray","Keaontay Ingram","Rondale Moore","Damien Williams","Clayton Tune","Marquise Brown","Greg Dortch","Blake Gillikin","Zeke Turner","Joshua Dobbs","","","","","","","","",""]
[null,"Week 1","@ Washington Commanders","Joshua Dobbs",0,0,0,0,0,0,0,0,0,0,0,0,0,0,0,0,0,0,0,0,0,0]
[null,"Week 2","New York Giants","Joshua Dobbs",1,0,0,0,0,0,0,0,0,0,0,0,0,0,0,0,0,0,0,0,0,0]
[null,"Week 3","Dallas Cowboys","Joshua Dobbs",0,0,0,0,0,0,0,0,0,0,0,0,0,0,0,0,0,0,0,0,0,0]
[null,"Week 4","@ San Francisco 49ers","Joshua Dobbs",0,0,0,0,0,0,0,0,0,0,0,0,0,0,0,0,0,0,0,0,0,0]
[null,"Week 5","Cincinnati Bengals","Joshua Dobbs",0,0,1,0,0,0,0,0,0,0,0,0,0,0,0,0,0,0,0,0,0,0]
[null,"Week 6","@ Los Angeles Rams","Joshua Dobbs",0,0,0,0,0,0,0,0,0,0,0,0,0,0,0,0,0,0,0,0,0,0]
[null,"Week 7","@ Seattle Seahawks","Joshua Dobbs",0,0,0,0,0,0,0,0,0,0,0,0,0,0,0,0,0,0,0,0,0,0]
[null,"Week 8","Baltimore Ravens","Joshua Dobbs",0,1,0,0,0,0,0,0,0,0,0,0,1,0,0,0,0,0,0,0,0,0]
[null,"Week 9","@ Cleveland Browns","Clayton Tune",0,0,0,0,0,0,0,0,0,0,0,0,0,0,0,0,0,0,0,0,0,0]
[null,"Week 10","Atlanta Falcons","Kyler Murray",0.33333333333333331,0,0,0.33333333333333331,0,0,0,0.33333333333333331,0,0,0,0,0,0,0,0,0,0,0,0,0,0]
[null,"Week 11","@ Houston Texans","Kyler Murray",0,0,0,1,0,0,0,0,0,0,0,0,0,0,0,0,0,0,0,0,0,0]
[null,"Week 12","Los Angeles Rams","Kyler Murray",0.5,0,0,0.5,0,0,0,0,0,0,0,0,0,0,0,0,0,0,0,0,0,0]
[null,"Week 13","@ Pittsburgh Steelers","Kyler Murray",1,0,0,0,0,0,0,0,0,0,0,0,0,0,0,0,0,0,0,0,0,0]
[null,"Week 14","BYE",""]
[null,"Week 15","San Francisco 49ers","Kyler Murray",1,0,0,0,0,0,0,0,0,0,0,0,0,0,0,0,0,0,0,0,0,0]
[null,"Week 16","@ Chicago Bears","Kyler Murray",0,0,0,0,0,0,0,0,0,0,0,0,0,0,0,0,0,0,0,0,0,0]
[null,"Week 17","@ Philadelphia Eagles","Kyler Murray",0.5,0,0,0.5,0,0,0,0,0,0,0,0,0,0,0,0,0,0,0,0,0,0]
[null,"Week 18","Seattle Seahawks","Kyler Murray",0.5,0,0,0.5,0,0,0,0,0,0,0,0,0,0,0,0,0,0,0,0,0,0]
[]
[null,"Total",null,null,0.5,0.1111111111111111,5.5555555555555552E-2,0.27777777777777779,0,0,0,5.5555555555555552E-2,0,0,0,0,0.1111111111111111,0,0,0,0,0,0,0,0,0]
[]
[null,"Total Opportunities (Carries + Targets)","Opponent","QB","James Conner","Joshua Dobbs","Emari Demercado","Kyler Murray","Keaontay Ingram","Rondale Moore","Damien Williams","Clayton Tune","Marquise Brown","Greg Dortch","Blake Gillikin","Zeke Turner","Joshua Dobbs","","","","","","","","",""]
[null,"Week 1","@ Washington Commanders","Joshua Dobbs",19,3,0,0,5,5,0,0,6,0,0,0,3,0,0,0,0,0,0,0,0,0]
[null,"Week 2","New York Giants","Joshua Dobbs",24,3,3,0,2,1,0,0,10,0,0,0,3,0,0,0,0,0,0,0,0,0]
[null,"Week 3","Dallas Cowboys","Joshua Dobbs",16,6,2,0,6,9,0,0,7,0,0,0,6,0,0,0,0,0,0,0,0,0]
[null,"Week 4","@ San Francisco 49ers","Joshua Dobbs",13,12,5,0,0,2,0,0,10,0,0,1,12,0,0,0,0,0,0,0,0,0]
[null,"Week 5","Cincinnati Bengals","Joshua Dobbs",6,3,13,0,0,8,0,0,10,0,0,0,3,0,0,0,0,0,0,0,0,0]
[null,"Week 6","@ Los Angeles Rams","Joshua Dobbs",0,7,3,0,12,10,9,0,11,1,0,0,7,0,0,0,0,0,0,0,0,0]
[null,"Week 7","@ Seattle Seahawks","Joshua Dobbs",0,7,18,0,0,8,1,0,7,0,0,0,7,0,0,0,0,0,0,0,0,0]
[null,"Week 8","Baltimore Ravens","Joshua Dobbs",0,6,21,0,3,5,3,0,9,0,0,0,6,0,0,0,0,0,0,0,0,0]
[null,"Week 9","@ Cleveland Browns","Clayton Tune",0,0,0,0,9,6,0,5,8,1,0,0,0,0,0,0,0,0,0,0,0,0]
[null,"Week 10","Atlanta Falcons","Kyler Murray",16,0,0,6,2,8,0,1,4,0,0,0,0,0,0,0,0,0,0,0,0,0]
[null,"Week 11","@ Houston Texans","Kyler Murray",17,0,0,7,0,3,0,0,6,8,0,0,0,0,0,0,0,0,0,0,0,0]
[null,"Week 12","Los Angeles Rams","Kyler Murray",11,0,3,1,0,3,0,0,12,9,1,0,0,0,0,0,0,0,0,0,0,0]
[null,"Week 13","@ Pittsburgh Steelers","Kyler Murray",27,0,0,9,0,2,0,0,3,3,0,0,0,0,0,0,0,0,0,0,0,0]
[null,"Week 14","BYE",""]
[null,"Week 15","San Francisco 49ers","Kyler Murray",17,0,7,6,0,4,0,1,0,4,0,0,0,0,0,0,0,0,0,0,0,0]
[null,"Week 16","@ Chicago Bears","Kyler Murray",17,0,10,5,0,4,0,0,0,5,0,0,0,0,0,0,0,0,0,0,0,0]
[null,"Week 17","@ Philadelphia Eagles","Kyler Murray",27,0,3,5,0,6,0,0,0,7,0,0,0,0,0,0,0,0,0,0,0,0]
[null,"Week 18","Seattle Seahawks","Kyler Murray",31,0,0,5,0,6,0,1,0,4,0,0,0,0,0,0,0,0,0,0,0,0]
[]
[null,"Total",null,null,241,47,88,44,39,90,13,8,103,42,1,1,47,0,0,0,0,0,0,0,0,0]
[]
[null,"Total Opportunities (Market Share %)","Opponent","QB","James Conner","Joshua Dobbs","Emari Demercado","Kyler Murray","Keaontay Ingram","Rondale Moore","Damien Williams","Clayton Tune","Marquise Brown","Greg Dortch","Blake Gillikin","Zeke Turner","Joshua Dobbs","","","","","","","","",""]
[null,"Week 1","@ Washington Commanders","Joshua Dobbs",0.34545454545454546,5.4545454545454543E-2,0,0,9.0909090909090912E-2,9.0909090909090912E-2,0,0,0.10909090909090909,0,0,0,5.4545454545454543E-2,0,0,0,0,0,0,0,0,0]
[null,"Week 2","New York Giants","Joshua Dobbs",0.4,0.05,0.05,0,3.3333333333333333E-2,1.6666666666666666E-2,0,0,0.16666666666666666,0,0,0,0.05,0,0,0,0,0,0,0,0,0]
[null,"Week 3","Dallas Cowboys","Joshua Dobbs",0.31372549019607843,0.11764705882352941,3.9215686274509803E-2,0,0.11764705882352941,0.17647058823529413,0,0,0.13725490196078433,0,0,0,0.11764705882352941,0,0,0,0,0,0,0,0,0]
[null,"Week 4","@ San Francisco 49ers","Joshua Dobbs",0.19696969696969696,0.18181818181818182,7.575757575757576E-2,0,0,3.0303030303030304E-2,0,0,0.15151515151515152,0,0,1.5151515151515152E-2,0.18181818181818182,0,0,0,0,0,0,0,0,0]
[null,"Week 5","Cincinnati Bengals","Joshua Dobbs",0.1111111111111111,5.5555555555555552E-2,0.24074074074074073,0,0,0.14814814814814814,0,0,0.18518518518518517,0,0,0,5.5555555555555552E-2,0,0,0,0,0,0,0,0,0]
[null,"Week 6","@ Los Angeles Rams","Joshua Dobbs",0,9.8591549295774641E-2,4.2253521126760563E-2,0,0.16901408450704225,0.14084507042253522,0.12676056338028169,0,0.15492957746478872,1.4084507042253521E-2,0,0,9.8591549295774641E-2,0,0,0,0,0,0,0,0,0]
[null,"Week 7","@ Seattle Seahawks","Joshua Dobbs",0,0.11864406779661017,0.30508474576271188,0,0,0.13559322033898305,1.6949152542372881E-2,0,0.11864406779661017,0,0,0,0.11864406779661017,0,0,0,0,0,0,0,0,0]
[null,"Week 8","Baltimore Ravens","Joshua Dobbs",0,8.6956521739130432E-2,0.30434782608695654,0,4.3478260869565216E-2,7.2463768115942032E-2,4.3478260869565216E-2,0,0.13043478260869565,0,0,0,8.6956521739130432E-2,0,0,0,0,0,0,0,0,0]
[null,"Week 9","@ Cleveland Browns","Clayton Tune",0,0,0,0,0.21951219512195122,0.14634146341463414,0,0.12195121951219512,0.1951219512195122,2.4390243902439025E-2,0,0,0,0,0,0,0,0,0,0,0,0]
[null,"Week 10","Atlanta Falcons","Kyler Murray",0.27586206896551724,0,0,0.10344827586206896,3.4482758620689655E-2,0.13793103448275862,0,1.7241379310344827E-2,6.8965517241379309E-2,0,0,0,0,0,0,0,0,0,0,0,0,0]
[null,"Week 11","@ Houston Texans","Kyler Murray",0.30909090909090908,0,0,0.12727272727272726,0,5.4545454545454543E-2,0,0,0.10909090909090909,0.14545454545454545,0,0,0,0,0,0,0,0,0,0,0,0]
[null,"Week 12","Los Angeles Rams","Kyler Murray",0.18333333333333332,0,0.05,1.6666666666666666E-2,0,0.05,0,0,0.2,0.15,1.6666666666666666E-2,0,0,0,0,0,0,0,0,0,0,0]
[null,"Week 13","@ Pittsburgh Steelers","Kyler Murray",0.44262295081967212,0,0,0.14754098360655737,0,3.2786885245901641E-2,0,0,4.9180327868852458E-2,4.9180327868852458E-2,0,0,0,0,0,0,0,0,0,0,0,0]
[null,"Week 14","BYE",""]
[null,"Week 15","San Francisco 49ers","Kyler Murray",0.24637681159420291,0,0.10144927536231885,8.6956521739130432E-2,0,5.7971014492753624E-2,0,1.4492753623188406E-2,0,5.7971014492753624E-2,0,0,0,0,0,0,0,0,0,0,0,0]
[null,"Week 16","@ Chicago Bears","Kyler Murray",0.29310344827586204,0,0.17241379310344829,8.6206896551724144E-2,0,6.8965517241379309E-2,0,0,0,8.6206896551724144E-2,0,0,0,0,0,0,0,0,0,0,0,0]
[null,"Week 17","@ Philadelphia Eagles","Kyler Murray",0.38028169014084506,0,4.2253521126760563E-2,7.0422535211267609E-2,0,8.4507042253521125E-2,0,0,0,9.8591549295774641E-2,0,0,0,0,0,0,0,0,0,0,0,0]
[null,"Week 18","Seattle Seahawks","Kyler Murray",0.45588235294117646,0,0,7.3529411764705885E-2,0,8.8235294117647065E-2,0,1.4705882352941176E-2,0,5.8823529411764705E-2,0,0,0,0,0,0,0,0,0,0,0,0]
[]
[null,"Total",null,null,0.23489278752436646,4.5808966861598438E-2,8.5769980506822607E-2,4.2884990253411304E-2,3.8011695906432746E-2,8.771929824561403E-2,1.2670565302144249E-2,7.7972709551656916E-3,0.10038986354775828,4.0935672514619881E-2,9.7465886939571145E-4,9.7465886939571145E-4,4.5808966861598438E-2,0,0,0,0,0,0,0,0,0]

{"sheet":"INPUTS","index":13,"n_rows":626,"n_cols":129,"rows_kept":626,"cut":false,"hidden":true,"merged":[[1,36,1,37],[1,38,1,44],[1,72,1,73],[1,74,1,85]]}
["Wins","Touchdowns",null,null,"PASSING",null,null,null,null,null,null,null,null,null,null,null,null,null,null,null,null,null,null,null,null,null,null,null,null,null,null,null,null,null,null,null,"RUSHING",null,null,null,null,null,null,null,null,null,null,null,null,null,null,null,"RECEIVING",null,null,null,null,null,null,null,null,null,null,null,null,null,null,null,null,null,null,null,"Advanced Passing",null,null,null,null,null,null,null,null,null,null,null,null,null,null,null,null,null,null,null,null,"Tiers",null,null,null,null,null,null,null,null,null,null,null,null,null,null,null,null,"Teams",null,null,null,null,null,null,null,null,null,null,"PPR Points"]
[1,30,null,null,null,null,null,null,null,null,null,null,null,null,null,null,null,null,null,null,null,null,null,null,null,null,null,null,null,null,null,null,null,null,null,null,"Games",null,"Rushing",null,null,null,null,null,null,null,null,null,null,null,null,null,"Rk","Player","Tm","Age","Pos","G","GS","Tgt","Rec","Ctch%","Yds","Y/R","TD","1D","Lng","Y/Tgt","R/G","Y/G","Fmb",null,"Games",null,"Passing",null,null,null,null,null,null,null,null,null,null,null,null,null,null,null,null,null,null,null,null,null,null,null,null,null,null,null,null,null,null,null,null,null,null,null,null,null,null,null,null,null,null,null,null,null,"Name","Low","High","Real Story"]
[1.5,30,null,null,"Rk","Player","Tm","Age","Pos","G","GS","QBrec","Cmp","Att","Cmp%","Yds","TD","TD%","Int","Int%","1D","Lng","Y/A","AY/A","Y/C","Y/G","Rate","QBR","Sk","Yds","Sk%","NY/A","ANY/A","4QC","GWD",null,"Rk","Player","Tm","Age","Pos","G","GS","Att","Yds","TD","1D","Lng","Y/A","Y/G","Fmb",null,1,"CeeDee Lamb","DAL",24,"WR",17,17,181,135,0.746,1749,13,12,80,92,9.6999999999999993,7.9,102.9,3,null,"Rk","Player","Tm","Age","Pos","G","GS","Cmp","Att","Yds","Bats","ThAwy","Spikes","Drops","Drop%","BadTh","Bad%","OnTgt","OnTgt%",null,null,"Wide Receiver",null,null,null,null,"Running Back",null,null,null,"Tight End",null,null,"Quarterback",null,null,null,null,"Arizona Cardinals",null,null,"Column1","Column2",null,null,null,"Yes",null,"Jalen Hurts",8.9,35.5,"Josh Allen","8 top 5 finishes, 12 top 12 finishes (both 2nd in the league) and 16 top 24 finishes (joint 1st in the league)","QB1 overall and on a per game basis. QB1 in both metrics for the first third of the season, QB1 overall but QB3 per game in the middle of the season, and QB11 (QB4 per game) in the final third of the season","He's a stud with game-breaking upside, finishing top 2 on 5 separate occasions","The rushing is what pushes him over the top, scoring a rushing touchdown in all but 4 games of the fantasy season","Apart from the game against the Chiefs, the Bills pass % dropped significantly after Joe Brady took over play-calling. This hit the pass attempts as well as Allen's comp % and overall fantasy volume through the air"]
[2,30,null,null,1,"Tua Tagovailoa","MIA",25,"QB",17,17,"2000-06-11",388,560,69.3,4624,29,5.2,14,2.5,222,78,8.3000000000000007,8.1999999999999993,11.9,272,101.1,60.8,29,171,4.9000000000000004,7.56,7.48,2,2,null,1,"Derrick Henry","TEN",29,"RB",17,17,280,1167,12,63,69,4.2,68.599999999999994,0,null,2,"Tyreek Hill","MIA",29,"WR",16,16,171,119,0.69599999999999995,1799,15.1,13,83,78,10.5,7.4,112.4,1,null,1,"Tua Tagovailoa","MIA",25,"QB",17,17,388,560,4624,9,14,2,24,4.3999999999999997E-2,78,0.14299999999999999,430,0.79,null,null,"Targets + Rush","Catch Rate","Touchdown Rate","Tier",null,"Carries","Targets","Tier",null,"Targets","Tier",null,"Carries","Pass Att","Tier",null,null,"Atlanta Falcons",null,null,"Arizona Cardinals","Arizona_Cardinals",null,null,null,"No",null,"Josh Allen",12,40.700000000000003,"Jalen Hurts","9 top 5 finishes, 14 top 12 finishes, and 16 top 24 finishes were all 1st in the league","His rushing baseline means that in games where he doesn’t pass for many yards/touchdowns, the rushing keeps him at the top","His efficiency and production dropped in the second half of the season, with only 2 games over 200 yards passing, and 5 games with a sub-65% comp rate","He needed those tush-push touchdowns in that part of the season to prop him up, he would have been a disappointing fantasy starter without them","Had one really bad game against Dallas in week 14 that brings down his overall numbers for that part of the season"]
[2.5,30,null,null,2,"Jared Goff","DET",29,"QB",17,17,"2000-05-12",407,605,67.3,4575,30,5,12,2,227,70,7.6,7.7,11.2,269.10000000000002,97.9,60.3,30,197,4.7,6.89,6.99,2,3,null,2,"Christian McCaffrey","SFO",27,"RB",16,16,272,1459,14,83,72,5.4,91.2,3,null,3,"Amon-Ra St. Brown","DET",24,"WR",16,16,164,119,0.72599999999999998,1515,12.7,10,75,70,9.1999999999999993,7.4,94.7,1,null,2,"Jared Goff","DET",29,"QB",17,17,407,605,4575,14,27,4,35,6.0999999999999999E-2,87,0.152,461,0.80300000000000005,null,null,150,0.6,0.06,"Elite WR",null,300,0,"Elite RB",null,100,"Top TE",null,100,0,"Top QB",null,null,"Baltimore Ravens",null,null,"Atlanta Falcons","Atlanta_Falcons",null,null,null,null,null,"Lamar Jackson",7.6,36.299999999999997,"Lamar Jackson","6 top 5 finishes and 10 top 12 finishes (both 3rd in the league). 14 top 24 finishes was 6th","His rushing is his super power but he only scored rushing touchdowns in 3 separate games","6 games with less than 200 yards passing hurt him along with 3 games without a touchdown (passing or rushing)","His worst games were the ones where the Ravens scored 3 rushing touchdowns - nearly all short yardage and from the running backs","That's the difference between Lamar and Hurts/Allen - they get those short-yardage touchdowns where Lamar doesn't"]
[3,30,null,null,3,"Dak Prescott","DAL",30,"QB",17,17,"2000-05-12",410,590,69.5,4516,36,6.1,9,1.5,222,92,7.7,8.1999999999999993,11,265.60000000000002,105.9,72.7,39,255,6.2,6.77,7.28,2,3,null,3,"Rachaad White","TAM",24,"RB",17,17,272,990,6,46,38,3.6,58.2,3,null,4,"Evan Engram","JAX",29,"TE",17,15,143,114,0.79700000000000004,963,8.4,4,47,34,6.7,6.7,56.6,3,null,3,"Dak Prescott","DAL",30,"QB",17,17,410,590,4516,10,10,0,38,6.6000000000000003E-2,68,0.11700000000000001,479,0.82599999999999996,null,null,130,0.6,0.04,"2nd Tier WR1",null,200,100,"Elite RB",null,80,"2nd Tier TE1",null,600,50,"Top QB",null,null,"Buffalo Bills",null,null,"Baltimore Ravens","Baltimore_Ravens",null,null,null,null,null,"Brock Purdy",6.4,29.5,"Dak Prescott","6 top 5 finishes was 3rd in the league but only 7 top 12 finishes was 9th in the league, and 13 top 24 finishes was 12th in the league","Through the first 5 weeks his best finish was QB17. He then produced 6 top 4 finishes in his next 7 games including 2 QB1 overall finishes. Dipped again in the final few games with three games outside the top 12 before a QB7 finish in week 17","He doesn’t really have a rushing floor so he needs to hit high yardage and multiple touchdowns to hit a ceiling. The two occasions he did score a rushing touchdown propelled him to his QB1 finishes","All but 1 of his top finishes had at least 3 passing touchdowns, if he didn't get to that mark then he generally wasn’t a top 12 QB. This impacted his floor and lines up with the lower rate of top 12 finishes","Those big games were the CeeDee Lamb high target games - when he got CeeDee going, he the offense hit the big scores he needed"]
[3.5,30,null,null,4,"Josh Allen","BUF",27,"QB",17,17,"2000-06-11",385,579,66.5,4306,29,5,18,3.1,199,81,7.4,7,11.2,253.3,92.2,69.599999999999994,24,152,4,6.89,6.51,2,4,null,4,"Travis Etienne","JAX",24,"RB",17,17,267,1008,11,53,62,3.8,59.3,0,null,5,"Michael Pittman","IND",26,"WR",16,15,156,109,0.69899999999999995,1152,10.6,4,53,75,7.4,6.8,72,2,null,4,"Josh Allen","BUF",27,"QB",17,17,385,579,4306,7,28,2,31,5.6000000000000001E-2,78,0.14199999999999999,427,0.77800000000000002,null,null,110,null,null,"Consistent WR2",null,250,60,"Elite RB",null,null,null,null,525,0,"2nd Tier QB1",null,null,"Carolina Panthers",null,null,"Buffalo Bills","Buffalo_Bills",null,null,null,null,null,"Sam Howell",0.2,32,"Jordan Love","3 top 5 finishes is 9th in the league but 9 top 12 finishes is 6th in the league and 16 top 24 finishes is joint 1st - that's a solid floor","Very consistent production, above 300 yards only once and below 200 yards only 3 times","Number of touchdowns drove the spike weeks of course but in the games without big TD numbers it was the consistent yet unspectacular floor","No real rushing floor although does pinch an odd rushing touchdown here and there. It means he needs the multi-touchdown games to stay in the mix","Definition of a solid 2nd Quarterback for a Superflex or 2QB league"]
[4,30,null,null,5,"Brock Purdy","SFO",24,"QB",16,16,"2000-04-12",308,444,69.400000000000006,4280,31,7,11,2.5,192,76,9.6,9.9,13.9,267.5,113,72.8,28,153,5.9,8.74,9.01,null,null,null,5,"Joe Mixon","CIN",27,"RB",17,17,257,1034,9,59,44,4,60.8,0,null,6,"Keenan Allen","LAC",31,"WR",13,13,150,108,0.72,1243,11.5,7,57,42,8.3000000000000007,8.3000000000000007,95.6,2,null,5,"Brock Purdy","SFO",24,"QB",16,16,308,444,4280,13,12,3,9,2.1000000000000001E-2,70,0.16300000000000001,324,0.755,null,null,null,null,null,null,null,200,60,"2nd Tier RB1",null,null,null,null,null,null,null,null,null,"Chicago Bears",null,null,"Carolina Panthers","Carolina_Panthers",null,null,null,null,null,"Jordan Love",8,28.4,"Brock Purdy","4 top 5 finishes was 7th in the league, 10 top 12 finishes was 3rd in the league, and 14 top 24 finishes was 6th","Not a high volume passer (20th in the league) but has a high completion rate (4th in the league) and a high yards/attempt (1st in the league). It's a combination of efforts - his depth of throw was 8th and the YAC (yards after catch) from the pass-catchers was 1st","No real rushing floor to balance out regression in other areas so he needs to maintain high yardage AND high touchdowns - 7% Touchdown rate was the highest in the leauge","Ultimately, his high finishes were generally when he scored 3 or more passing touchdowns. That's always a possibility in a Shanahan offense but if he doesn't get there, he has less avenues to prop up his floor"]
[4.5,30,null,null,6,"Patrick Mahomes","KAN",28,"QB",16,16,"2000-06-10",401,597,67.2,4183,27,4.5,14,2.2999999999999998,206,67,7,6.9,10.4,261.39999999999998,92.6,63.1,27,186,4.3,6.41,6.26,1,2,null,6,"Najee Harris","PIT",25,"RB",17,17,255,1035,8,51,25,4.0999999999999996,60.9,2,null,7,"Stefon Diggs","BUF",30,"WR",17,17,160,107,0.66900000000000004,1183,11.1,8,58,55,7.4,6.3,69.599999999999994,2,null,6,"Patrick Mahomes","KAN",28,"QB",16,16,401,597,4183,6,29,2,39,6.9000000000000006E-2,75,0.13300000000000001,457,0.80700000000000005,null,null,null,null,null,null,null,200,0,"Consistent RB2",null,null,null,null,null,null,null,null,null,"Cincinnati Bengals",null,null,"Chicago Bears","Chicago_Bears",null,null,null,null,null,"Patrick Mahomes",7.6,34.9,"Patrick Mahomes","Only 2 top 5 finishes is not good by his standards. 8 top 12 finishes and 14 top 24 finishes","Career lows in Touchdown rate, yards per attempt, and intended air yards per attempt, with a career high in interception rate - he basically became an average quarterback (in terms of stats)","In 2020, 2021 & 2022 the Chiefs scored 40, 37 and 41 passing TDs - Mahomes finished QB4, QB4 and QB1. In 2019 they scored 30 passing TDs and 2023 they scored 28 - Mahomes finished QB8 in both","It wasn't a shift to a running game, they just had less yards and less touchdowns generally in 2023 than in previous seasons, particularly compared to the last 2 seasons. Redzone efficiency took a big hit so that's less Touchdowns","His superpower was efficiency and touchdowns so if the team takes a step back, that takes him from a fantasy superhero to a normal Quarterback"]
[5,30,null,null,7,"Jordan Love","GNB",25,"QB",17,17,"2000-08-09",372,579,64.2,4159,32,5.5,11,1.9,209,77,7.2,7.4,11.2,244.6,96.1,62.1,30,242,4.9000000000000004,6.43,6.67,2,3,null,7,"Tony Pollard","DAL",26,"RB",17,17,252,1005,6,56,31,4,59.1,3,null,8,"A.J. Brown","PHI",26,"WR",17,17,158,106,0.67100000000000004,1456,13.7,7,70,59,9.1999999999999993,6.2,85.6,2,null,7,"Jordan Love","GNB",25,"QB",17,17,372,579,4159,8,18,2,29,5.1999999999999998E-2,98,0.17499999999999999,428,0.76600000000000001,null,null,null,null,null,null,null,0,50,"Consistent RB2",null,null,null,null,null,null,null,null,null,"Cleveland Browns",null,null,"Cincinnati Bengals","Cincinnati_Bengals",null,null,null,null,null,"Baker Mayfield",7.8,29,"Jared Goff","4 top 5 finishes is 7th but 6 top 12 finishes is only 14th. 15 top 24 finishes is 4th. That means a reasonably consistent floor albeit not a high one","Overall numbers were boosted by a 5 TD game in week 15. Outside of that there was a 3 TD game and the rest of his production came on pure volume. Only 1 game all season without a pass TD which is how is floor is stable","6.7 Intended Air Yards per Attempt was 29th amongst qualifying QBs. This helped him get a top 7 completion rate. Couple that with the 2nd most attempts in the league and the volume puts him in play every week","Only once dropped below 200 yards and where he could push over 300 yards (4 times) that helped him in to the top 12 that week","No rushing floor so the consistent volume makes up for that, but also means the spike weeks in yards/TDs don’t then push him as high"]
[5.5,30,null,null,8,"C.J. Stroud","HOU",22,"QB",15,15,"2000-06-09",319,499,63.9,4108,23,4.5999999999999996,5,1,188,75,8.1999999999999993,8.6999999999999993,12.9,273.89999999999998,100.8,57.5,38,331,7.1,7.03,7.47,1,3,null,8,"Saquon Barkley","NYG",26,"RB",14,14,247,962,6,51,36,3.9,68.7,2,null,9,"Puka Nacua","LAR",22,"WR",17,17,160,105,0.65600000000000003,1486,14.2,6,68,80,9.3000000000000007,6.2,87.4,1,null,8,"C.J. Stroud","HOU",22,"QB",15,15,319,499,4108,9,16,6,18,3.7999999999999999E-2,95,0.19900000000000001,357,0.748,null,null,null,null,null,null,null,null,null,null,null,null,null,null,null,null,null,null,null,"Dallas Cowboys",null,null,"Cleveland Browns","Cleveland_Browns",null,null,null,null,null,"Dak Prescott",6.3,38.9,"Tua Tagovailoa","3 top 5 finishes and 7 top 12 finishes is solid if not spectactular. Didn’t miss any games, which is a win based on the previous season concerns over health. 6 games outside the top 20 is not good","He was up and down all season going from huge top 3 performances to low-end QB2 or worse. Last 4 games of the season were between QB16 and QB23","The big games were high yardage, 3+ touchdown games which is the upside you buy in to with the likes of Tyreek Hill on the field (most of those games had a big touchdown from Hill in there)","When he didn’t hit those explosive games, he hovered between 1 and 2 touchdowns, 200-300 yards. That's enough to get QB2 peformances but need higher yardage, a rushing floor (which Tua doesn’t have), or lots of touchdowns to get the ceiling","Some of the late season downturn coincides with Tyreek's injury but the down games also seem to be the good defenses - Tua beat up and bad defenses and struggled to hit the finishes against good ones"]
[6,30,null,null,9,"Baker Mayfield","TAM",28,"QB",17,17,"2000-08-09",364,566,64.3,4044,28,4.9000000000000004,10,1.8,188,75,7.1,7.3,11.1,237.9,94.6,54.3,40,232,6.6,6.29,6.47,1,2,null,9,"Chuba Hubbard","CAR",24,"RB",17,12,238,902,5,59,22,3.8,53.1,1,null,10,"Davante Adams","LVR",31,"WR",17,17,175,103,0.58899999999999997,1144,11.1,8,59,46,6.5,6.1,67.3,0,null,9,"Baker Mayfield","TAM",28,"QB",17,17,364,566,4044,20,17,0,24,4.3999999999999997E-2,81,0.14799999999999999,411,0.749,null,null,null,null,null,null,null,null,null,null,null,null,null,null,null,null,null,null,null,"Denver Broncos",null,null,"Dallas Cowboys","Dallas_Cowboys",null,null,null,null,null,"Justin Herbert",2.8,29.4,"Baker Mayfield","1 top 5 finish and 8 top 12 finishes. Overall numbers boosted by a 4 touchdown game in week 15 and his overall finish was boosted by being one of the few quarterbacks to play every game","Outside of the 4 touchdown game and a 3 touchdown game in week 4, he did have a number of 2 touchdown games which helped him to high-end QB2 finishes but not much better than that","Rarely breached 300 passing yards and next to no rushing floor meant he needed 3+ touchdowns to get close to QB1 status and no real chance of a high ceiling","Average in most stats which reflects his position from just accumulating average finishes"]
[6.5,30,null,null,10,"Trevor Lawrence","JAX",24,"QB",16,16,"2000-08-08",370,564,65.599999999999994,4016,21,3.7,14,2.5,179,65,7.1,6.7,10.9,251,88.5,56.1,35,224,5.8,6.33,5.98,1,2,null,10,"James Cook","BUF",24,"RB",17,13,237,1122,2,53,42,4.7,66,4,null,11,"Adam Thielen","CAR",33,"WR",17,17,137,103,0.752,1014,9.8000000000000007,4,56,32,7.4,6.1,59.6,2,null,10,"Trevor Lawrence","JAX",24,"QB",16,16,370,564,4016,16,12,0,24,4.2999999999999997E-2,104,0.188,410,0.74299999999999999,null,null,null,null,null,null,null,null,null,null,null,null,null,null,null,null,null,null,null,"Detroit Lions",null,null,"Denver Broncos","Denver_Broncos",null,null,null,null,null,"Tua Tagovailoa",9.1,28.4,"Sam Howell","Consistent low-end QB1 getting 10 top 12 finishes (3rd in the league). But only 2 top 5 finishes means he has a low ceiling. Didn’t miss any games but did miss parts of a couple and had 5 finishes outside the top 20 in total","The top 5 finish was built off a 4 touchdown, almost 400 yard game against the Eagles which earned him QB1 in week 8. Had some other multiple touchdown games which helped him to top 6 finishes","300+ yards five times with 2 others close, but that dropped off a cliff from week 13, failing to get over 200 yards after that","Most pass attempts in the league but 23rd in completion rate so only 12th in yards. Put that with 24th in touchdown rate and it's hard to hit a ceiling despite the outrageous volume","Has some rushing ability with 5 rushing touchdowns but rarely above 30 yards on the ground. Gives him a bit of a boost but unspectacular"]
[7,35,null,null,11,"Matthew Stafford","LAR",35,"QB",15,15,"2000-06-09",326,521,62.6,3965,24,4.5999999999999996,11,2.1,187,80,7.6,7.6,12.2,264.3,92.5,63.5,30,205,5.4,6.82,6.8,1,2,null,11,"Josh Jacobs","LVR",25,"RB",13,13,233,805,6,34,63,3.5,61.9,3,null,12,"Ja'Marr Chase","CIN",23,"WR",16,16,145,100,0.69,1216,12.2,7,63,76,8.4,6.3,76,1,null,11,"Matthew Stafford","LAR",35,"QB",15,15,326,521,3965,8,22,3,33,6.7000000000000004E-2,94,0.19,372,0.75,null,null,null,null,null,null,null,null,null,null,null,null,null,null,null,null,null,null,null,"Green Bay Packers",null,null,"Detroit Lions","Detroit_Lions",null,null,null,null,null,"C.J. Stroud",3.6,39.799999999999997,"Russell Wilson","1 top 5 finish, 5 top 12 finishes. Missed 1 game at the end of the season but only finished outside the top 20 once","Has a useful rushing floor in most games but does have a few games here and there where he doesn’t run, and that hurts his ceiling","Had some good yardage, multiple touchdown games that gave him high finishes but he only topped 300 yards twice (just) and only topped 250 yards one other time (just). That low yardage volume on a weekly basis means even the multiple touchdowns don't get him there","Completion % and touchdown rate were good compared to his career average but his intended air yards per attempt was the lowest of his career, that's what led to those low yardage games"]
[7.5,35,null,null,12,"Sam Howell","WAS",23,"QB",17,17,"4-13-0",388,612,63.4,3946,21,3.4,21,3.4,180,51,6.4,5.6,10.199999999999999,232.1,78.900000000000006,42.4,65,449,9.6,5.17,4.3899999999999997,2,2,null,12,"D'Andre Swift","PHI",24,"RB",16,15,229,1049,5,50,43,4.5999999999999996,65.599999999999994,3,null,13,"D.J. Moore","CHI",26,"WR",17,17,136,96,0.70599999999999996,1364,14.2,8,64,58,10,5.6,80.2,1,null,12,"Sam Howell","WAS",23,"QB",17,17,388,612,3946,20,32,1,25,4.2999999999999997E-2,88,0.152,427,0.73699999999999999,null,null,null,null,null,null,null,null,null,null,null,null,null,null,null,null,null,null,null,"Houston Texans",null,null,"Green Bay Packers","Green_Bay_Packers",null,null,null,null,null,"Trevor Lawrence",4.0999999999999996,32.200000000000003,"Trevor Lawrence","2 top 5 finishes and 7 top 12 finishes. Missed 1 game in week 17 and left week 16 early. Had 4 finishes outside the top 20","Had a spell from weeks 11-14 of top 10 finishes included QB1 overall in week 11. But generally speaking he was an average QB2 the rest of the time, scoring between 200 and 300 yards and occassionally getting more than 1 touchdown","That hot spell in the middle of the season was off the back of multiple touchdowns and rushing touchdowns to boost. Interestingly didn’t get much rushing production in the games he scoring rushing touchdowns","Rushing floor is average most of the time but does have a number of games without rushing significantly","Perhaps coincidentally, his 4 game hot streak came following the return of Zay Jones to the team"]
[8,35,null,null,13,"Derek Carr","NOR",32,"QB",17,17,"2000-08-09",375,548,68.400000000000006,3878,25,4.5999999999999996,8,1.5,185,58,7.1,7.3,10.3,228.1,97.7,56.5,31,218,5.4,6.32,6.56,0,1,null,13,"Kyren Williams","LAR",23,"RB",12,11,228,1144,12,62,56,5,95.3,3,null,14,"T.J. Hockenson","MIN",26,"TE",15,11,127,95,0.748,960,10.1,5,48,29,7.6,6.3,64,1,null,13,"Derek Carr","NOR",32,"QB",17,17,375,548,3878,5,25,0,20,3.7999999999999999E-2,80,0.153,417,0.79700000000000004,null,null,null,null,null,null,null,null,null,null,null,null,null,null,null,null,null,null,null,"Indianapolis Colts",null,null,"Houston Texans","Houston_Texans",null,null,null,null,null,"Justin Fields",5.9,33,"C.J. Stroud","2 top 5 finishes and 7 top 12 finishes. Missed 2 games. Did have 4 games outside the top 20 too","Overall numbers are boosted by a 5 touchdown 470 yard game in week 9. Also had a 3-touchdown (2 passing, 1 rushing) game in week 12 with 350 total yards that earned him another top 5 finish","They were outliers though, his generally good performances were more low-end top 12ish in the most part, 2 touchdowns and 250-350 yards being his range most of the time","Down games were when he threw less than 30 times so if he gets the volume, then the touchdowns get him to the top 12","Rushing generally isnt enough to give him a floor so whilst it doesn’t hurt him, he needs those multiple TDs and good yardage to get top 12, and the rushing isnt enough to push him in to the top 5"]
[8.5,35,null,null,14,"Jalen Hurts","PHI",25,"QB",17,17,"2000-06-11",352,538,65.400000000000006,3858,23,4.3,15,2.8,185,63,7.2,6.8,11,226.9,89.1,60.1,36,222,6.3,6.33,5.96,3,4,null,14,"Breece Hall","NYJ",22,"RB",17,16,223,994,5,40,83,4.5,58.5,2,null,15,"Garrett Wilson","NYJ",23,"WR",17,17,168,95,0.56499999999999995,1042,11,3,47,68,6.2,5.6,61.3,2,null,14,"Jalen Hurts","PHI",25,"QB",17,17,352,538,3858,14,35,0,19,3.7999999999999999E-2,72,0.14299999999999999,397,0.78900000000000003,null,null,null,null,null,null,null,null,null,null,null,null,null,null,null,null,null,null,null,"Jacksonville Jaguars",null,null,"Indianapolis Colts","Indianapolis_Colts",null,null,null,null,null,"Jared Goff",8.4,31.1,"Matthew Stafford","1 top 5 finish but 5 top 12 finishes, all coming in the last 6 games. Never lower than QB28 and hovered around mid QB2 range for the first half of the season","Definitely a season of two parts, kicking in from weeks 12 to 16 as a top performer, scoreing multiple touchdowns in all of those games and over 250 yards in all but one of them","Has literally no rushing floor. In fact he's just as likely to give you negative points on the ground. So he only gets to good scores by hitting good yardage and multiple touchdowns","He did manage over 300 yards passing in a few games but rarely matched that with multiple touchdowns - getting those two together would be the ceiling but one of those on its own is enough to make him a useful fantasy player","Had his lowest completion % since 2014 and was near the bottom of the league in that metric"]
[9,40,null,null,15,"Lamar Jackson","BAL",26,"QB",16,16,"2000-03-13",307,457,67.2,3678,24,5.3,7,1.5,167,80,8,8.4,12,229.9,102.7,64.7,37,218,7.5,7,7.34,1,0,null,15,"David Montgomery","DET",26,"RB",14,14,219,1015,13,59,75,4.5999999999999996,72.5,2,null,16,"Travis Kelce","KAN",34,"TE",15,15,121,93,0.76900000000000002,984,10.6,5,50,53,8.1,6.2,65.599999999999994,1,null,15,"Lamar Jackson","BAL",26,"QB",16,16,307,457,3678,9,15,1,22,0.05,73,0.16600000000000001,326,0.73899999999999999,null,null,null,null,null,null,null,null,null,null,null,null,null,null,null,null,null,null,null,"Kansas City Chiefs",null,null,"Jacksonville Jaguars","Jacksonville_Jaguars",null,null,null,null,null,"Kirk Cousins",8.6999999999999993,28.6,"Justin Herbert","5 top 5 finishes was 5th in the league, two other top 12 finishes. 12 full games, leaving week 14 injured and missing the rest of the season","Generally speaking if he scored multiple touchdowns he got top 10 and with big yardage boosting him to top 5. Is a big yardage player when he gets those multiple touchdowns","Has somewhat of a rushing floor that helps top him up and ensure he gets those top 10/top 5 finishes when he's passing well","Did have a few rough games that hurt your fantasy points if you played him in those weeks - unsurprisingly they were mostly against teams with great passing defenses","League average in a number of metrics and down games were against tough secondaries, gives him room for a bounceback if his receiving corps is right and the strength of schedule is favourable"]
[9.5,40,null,null,16,"Geno Smith","SEA",33,"QB",15,15,"2000-07-08",323,499,64.7,3624,20,4,9,1.8,169,73,7.3,7.3,11.2,241.6,92.1,59.5,31,231,5.8,6.4,6.39,4,5,null,16,"Kenneth Walker","SEA",23,"RB",15,15,219,905,8,46,45,4.0999999999999996,60.3,1,null,17,"Chris Olave","NOR",23,"WR",16,11,138,87,0.63,1123,12.9,5,57,51,8.1,5.4,70.2,0,null,16,"Geno Smith","SEA",33,"QB",15,15,323,499,3624,18,21,4,24,5.0999999999999997E-2,69,0.14599999999999999,358,0.755,null,null,null,null,null,null,null,null,null,null,null,null,null,null,null,null,null,null,null,"Las Vegas Raiders",null,null,"Kansas City Chiefs","Kansas_City_Chiefs",null,null,null,null,null,"Joshua Dobbs",1,25.1,"Justin Fields","5 top 5 finishes was 5th in the league, but only one other top 12 finish outside of that. Missed 4 games and half of another. 5 games outside of the top 20","Overall numbers were boosted by two 4-touchdown games that gave him QB2 and QB1 finishes. Did score a passing touchdown in all but 1 of his full games but only those 2 games had multiple","He's all about the rushing with a big rushing floor, 8 games over 40 yards and 2 over 90 yards. 4 rushing touchdowns actually offers more room to grow considering the rushing volume","Those low passing volume games do hurt him if he doesn’t get enough touchdowns so he needs to be in a touchdown-friendly environment to hit the ceiling of course","Rather than the rushing giving the floor for high pass games to give the ceiling, his rushing volume is his floor and his touchdowns are his ceiling"]
[10,40,null,null,17,"Gardner Minshew","IND",27,"QB",17,13,"2000-06-07",305,490,62.2,3305,15,3.1,9,1.8,147,75,6.7,6.5,10.8,194.4,84.6,59.6,34,187,6.5,5.95,5.75,2,2,null,17,"Javonte Williams","DEN",23,"RB",16,13,217,774,3,41,21,3.6,48.4,1,null,18,"Sam LaPorta","DET",22,"TE",17,14,120,86,0.71699999999999997,889,10.3,10,48,48,7.4,5.0999999999999996,52.3,0,null,17,"Gardner Minshew","IND",27,"QB",17,13,305,490,3305,16,25,0,26,5.6000000000000001E-2,70,0.151,345,0.74199999999999999,null,null,null,null,null,null,null,null,null,null,null,null,null,null,null,null,null,null,null,"Los Angeles Chargers",null,null,"Las Vegas Raiders","Las_Vegas_Raiders",null,null,null,null,null,"Russell Wilson",8.9,26.9,"Derek Carr","1 top 5 finish in week 16 and 5 top 21 finishes - 1 in week 15 and the other 4 in a row from weeks 6-9. Low-end QB2 or worse outside of that","No rushing floor and no rushing touchdown opportunities with Taysom Hill on the field in those situations","His mid-season run of low-end QB1 form came with a number of games over 300 passing yards and a couple of games with multiple touchdowns - not high enough or often enough to make him anymore than a low-end QB1 at his best","That run also came after Alvin Kamara's return and in games where the Saints had to keep passing to stay in touch. When they got the opportunity to control the game on the ground, Carr found it much harder to put up enough points","Had his lowest intended air yards per attempt since 2019, but that helped him become top 6 in completion rate"]
[10.5,40,null,null,18,"Justin Herbert","LAC",25,"QB",13,13,"2000-08-05",297,456,65.099999999999994,3134,20,4.4000000000000004,7,1.5,150,60,6.9,7.1,10.6,241.1,93.2,64.099999999999994,29,233,6,5.98,6.16,1,1,null,18,"Devin Singletary","HOU",26,"RB",17,10,216,898,4,41,24,4.2,52.8,1,null,19,"Chris Godwin","TAM",27,"WR",17,17,130,83,0.63800000000000001,1024,12.3,2,53,47,7.9,4.9000000000000004,60.2,0,null,18,"Justin Herbert","LAC",25,"QB",13,13,297,456,3134,11,11,0,22,4.9000000000000002E-2,71,0.16,339,0.76200000000000001,null,null,null,null,null,null,null,null,null,null,null,null,null,null,null,null,null,null,null,"Los Angeles Rams",null,null,"Los Angeles Chargers","Los_Angeles_Chargers",null,null,null,null,null,"Matthew Stafford",10.4,24.4,"Geno Smith","2 top 5 finishes and another top 12 finish, but more of a mid-range QB2 outside of that with a handful of games in the 20s. Missed a couple of games","A classic example of regression after having spike metrics across the board in 2022. 2023 was much more normal, from 1st down to 18th in completion %, and from top 10 to 20th in touchdown rate","Occassional rushing floor but unpredictable with many games of 0 or negative rushing production. Means he needs those big yardage, multiple touchdown games","His only games with high production were 300 + yards AND multiple touchdowns, one or the other wasn't enough","With the dip in metrics, it took over 40 pass attempts for him to hit those big games. Many games interspersed with less than 30 attempts led to low yardage and poor fantasy finishes"]
[11,50,null,null,19,"Russell Wilson","DEN",35,"QB",15,15,"2000-08-07",297,447,66.400000000000006,3070,26,5.8,8,1.8,135,60,6.9,7.2,10.3,204.7,98,50.7,45,258,9.1,5.72,6.04,4,4,null,19,"Bijan Robinson","ATL",21,"RB",17,16,214,976,4,50,38,4.5999999999999996,57.4,4,null,20,"Trey McBride","ARI",24,"TE",17,12,106,81,0.76400000000000001,825,10.199999999999999,3,42,38,7.8,4.8,48.5,1,null,19,"Russell Wilson","DEN",35,"QB",15,15,297,447,3070,11,26,4,17,4.1000000000000002E-2,55,0.13200000000000001,325,0.77900000000000003,null,null,null,null,null,null,null,null,null,null,null,null,null,null,null,null,null,null,null,"Miami Dolphins",null,null,"Los Angeles Rams","Los_Angeles_Rams",null,null,null,null,null,"Derek Carr",3.2,24,"Joshua Dobbs","8 games with Arizona produced 3 top 8 finishes, before moving to Minnesota and producing 2 top 5 finishes in his first two games and then dropping off the map","Has a high rushing floor producing over 40 yards on the ground 7 times and scoring 6 rushing touchdowns, including a run of 5 games in a row","Not a highly accurate quarterback and only twice got over 250 passing yards but rushing volume gives him the chance of getting the totals. A few multiple passing touchdown games then gives him those top 10 shots if he can get one on the ground as well","Those passing stats are not strong enough to give consistent performances but he does have flashes of ability to get 300 total yards and multiple touchdowns with a rushing bump"]
[11.5,50,null,null,20,"Bryce Young","CAR",22,"QB",16,16,"2-14-0",315,527,59.8,2877,11,2.1,10,1.9,133,48,5.5,5,9.1,179.8,73.7,33.4,62,477,10.5,4.07,3.68,2,2,null,20,"Raheem Mostert","MIA",31,"RB",15,15,209,1012,18,59,49,4.8,67.5,4,null,21,"David Njoku","CLE",27,"TE",16,16,123,81,0.65900000000000003,882,10.9,6,35,43,7.2,5.0999999999999996,55.1,2,null,20,"Bryce Young","CAR",22,"QB",16,16,315,527,2877,6,46,1,23,4.8000000000000001E-2,103,0.215,352,0.73299999999999998,null,null,null,null,null,null,null,null,null,null,null,null,null,null,null,null,null,null,null,"Minnesota Vikings",null,null,"Miami Dolphins","Miami_Dolphins",null,null,null,null,null,"Desmond Ridder",-0.3,24.4,"Joshua Dobbs","8 games with Arizona produced 3 top 8 finishes, before moving to Minnesota and producing 2 top 5 finishes in his first two games and then dropping off the map","Has a high rushing floor producing over 40 yards on the ground 7 times and scoring 6 rushing touchdowns, including a run of 5 games in a row","Not a highly accurate quarterback and only twice got over 250 passing yards but rushing volume gives him the chance of getting the totals. A few multiple passing touchdown games then gives him those top 10 shots if he can get one on the ground as well","Those passing stats are not strong enough to give consistent performances but he does have flashes of ability to get 300 total yards and multiple touchdowns with a rushing bump"]
[12,50,null,null,21,"Desmond Ridder","ATL",24,"QB",15,13,"2000-07-06",249,388,64.2,2836,12,3.1,12,3.1,136,71,7.3,6.5,11.4,189.1,83.4,40.1,31,197,7.4,6.3,5.58,2,4,null,21,"James Conner","ARI",28,"RB",13,13,208,1040,7,57,44,5,80,0,null,22,"DeVonta Smith","PHI",25,"WR",16,16,112,81,0.72299999999999998,1066,13.2,7,47,63,9.5,5.0999999999999996,66.599999999999994,1,null,21,"Desmond Ridder","ATL",24,"QB",15,13,249,388,2836,12,11,2,17,4.4999999999999998E-2,55,0.14699999999999999,283,0.755,null,null,null,null,null,null,null,null,null,null,null,null,null,null,null,null,null,null,null,"New England Patriots",null,null,"Minnesota Vikings","Minnesota_Vikings",null,null,null,null,null,"Jake Browning",-0.1,26.4,"Gardner Minshew","Took over full time from week 6, gaining 1 top 5 finish and 3 top 12 finishes in 11 games. Hovered around a mid to low-end QB2 outside of that","Did have a couple of big scramble run plays but generally didn’t really have a rushing floor. Also had a game with 2 rushing touchdowns but only 1 other across the rest of the season","Above 300 yards passing only 3 times, but below 200 yards only twice during his tenure as full time starter - consistently steady but not spectacular","26th in completion %, 27th in touchdown rate, 24th in yards per attempt, and 21st in intended air yards per attempt","Without those big yardage games, 2 touchdowns wasn’t enough to give him big finishes. Instead he needed 3 or even 4 to get him there - they're the exception not the rule"]
[12.5,50,null,null,22,"Justin Fields","CHI",24,"QB",13,13,"2000-08-05",227,370,61.4,2562,16,4.3,9,2.4,121,58,6.9,6.7,11.3,197.1,86.3,46.1,44,285,10.6,5.5,5.29,1,1,null,22,"Isiah Pacheco","KAN",24,"RB",14,13,205,935,7,53,48,4.5999999999999996,66.8,1,null,23,"Nico Collins","HOU",24,"WR",15,10,109,80,0.73399999999999999,1297,16.2,8,53,75,11.9,5.3,86.5,1,null,22,"Justin Fields","CHI",24,"QB",13,13,227,370,2562,11,25,0,13,3.7999999999999999E-2,58,0.16800000000000001,252,0.73,null,null,null,null,null,null,null,null,null,null,null,null,null,null,null,null,null,null,null,"New Orleans Saints",null,null,"New England Patriots","New_England_Patriots",null,null,null,null,null,"Joe Flacco",17.2,24.8,"Desmond Ridder","2 top 5 finishes and 4 top 12 finishes. Missed a couple of games and played less than 50% of snaps in others, leaving 11 full games played","Rushing capability should give a floor but there's far too many games where this leads to 10 yards or less on the ground. Did have 5 rushing touchdowns though","Had 3 games with over 300 passing yards which helps with the ceiling. All three of those had multiple touchdowns (passing or rushing) so that's what helps him towards those top 5 finishes","The rushing touchdowns boosts his chances of multiple touchdowns so if he could get more consistent with the yardage, he would be a much more useful fantasy option","Pass attempts dropped significantly in the 2nd half of the season. Averaged 37 per game from weeks 2 through 6, then only 1 game over 30 after that - it was those games that led to poor finishes"]
[13,50,null,null,23,"Joshua Dobbs","2TM",28,"QB",13,12,"2000-09-03",262,417,62.8,2464,13,3.1,10,2.4,126,69,5.9,5.5,9.4,189.5,79.5,51.8,30,217,6.7,5.03,4.5999999999999996,0,0,null,23,"Jerome Ford","CLE",24,"RB",17,12,204,813,4,33,69,4,47.8,1,null,24,"Mike Evans","TAM",30,"WR",17,17,136,79,0.58099999999999996,1255,15.9,13,54,75,9.1999999999999993,4.5999999999999996,73.8,0,null,23,"Joshua Dobbs","2TM",28,"QB",13,12,262,417,2464,9,13,0,15,3.6999999999999998E-2,67,0.16600000000000001,283,0.7,null,null,null,null,null,null,null,null,null,null,null,null,null,null,null,null,null,null,null,"New York Giants",null,null,"New Orleans Saints","New_Orleans_Saints",null,null,null,null,null,"Kyler Murray",11.8,22.7,"Bryce Young","Just 2 top 12 performances all season (QB9 and QB8) with nothing else higher than QB17 and often in the mid-20s or lower. Missed  1 game","Only topped 250 yards once, a 312 yard 2 touchdown game in week 16 which earned him one of his top 12 finishes. 10 games below 200 yards","31st in completion % and touchdown rate, 33rd in yards per attempt, but 18th in intended air yards per attempt - that gives some optimism that he was trying to throw down field at an average rate","7 games below a 60% completion rate coupled with one of the worst yards-after-catch rates in the league from his receivers","That makes him an inaccurate passer with receivers who couldn’t make a play after the catch, which leads to low yardage and touchdown rates"]
[13.5,50,null,null,24,"Kirk Cousins","MIN",35,"QB",8,8,"2000-04-04",216,311,69.5,2331,18,5.8,5,1.6,112,62,7.5,7.9,10.8,291.39999999999998,103.8,63.2,17,110,5.2,6.77,7.18,null,null,null,24,"Gus Edwards","BAL",28,"RB",17,9,198,810,13,49,42,4.0999999999999996,47.6,3,null,25,"Tyler Lockett","SEA",31,"WR",17,17,122,79,0.64800000000000002,894,11.3,5,47,37,7.3,4.5999999999999996,52.6,0,null,24,"Kirk Cousins","MIN",35,"QB",8,8,216,311,2331,3,5,2,16,5.2999999999999999E-2,39,0.128,250,0.82199999999999995,null,null,null,null,null,null,null,null,null,null,null,null,null,null,null,null,null,null,null,"New York Jets",null,null,"New York Giants","New_York_Giants",null,null,null,null,null,"Joe Burrow",3.2,27.6,"Kirk Cousins","Played 8 games before getting injured, finishing top 12 in all but two. Two of those were top 5 but two were back-end QB2 finishes","No rushing floor so he needs high yardage and multiple touchdowns to hit the top finishes. He did get those multiple TDs in all but one game and over 300 yards 4 times","He's a high completion % quarterback (3rd in the league) and his Touchdown rate was also 3rd - so as long as he's got plenty of passing opportunities then he racks up the yardage","Does have some down games when he doesn’t get to throw as much. In the 3 games he threw 31 times or less, he finished QB22, QB24 and QB11. Every other game was a top 10 finish"]
[14,50,null,null,25,"Joe Burrow","CIN",27,"QB",10,10,"2000-05-05",244,365,66.8,2309,15,4.0999999999999996,6,1.6,115,64,6.3,6.4,9.5,230.9,91,51.6,24,180,6.2,5.47,5.55,null,null,null,25,"Tyler Allgeier","ATL",23,"RB",17,3,186,683,4,39,31,3.7,40.200000000000003,0,null,26,"Terry McLaurin","WAS",28,"WR",17,17,132,79,0.59799999999999998,1002,12.7,4,47,48,7.6,4.5999999999999996,58.9,0,null,25,"Joe Burrow","CIN",27,"QB",10,10,244,365,2309,10,11,1,21,5.8999999999999997E-2,52,0.14699999999999999,267,0.75600000000000001,null,null,null,null,null,null,null,null,null,null,null,null,null,null,null,null,null,null,null,"Philadelphia Eagles",null,null,"New York Jets","New_York_Jets",null,null,null,null,null,"Geno Smith",3.7,31,"Joe Burrow","Played 9 full games before missing the rest of the season, with 1 top 5 finish and 4 top 12 finishes in that time","First 4 games were poor, not finishing higher than QB21. The beat was that he was injured during this time but it's hard to know for sure. From week 5 to week 9 (his last full game) he had 4 games between QB4 and QB7","Doesn’t really have a rushing floor so it's yards and touchdowns - which is exactly what he did during his good run, scoring multiple TDs in all those games and over 300 yards 3 times","Browning also had some multiple touchdown/high yardage games so it's hard to know how much of this is the scheme / gameplan - but that also means the likelihood of those high yard/high TD games is higher"]
[14.5,50,null,null,26,"Zach Wilson","NYJ",24,"QB",12,11,"2000-07-04",221,368,60.1,2271,8,2.2000000000000002,7,1.9,104,68,6.2,5.8,10.3,189.3,77.2,30.6,46,340,11.1,4.66,4.29,3,2,null,26,"Ezekiel Elliott","NWE",28,"RB",17,5,184,642,3,33,17,3.5,37.799999999999997,2,null,27,"Rashee Rice","KAN",23,"WR",16,8,102,79,0.77500000000000002,938,11.9,7,44,67,9.1999999999999993,4.9000000000000004,58.6,2,null,26,"Zach Wilson","NYJ",24,"QB",12,11,221,368,2271,8,20,3,22,6.4000000000000001E-2,54,0.157,267,0.77400000000000002,null,null,null,null,null,null,null,null,null,null,null,null,null,null,null,null,null,null,null,"Pittsburgh Steelers",null,null,"Philadelphia Eagles","Philadelphia_Eagles",null,null,null,null,null,"Gardner Minshew",0,28.1,"Kyler Murray","Came back from injury in week 10 and played the rest of the season. 4 top 12 finishes with a high of QB5, and a lowest finish of QB19","Top 12 finishes were all multiple touchdowns including some rushing touchdowns. The rushing touchdowns helps to boost the ability to hit those multiple-touchdown games","Rarely gets above 250 passing yards but is generally above 200 yards, with solid rushing production to boost the overall yardage","Underlying stats (touchdown rate, yards per attempt, intended air yards per attempt) are generally in the high 20s so still plenty of room for improvement"]
[15,50,null,null,27,"Aidan O'Connell","LVR",25,"QB",11,10,"2000-05-05",213,343,62.1,2218,12,3.5,7,2,107,50,6.5,6.2,10.4,201.6,83.9,40.5,24,173,6.5,5.57,5.37,0,1,null,27,"Zack Moss","IND",26,"RB",14,8,183,794,5,43,56,4.3,56.7,0,null,28,"Zay Flowers","BAL",23,"WR",16,16,108,77,0.71299999999999997,858,11.1,5,41,75,7.9,4.8,53.6,0,null,27,"Aidan O'Connell","LVR",25,"QB",11,10,213,343,2218,7,19,1,15,4.5999999999999999E-2,56,0.17299999999999999,235,0.72799999999999998,null,null,null,null,null,null,null,null,null,null,null,null,null,null,null,null,null,null,null,"San Francisco 49ers",null,null,"Pittsburgh Steelers","Pittsburgh_Steelers",null,null,null,null,null,"Deshaun Watson",-0.8,21.2,"Jake Browning","Stepped in full time from week 12 to the end of the season. Hit 4 top 10 finishes in the last 5 games including 2 finishes as QB3 overall","3 rushing touchdowns in that spell helped to bolster the passing touchdowns, of which he got at least 1 in every single game, and multiple touchdowns in two games","4 games with over 30 pass attempts, all but 1 game over 200 yards, 3 games over 300 yards - this presents a high floor","Add in a 2nd touchdown (either in the air or on the ground) and that's how he gets from a high floor to a top option","Rushing yardage is generally low, has a couple of long runs but mostly low attempts and low yardage, so not necessarily to be relied upon"]
[15.5,50,null,null,28,"Mac Jones","NWE",25,"QB",11,11,"2000-09-02",224,345,64.900000000000006,2120,10,2.9,12,3.5,100,58,6.1,5.2,9.5,192.7,77,36.700000000000003,22,127,6,5.43,4.5,1,1,null,28,"Jahmyr Gibbs","DET",21,"RB",15,3,182,945,10,42,36,5.2,63,2,null,29,"Breece Hall","NYJ",22,"RB",17,16,95,76,0.8,591,7.8,4,28,50,6.2,4.5,34.799999999999997,2,null,28,"Mac Jones","NWE",25,"QB",11,11,224,345,2120,8,6,0,16,4.7E-2,54,0.159,254,0.749,null,null,null,null,null,null,null,null,null,null,null,null,null,null,null,null,null,null,null,"Seattle Seahawks",null,null,"San Francisco 49ers","San_Francisco_49ers",null,null,null,null,null,"Anthony Richardson",4.4000000000000004,25.6,"Zach Wilson","Played 10 full games plus a couple of half-games, missed 4 games of the season. Generally hovered around a low-end QB2 with an occassional high-end QB2 finish","Those high-end QB2 finishes were generally 2-touchdown games, which there were two. 5 games without scoring a touchdown","His completion % and touchdown rate are generally poor and he lives in the 150-250 yard range in the most part","Does get a few rush attempts and is capable of putting a few points on the board on the ground but nothing to seriously raise his floor"]
[16,50,null,null,29,"Kenny Pickett","PIT",25,"QB",12,12,"2000-05-07",201,324,62,2070,6,1.9,4,1.2,91,72,6.4,6.2,10.3,172.5,81.400000000000006,38.1,23,173,6.6,5.47,5.29,3,3,null,29,"Alvin Kamara","NOR",28,"RB",13,12,180,694,5,42,17,3.9,53.4,0,null,"Rk","Player","Tm","Age","Pos","G","GS","Tgt","Rec","Ctch%","Yds","Y/R","TD","1D","Lng","Y/Tgt","R/G","Y/G","Fmb",null,29,"Kenny Pickett","PIT",25,"QB",12,12,201,324,2070,9,13,1,11,3.5000000000000003E-2,57,0.184,222,0.71599999999999997,null,null,null,null,null,null,null,null,null,null,null,null,null,null,null,null,null,null,null,"Tampa Bay Buccaneers",null,null,"Seattle Seahawks","Seattle_Seahawks",null,null,null,null,null,"Aidan O'Connell",2.1,25.9,"Mac Jones","Played through until week 12 with a turbulent season in and out of games that weren't going well","Came out firing in week 1 with an overall QB2 finish off the back of 3 touchdowns and over 300 yards passing. Had a QB8 finish in week 7 with a 2 touchdown 272 yard game but hovered around low-end QB2 in the most part","Had a few multiple touchdown games but no real rushing floor means he needs high yardage games as well, which he doesn’t get too often","28th in intended air yards per attempt, 29th in touchdown rate, and 30th in yards per attempt (among qualifying quarterbacks)"]
[16.5,50,null,null,30,"Jake Browning","CIN",27,"QB",9,7,36589,171,243,70.400000000000006,1936,12,4.9000000000000004,7,2.9,93,80,8,7.7,11.3,215.1,98.4,60.1,24,169,9,6.62,6.34,2,2,null,"Rk","Player","Tm","Age","Pos","G","GS","Att","Yds","TD","1D","Lng","Y/A","Y/G","Fmb",null,30,"Calvin Ridley","JAX",29,"WR",17,17,136,76,0.55900000000000005,1016,13.4,8,49,59,7.5,4.5,59.8,1,null,30,"Jake Browning","CIN",27,"QB",9,7,171,243,1936,7,8,0,9,3.7999999999999999E-2,23,9.8000000000000004E-2,186,0.79100000000000004,null,null,null,null,null,null,null,null,null,null,null,null,null,null,null,null,null,null,null,"Tennessee Titans",null,null,"Tampa Bay Buccaneers","Tampa_Bay_Buccaneers",null,null,null,null,null,"Mac Jones",0.4,25.1,"Aidan O'Connell","Played 1 game in week 4 and then took over the job full time from week 9. Two top 12 finishes including QB3 overall in week 15. Outside of that hovered around low-range QB2 status","That QB3 finish was off the back of a 4 touchdown game where they put 63 points passed the Chargers. I think we'd all agree that’s outside the norm","The QB9 finish was an almost 300 yard game with 2 passing touchdowns. These were the only 2 multiple touchdown games and he had 3 games without a touchdown.","Yardage totals were up and down with a few games in the 250 yard+ range but several under 200 yards and one 62 yard game against the Chiefs","No rushing floor at all so needs big yards and multiple touchdowns to come close to relevance"]
[17,50,null,null,31,"Will Levis","TEN",24,"QB",9,9,"2000-06-03",149,255,58.4,1808,8,3.1,4,1.6,81,61,7.1,7,12.1,200.9,84.2,33.200000000000003,28,185,9.9,5.73,5.66,1,1,null,30,"Alexander Mattison","MIN",25,"RB",16,13,180,700,0,28,21,3.9,43.8,3,null,31,"Brandon Aiyuk","SFO",25,"WR",16,16,105,75,0.71399999999999997,1342,17.899999999999999,7,61,76,12.8,4.7,83.9,1,null,31,"Will Levis","TEN",24,"QB",9,9,149,255,1808,5,7,2,12,4.9000000000000002E-2,41,0.16700000000000001,165,0.67100000000000004,null,null,null,null,null,null,null,null,null,null,null,null,null,null,null,null,null,null,null,"Washington Commanders",null,null,"Tennessee Titans","Tennessee_Titans",null,null,null,null,null,"Bryce Young",3.7,22.2,"Kenny Pickett","Played 10 full games plus a couple of half-games, missed the last 4 games of the season. Managed 6 top 24 finishes but didn't crack the top 12 even once","Continued to have a low touchdown rate, only scoring through the air in 5 games, multiple touchdowns only once. Only once topped 250 yards passing and a non-existing rushing floor","Amongst qualifying quarterbacks, 28th in completion %, 32nd in touchdown rate, 27th in yards per attempt, and 27th in intended air yards per attempt"]
[null,null,null,null,32,"Kyler Murray","ARI",26,"QB",8,8,"2000-05-03",176,268,65.7,1799,10,3.7,5,1.9,88,48,6.7,6.6,10.199999999999999,224.9,89.4,47.2,18,119,6.3,5.87,5.79,2,2,null,31,"Austin Ekeler","LAC",28,"RB",14,14,179,628,5,34,55,3.5,44.9,5,null,32,"DeAndre Hopkins","TEN",31,"WR",17,16,137,75,0.54700000000000004,1057,14.1,7,48,61,7.7,4.4000000000000004,62.2,0,null,32,"Kyler Murray","ARI",26,"QB",8,8,176,268,1799,10,5,1,10,3.7999999999999999E-2,35,0.13400000000000001,196,0.748,null,null,null,null,null,null,null,null,null,null,null,null,null,null,null,null,null,null,null,null,null,null,"Washington Commanders","Washington_Commanders",null,null,null,null,null,"Tyrod Taylor",0.2,21.7,"Joe Flacco","Pulled off the street to play the last 5 games of the fantasy season, finishing QB13, QB9, QB9, QB3 and QB4","Scored 2 or 3 passing touchdowns in each game and over 300 yards in all but the first game, throwing over 40 times in all but the last one","His rushing floor is almost negative so needs to do it all through the air - big yards and multiple touchdowns, which is exactly what he did","Career high touchdown rate of 6.4% is not repeatable"]
[null,null,null,null,33,"Joe Flacco","CLE",38,"QB",5,5,"2000-01-04",123,204,60.3,1616,13,6.4,8,3.9,60,75,7.9,7.4,13.1,323.2,90.2,48.3,8,57,3.8,7.35,6.88,1,1,null,32,"AJ Dillon","GNB",25,"RB",15,6,178,613,2,32,40,3.4,40.9,0,null,33,"Alvin Kamara","NOR",28,"RB",13,12,86,75,0.872,466,6.2,1,23,25,5.4,5.8,35.799999999999997,0,null,33,"Joe Flacco","CLE",38,"QB",5,5,123,204,1616,3,7,0,9,4.5999999999999999E-2,35,0.17799999999999999,138,0.70099999999999996,null,null,null,null,null,null,null,null,null,null,null,null,null,null,null,null,null,null,null,null,null,null,null,null,null,null,null,null,null,"Nick Mullens",3.3,20.5,"Will Levis","Broke in to the team in week 8 following a Tannehill injury, and held the job through week 15. QB6 finish in his first game but his next best after that was 3 QB18 finishes in a row","That week 8 big finish was off the back of 4 touchdowns, without really hitting big yardage","Had a few touchdowns and another game with multiple touchdowns but scored less than 200 yards in 4 games and only topped 300 yards once","With no rushing floor, that makes it very hard to get useable fantasy performances without finding a way to increase the passing yards","Sacked 25 times in 7 games, if he doesn’t get protection then he doesn’t see it coming and that's plays he's going backwards"]
[null,null,null,null,34,"Ryan Tannehill","TEN",35,"QB",10,8,"2000-05-03",149,230,64.8,1616,4,1.7,7,3,74,70,7,6,10.8,161.6,78.5,35.1,32,230,12.2,5.29,4.3899999999999997,1,1,null,33,"Brian Robinson","WAS",24,"RB",15,15,178,733,5,47,29,4.0999999999999996,48.9,4,null,34,"Dalton Kincaid","BUF",24,"TE",16,11,91,73,0.80200000000000005,673,9.1999999999999993,2,29,51,7.4,4.5999999999999996,42.1,1,null,34,"Ryan Tannehill","TEN",35,"QB",10,8,149,230,1616,5,7,2,12,5.3999999999999999E-2,31,0.14000000000000001,166,0.751,null,null,null,null,null,null,null,null,null,null,null,null,null,null,null,null,null,null,null,null,null,null,null,null,null,null,null,null,null,"Daniel Jones",1.9,31.7,"Tommy DeVito","Appeared in the middle of the season and only really played 5 full games and a few half-games","Did manage a QB7 finish in week 11 with 3 passing touchowns and a good yardage day against a bad Washington team","Outside of that, despite scoring touchdowns in 4 consecutive games and another game with multiple touchdowns, he never topped QB15","That's a very low floor, with some bad yardage games, some bad completion % games, some bad rushing games all mixed in"]
[null,null,null,null,35,"Tyrod Taylor","NYG",34,"QB",11,5,36587,116,180,64.400000000000006,1341,5,2.8,3,1.7,52,80,7.5,7.3,11.6,121.9,89.1,47.7,17,94,8.6,6.33,6.15,null,null,null,34,"Jonathan Taylor","IND",24,"RB",10,7,169,741,7,42,49,4.4000000000000004,74.099999999999994,1,null,35,"Cole Kmet","CHI",24,"TE",17,17,90,73,0.81100000000000005,719,9.8000000000000007,6,36,53,8,4.3,42.3,1,null,35,"Tyrod Taylor","NYG",34,"QB",11,5,116,180,1341,1,8,6,11,6.6000000000000003E-2,24,0.14499999999999999,134,0.80700000000000005,null,null,null,null,null,null,null,null,null,null,null,null,null,null,null,null,null,null,null,null,null,null,null,null,null,null,null,null,null,"Will Levis",-1.4,26.6,"Deshaun Watson","Only played 5 full games, 3 of those got top 10 finishes and one just outside the top 12","Multiple touchdowns in those 3 top games with a small rushing floor to help bolster the numbers (not the rusher he used to be though)","Generally low completion % hurts his ceiling and his overall volume has to be watched with Cleveland's preference to run the ball"]
[null,null,null,null,36,"Nick Mullens","MIN",28,"QB",5,3,"0-3-0",100,148,67.599999999999994,1306,7,4.7,8,5.4,57,47,8.8000000000000007,7.3,13.1,261.2,88.4,49.8,12,105,7.5,7.51,6.13,0,1,null,35,"Jalen Hurts","PHI",25,"QB",17,17,157,605,15,68,24,3.9,35.6,9,null,36,"Amari Cooper","CLE",29,"WR",15,15,128,72,0.56299999999999994,1250,17.399999999999999,5,50,75,9.8000000000000007,4.8,83.3,2,null,36,"Nick Mullens","MIN",28,"QB",5,3,100,148,1306,4,2,1,1,7.0000000000000001E-3,29,0.2,106,0.73099999999999998,null,null,null,null,null,null,null,null,null,null,null,null,null,null,null,null,null,null,null,null,null,null,null,null,null,null,null,null,null,"Jimmy Garoppolo",5.2,18.7,"Bailey Zappe","In and out of the team throughout the season, took the starting job in week 13 and played every game from then on","A QB7 finish in week 14 but didn’t top QB18 other than that. That QB7 finish took 3 passint touchdowns to get there","3 touchdowns and only finished QB7 shows a very low floor, he even had a 2 touchdown game in week 16 that didn’t get him in the top 16","That means he'd need monster games just to even be close to useful"]
[null,null,null,null,37,"Bailey Zappe","NWE",24,"QB",10,6,"2000-04-02",127,212,59.9,1272,6,2.8,9,4.2,53,48,6,4.7,10,127.2,68.7,23.3,25,191,10.5,4.5599999999999996,3.36,0,1,null,36,"Rhamondre Stevenson","NWE",25,"RB",12,12,156,619,4,36,64,4,51.6,1,null,37,"Jaylen Waddle","MIA",25,"WR",14,14,104,72,0.69199999999999995,1014,14.1,4,47,60,9.8000000000000007,5.0999999999999996,72.400000000000006,0,null,37,"Bailey Zappe","NWE",24,"QB",10,6,127,212,1272,5,8,1,7,3.4000000000000002E-2,41,0.20200000000000001,145,0.71399999999999997,null,null,null,null,null,null,null,null,null,null,null,null,null,null,null,null,null,null,null,null,null,null,null,null,null,null,null,null,null,"Bailey Zappe",0,21.9,"Ryan Tannehill","Injured in week 6, returned to full snaps in week 16. Only got higher than QB20 once, with a QB14 finish in week 2 against the Chargers","That took a passing touchdown and a rushing touchdown - multiple touchdowns will always give a Quarterback a shot at a high-end QB2 finish","Outside of that he did nothing all season, with hardly anything on the ground"]
[null,null,null,null,38,"Jimmy Garoppolo","LVR",32,"QB",7,6,"2000-03-03",110,169,65.099999999999994,1205,7,4.0999999999999996,9,5.3,60,32,7.1,5.6,11,172.1,77.7,33.9,14,101,7.7,6.03,4.58,2,2,null,37,"Jaylen Warren","PIT",25,"RB",17,0,149,784,4,36,74,5.3,46.1,4,null,38,"Jake Ferguson","DAL",24,"TE",17,16,102,71,0.69599999999999995,761,10.7,5,40,40,7.5,4.2,44.8,0,null,38,"Jimmy Garoppolo","LVR",32,"QB",7,6,110,169,1205,5,3,1,5,0.03,30,0.182,117,0.70899999999999996,null,null,null,null,null,null,null,null,null,null,null,null,null,null,null,null,null,null,null,null,null,null,null,null,null,null,null,null,null,"Tommy DeVito",2.7,22.5,"Tyrod Taylor","A bit-part player who made a few cameos and then had 3 full games (weeks 6, 7, and 17)","A QB7 finish in one of those games, QB20 and QB11 in the others","Plenty of pass attempts on offer as well as a small rushing floor means that a touchdown or two can give you passable numbers"]
[null,null,null,null,39,"Easton Stick","LAC",28,"QB",5,4,"0-4-0",111,174,63.8,1129,3,1.7,1,0.6,53,79,6.5,6.6,10.199999999999999,225.8,85.6,51,14,122,7.4,5.36,5.44,null,null,null,38,"Lamar Jackson","BAL",26,"QB",16,16,148,821,5,48,30,5.5,51.3,11,null,39,"Jakobi Meyers","LVR",27,"WR",16,16,106,71,0.67,807,11.4,8,46,33,7.6,4.4000000000000004,50.4,0,null,39,"Easton Stick","LAC",28,"QB",5,4,111,174,1129,5,3,1,8,4.7E-2,32,0.188,121,0.71199999999999997,null,null,null,null,null,null,null,null,null,null,null,null,null,null,null,null,null,null,null,null,null,null,null,null,null,null,null,null,null,"Tyson Bagent",6.7,18.8,"Jimmy Garoppolo","Only played 5 full games, finishing borderline top 12 in two of them and borderline worst in the league in the others","Those two good finishes were two-touchdown games, one of them with over 300 yards passing. In both games he targeted a combination of Davante Adams and Jakobi Meyers nearly 75% of the time","He doesnt have a rushing floor so needs multiple-touchdown games to get close to relevant. Doesn’t generally throw enough times to make that happen in most games","Highest aDOT (average depth of target) since 2018 and also his lowest completion %"]
[null,null,null,null,40,"Deshaun Watson","CLE",28,"QB",6,6,"2000-01-05",105,171,61.4,1115,7,4.0999999999999996,4,2.2999999999999998,52,59,6.5,6.3,10.6,185.8,84.3,42.9,17,85,9,5.48,5.27,1,1,null,39,"Dameon Pierce","HOU",23,"RB",14,7,145,416,2,14,22,2.9,29.7,0,null,40,"Jordan Addison","MIN",21,"WR",17,14,108,70,0.64800000000000002,911,13,10,38,62,8.4,4.0999999999999996,53.6,0,null,40,"Deshaun Watson","CLE",28,"QB",6,6,105,171,1115,4,5,1,12,7.2999999999999995E-2,34,0.20599999999999999,118,0.71499999999999997,null,null,null,null,null,null,null,null,null,null,null,null,null,null,null,null,null,null,null,null,null,null,null,null,null,null,null,null,null,"Mitchell Trubisky",0.7,19.600000000000001,"Taylor Heinicke","Came in part way through week 8 for injured Ridder, played a full week 9 and then left injured in week 10. Returned for 2 games at the end of the fantasy season","QB13 in the full game in week 9 and also in week 17","That week 17 finish was boosted with a 24 yard rushing touchdown but otherwise it was a fairly average performance with a terrible completion %","Week 9 was volume, throwing 38 times to get over 250 yards and a touchdown but that feels like his ceiling. Completion % was bad across the board"]
[null,null,null,null,41,"Tommy DeVito","NYG",25,"QB",9,6,"2000-03-03",114,178,64,1101,8,4.5,3,1.7,46,41,6.2,6.3,9.6999999999999993,122.3,89.2,23.7,37,196,17.2,4.21,4.33,1,2,null,40,"Aaron Jones","GNB",29,"RB",11,11,142,656,2,34,39,4.5999999999999996,59.6,2,null,41,"Drake London","ATL",22,"WR",16,16,110,69,0.627,905,13.1,2,45,45,8.1999999999999993,4.3,56.6,0,null,41,"Tommy DeVito","NYG",25,"QB",9,6,114,178,1101,7,10,0,8,4.8000000000000001E-2,21,0.125,129,0.76800000000000002,null,null,null,null,null,null,null,null,null,null,null,null,null,null,null,null,null,null,null,null,null,null,null,null,null,null,null,null,null,"Andy Dalton",0.1,23.5,"Anthony Richardson","Only played 2 full games and finished as QB4 in both. He left two other games injured after 1/3 of each game and missed the rest of the season","In both of those full games he had 10 rush attempts and 25+ pass attempts, scoring at least 1 pass touchdown and 1 rush touchdown in each","In the 2 games he left injured, he was on track for similar volume - small sample size but consistent in the games he played","Is one of the few quarterbacks that not only have the rushing upside but also are going to call their own number at the goal-line","This gives a high floor that can almost get a top 12 performance on its own. Throw in a half-decent passing game and the ceiling is wide open"]
[null,null,null,null,42,"Daniel Jones","NYG",26,"QB",6,6,"2000-05-01",108,160,67.5,909,2,1.3,6,3.8,43,58,5.7,4.2,8.4,151.5,70.5,36.299999999999997,30,167,15.8,3.91,2.69,1,1,null,41,"Kareem Hunt","CLE",28,"RB",15,2,135,411,9,38,16,3,27.4,0,null,42,"Josh Downs","IND",22,"WR",17,9,98,68,0.69399999999999995,771,11.3,2,30,59,7.9,4,45.4,0,null,42,"Daniel Jones","NYG",26,"QB",6,6,108,160,909,5,7,0,6,3.9E-2,21,0.13700000000000001,120,0.78400000000000003,null,null,null,null,null,null,null,null,null,null,null,null,null,null,null,null,null,null,null,null,null,null,null,null,null,null,null,null,null,"Mason Rudolph",0.1,20,"Daniel Jones","4 and a half games at the start of the season before injury destroyed the rest of his season","Finished as the QB1 in week 2 by scoring 2 passing touchdowns and a rushing touchdown","Didn’t score another touchdown in the rest of his games and failed to top QB24","Rushed for 40+ yards in 3 of 4 full games, that's always helpful for a floor but his poor passing numbers made it irrelevant outside of the 1 big game"]
[null,null,null,null,43,"Taylor Heinicke","ATL",30,"QB",5,4,36586,74,136,54.4,890,5,3.7,4,2.9,41,75,6.5,6,12,178,74.7,47.7,8,47,5.6,5.85,5.3,null,null,null,42,"Khalil Herbert","CHI",25,"RB",12,9,132,611,2,25,38,4.5999999999999996,50.9,1,null,43,"Justin Jefferson","MIN",24,"WR",10,9,100,68,0.68,1074,15.8,5,51,52,10.7,6.8,107.4,1,null,43,"Taylor Heinicke","ATL",30,"QB",5,4,74,136,890,2,6,2,8,6.3E-2,31,0.24199999999999999,89,0.69499999999999995,null,null,null,null,null,null,null,null,null,null,null,null,null,null,null,null,null,null,null,null,null,null,null,null,null,null,null,null,null,"Zach Wilson",-1,19.2,"Tyson Bagent","4 and a half game stretch as the QB for the Bears, mostly as a low-end QB2","Did have 1 top 10 finish with 2 passing touchdowns and 70 yards on the ground","That ability to run is a good floor booster but the Bears were not good enough to have enough scoring for him to be trustable"]
[null,null,null,null,44,"Tyson Bagent","CHI",23,"QB",5,4,"2000-02-02",94,143,65.7,859,3,2.1,6,4.2,48,41,6,4.5,9.1,171.8,71.400000000000006,51.8,5,35,3.4,5.57,4.1500000000000004,null,null,null,43,"Miles Sanders","CAR",26,"RB",16,5,129,432,1,24,48,3.3,27,2,null,44,"Tyler Boyd","CIN",29,"WR",17,13,98,67,0.68400000000000005,667,10,2,28,64,6.8,3.9,39.200000000000003,0,null,44,"Tyson Bagent","CHI",23,"QB",5,4,94,143,859,4,5,0,6,4.2999999999999997E-2,19,0.13800000000000001,106,0.76800000000000002,null,null,null,null,null,null,null,null,null,null,null,null,null,null,null,null,null,null,null,null,null,null,null,null,null,null,null,null,null,"Kenny Pickett",3.1,18.5,"Easton Stick","Played the last few games of the season with a couple of top 24 finishes","Highest finish was QB13 and it took 3 passing touchdowns to get there, they were his only passing touchdowns for the season"]
[null,null,null,null,45,"Trevor Siemian","NYJ",32,"QB",5,3,"2000-01-02",86,153,56.2,724,2,1.3,4,2.6,35,30,4.7,3.8,8.4,144.80000000000001,62.1,14.4,8,40,5,4.25,3.38,1,1,null,44,"Justin Fields","CHI",24,"QB",13,13,124,657,4,43,39,5.3,50.5,10,null,45,"Christian McCaffrey","SFO",27,"RB",16,16,83,67,0.80700000000000005,564,8.4,7,31,41,6.8,4.2,35.299999999999997,3,null,45,"Trevor Siemian","NYJ",32,"QB",5,3,86,153,724,4,8,0,2,1.4E-2,33,0.22800000000000001,97,0.66900000000000004,null,null,null,null,null,null,null,null,null,null,null,null,null,null,null,null,null,null,null,null,null,null,null,null,null,null,null,null,null,"Taylor Heinicke",9.6,18.100000000000001,"Nick Mullens","Had his shot at the starting job at the end of the season, had 2 games at QB10 & 11 but then followed it up with QB29","Those two good finishes were over 300 yards and multiple-touchdowns in each game pushing him in to the top 12"]
[null,null,null,null,46,"Mason Rudolph","PIT",28,"QB",4,3,"3-0-0",55,74,74.3,719,3,4.0999999999999996,0,0,26,86,9.6999999999999993,10.5,13.1,179.8,118,70.599999999999994,6,43,7.5,8.4499999999999993,9.1999999999999993,0,1,null,45,"Josh Allen","BUF",27,"QB",17,17,111,524,15,57,23,4.7,30.8,7,null,46,"D.K. Metcalf","SEA",26,"WR",16,16,119,66,0.55500000000000005,1114,16.899999999999999,8,52,73,9.4,4.0999999999999996,69.599999999999994,0,null,46,"Mason Rudolph","PIT",28,"QB",4,3,55,74,719,1,5,0,0,0,7,0.10100000000000001,57,0.82599999999999996,null,null,null,null,null,null,null,null,null,null,null,null,null,null,null,null,null,null,null,null,null,null,null,null,null,null,null,null,null,"Ryan Tannehill",2,21,"Mitchell Trubisky","Played a couple of games and managed a QB12 finish. Needed the rushing TD to get there","The rushing floor helps a player like Trubisky but passing volume is low"]
[null,null,null,null,47,"P.J. Walker","CLE",28,"QB",6,2,36526,54,111,48.6,674,1,0.9,5,4.5,27,58,6.1,4.2,12.5,112.3,52.2,18.600000000000001,11,90,9,4.79,3.11,2,2,null,46,"D'Onta Foreman","CHI",27,"RB",9,8,109,425,4,24,22,3.9,47.2,1,null,47,"George Kittle","SFO",30,"TE",16,16,90,65,0.72199999999999998,1020,15.7,6,42,66,11.3,4.0999999999999996,63.8,0,null,47,"P.J. Walker","CLE",28,"QB",6,2,54,111,674,4,3,1,6,5.6000000000000001E-2,32,0.29899999999999999,61,0.56999999999999995,null,null,null,null,null,null,null,null,null,null,null,null,null,null,null,null,null,null,null,null,null,null,null,null,null,null,null,null,null,"Easton Stick",5.2,18.399999999999999,"Drew Lock","Not fantasy relevant","Played 2 games in covering Geno Smith, got a QB2 type finish in one of them off multiple TDs"]
[null,null,null,null,48,"Mitchell Trubisky","PIT",29,"QB",5,2,"0-2-0",67,107,62.6,632,4,3.7,5,4.7,36,26,5.9,4.5999999999999996,9.4,126.4,71.900000000000006,34.6,7,42,6.1,5.18,3.9,null,null,null,47,"Zach Charbonnet","SEA",22,"RB",16,2,108,462,1,32,23,4.3,28.9,0,null,48,"Jayden Reed","GNB",23,"WR",16,13,94,64,0.68100000000000005,793,12.4,8,32,59,8.4,4,49.6,2,null,48,"Mitchell Trubisky","PIT",29,"QB",5,2,67,107,632,1,1,1,5,4.8000000000000001E-2,20,0.19,82,0.78100000000000003,null,null,null,null,null,null,null,null,null,null,null,null,null,null,null,null,null,null,null,null,null,null,null,null,null,null,null,null,null,"P.J. Walker",0,12.6,"Mason Rudolph","Only played 2 games and managed a QB12 finish in one of them","No real rushing floor so would need to hit multiple touchdowns and good yardage to be fantasy relevant. Pittsburgh would need to become a much more high-scoring team for this to have a regular impact"]
[null,null,null,null,49,"Anthony Richardson","IND",21,"QB",4,4,"2000-02-02",50,84,59.5,577,3,3.6,1,1.2,31,39,6.9,7,11.5,144.30000000000001,87.3,45,7,29,7.7,6.02,6.19,null,null,null,48,"Joshua Kelley","LAC",26,"RB",17,3,107,405,2,21,49,3.8,23.8,1,null,49,"Rachaad White","TAM",24,"RB",17,17,70,64,0.91400000000000003,549,8.6,3,23,43,7.8,3.8,32.299999999999997,3,null,49,"Anthony Richardson","IND",21,"QB",4,4,50,84,577,2,3,0,6,7.3999999999999996E-2,17,0.21,60,0.74099999999999999,null,null,null,null,null,null,null,null,null,null,null,null,null,null,null,null,null,null,null,null,null,null,null,null,null,null,null,null,null,"Dorian Thompson-Robinson",-0.3,11.5,"Trevor Siemian","Not fantasy relevant","Had his shot at the starting job at the end of the season but didn’t top QB19. Plenty of pass attempts but not enough in the yards or touchdowns"]
[null,null,null,null,50,"Drew Lock","SEA",27,"QB",4,2,36526,48,76,63.2,543,3,3.9,3,3.9,20,51,7.1,6.2,11.3,135.80000000000001,81.2,44.1,6,26,7.3,6.3,5.39,1,1,null,49,"Jamaal Williams","NOR",28,"RB",13,4,106,306,1,19,17,2.9,23.5,1,null,50,"George Pickens","PIT",22,"WR",17,16,106,63,0.59399999999999997,1140,18.100000000000001,5,42,86,10.8,3.7,67.099999999999994,3,null,50,"Drew Lock","SEA",27,"QB",4,2,48,76,543,4,1,0,6,0.08,12,0.16,54,0.72,null,null,null,null,null,null,null,null,null,null,null,null,null,null,null,null,null,null,null,null,null,null,null,null,null,null,null,null,null,"Drew Lock",-0.9,17.3,"P.J. Walker","Not fantasy relevant","Had a 3 game run at the starting job but didn’t top QB24 and only scored 1 touchdown in that stretch"]
[null,null,null,null,51,"Jarrett Stidham","DEN",27,"QB",3,2,36526,40,66,60.6,496,2,3,1,1.5,19,54,7.5,7.4,12.4,165.3,87.7,31.1,7,46,9.6,6.16,6.1,null,null,null,50,"Zamir White","LVR",24,"RB",17,4,104,451,1,19,43,4.3,26.5,1,null,51,"Jaxon Smith-Njigba","SEA",21,"WR",17,3,93,63,0.67700000000000005,628,10,4,29,35,6.8,3.7,36.9,0,null,51,"Jarrett Stidham","DEN",27,"QB",3,2,40,66,496,0,4,0,2,3.2000000000000001E-2,12,0.19400000000000001,43,0.69399999999999995,null,null,null,null,null,null,null,null,null,null,null,null,null,null,null,null,null,null,null,null,null,null,null,null,null,null,null,null,null,"Jameis Winston",-1,10.9,"Dorian Thompson-Robinson","Not fantasy relevant","Had a few shots at the starting job with his best run cut short by injury. Either way, wasn't producing fantasy-relevant performances"]
[null,null,null,null,52,"Dorian Thompson-Robinson","CLE",24,"QB",8,3,"2000-02-01",60,112,53.6,440,1,0.9,4,3.6,26,23,3.9,2.5,7.3,55,51.2,34.4,6,60,5.0999999999999996,3.22,1.86,0,1,null,51,"De'Von Achane","MIA",22,"RB",11,4,103,800,8,30,76,7.8,72.7,1,null,52,"Curtis Samuel","WAS",27,"WR",16,13,91,62,0.68100000000000005,613,9.9,4,26,37,6.7,3.9,38.299999999999997,0,null,52,"Dorian Thompson-Robinson","CLE",24,"QB",8,3,60,112,440,2,4,2,11,0.104,21,0.19800000000000001,74,0.69799999999999995,null,null,null,null,null,null,null,null,null,null,null,null,null,null,null,null,null,null,null,null,null,null,null,null,null,null,null,null,null,"Trevor Siemian",0.4,14.7,"Andy Dalton","Not fantasy relevant","Did play 1 game in week 3, throwing the ball 58 times for 361 yards and 2 Touchdowns - that earned him a QB6 finish before disappearing in to the mist again "]
[null,null,null,null,53,"Andy Dalton","CAR",36,"QB",3,1,"0-1-0",34,58,58.6,361,2,3.4,0,0,17,47,6.2,6.9,10.6,120.3,88.4,48.4,3,27,4.9000000000000004,5.48,6.13,null,null,null,52,"Ty Chandler","MIN",25,"RB",17,4,102,461,3,20,31,4.5,27.1,0,null,53,"Tyler Conklin","NYJ",28,"TE",17,12,87,61,0.70099999999999996,621,10.199999999999999,0,27,37,7.1,3.6,36.5,0,null,53,"Andy Dalton","CAR",36,"QB",3,1,34,58,361,2,1,0,5,8.7999999999999995E-2,11,0.193,39,0.68400000000000005,null,null,null,null,null,null,null,null,null,null,null,null,null,null,null,null,null,null,null,null,null,null,null,null,null,null,null,null,null,"Jacoby Brissett",9,13.9,"Jacoby Brissett","Not fantasy relevant","A couple of part games with 3 Touchdowns on 23 pass attempts (that's a huge touchdown rate) but not enough for fantasy"]
[null,null,null,null,54,"Tim Boyle","NYJ",29,"QB",3,2,"0-2-0",48,77,62.3,360,1,1.3,4,5.2,16,36,4.7,2.6,7.5,120,56.2,10.9,9,64,10.5,3.44,1.58,null,null,null,53,"Tyjae Spears","TEN",22,"RB",17,1,100,453,2,24,23,4.5,26.6,1,null,54,"Jaylen Warren","PIT",25,"RB",17,0,74,61,0.82399999999999995,370,6.1,0,19,30,5,3.6,21.8,4,null,54,"Tim Boyle","NYJ",29,"QB",3,2,48,77,360,1,2,0,4,5.2999999999999999E-2,18,0.24,56,0.747,null,null,null,null,null,null,null,null,null,null,null,null,null,null,null,null,null,null,null,null,null,null,null,null,null,null,null,null,null,"Davis Mills",0,14.9,"C.J. Beathard","Not fantasy relevant","A few cameos and one full game - a 26-0 victory where he didn’t even throw a touchdown"]
[null,null,null,null,55,"C.J. Beathard","JAX",30,"QB",7,1,"1-0-0",40,53,75.5,349,1,1.9,0,0,19,48,6.6,7,8.6999999999999993,49.9,98.7,55.2,6,27,10.199999999999999,5.46,5.8,null,null,null,54,"Rico Dowdle","DAL",25,"RB",16,0,89,361,2,17,21,4.0999999999999996,22.6,0,null,55,"Wan'Dale Robinson","NYG",22,"WR",15,8,78,60,0.76900000000000002,525,8.8000000000000007,1,29,33,6.7,4,35,0,null,55,"C.J. Beathard","JAX",30,"QB",7,1,40,53,349,1,3,0,2,0.04,4,0.08,42,0.84,null,null,null,null,null,null,null,null,null,null,null,null,null,null,null,null,null,null,null,null,null,null,null,null,null,null,null,null,null,"Jarrett Stidham",13.6,13.6,"Davis Mills","Not fantasy relevant","Stepped in a couple of times but nothing of relevance"]
[null,null,null,null,56,"Sam Darnold","SFO",26,"QB",10,1,"0-1-0",28,46,60.9,297,2,4.3,1,2.2000000000000002,15,48,6.5,6.3,10.6,29.7,85.1,49.3,6,40,11.5,4.9400000000000004,4.8499999999999996,null,null,null,55,"Kenneth Gainwell","PHI",24,"RB",16,2,84,364,2,19,32,4.3,22.8,3,null,56,"Deebo Samuel","SFO",27,"WR",15,15,89,60,0.67400000000000004,892,14.9,7,34,54,10,4,59.5,1,null,56,"Sam Darnold","SFO",26,"QB",10,1,28,46,297,0,0,1,0,0,12,0.26700000000000002,31,0.68899999999999995,null,null,null,null,null,null,null,null,null,null,null,null,null,null,null,null,null,null,null,null,null,null,null,null,null,null,null,null,null,"Case Keenum",0.5,12.3,"Jameis Winston","Not fantasy relevant","Stepped in a couple of times to gun-sling but wasn't enough to be relevant"]
[null,null,null,null,57,"Case Keenum","HOU",35,"QB",2,2,36526,34,53,64.2,291,1,1.9,3,5.7,14,41,5.5,3.3,8.6,145.5,61.1,21.2,6,60,10.199999999999999,3.92,1.97,1,1,null,56,"Justice Hill","BAL",26,"RB",16,5,84,387,3,19,41,4.5999999999999996,24.2,1,null,57,"Romeo Doubs","GNB",23,"WR",17,16,96,59,0.61499999999999999,674,11.4,8,41,36,7,3.5,39.6,1,null,57,"Case Keenum","HOU",35,"QB",2,2,34,53,291,0,2,0,2,3.9E-2,7,0.13700000000000001,37,0.72499999999999998,null,null,null,null,null,null,null,null,null,null,null,null,null,null,null,null,null,null,null,null,null,null,null,null,null,null,null,null,null,"Malik Willis",-1.6,4.7,"Tim Boyle","Not fantasy relevant","Had his small shot at the gig in the middle of the season but didn’t achieve much"]
[null,null,null,null,58,"Jameis Winston","NOR",29,"QB",7,0,null,25,47,53.2,264,2,4.3,3,6.4,10,30,5.6,3.6,10.6,37.700000000000003,57.4,35.6,2,13,4.0999999999999996,5.12,3.18,null,null,null,57,"Taysom Hill","NOR",33,"QB",16,7,81,401,4,26,27,5,25.1,1,null,58,"Dallas Goedert","PHI",28,"TE",14,14,83,59,0.71099999999999997,592,10,3,33,49,7.1,4.2,42.3,0,null,58,"Jameis Winston","NOR",29,"QB",7,0,25,47,264,0,1,0,3,6.5000000000000002E-2,10,0.217,35,0.76100000000000001,null,null,null,null,null,null,null,null,null,null,null,null,null,null,null,null,null,null,null,null,null,null,null,null,null,null,null,null,null,"Brian Hoyer",3.2,3.8,"Jarrett Stidham","Not fantasy relevant","Played at the very end of the season but wasn't of relevance"]
[null,null,null,null,59,"Brian Hoyer","LVR",38,"QB",3,1,"0-1-0",23,42,54.8,231,0,0,2,4.8,14,48,5.5,3.4,10,77,50.8,69,1,8,2.2999999999999998,5.19,3.09,null,null,null,58,"Roschon Johnson","CHI",22,"RB",15,0,81,352,2,16,29,4.3,23.5,1,null,59,"Cooper Kupp","LAR",30,"WR",12,12,95,59,0.621,737,12.5,5,33,62,7.8,4.9000000000000004,61.4,0,null,59,"Brian Hoyer","LVR",38,"QB",3,1,23,42,231,1,0,0,1,2.4E-2,10,0.23799999999999999,24,0.57099999999999995,null,null,null,null,null,null,null,null,null,null,null,null,null,null,null,null,null,null,null,null,null,null,null,null,null,null,null,null,null,"Mike White",-2,6.6,"Case Keenum","Not fantasy relevant","Played a game and a half towards the end of the season and finished QB24 "]
[null,null,null,null,60,"Jacoby Brissett","WAS",31,"QB",3,0,null,18,23,78.3,224,3,13,0,0,10,48,9.6999999999999993,12.3,12.4,74.7,146.80000000000001,95.6,0,0,0,9.74,12.35,null,null,null,59,"Russell Wilson","DEN",35,"QB",15,15,80,341,3,38,21,4.3,22.7,10,null,"Rk","Player","Tm","Age","Pos","G","GS","Tgt","Rec","Ctch%","Yds","Y/R","TD","1D","Lng","Y/Tgt","R/G","Y/G","Fmb",null,60,"Jacoby Brissett","WAS",31,"QB",3,0,18,23,224,0,1,0,1,4.4999999999999998E-2,1,4.4999999999999998E-2,19,0.86399999999999999,null,null,null,null,null,null,null,null,null,null,null,null,null,null,null,null,null,null,null,null,null,null,null,null,null,null,null,null,null,"Tyler Huntley",0,6.3,"Tyler Huntley","Not fantasy relevant","Some work in blowouts but nothing of relevance"]
[null,null,null,null,61,"Tyler Huntley","BAL",25,"QB",5,1,"0-1-0",21,37,56.8,203,3,8.1,0,0,13,27,5.5,7.1,9.6999999999999993,40.6,99.3,56.7,4,28,9.8000000000000007,4.2699999999999996,5.73,null,null,null,"Rk","Player","Tm","Age","Pos","G","GS","Att","Yds","TD","1D","Lng","Y/A","Y/G","Fmb",null,60,"Elijah Moore","CLE",23,"WR",17,12,104,59,0.56699999999999995,640,10.8,2,29,42,6.2,3.5,37.6,2,null,61,"Tyler Huntley","BAL",25,"QB",5,1,21,37,203,1,2,0,4,0.114,7,0.2,21,0.6,null,null,null,null,null,null,null,null,null,null,null,null,null,null,null,null,null,null,null,null,null,null,null,null,null,null,null,null,null,"Cooper Rush",-0.2,2.2000000000000002,"Clayton Tune","Not fantasy relevant","Had a solid chance in week 9 but did nothing and didn’t get another opportunity after that"]
[null,null,null,null,62,"Blaine Gabbert","KAN",34,"QB",2,1,"1-0-0",18,35,51.4,185,0,0,3,8.6,8,37,5.3,1.4,10.3,92.5,31.2,47.1,1,9,2.8,4.8899999999999997,1.1399999999999999,1,1,null,60,"Latavius Murray","BUF",33,"RB",16,4,79,300,4,27,29,3.8,18.8,1,null,61,"Dalton Schultz","HOU",27,"TE",15,8,88,59,0.67,635,10.8,5,35,31,7.2,3.9,42.3,1,null,62,"Blaine Gabbert","KAN",34,"QB",2,1,18,35,185,2,1,0,5,0.14699999999999999,6,0.17599999999999999,23,0.67600000000000005,null,null,null,null,null,null,null,null,null,null,null,null,null,null,null,null,null,null,null,null,null,null,null,null,null,null,null,null,null,"C.J. Beathard",-0.2,9.5,"Brian Hoyer","Not fantasy relevant","Played a couple of games but nothing of relevance"]
[null,null,null,null,63,"Davis Mills","HOU",25,"QB",6,0,null,18,39,46.2,173,2,5.0999999999999996,0,0,12,19,4.4000000000000004,5.5,9.6,28.8,76.099999999999994,48.7,2,13,4.9000000000000004,3.9,4.88,null,null,null,61,"Joshua Dobbs","2TM",28,"QB",13,12,77,421,6,31,44,5.5,32.4,14,null,62,"Courtland Sutton","DEN",28,"WR",16,14,90,59,0.65600000000000003,772,13.1,10,37,46,8.6,3.7,48.3,3,null,63,"Davis Mills","HOU",25,"QB",6,0,18,39,173,1,1,0,4,0.105,8,0.21099999999999999,24,0.63200000000000001,null,null,null,null,null,null,null,null,null,null,null,null,null,null,null,null,null,null,null,null,null,null,null,null,null,null,null,null,null,"Tim Boyle",0.4,9.4,"Sam Darnold","Not fantasy relevant","Some work in blowouts but nothing of relevance"]
[null,null,null,null,64,"Brett Rypien","LAR",27,"QB",2,1,"0-1-0",18,38,47.4,172,0,0,1,2.6,8,34,4.5,3.3,9.6,86,49.5,19.899999999999999,2,18,5,3.85,2.73,null,null,null,62,"Royce Freeman","LAR",27,"RB",14,0,77,319,2,17,23,4.0999999999999996,22.8,0,null,63,"Travis Etienne","JAX",24,"RB",17,17,73,58,0.79500000000000004,476,8.1999999999999993,1,23,56,6.5,3.4,28,0,null,64,"Brett Rypien","LAR",27,"QB",2,1,18,38,172,4,1,0,2,5.3999999999999999E-2,6,0.16200000000000001,27,0.73,null,null,null,null,null,null,null,null,null,null,null,null,null,null,null,null,null,null,null,null,null,null,null,null,null,null,null,null,null,"Clayton Tune",0,6.1,"Brett Rypien","Not fantasy relevant","Got some opportunity in week 8 and then played in week 9 against Green Bay but did nothing with it","Jumped around from the Rams to Seattle to the Jets"]
[null,null,null,null,65,"Jaren Hall","MIN",25,"QB",3,2,36526,13,20,65,168,0,0,1,5,7,47,8.4,6.2,12.9,56,70.400000000000006,5.0999999999999996,4,28,16.7,5.83,3.96,null,null,null,63,"Jaleel McLaughlin","DEN",23,"RB",17,3,76,410,1,16,38,5.4,24.1,0,null,64,"Bijan Robinson","ATL",21,"RB",17,16,86,58,0.67400000000000004,487,8.4,4,24,71,5.7,3.4,28.6,4,null,65,"Jaren Hall","MIN",25,"QB",3,2,13,20,168,0,1,0,0,0,5,0.26300000000000001,14,0.73699999999999999,null,null,null,null,null,null,null,null,null,null,null,null,null,null,null,null,null,null,null,null,null,null,null,null,null,null,null,null,null,"Brett Rypien",1.7,4.0999999999999996,"Jaren Hall","Not fantasy relevant","Got a couple of small opportunities with the revoloving door in Minnesota, but didn’t do anything with them"]
[null,null,null,null,66,"Jeff Driskel","CLE",30,"QB",1,1,"0-1-0",13,26,50,166,2,7.7,2,7.7,8,31,6.4,4.5,12.8,166,63.9,4.0999999999999996,3,26,10.3,4.83,3.1,null,null,null,64,"Patrick Mahomes","KAN",28,"QB",16,16,75,389,0,27,25,5.2,24.3,5,null,65,"Christian Kirk","JAX",27,"WR",12,12,85,57,0.67100000000000004,787,13.8,3,34,57,9.3000000000000007,4.8,65.599999999999994,2,null,66,"Jeff Driskel","CLE",30,"QB",1,1,13,26,166,2,1,0,4,0.16,4,0.16,18,0.72,null,null,null,null,null,null,null,null,null,null,null,null,null,null,null,null,null,null,null,null,null,null,null,null,null,null,null,null,null,"Jaren Hall",-1.2,4.2,"Cooper Rush","Not fantasy relevant","Small amount of work in blowouts but nothing of relevance"]
[null,null,null,null,67,"Marcus Mariota","PHI",30,"QB",3,0,null,15,23,65.2,164,1,4.3,1,4.3,10,22,7.1,6,10.9,54.7,82.5,59.9,3,11,11.5,5.88,4.92,null,null,null,65,"Elijah Mitchell","SFO",25,"RB",11,1,75,281,2,14,18,3.7,25.5,0,null,66,"Tony Pollard","DAL",26,"RB",17,17,67,55,0.82099999999999995,311,5.7,0,12,60,4.5999999999999996,3.2,18.3,3,null,67,"Marcus Mariota","PHI",30,"QB",3,0,15,23,164,2,0,0,0,0,2,8.6999999999999994E-2,18,0.78300000000000003,null,null,null,null,null,null,null,null,null,null,null,null,null,null,null,null,null,null,null,null,null,null,null,null,null,null,null,null,null,"Sean Clifford",0,1.3,"Mike White","Not fantasy relevant","Small amount of work in blowouts but nothing of relevance"]
[null,null,null,null,68,"Carson Wentz","LAR",31,"QB",2,1,"1-0-0",17,24,70.8,163,2,8.3000000000000007,1,4.2,11,29,6.8,6.6,9.6,81.5,99.8,89.9,2,14,7.7,5.73,5.54,1,1,null,66,"Clyde Edwards-Helaire","KAN",24,"RB",15,3,70,223,1,12,20,3.2,14.9,0,null,67,"Logan Thomas","WAS",32,"TE",16,15,78,55,0.70499999999999996,496,9,4,21,29,6.4,3.4,31,2,null,68,"Carson Wentz","LAR",31,"QB",2,1,17,24,163,0,0,0,1,4.2000000000000003E-2,6,0.25,18,0.75,null,null,null,null,null,null,null,null,null,null,null,null,null,null,null,null,null,null,null,null,null,null,null,null,null,null,null,null,null,"Marcus Mariota",1.2,1.2,"Malik Willis","Not fantasy relevant","Had a small amount of work against Baltimore and Atlanta but nothing of relevance"]
[null,null,null,null,69,"Cooper Rush","DAL",30,"QB",7,0,null,18,24,75,144,0,0,1,4.2,7,29,6,4.0999999999999996,8,20.6,72.2,52.1,1,8,4,5.44,3.64,null,null,null,67,"Trevor Lawrence","JAX",24,"QB",16,16,70,339,4,23,26,4.8,21.2,12,null,68,"Brandin Cooks","DAL",30,"WR",16,15,81,54,0.66700000000000004,657,12.2,8,38,37,8.1,3.4,41.1,1,null,69,"Cooper Rush","DAL",30,"QB",7,0,18,24,144,0,0,0,0,0,6,0.25,18,0.75,null,null,null,null,null,null,null,null,null,null,null,null,null,null,null,null,null,null,null,null,null,null,null,null,null,null,null,null,null,"Malik Cunningham",0,0,"Sean Clifford","Not fantasy relevant","Came in at the end of a game, botched a snap and then handed to the running back"]
[null,null,null,null,70,"Taysom Hill","NOR",33,"QB",16,7,null,6,11,54.5,83,1,9.1,0,0,4,44,7.5,9.4,13.8,5.2,109.3,50,2,4,15.4,6.08,7.62,0,1,null,68,"Dalvin Cook","NYJ",28,"RB",15,1,67,214,0,10,14,3.2,14.3,2,null,69,"Jerry Jeudy","DEN",24,"WR",16,11,87,54,0.621,758,14,2,28,47,8.6999999999999993,3.4,47.4,1,null,70,"Taysom Hill","NOR",33,"QB",16,7,6,11,83,1,0,0,0,0,3,0.27300000000000002,7,0.63600000000000001,null,null,null,null,null,null,null,null,null,null,null,null,null,null,null,null,null,null,null,null,null,null,null,null,null,null,null,null,null,"Aaron Rodgers",0,0,"Marcus Mariota","Not fantasy relevant","Played a handful of snaps in blowouts"]
[null,null,null,null,71,"Mike White","MIA",28,"QB",6,0,null,5,6,83.3,74,1,16.7,1,16.7,1,68,12.3,8.1999999999999993,14.8,12.3,118.1,0.1,0,0,0,12.33,8.17,null,null,null,69,"Antonio Gibson","WAS",25,"RB",16,2,65,265,1,13,16,4.0999999999999996,16.600000000000001,4,null,70,"Chigoziem Okonkwo","TEN",24,"TE",17,11,77,54,0.70099999999999996,528,9.8000000000000007,1,25,39,6.9,3.2,31.1,0,null,71,"Mike White","MIA",28,"QB",6,0,5,6,74,0,0,0,0,0,0,0,5,0.83299999999999996,null,null,null,null,null,null,null,null,null,null,null,null,null,null,null,null,null,null,null,null,null,null,null,null,null,null,null,null,null,"AJ McCarron",0,0,"Malik Cunningham","Not fantasy relevant","Played 6 snaps and didn't touch the ball"]
[null,null,null,null,72,"Malik Willis","TEN",24,"QB",3,0,null,4,5,80,74,0,0,0,0,1,48,14.8,14.8,18.5,24.7,118.7,3,4,30,44.4,4.8899999999999997,4.8899999999999997,null,null,null,70,"Pierre Strong","CLE",25,"RB",17,1,63,291,1,10,40,4.5999999999999996,17.100000000000001,1,null,71,"Kyle Pitts","ATL",23,"TE",17,15,90,53,0.58899999999999997,667,12.6,3,35,39,7.4,3.1,39.200000000000003,0,null,72,"Malik Willis","TEN",24,"QB",3,0,4,5,74,0,0,0,0,0,1,0.2,4,0.8,null,null,null,null,null,null,null,null,null,null,null,null,null,null,null,null,null,null,null,null,null,null,null,null,null,null,null,null,null,"Kyle Trask",-0.1,0,"Aaron Rodgers","Injured on the 4th snap of his opening game"]
[null,null,null,null,73,"Clayton Tune","ARI",24,"QB",7,1,"0-1-0",12,21,57.1,62,0,0,2,9.5,3,14,3,-1.3,5.2,8.9,22.6,1.2,7,41,25,0.75,-2.46,null,null,null,71,"Baker Mayfield","TAM",28,"QB",17,17,62,163,1,16,31,2.6,9.6,8,null,72,"Jahmyr Gibbs","DET",21,"RB",15,3,71,52,0.73199999999999998,316,6.1,1,20,24,4.5,3.5,21.1,2,null,73,"Clayton Tune","ARI",24,"QB",7,1,12,21,62,3,0,0,1,4.8000000000000001E-2,2,9.5000000000000001E-2,15,0.71399999999999997,null,null,null,null,null,null,null,null,null,null,null,null,null,null,null,null,null,null,null,null,null,null,null,null,null,null,null,null,null,"Matt Barkley",-0.3,-0.3,"AJ McCarron","Not fantasy relevant","Had 1 pass attempt prior to week 18"]
[null,null,null,null,74,"Keenan Allen","LAC",31,"WR",13,13,null,1,2,50,49,1,50,0,0,1,49,24.5,34.5,49,3.8,135.4,98.8,0,0,0,24.5,34.5,null,null,null,72,"Cam Akers","2TM",24,"RB",7,1,60,167,2,12,19,2.8,23.9,0,null,73,"Joe Mixon","CIN",27,"RB",17,17,64,52,0.81299999999999994,376,7.2,3,14,45,5.9,3.1,22.1,0,null,74,"Keenan Allen","LAC",31,"WR",13,13,1,2,49,0,0,0,0,0,1,0.5,1,0.5,null,null,null,null,null,null,null,null,null,null,null,null,null,null,null,null,null,null,null,null,null,null,null,null,null,null,null,null,null,"Nathan Peterman",-0.4,-0.4,"Kyle Trask","Not fantasy relevant","Had 1 pass attempt and 1 kneel down all season"]
[null,null,null,null,75,"Sean Clifford","GNB",25,"QB",2,0,null,1,1,100,37,0,0,0,0,1,37,37,37,37,18.5,118.7,100,0,0,0,37,37,null,null,null,73,"Emari Demercado","ARI",24,"RB",14,2,58,284,2,12,49,4.9000000000000004,20.3,0,null,74,"Tyjae Spears","TEN",22,"RB",17,1,70,52,0.74299999999999999,385,7.4,1,17,48,5.5,3.1,22.6,1,null,75,"Sean Clifford","GNB",25,"QB",2,0,1,1,37,0,0,0,0,0,0,0,1,1,null,null,null,null,null,null,null,null,null,null,null,null,null,null,null,null,null,null,null,null,null,null,null,null,null,null,null,null,null,"Sam Darnold",-0.2,7.1,"Teddy Bridgewater","Not fantasy relevant","His contribution was limited to kneel downs at the end of the game"]
[null,null,null,null,76,"Jalen Reeves-Maybin","DET",28,"LB",17,0,null,1,1,100,31,0,0,0,0,1,31,31,31,31,1.8,118.7,null,0,0,0,31,31,null,null,null,74,"Matt Breida","NYG",28,"RB",17,4,55,151,1,7,9,2.7,8.9,1,null,75,"Darren Waller","NYG",31,"TE",12,11,74,52,0.70299999999999996,552,10.6,1,25,29,7.5,4.3,46,0,null,76,"Jalen Reeves-Maybin","DET",28,"LB",17,0,1,1,31,0,0,0,0,0,0,0,1,1,null,null,null,null,null,null,null,null,null,null,null,null,null,null,null,null,null,null,null,null,null,null,null,null,null,null,null,null,null,"Teddy Bridgewater",-0.2,-0.2,"Matt Barkley","Not fantasy relevant","His contribution was limited to kneel downs at the end of the game"]
[null,null,null,null,77,"Braden Mann","PHI",26,"P",15,0,null,1,1,100,28,0,0,0,0,1,28,28,28,28,1.9,118.7,null,0,0,0,28,28,null,null,null,75,"Dak Prescott","DAL",30,"QB",17,17,55,242,2,21,22,4.4000000000000004,14.2,4,null,76,"Marquise Brown","ARI",26,"WR",14,14,101,51,0.505,574,11.3,4,32,41,5.7,3.6,41,0,null,77,"Braden Mann","PHI",26,"P",15,0,1,1,28,0,0,0,0,0,0,0,1,1,null,null,null,null,null,null,null,null,null,null,null,null,null,null,null,null,null,null,null,null,null,null,null,null,null,null,null,null,null,"Kyle Allen",-0.3,-0.2,"Nathan Peterman","Not fantasy relevant","His contribution was limited to kneel downs at the end of the game"]
[null,null,null,null,78,"Logan Woodside","ATL",28,"QB",1,0,null,3,4,75,27,0,0,1,25,3,12,6.8,-4.5,9,27,53.1,4.4000000000000004,1,7,20,4,-5,null,null,null,76,"Samaje Perine","DEN",28,"RB",17,1,53,238,1,14,24,4.5,14,3,null,77,"Austin Ekeler","LAC",28,"RB",14,14,74,51,0.68899999999999995,436,8.5,1,20,39,5.9,3.6,31.1,5,null,78,"Logan Woodside","ATL",28,"QB",1,0,3,4,27,0,0,0,0,0,0,0,3,0.75,null,null,null,null,null,null,null,null,null,null,null,null,null,null,null,null,null,null,null,null,null,null,null,null,null,null,null,null,null,"Blaine Gabbert",-0.9,-0.9,"Blaine Gabbert","Not fantasy relevant","Had 5 pass attempts at the end of a blowout"]
[null,null,null,null,79,"Drake London","ATL",22,"WR",16,16,null,1,1,100,22,0,0,0,0,1,22,22,22,22,1.4,118.7,99.9,0,0,0,22,22,null,null,null,77,"Desmond Ridder","ATL",24,"QB",15,13,53,193,5,18,23,3.6,12.9,12,null,78,"Ezekiel Elliott","NWE",28,"RB",17,5,65,51,0.78500000000000003,313,6.1,2,12,23,4.8,3,18.399999999999999,2,null,79,"Drake London","ATL",22,"WR",16,16,1,1,22,0,0,0,0,0,0,0,1,1,null,null,null,null,null,null,null,null,null,null,null,null,null,null,null,null,null,null,null,null,null,null,null,null,null,null,null,null,null,"Christian McCaffrey",13.1,48.7,"Kyle Allen","Not fantasy relevant","His contribution was limited to kneel downs at the end of the game"]
[null,null,null,null,80,"A.J. McCarron","CIN",33,"QB",2,0,null,4,5,80,19,0,0,0,0,0,10,3.8,3.8,4.8,9.5,82.5,1.6,1,9,16.7,1.67,1.67,null,null,null,78,"Justin Herbert","LAC",25,"QB",13,13,52,228,3,16,35,4.4000000000000004,17.5,4,null,79,"Gerald Everett","LAC",29,"TE",15,12,70,51,0.72899999999999998,411,8.1,3,25,31,5.9,3.4,27.4,3,null,80,"A.J. McCarron","CIN",33,"QB",2,0,4,5,19,0,0,0,0,0,1,0.2,4,0.8,null,null,null,null,null,null,null,null,null,null,null,null,null,null,null,null,null,null,null,null,null,null,null,null,null,null,null,null,null,"Kyren Williams",7.7,38.4,"Christian McCaffrey","Stud from start to finish","Only player to have double-digit top 12 finishes (13) and more than 6 top 5 finishes (9)"]
[null,null,null,null,81,"Thomas Morstead","NYJ",37,"P",17,0,null,1,1,100,18,0,0,0,0,1,18,18,18,18,1.1000000000000001,118.7,null,0,0,0,18,18,null,null,null,79,"Chris Rodriguez","WAS",23,"RB",13,0,51,247,2,14,16,4.8,19,1,null,80,"Diontae Johnson","PIT",27,"WR",13,11,87,51,0.58599999999999997,717,14.1,5,37,71,8.1999999999999993,3.9,55.2,1,null,81,"Thomas Morstead","NYJ",37,"P",17,0,1,1,18,0,0,0,0,0,0,0,1,1,null,null,null,null,null,null,null,null,null,null,null,null,null,null,null,null,null,null,null,null,null,null,null,null,null,null,null,null,null,"Rachaad White",6.8,27.9,"Raheem Mostert","Targets dropped off after week 6 but rush volume stayed consistent","Propped up by massive Touchdown total","Would have been RB20 outside of Touchdowns"]
[null,null,null,null,82,"Kenneth Gainwell","PHI",24,"RB",16,2,null,1,1,100,17,0,0,0,0,1,17,17,17,17,1.1000000000000001,118.7,98.9,0,0,0,17,17,null,null,null,80,"Tank Bigsby","JAX",22,"RB",17,0,50,132,2,12,12,2.6,7.8,2,null,81,"Samaje Perine","DEN",28,"RB",17,1,56,50,0.89300000000000002,455,9.1,0,23,29,8.1,2.9,26.8,3,null,82,"Kenneth Gainwell","PHI",24,"RB",16,2,1,1,17,0,0,0,0,0,0,0,1,1,null,null,null,null,null,null,null,null,null,null,null,null,null,null,null,null,null,null,null,null,null,null,null,null,null,null,null,null,null,"Derrick Henry",2,25,"Travis Etienne","Half of games in top 12 (5th amongst RBs) and 3 top 5 finishes","Rush attempts and yards declined as the season went on","Touchdowns dipped in the middle of the season"]
[null,null,null,null,83,"Derrick Henry","TEN",29,"RB",17,17,null,2,3,66.7,14,2,66.7,0,0,2,12,4.7,18,7,0.8,116.7,94.5,0,0,0,4.67,18,null,null,null,81,"Jordan Love","GNB",25,"QB",17,17,50,247,4,16,37,4.9000000000000004,14.5,9,null,82,"Darius Slayton","NYG",26,"WR",17,13,79,50,0.63300000000000001,770,15.4,4,29,80,9.6999999999999993,2.9,45.3,0,null,83,"Derrick Henry","TEN",29,"RB",17,17,2,3,14,0,0,0,0,0,1,0.33300000000000002,2,0.66700000000000004,null,null,null,null,null,null,null,null,null,null,null,null,null,null,null,null,null,null,null,null,null,null,null,null,null,null,null,null,null,"Breece Hall",0.9,43.1,"Breece Hall","RB20 & RB16 per game in the first and middle thirds of the season, propped up by the last third at RB3","Point increase driven by increase in targets - 2nd on the team in final third of season, with huge target total","Jets struggled to score in the middle of the season","Low rushing touchdown totals gives room for positive regression"]
[null,null,null,null,84,"Dontayvion Wicks","GNB",22,"WR",15,6,null,1,1,100,14,0,0,0,0,1,14,14,14,14,0.9,118.7,94.3,0,0,0,14,14,null,null,null,82,"Cordarrelle Patterson","ATL",32,"RB",14,0,50,181,0,9,18,3.6,12.9,1,null,83,"Jonnu Smith","ATL",28,"TE",17,6,70,50,0.71399999999999997,582,11.6,3,26,60,8.3000000000000007,2.9,34.200000000000003,1,null,84,"Dontayvion Wicks","GNB",22,"WR",15,6,1,1,14,0,0,0,0,0,0,0,1,1,null,null,null,null,null,null,null,null,null,null,null,null,null,null,null,null,null,null,null,null,null,null,null,null,null,null,null,null,null,"Travis Etienne",6.1,34.4,"Rachaad White","Only 1 top 5 finish but 9 top 12 finishes (beaten only by CMC) kept him consistent","No drastic shifts in volume throughout season - increase in finish driven largely by touchdowns","Definition of high floor consistency"]
[null,null,null,null,85,"Logan Cooke","JAX",28,"P",17,0,null,1,1,100,13,0,0,0,0,1,13,13,13,13,0.8,118.7,null,0,0,0,13,13,null,null,null,83,"Chase Edmonds","TAM",27,"RB",13,0,49,176,0,8,21,3.6,13.5,0,null,84,"Jahan Dotson","WAS",23,"WR",17,16,83,49,0.59,518,10.6,4,27,33,6.2,2.9,30.5,0,null,85,"Logan Cooke","JAX",28,"P",17,0,1,1,13,0,0,0,0,0,0,0,1,1,null,null,null,null,null,null,null,null,null,null,null,null,null,null,null,null,null,null,null,null,null,null,null,null,null,null,null,null,null,"Raheem Mostert",6.1,45.2,"Kyren Williams","Take away the games missed through injury and he did everything you could have wanted","Only 2 games outside of the top 24, half of his games in the top 5. Only CMC had more top 5 finishes and top 12 finishes","Still top 3 per game even without factoring touchdowns","Big jump in rushing volume at the end of the season (aka the time of year when we used to get excited about Cam Akers…)"]
[null,null,null,null,86,"Jakobi Meyers","LVR",27,"WR",16,16,null,2,3,66.7,12,1,33.299999999999997,0,0,1,9,4,10.7,6,0.8,113.9,39,0,0,0,4,10.67,null,null,null,84,"Sam Howell","WAS",23,"QB",17,17,48,263,5,19,24,5.5,15.5,4,null,85,"Demario Douglas","NWE",23,"WR",14,7,79,49,0.62,561,11.4,0,26,42,7.1,3.5,40.1,3,null,86,"Jakobi Meyers","LVR",27,"WR",16,16,2,3,12,0,1,0,0,0,0,0,2,1,null,null,null,null,null,null,null,null,null,null,null,null,null,null,null,null,null,null,null,null,null,null,null,null,null,null,null,null,null,"Bijan Robinson",0.3,27.3,"Joe Mixon","RB7 but only RB13 per game. 6 top 12 performances but only 1 top 5 performance","Poor start to the season with the end of season boosting the numbers","Overall team volume increase at the end of the season pushed his volume stats"]
[null,null,null,null,87,"Tommy Townsend","KAN",27,"P",17,0,null,1,1,100,11,0,0,0,0,1,11,11,11,11,0.6,112.5,null,0,0,0,11,11,null,null,null,85,"Keaton Mitchell","BAL",21,"RB",8,2,47,396,2,19,60,8.4,49.5,0,null,86,"Antonio Gibson","WAS",25,"RB",16,2,59,48,0.81399999999999995,389,8.1,2,19,41,6.6,3,24.3,4,null,87,"Tommy Townsend","KAN",27,"P",17,0,1,1,11,0,0,0,0,0,0,0,1,1,null,null,null,null,null,null,null,null,null,null,null,null,null,null,null,null,null,null,null,null,null,null,null,null,null,null,null,null,null,"Jahmyr Gibbs",5.3,29.9,"Jahmyr Gibbs","Slow start, massive middle and solid end to the season","Montgomery missed 2 games during Gibbs' big middle of the season","6 top 12 finishes were all top 5 - boom or bust","RB11 per game in final third feels close to the truth"]
[null,null,null,null,88,"Johnny Hekker","CAR",33,"P",17,0,null,1,1,100,7,0,0,0,0,0,7,7,7,7,0.4,95.8,null,0,0,0,7,7,null,null,null,86,"Darrell Henderson","LAR",26,"RB",4,4,46,112,2,5,16,2.4,28,0,null,87,"K.J. Osborn","MIN",26,"WR",16,12,75,48,0.64,540,11.3,3,28,47,7.2,3,33.799999999999997,1,null,88,"Johnny Hekker","CAR",33,"P",17,0,1,1,7,0,0,0,0,0,0,0,1,1,null,null,null,null,null,null,null,null,null,null,null,null,null,null,null,null,null,null,null,null,null,null,null,null,null,null,null,null,null,"Alvin Kamara",6.9,28.9,"James Cook","Only a top 24 player just over half of the time","Rushing volume boost towards the end of the season as the team became more run-heavy","Being healthy and available has helped propel him to RB9 overall but this isn't reflective of the weekly performance - he's an 'RB2'"]
[null,null,null,null,89,"Devin Singletary","HOU",26,"RB",17,10,null,1,1,100,6,1,100,0,0,1,6,6,26,6,0.4,131.19999999999999,100,0,0,0,6,26,null,null,null,87,"Chase Brown","CIN",23,"RB",12,0,44,179,0,6,31,4.0999999999999996,14.9,1,null,88,"Tank Dell","HOU",24,"WR",11,8,75,47,0.627,709,15.1,7,34,68,9.5,4.3,64.5,1,null,89,"Devin Singletary","HOU",26,"RB",17,10,1,1,6,0,0,0,0,0,0,0,1,1,null,null,null,null,null,null,null,null,null,null,null,null,null,null,null,null,null,null,null,null,null,null,null,null,null,null,null,null,null,"Isiah Pacheco",6.6,29.5,"Alvin Kamara","Missed first 3 games and was top 12 in the next 3. Was top 24 throughout the middle of the season with 2 games in the top 5. Rougher end of the season with 1 top 5 performance and 2 outside the top 24","Volume stats took a steady decline throughout the season","Some games at the end of the season saved by touchdowns"]
[null,null,null,null,90,"Dyami Brown","WAS",24,"WR",17,1,null,1,1,100,4,0,0,0,0,0,4,4,4,4,0.2,83.3,2.2000000000000002,0,0,0,4,4,null,null,null,88,"Kyler Murray","ARI",26,"QB",8,8,44,244,3,15,33,5.5,30.5,7,null,89,"Tyler Higbee","LAR",30,"TE",15,15,70,47,0.67100000000000004,495,10.5,2,26,33,7.1,3.1,33,0,null,90,"Dyami Brown","WAS",24,"WR",17,1,1,1,4,0,0,0,0,0,0,0,1,1,null,null,null,null,null,null,null,null,null,null,null,null,null,null,null,null,null,null,null,null,null,null,null,null,null,null,null,null,null,"James Cook",5.0999999999999996,36.1,"Bijan Robinson","RB11 overall finish artificially boosted by not missing time","13 out of 16 top 24 finishes makes a steady RB2 with 7 top 12 finishes (7th amongst RBs) but only 1 top 5 finish","Consistent rushing volume throughout the season, albeit not high volume","Falcons pass volume dipped in the middle of the season which impacted Bijan's targets, but he didn't get the benefit of the uptick in team rushing volume"]
[null,null,null,null,91,"Jerick McKinnon","KAN",31,"RB",12,0,null,1,1,100,4,1,100,0,0,1,4,4,24,4,0.3,122.9,89.8,0,0,0,4,24,null,null,null,89,"Kenny Pickett","PIT",25,"QB",12,12,42,54,1,12,11,1.3,4.5,2,null,"Rk","Player","Tm","Age","Pos","G","GS","Tgt","Rec","Ctch%","Yds","Y/R","TD","1D","Lng","Y/Tgt","R/G","Y/G","Fmb",null,91,"Jerick McKinnon","KAN",31,"RB",12,0,1,1,4,0,0,0,0,0,0,0,1,1,null,null,null,null,null,null,null,null,null,null,null,null,null,null,null,null,null,null,null,null,null,null,null,null,null,null,null,null,null,"Joe Mixon",7,29.7,"Derrick Henry","Only 1 top 5 finish and 6 outside the top 24","Very little receiving volume, steady rushing volume through the season albeit lower volume than in previous seasons, particularly in losses","Heavily reliant on touchdowns to make him anything more than an 'RB2' in a given week"]
[null,null,null,null,92,"Tyler Boyd","CIN",29,"WR",17,13,null,0,1,0,0,0,0,1,100,0,0,0,-45,null,0,0,0,0,0,0,0,-45,null,null,null,"Rk","Player","Tm","Age","Pos","G","GS","Att","Yds","TD","1D","Lng","Y/A","Y/G","Fmb",null,90,"Cade Otton","TAM",24,"TE",17,17,67,47,0.70099999999999996,455,9.6999999999999993,4,22,27,6.8,2.8,26.8,1,null,92,"Tyler Boyd","CIN",29,"WR",17,13,0,1,0,0,0,0,0,0,1,1,0,0,null,null,null,null,null,null,null,null,null,null,null,null,null,null,null,null,null,null,null,null,null,null,null,null,null,null,null,null,null,"De'Von Achane",1.5,51.3,"Isiah Pacheco","Strong end to the season boosted by target volume without Jerick McKinnon","Numbers boosted by a couple of strong performances but 9th in top 12 finishes and 11th in top 24 finishes","Steady return of a touchdown every 2 games"]
[null,null,null,null,93,"Chris Godwin","TAM",27,"WR",17,17,null,0,1,0,0,0,0,0,0,0,0,0,0,null,0,39.6,0.8,0,0,0,0,0,null,null,null,90,"D'Ernest Johnson","JAX",27,"RB",17,0,41,108,0,5,19,2.6,6.4,0,null,91,"Javonte Williams","DEN",23,"RB",16,13,58,47,0.81,228,4.9000000000000004,2,10,18,3.9,2.9,14.3,1,null,93,"Chris Godwin","TAM",27,"WR",17,17,0,1,0,0,0,0,0,0,0,0,0,0,null,null,null,null,null,null,null,null,null,null,null,null,null,null,null,null,null,null,null,null,null,null,null,null,null,null,null,null,null,"Austin Ekeler",4.7,26.4,"Jerome Ford","4th in top 24 finishes but 21st in top 12 finishes","Decrease in team rush volume at the end of the season led to a slight decrease in rush attempts for Ford","The very definition of a solid floor/low ceiling RB2"]
[null,null,null,null,94,"Connor Heyward","PIT",24,"TE",17,7,null,0,1,0,0,0,0,0,0,0,0,0,0,null,0,39.6,7.1,0,0,0,0,0,null,null,null,91,"Kendre Miller","NOR",21,"RB",8,0,41,156,1,10,18,3.8,19.5,0,null,92,"Rashid Shaheed","NOR",25,"WR",15,8,75,46,0.61299999999999999,719,15.6,5,27,58,9.6,3.1,47.9,1,null,94,"Connor Heyward","PIT",24,"TE",17,7,0,1,0,1,0,0,0,0,0,0,1,1,null,null,null,null,null,null,null,null,null,null,null,null,null,null,null,null,null,null,null,null,null,null,null,null,null,null,null,null,null,"Saquon Barkley",5.7,30,"Tony Pollard","14th in top 12 finishes and only 1 top 5 finish all season","Good target volume throughout the season but not a single receiving touchdown","Only 3 games with more than 60% rushing share - not the volume increase many hoped for after Zeke left","Only 1 game over 100 yards with low touchdown volume"]
[null,null,null,null,95,"DeAndre Hopkins","TEN",31,"WR",17,16,null,0,1,0,0,0,0,0,0,0,0,0,0,null,0,39.6,17.2,0,0,0,0,0,null,null,null,92,"Craig Reynolds","DET",27,"RB",17,0,41,179,1,11,19,4.4000000000000004,10.5,2,null,93,"Mark Andrews","BAL",28,"TE",10,9,61,45,0.73799999999999999,544,12.1,6,27,38,8.9,4.5,54.4,1,null,95,"DeAndre Hopkins","TEN",31,"WR",17,16,0,1,0,0,0,0,0,0,1,1,0,0,null,null,null,null,null,null,null,null,null,null,null,null,null,null,null,null,null,null,null,null,null,null,null,null,null,null,null,null,null,"Josh Jacobs",5.0999999999999996,27.9,"Saquon Barkley","5 games outside the top 24 but 14th in top 12 games","1 top 5 game in each third of the season, no more than 2 top 12 games in each - occasional flashes of the old Saquon","Steady target volume didn’t result in output in the most part"]
[null,null,null,null,96,"Justin Jefferson","MIN",24,"WR",10,9,null,0,1,0,0,0,0,0,0,0,0,0,0,null,0,39.6,14.2,0,0,0,0,0,null,null,null,93,"Jeff Wilson","MIA",28,"RB",10,0,41,188,0,8,15,4.5999999999999996,18.8,0,null,94,"Gabriel Davis","BUF",24,"WR",17,17,81,45,0.55600000000000005,746,16.600000000000001,7,34,57,9.1999999999999993,2.6,43.9,1,null,96,"Justin Jefferson","MIN",24,"WR",10,9,0,1,0,0,0,0,0,0,1,1,0,0,null,null,null,null,null,null,null,null,null,null,null,null,null,null,null,null,null,null,null,null,null,null,null,null,null,null,null,null,null,"James Conner",4.5999999999999996,26.3,"D'Andre Swift","Clear decline as the season went on - 5/6 games in the top 24 at the start of the season with 2 top finishes, 0 top 5 finishes and 1 top 12 finish after that, and only 1 top 24 finish in the final third of the season","Outside of a huge target volume in week 6, the volume didn't actually change too much throughout the season but it was empty volume","Not enough touchdowns to give him spike weeks (thanks Jalen), and very little target volume to make up for it"]
[null,null,null,null,97,"Aaron Rodgers","NYJ",40,"QB",1,1,"1-0-0",0,1,0,0,0,0,0,0,0,0,0,0,null,0,39.6,2.5,1,10,50,-5,-5,null,null,null,94,"Daniel Jones","NYG",26,"QB",6,6,40,206,1,15,17,5.2,34.299999999999997,4,null,95,"James Cook","BUF",24,"RB",17,13,54,44,0.81499999999999995,445,10.1,4,16,48,8.1999999999999993,2.6,26.2,4,null,97,"Aaron Rodgers","NYJ",40,"QB",1,1,0,1,0,0,1,0,0,0,0,0,0,0,null,null,null,null,null,null,null,null,null,null,null,null,null,null,null,null,null,null,null,null,null,null,null,null,null,null,null,null,null,"D'Andre Swift",1.3,27.1,"David Montgomery","7th in top 24 finishes (11) despite missing 3 games - that's only 2 games outside the top 24","However, only 3 top 12 finishes (2 in the top 5), with 0 top 12 finishes in the final third of the season","The steady RB2 performances pushed him to RB12 per game overall","Most of the points came on the ground with a heavy touchdown boost at the goal-line"]
[null,null,null,null,98,"Deebo Samuel","SFO",27,"WR",15,15,null,0,1,0,0,0,0,0,0,0,0,0,0,null,0,39.6,4.8,0,0,0,0,0,null,null,null,95,"Jordan Mason","SFO",24,"RB",17,0,40,206,3,13,26,5.2,12.1,0,null,96,"Jerome Ford","CLE",24,"RB",17,12,63,44,0.69799999999999995,319,7.3,5,16,50,5.0999999999999996,2.6,18.8,1,null,98,"Deebo Samuel","SFO",27,"WR",15,15,0,1,0,0,1,0,0,0,0,0,0,0,null,null,null,null,null,null,null,null,null,null,null,null,null,null,null,null,null,null,null,null,null,null,null,null,null,null,null,null,null,"Tony Pollard",5.3,22.3,"Jaylen Warren","Has a two-week spell (weeks 10 & 11) of RB8 and RB2 finishes. Outside of that, RB11 in week 17 was his only other top 12 finish","Crept inside the top 24 a few times but not by much","A bye-week flex that didn't kill you but without Najee missing time, was never really doing much for you either"]
[null,null,null,null,99,"Jonnu Smith","ATL",28,"TE",17,6,null,0,1,0,0,0,0,0,0,0,0,0,0,null,0,39.6,0.7,0,0,0,0,0,null,null,null,96,"Brock Purdy","SFO",24,"QB",16,16,39,144,2,15,17,3.7,9,6,null,97,"Isiah Pacheco","KAN",24,"RB",14,13,49,44,0.89800000000000002,244,5.5,2,12,33,5,3.1,17.399999999999999,1,null,99,"Jonnu Smith","ATL",28,"TE",17,6,0,1,0,0,0,0,0,0,1,1,0,0,null,null,null,null,null,null,null,null,null,null,null,null,null,null,null,null,null,null,null,null,null,null,null,null,null,null,null,null,null,"Gus Edwards",1.5,29.4,"Kenneth Walker","Wildly inconsistent throughout the season with 1 top 5 finish in the first few weeks and no more after that","On occassional top 12 finish spaced weeks apart and interspersed with terrible games that could have cost you weeks","Impacted by injury, moving the red zone rush attempts to Charbonnet after dominating them early in the season","Doesn't get enough work in the passing game to make up for zero-touchdown games"]
[null,null,null,null,100,"Kadarius Toney","KAN",24,"WR",13,2,null,0,1,0,0,0,0,0,0,0,0,0,0,null,0,39.6,0.3,0,0,0,0,0,null,null,null,97,"C.J. Stroud","HOU",22,"QB",15,15,39,167,3,17,16,4.3,11.1,8,null,98,"Jonathan Mingo","CAR",22,"WR",15,14,85,43,0.50600000000000001,418,9.6999999999999993,0,15,40,4.9000000000000004,2.9,27.9,1,null,100,"Kadarius Toney","KAN",24,"WR",13,2,0,1,0,0,0,0,0,0,1,1,0,0,null,null,null,null,null,null,null,null,null,null,null,null,null,null,null,null,null,null,null,null,null,null,null,null,null,null,null,null,null,"Zack Moss",0.2,33.5,"Brian Robinson","Forget the last third of the season - injured in week 13, bye week, missed 2 games and then came back against San Francisco","A reasonable RB2 through the rest of the season, an occasional top 5 finish with a sprinkle of top 12 and half of his active games inside the top 24 (closer to 60% if you remove the game he was injured and the one he returned)","Doesn't get much in the passing game to make an impact or help offset zero-touchdown games"]
[null,null,null,null,101,"Kyle Trask","TAM",25,"QB",2,0,null,0,1,0,0,0,0,0,0,0,0,0,0,null,0,39.6,1.2,0,0,0,0,0,null,null,null,98,"Bryce Young","CAR",22,"QB",16,16,39,253,0,18,26,6.5,15.8,11,null,99,"Hunter Henry","NWE",29,"TE",14,10,61,42,0.68899999999999995,419,10,6,29,24,6.9,3,29.9,1,null,101,"Kyle Trask","TAM",25,"QB",2,0,0,1,0,0,0,0,1,1,0,0,1,1,null,null,null,null,null,null,null,null,null,null,null,null,null,null,null,null,null,null,null,null,null,null,null,null,null,null,null,null,null,"Jerome Ford",3.6,26.1,"Gus Edwards","Overall RB22 finish is fraudulent. He had 4 top 12 finishes off multi-touchdown games and an 80 yard catch & run","Totally unreliable volume and almost nothing in the passing game (except the 80 yard catch & run noted above)","9 touchdowns in the middle third of the season was never going to be sustainable","Was on the right side of a timeshare but a timeshare nonetheless"]
[null,null,null,null,102,"Garrett Wilson","NYJ",23,"WR",17,17,null,0,1,0,0,0,0,0,0,0,0,0,0,null,0,39.6,3.2,0,0,0,0,0,null,null,null,99,"Tyrod Taylor","NYG",34,"QB",11,5,38,197,0,10,31,5.2,17.899999999999999,4,null,100,"Tee Higgins","CIN",24,"WR",12,11,76,42,0.55300000000000005,656,15.6,5,33,80,8.6,3.5,54.7,0,null,102,"Garrett Wilson","NYJ",23,"WR",17,17,0,1,0,0,0,0,0,0,1,1,0,0,null,null,null,null,null,null,null,null,null,null,null,null,null,null,null,null,null,null,null,null,null,null,null,null,null,null,null,null,null,"Kenneth Walker",2.6,30.6,"Josh Jacobs","Basically missed the last third of the season","First third of the season was lacking in touchdowns but boosted by targets - 3rd in targets with Jimmy Garoppolo under center (dropped to 5th in targets after the QB change)","Rushing touchdowns started flowing in the middle of the season leading to 2 top 5 finishes and only 2 games outside the top 24","Raiders were a low scoring team before Jacobs was injured, this significantly caps his ceiling"]
[null,null,null,null,103,"Christian Kirk","JAX",27,"WR",12,12,null,1,2,50,-1,0,0,0,0,0,0,-0.5,-0.5,-1,-0.1,56.2,3.1,0,0,0,-0.5,-0.5,null,null,null,100,"Deebo Samuel","SFO",27,"WR",15,15,37,225,5,13,23,6.1,15,1,null,101,"Saquon Barkley","NYG",26,"RB",14,14,60,41,0.68300000000000005,280,6.8,4,16,46,4.7,2.9,20,2,null,103,"Christian Kirk","JAX",27,"WR",12,12,1,2,-1,0,0,0,0,0,1,0.5,1,0.5,null,null,null,null,null,null,null,null,null,null,null,null,null,null,null,null,null,null,null,null,null,null,null,null,null,null,null,null,null,"David Montgomery",4.3,34.1,"Austin Ekeler","Had a big week in week 1 (RB2) and then a three-week spell from weeks 8-10 of top 5 finishes","Outside of that and an RB8 finish in week 14 (against Denver…) he never finished higher than RB24 again","Had his lowest targets per game since 2018 and a huge dip in touchdown volume","In 2021 & 2022 he had huge target shares and huge touchdown volumes - if one of these had dropped then he'd still have been a top option, but both dropped massively"]
[null,null,null,null,104,"Ja'Marr Chase","CIN",23,"WR",16,16,null,1,1,100,-7,0,0,0,0,0,-7,-7,-7,-7,-0.4,79.2,1.8,0,0,0,-7,-7,null,null,null,101,"Geno Smith","SEA",33,"QB",15,15,37,155,1,10,25,4.2,10.3,5,null,102,"Rondale Moore","ARI",23,"WR",17,8,62,40,0.64500000000000002,352,8.8000000000000007,1,17,48,5.7,2.4,20.7,1,null,104,"Ja'Marr Chase","CIN",23,"WR",16,16,1,1,-7,0,0,0,0,0,0,0,1,1,null,null,null,null,null,null,null,null,null,null,null,null,null,null,null,null,null,null,null,null,null,null,null,null,null,null,null,null,null,"Brian Robinson",5.3,27.7,"De'Von Achane","Started playing significant snaps in week 3, where he rattled off 3 straight top 5 finishes before getting injured","On his full return in week 13, he got extra work in a blowout game but then became 2nd fiddle to Mostert until Mostert missed week 17 (when he was RB8)","He's the second man up with a low floor but if they get a big lead or Mostert's injury, his ceiling is through the roof"]
[null,null,null,null,null,null,null,null,null,null,null,null,null,null,null,null,null,null,null,null,null,null,null,null,null,null,null,null,null,null,null,null,null,null,null,null,102,"Isaiah Spiller","LAC",22,"RB",9,0,37,96,0,1,8,2.6,10.7,0,null,103,"Josh Reynolds","DET",28,"WR",17,13,64,40,0.625,608,15.2,5,32,33,9.5,2.4,35.799999999999997,1,null,null,null,null,null,null,null,null,null,null,null,null,null,null,null,null,null,null,null,null,null,null,null,null,null,null,null,null,null,null,null,null,null,null,null,null,null,null,null,null,null,null,null,null,null,null,null,null,null,"Jaylen Warren",6.5,23.5,"Najee Harris","Meh","Big week 17 against a lacklustre Seahawks team was still only enough to get him to RB7. Outside of that, he only had 2 top 12 performances and never higher than RB9","His higher middle of the season was from a small boost to his receiving numbers while Freiermuth was out"]
[null,null,null,null,null,null,null,null,null,null,null,null,null,null,null,null,null,null,null,null,null,null,null,null,null,null,null,null,null,null,null,null,null,null,null,null,103,"Tommy DeVito","NYG",25,"QB",9,6,36,195,1,7,26,5.4,21.7,2,null,104,"Robert Woods","HOU",31,"WR",14,11,75,40,0.53300000000000003,426,10.7,1,26,26,5.7,2.9,30.4,0,null,null,null,null,null,null,null,null,null,null,null,null,null,null,null,null,null,null,null,null,null,null,null,null,null,null,null,null,null,null,null,null,null,null,null,null,null,null,null,null,null,null,null,null,null,null,null,null,null,"Rhamondre Stevenson",2.4,22.9,"Chuba Hubbard","Season changed in week 6 when Sanders missed the game. He then became the lead back for the rest of the season","Had a two-week boost in weeks 12 & 13 teetering in the top 12, top 24 about half the time","Week 13 in particular was the high point - over 100 yards rushing and 2 Touchdowns on the ground but with 0 in the air he still didn’t make top 5","Flex-type player with a low ceiling, 50/50 chance of returning top 24 but low chance of top 12 - not going to win you weeks"]
[null,null,null,null,null,null,null,null,null,null,null,null,null,null,null,null,null,null,null,null,null,null,null,null,null,null,null,null,null,null,null,null,null,null,null,null,104,"Zach Wilson","NYJ",24,"QB",12,11,36,211,0,7,20,5.9,17.600000000000001,11,null,105,"Tutu Atwell","LAR",24,"WR",16,14,67,39,0.58199999999999996,483,12.4,3,26,44,7.2,2.4,30.2,0,null,null,null,null,null,null,null,null,null,null,null,null,null,null,null,null,null,null,null,null,null,null,null,null,null,null,null,null,null,null,null,null,null,null,null,null,null,null,null,null,null,null,null,null,null,null,null,null,null,"Javonte Williams",3.9,21,"James Conner","A reasonable start to the season with finishes of RB21, RB15 and RB6 before a tough opponent in San Francisco and then an injury until week 10","Struggled in the first 3 games back from injury but was an RB1 down the stretch - 3 games in the top 5 and the other in the top 12","An increase in team rushing volume and touchdown opportunity seemed to make the big difference in the last few games, including more opportunities in the red zone","That late season flurry coincided with the games that Marquise Brown missed"]
[null,null,null,null,null,null,null,null,null,null,null,null,null,null,null,null,null,null,null,null,null,null,null,null,null,null,null,null,null,null,null,null,null,null,null,null,105,"Keaontay Ingram","ARI",24,"RB",8,1,35,74,0,4,14,2.1,9.3000000000000007,0,null,106,"Chuba Hubbard","CAR",24,"RB",17,12,44,39,0.88600000000000001,233,6,0,9,25,5.3,2.2999999999999998,13.7,1,null,null,null,null,null,null,null,null,null,null,null,null,null,null,null,null,null,null,null,null,null,null,null,null,null,null,null,null,null,null,null,null,null,null,null,null,null,null,null,null,null,null,null,null,null,null,null,null,null,"Devin Singletary",0,23.1,"Zack Moss","A solid replacement for the injured Taylor in weeks 2 through 6, with two top 5 performances and two top 12 performance","Once Taylor was back up to full snaps that was the end of his usefulness for fantasy","Had another opportunity with a further Taylor injury in the final third of the season but struggled to make an impact before getting injured himself"]
[null,null,null,null,null,null,null,null,null,null,null,null,null,null,null,null,null,null,null,null,null,null,null,null,null,null,null,null,null,null,null,null,null,null,null,null,106,"Trey Sermon","IND",24,"RB",14,0,35,160,0,7,27,4.5999999999999996,11.4,0,null,107,"Tanner Hudson","CIN",29,"TE",12,1,50,39,0.78,352,9,1,21,26,7,3.3,29.3,0,null,null,null,null,null,null,null,null,null,null,null,null,null,null,null,null,null,null,null,null,null,null,null,null,null,null,null,null,null,null,null,null,null,null,null,null,null,null,null,null,null,null,null,null,null,null,null,null,null,"Najee Harris",3.3,24.2,"Ezekiel Elliott","Non-existing outside of weeks 14 and 16 which were solid finishes based on involvement in the receiving game","Patriots were missing a lot of their receiving options in those two games so he was a necessity not a choice","Rhamondre Stevenson was out those 2 games but also missed 2 other games in that stretch where Zeke did nothing of note","Only worth playing if he's last man standing and even then it's a risk"]
[null,null,null,null,null,null,null,null,null,null,null,null,null,null,null,null,null,null,null,null,null,null,null,null,null,null,null,null,null,null,null,null,null,null,null,null,107,"Tua Tagovailoa","MIA",25,"QB",17,17,35,74,0,5,9,2.1,4.4000000000000004,13,null,108,"Trey Palmer","TAM",22,"WR",17,8,68,39,0.57399999999999995,385,9.9,3,17,54,5.7,2.2999999999999998,22.6,3,null,null,null,null,null,null,null,null,null,null,null,null,null,null,null,null,null,null,null,null,null,null,null,null,null,null,null,null,null,null,null,null,null,null,null,null,null,null,null,null,null,null,null,null,null,null,null,null,null,"Jonathan Taylor",4.4000000000000004,21.1,"Javonte Williams","Only had 3 games all season inside the top 20","In far too much of a rotation to get trustable volume, targets are low, low YPC and low touchdown volume","Needs a lot of Redzone rush attempts to produce a touchdown"]
[null,null,null,null,null,null,null,null,null,null,null,null,null,null,null,null,null,null,null,null,null,null,null,null,null,null,null,null,null,null,null,null,null,null,null,null,108,"Gardner Minshew","IND",27,"QB",17,13,34,100,3,7,23,2.9,5.9,8,null,109,"Khalil Shakir","BUF",23,"WR",17,10,45,39,0.86699999999999999,611,15.7,2,26,81,13.6,2.2999999999999998,35.9,1,null,null,null,null,null,null,null,null,null,null,null,null,null,null,null,null,null,null,null,null,null,null,null,null,null,null,null,null,null,null,null,null,null,null,null,null,null,null,null,null,null,null,null,null,null,null,null,null,null,"Khalil Herbert",0.8,22.2,"Devin Singletary","Became a low end RB2 in the middle of the season as Pierce and others started missing games","Targets only really increased consistently when Tank Dell went out","Was the lead rusher when Pierce missed time, went back to 2nd fiddle for a couple of games before taking back over the lead role","3 games with over 20 carries all netted 100+ rushing yards and top 12 finishes, but this was not the norm","If the end of the season is the new approach, he'll get you low-end RB2 production with an occasional top 12 performance in the right circumstances"]
[null,null,null,null,null,null,null,null,null,null,null,null,null,null,null,null,null,null,null,null,null,null,null,null,null,null,null,null,null,null,null,null,null,null,null,null,109,"Derek Carr","NOR",32,"QB",17,17,32,40,0,4,10,1.3,2.4,7,null,110,"D'Andre Swift","PHI",24,"RB",16,15,49,39,0.79600000000000004,214,5.5,1,8,20,4.4000000000000004,2.4,13.4,3,null,null,null,null,null,null,null,null,null,null,null,null,null,null,null,null,null,null,null,null,null,null,null,null,null,null,null,null,null,null,null,null,null,null,null,null,null,null,null,null,null,null,null,null,null,null,null,null,null,"Ezekiel Elliott",1.3,27,"Rhamondre Stevenson","Injured down the stretch but even before that, half of his games were outside the top 20","His volume stats were not actually that much different to 2022, less than 1 catch per game less but a few less yards/attempt was enough to bump him down","The real story is that we projected him to be used more than 2022, which he wasn’t"]
[null,null,null,null,null,null,null,null,null,null,null,null,null,null,null,null,null,null,null,null,null,null,null,null,null,null,null,null,null,null,null,null,null,null,null,null,110,"Darrynton Evans","2TM",25,"RB",7,0,32,121,1,10,13,3.8,17.3,0,null,111,"Michael Thomas","NOR",30,"WR",10,7,64,39,0.60899999999999999,448,11.5,1,21,31,7,3.9,44.8,0,null,null,null,null,null,null,null,null,null,null,null,null,null,null,null,null,null,null,null,null,null,null,null,null,null,null,null,null,null,null,null,null,null,null,null,null,null,null,null,null,null,null,null,null,null,null,null,null,null,"Aaron Jones",2.4,26.7,"Alexander Mattison","2 Top 12 finishes and only 1 other inside the top 20 all season","Good opportunity to start the season with volume only getting him just inside the top 24 on a few occassions. Dropped off significantly after that","The Vikings clearly weren't impressed with the returns, bringing in Cam Akers and then moving on to Ty Chandler as the season went on","Mattison is what he's always been - a volume-dependent committee/complimentary option, not a lead back"]
[null,null,null,null,null,null,null,null,null,null,null,null,null,null,null,null,null,null,null,null,null,null,null,null,null,null,null,null,null,null,null,null,null,null,null,null,111,"Jared Goff","DET",29,"QB",17,17,32,21,2,5,11,0.7,1.2,6,null,112,"Dontayvion Wicks","GNB",22,"WR",15,6,58,39,0.67200000000000004,581,14.9,4,29,35,10,2.6,38.700000000000003,3,null,null,null,null,null,null,null,null,null,null,null,null,null,null,null,null,null,null,null,null,null,null,null,null,null,null,null,null,null,null,null,null,null,null,null,null,null,null,null,null,null,null,null,null,null,null,null,null,null,"Chuba Hubbard",2.4,22.4,"Tyjae Spears","Not a reliable player for 2023 but some optimism for what it means for 2024","Only 1 game above double-digit carries was only because the game went to OT","Consistently good usage in the receiving game means a slight uptick in rushing volume and some more touchdown opportunity soon pushes him in to a very good option"]
[null,null,null,null,null,null,null,null,null,null,null,null,null,null,null,null,null,null,null,null,null,null,null,null,null,null,null,null,null,null,null,null,null,null,null,null,112,"Ronnie Rivers","LAR",24,"RB",9,1,32,129,0,4,10,4,14.3,0,null,113,"Quentin Johnston","LAC",22,"WR",17,10,67,38,0.56699999999999995,431,11.3,2,20,57,6.4,2.2000000000000002,25.4,0,null,null,null,null,null,null,null,null,null,null,null,null,null,null,null,null,null,null,null,null,null,null,null,null,null,null,null,null,null,null,null,null,null,null,null,null,null,null,null,null,null,null,null,null,null,null,null,null,null,"Alexander Mattison",-0.1,17.5,"Tyler Allgeier","A thorn in Bijan's side but not fantasy relevant","Occassional vulture touchdown pushes him in to the top 24"]
[null,null,null,null,null,null,null,null,null,null,null,null,null,null,null,null,null,null,null,null,null,null,null,null,null,null,null,null,null,null,null,null,null,null,null,null,113,"Patrick Taylor","GNB",25,"RB",11,0,32,141,0,7,24,4.4000000000000004,12.8,0,null,114,"Josh Palmer","LAC",24,"WR",10,6,61,38,0.623,581,15.3,2,22,79,9.5,3.8,58.1,1,null,null,null,null,null,null,null,null,null,null,null,null,null,null,null,null,null,null,null,null,null,null,null,null,null,null,null,null,null,null,null,null,null,null,null,null,null,null,null,null,null,null,null,null,null,null,null,null,null,"Jaleel McLaughlin",0.3,19.399999999999999,"Jonathan Taylor","Injury-riddled season. Didn't play until week 5 and didn't get up to full speed until week 7","Decent middle of the season with 3 top 12 finishes and 2 top 24 finishes but 0 top 5 finishes and wasn't winning you weeks","Struggled again with injury down the stretch, topping out at RB13 in week 17","Wasn't getting nearly enough in the passing game to boost him in to a top option"]
[null,null,null,null,null,null,null,null,null,null,null,null,null,null,null,null,null,null,null,null,null,null,null,null,null,null,null,null,null,null,null,null,null,null,null,null,114,"Joe Burrow","CIN",27,"QB",10,10,31,88,0,9,20,2.8,8.8000000000000007,2,null,115,"Rhamondre Stevenson","NWE",25,"RB",12,12,51,38,0.745,238,6.3,0,8,34,4.7,3.2,19.8,1,null,null,null,null,null,null,null,null,null,null,null,null,null,null,null,null,null,null,null,null,null,null,null,null,null,null,null,null,null,null,null,null,null,null,null,null,null,null,null,null,null,null,null,null,null,null,null,null,null,"Tyler Allgeier",2.2000000000000002,24.4,"Antonio Gibson","Not fantasy relevant, a complimentary back","PPR catches his way to an occassional top 24 finish"]
[null,null,null,null,null,null,null,null,null,null,null,null,null,null,null,null,null,null,null,null,null,null,null,null,null,null,null,null,null,null,null,null,null,null,null,null,115,"Michael Carter","2TM",24,"RB",15,0,30,187,0,9,21,6.2,12.5,0,null,116,"Michael Wilson","ARI",23,"WR",13,12,58,38,0.65500000000000003,565,14.9,3,29,69,9.6999999999999993,2.9,43.5,0,null,null,null,null,null,null,null,null,null,null,null,null,null,null,null,null,null,null,null,null,null,null,null,null,null,null,null,null,null,null,null,null,null,null,null,null,null,null,null,null,null,null,null,null,null,null,null,null,null,"Keaton Mitchell",1.9,20.399999999999999,"Samaje Perine","Not fantasy relevant, a complimentary back","Beware the perennial backup who has a good season and then gets a seemingly better opportunity open up to them (also see Alexander Mattison!)"]
[null,null,null,null,null,null,null,null,null,null,null,null,null,null,null,null,null,null,null,null,null,null,null,null,null,null,null,null,null,null,null,null,null,null,null,null,116,"Ty Johnson","BUF",26,"RB",10,0,30,132,0,8,13,4.4000000000000004,13.2,1,null,117,"Kendrick Bourne","NWE",28,"WR",8,5,55,37,0.67300000000000004,406,11,4,15,36,7.4,4.5999999999999996,50.8,1,null,null,null,null,null,null,null,null,null,null,null,null,null,null,null,null,null,null,null,null,null,null,null,null,null,null,null,null,null,null,null,null,null,null,null,null,null,null,null,null,null,null,null,null,null,null,null,null,null,"D'Onta Foreman",-0.6,33,"Aaron Jones","Injury-riddled season. Injured in week 1, didn’t play meaningful snaps until week 8-10 and then out again until week 15","Was RB1 in the week 1, RB6 in week 9 (either side of RB32 performances), and 3 top 24 performances to close out the season","He was the lead guy when he was fit and his volume stats are not too dissimilar to previous seasons. His Touchdowns on the other hand continue to decline every year","A touchdown boost with the same volume could see him back up to a high-end RB2/low-end RB1 but he's a 29 year old back coming off an injury-plagued season"]
[null,null,null,null,null,null,null,null,null,null,null,null,null,null,null,null,null,null,null,null,null,null,null,null,null,null,null,null,null,null,null,null,null,null,null,null,117,"Nick Chubb","CLE",28,"RB",2,2,28,170,0,8,20,6.1,85,0,null,118,"Josh Jacobs","LVR",25,"RB",13,13,54,37,0.68500000000000005,296,8,0,15,21,5.5,2.8,22.8,3,null,null,null,null,null,null,null,null,null,null,null,null,null,null,null,null,null,null,null,null,null,null,null,null,null,null,null,null,null,null,null,null,null,null,null,null,null,null,null,null,null,null,null,null,null,null,null,null,null,"Ty Chandler",1.5,24.7,"AJ Dillon","Not fantasy relevant, even when Aaron Jones was injured"]
[null,null,null,null,null,null,null,null,null,null,null,null,null,null,null,null,null,null,null,null,null,null,null,null,null,null,null,null,null,null,null,null,null,null,null,null,118,"Rondale Moore","ARI",23,"WR",17,8,28,178,1,5,45,6.4,10.5,1,null,119,"Juwan Johnson","NOR",27,"TE",13,11,59,37,0.627,368,9.9,4,23,32,6.2,2.8,28.3,0,null,null,null,null,null,null,null,null,null,null,null,null,null,null,null,null,null,null,null,null,null,null,null,null,null,null,null,null,null,null,null,null,null,null,null,null,null,null,null,null,null,null,null,null,null,null,null,null,null,"Tyjae Spears",1.7,17.8,"Kareem Hunt","Had a 3 game stretch from weeks 6-8 (with P.J. Walker under center) where he got all the redzone opportunities, scored a bunch of touchdowns and gave some high-end RB2 performances","Completely irrelevant for fantasy outside of that, even with the odd vulture touchdown here and there"]
[null,null,null,null,null,null,null,null,null,null,null,null,null,null,null,null,null,null,null,null,null,null,null,null,null,null,null,null,null,null,null,null,null,null,null,null,119,"Jake Browning","CIN",27,"QB",9,7,27,127,3,12,21,4.7,14.1,3,null,"Rk","Player","Tm","Age","Pos","G","GS","Tgt","Rec","Ctch%","Yds","Y/R","TD","1D","Lng","Y/Tgt","R/G","Y/G","Fmb",null,null,null,null,null,null,null,null,null,null,null,null,null,null,null,null,null,null,null,null,null,null,null,null,null,null,null,null,null,null,null,null,null,null,null,null,null,null,null,null,null,null,null,null,null,null,null,null,null,"Kareem Hunt",1.2,16.100000000000001,"Khalil Herbert","Had 3 games with over 100 yards and a touchdown that gave him top 10 RB finishes. 1 of those early in the season and 2 of them in the fantasy playoffs","The 2 games at the end of the season were with D'Onta Foreman out so there's signs he can do it with the opportunity","However, the fact was that despite missing some games through injury, he struggled to force his way in to lead-back volume"]
[null,null,null,null,null,null,null,null,null,null,null,null,null,null,null,null,null,null,null,null,null,null,null,null,null,null,null,null,null,null,null,null,null,null,null,null,"Rk","Player","Tm","Age","Pos","G","GS","Att","Yds","TD","1D","Lng","Y/A","Y/G","Fmb",null,120,"Brian Robinson","WAS",24,"RB",15,15,43,36,0.83699999999999997,368,10.199999999999999,4,15,51,8.6,2.4,24.5,4,null,null,null,null,null,null,null,null,null,null,null,null,null,null,null,null,null,null,null,null,null,null,null,null,null,null,null,null,null,null,null,null,null,null,null,null,null,null,null,null,null,null,null,null,null,null,null,null,null,"Roschon Johnson",0.6,17.5,"Justice Hill","Not fantasy-relevant, occassional touchdown boost out of nowhere"]
[null,null,null,null,null,null,null,null,null,null,null,null,null,null,null,null,null,null,null,null,null,null,null,null,null,null,null,null,null,null,null,null,null,null,null,null,120,"Easton Stick","LAC",28,"QB",5,4,27,144,1,11,21,5.3,28.8,5,null,121,"Nelson Agholor","BAL",30,"WR",17,3,45,35,0.77800000000000002,381,10.9,4,19,37,8.5,2.1,22.4,1,null,null,null,null,null,null,null,null,null,null,null,null,null,null,null,null,null,null,null,null,null,null,null,null,null,null,null,null,null,null,null,null,null,null,null,null,null,null,null,null,null,null,null,null,null,null,null,null,null,"Jerick McKinnon",0.7,17.8,"Jaleel McLaughlin","Not fantasy-relevant","Got everyone excited for 2 weeks when Javonte Williams was injured, but even then he just showed flashes on low volume"]
[null,null,null,null,null,null,null,null,null,null,null,null,null,null,null,null,null,null,null,null,null,null,null,null,null,null,null,null,null,null,null,null,null,null,null,null,121,"Melvin Gordon","BAL",30,"RB",4,0,26,81,1,4,22,3.1,20.3,1,null,122,"Odell Beckham","BAL",31,"WR",14,6,64,35,0.54700000000000004,565,16.100000000000001,3,27,51,8.8000000000000007,2.5,40.4,1,null,null,null,null,null,null,null,null,null,null,null,null,null,null,null,null,null,null,null,null,null,null,null,null,null,null,null,null,null,null,null,null,null,null,null,null,null,null,null,null,null,null,null,null,null,null,null,null,null,"Justice Hill",0.7,22.2,"Roschon Johnson","Not fantasy-relevant","Came out flying with an RB8 performance in week 1 but was the 3rd option at best for the entire season"]
[null,null,null,null,null,null,null,null,null,null,null,null,null,null,null,null,null,null,null,null,null,null,null,null,null,null,null,null,null,null,null,null,null,null,null,null,122,"Mac Jones","NWE",25,"QB",11,11,26,96,0,11,18,3.7,8.6999999999999993,3,null,123,"DJ Chark","CAR",27,"WR",15,11,66,35,0.53,525,15,5,22,47,8,2.2999999999999998,35,2,null,null,null,null,null,null,null,null,null,null,null,null,null,null,null,null,null,null,null,null,null,null,null,null,null,null,null,null,null,null,null,null,null,null,null,null,null,null,null,null,null,null,null,null,null,null,null,null,null,"Zamir White",-0.2,17.5,"Zach Charbonnet","Not fantasy-relevant","There were thoughts preseason that he could be a goal-line back, a pass-catching back, in a timeshare with Walker, or worst case a premium backup - he was none of those","He finally got his shot in weeks 11-13 with Walker injured. He got two top 12 finishes either side of a tough game against San Francisco, before Walker came back and took over"]
[null,null,null,null,null,null,null,null,null,null,null,null,null,null,null,null,null,null,null,null,null,null,null,null,null,null,null,null,null,null,null,null,null,null,null,null,123,"Tony Jones","2TM",26,"RB",7,1,26,95,2,7,19,3.7,13.6,0,null,124,"Kalif Raymond","DET",29,"WR",17,3,44,35,0.79500000000000004,489,14,1,20,41,11.1,2.1,28.8,1,null,null,null,null,null,null,null,null,null,null,null,null,null,null,null,null,null,null,null,null,null,null,null,null,null,null,null,null,null,null,null,null,null,null,null,null,null,null,null,null,null,null,null,null,null,null,null,null,null,"Miles Sanders",0,17.2,"D'Onta Foreman","Not fantasy-relevant","Was RB1 in week 7 when he was literally the last-man standing for the Bears against a poor Raiders team, but that was all she wrote"]
[null,null,null,null,null,null,null,null,null,null,null,null,null,null,null,null,null,null,null,null,null,null,null,null,null,null,null,null,null,null,null,null,null,null,null,null,124,"Deshaun Watson","CLE",28,"QB",6,6,26,142,1,10,16,5.5,23.7,5,null,125,"Durham Smythe","MIA",28,"TE",16,14,43,35,0.81399999999999995,366,10.5,0,22,22,8.5,2.2000000000000002,22.9,0,null,null,null,null,null,null,null,null,null,null,null,null,null,null,null,null,null,null,null,null,null,null,null,null,null,null,null,null,null,null,null,null,null,null,null,null,null,null,null,null,null,null,null,null,null,null,null,null,null,"Joshua Kelley",-0.2,15.1,"Kenneth Gainwell","Not fantasy-relevant","Started week 1 as the lead back but only achieved an RB24 finish and then handed over the reigns to D'Andre Swift"]
[null,null,null,null,null,null,null,null,null,null,null,null,null,null,null,null,null,null,null,null,null,null,null,null,null,null,null,null,null,null,null,null,null,null,null,null,125,"Will Levis","TEN",24,"QB",9,9,25,57,1,7,11,2.2999999999999998,6.3,7,null,126,"Michael Gallup","DAL",27,"WR",17,13,57,34,0.59599999999999997,418,12.3,2,19,41,7.3,2,24.6,0,null,null,null,null,null,null,null,null,null,null,null,null,null,null,null,null,null,null,null,null,null,null,null,null,null,null,null,null,null,null,null,null,null,null,null,null,null,null,null,null,null,null,null,null,null,null,null,null,null,"Clyde Edwards-Helaire",0,20.100000000000001,"Ty Chandler","Not fantasy-relevant","Couple of flashes as they tried to get him going in the middle of the season but only really useful game was in week 15 when he was the only running back on the field"]
[null,null,null,null,null,null,null,null,null,null,null,null,null,null,null,null,null,null,null,null,null,null,null,null,null,null,null,null,null,null,null,null,null,null,null,null,126,"Anthony Richardson","IND",21,"QB",4,4,25,136,4,8,23,5.4,34,3,null,127,"Roschon Johnson","CHI",22,"RB",15,0,40,34,0.85,209,6.1,0,6,24,5.2,2.2999999999999998,13.9,1,null,null,null,null,null,null,null,null,null,null,null,null,null,null,null,null,null,null,null,null,null,null,null,null,null,null,null,null,null,null,null,null,null,null,null,null,null,null,null,null,null,null,null,null,null,null,null,null,null,"Nick Chubb",6.4,16.7,"Miles Sanders","They tried to get him going as the lead back at the start of the season, squeeking out a couple of top 24 finishes","But by week 4 Chuba Hubbard started to take over and it was game over for Sanders"]
[null,null,null,null,null,null,null,null,null,null,null,null,null,null,null,null,null,null,null,null,null,null,null,null,null,null,null,null,null,null,null,null,null,null,null,null,127,"Ke'Shawn Vaughn","TAM",26,"RB",6,0,24,42,0,0,9,1.8,7,0,null,128,"Zay Jones","JAX",28,"WR",9,7,64,34,0.53100000000000003,321,9.4,2,14,36,5,3.8,35.700000000000003,0,null,null,null,null,null,null,null,null,null,null,null,null,null,null,null,null,null,null,null,null,null,null,null,null,null,null,null,null,null,null,null,null,null,null,null,null,null,null,null,null,null,null,null,null,null,null,null,null,null,"Chris Rodriguez",0.7,19.5,"Latavius Murray","Not fantasy-relevant"]
[null,null,null,null,null,null,null,null,null,null,null,null,null,null,null,null,null,null,null,null,null,null,null,null,null,null,null,null,null,null,null,null,null,null,null,null,128,"Tyson Bagent","CHI",23,"QB",5,4,23,109,2,11,20,4.7,21.8,3,null,129,"Luke Musgrave","GNB",23,"TE",11,9,46,34,0.73899999999999999,352,10.4,1,14,37,7.7,3.1,32,0,null,null,null,null,null,null,null,null,null,null,null,null,null,null,null,null,null,null,null,null,null,null,null,null,null,null,null,null,null,null,null,null,null,null,null,null,null,null,null,null,null,null,null,null,null,null,null,null,null,"Chase Brown",0.2,19.5,"Jerick McKinnon","Not fantasy-relevant","A couple of random spike performances from touchdowns out of the blue but never any level of trustable volume"]
[null,null,null,null,null,null,null,null,null,null,null,null,null,null,null,null,null,null,null,null,null,null,null,null,null,null,null,null,null,null,null,null,null,null,null,null,129,"Damien Harris","BUF",26,"RB",6,0,23,94,1,9,11,4.0999999999999996,15.7,0,null,130,"Allen Robinson","PIT",30,"WR",17,17,49,34,0.69399999999999995,280,8.1999999999999993,0,9,31,5.7,2,16.5,0,null,null,null,null,null,null,null,null,null,null,null,null,null,null,null,null,null,null,null,null,null,null,null,null,null,null,null,null,null,null,null,null,null,null,null,null,null,null,null,null,null,null,null,null,null,null,null,null,null,"AJ Dillon",1.1000000000000001,13.6,"Rico Dowdle","Not fantasy-relevant"]
[null,null,null,null,null,null,null,null,null,null,null,null,null,null,null,null,null,null,null,null,null,null,null,null,null,null,null,null,null,null,null,null,null,null,null,null,130,"Deuce Vaughn","DAL",22,"RB",7,0,23,40,0,1,13,1.7,5.7,0,null,131,"Noah Brown","HOU",27,"WR",10,7,55,33,0.6,567,17.2,2,24,75,10.3,3.3,56.7,0,null,null,null,null,null,null,null,null,null,null,null,null,null,null,null,null,null,null,null,null,null,null,null,null,null,null,null,null,null,null,null,null,null,null,null,null,null,null,null,null,null,null,null,null,null,null,null,null,null,"Samaje Perine",2.6,13.7,"Dameon Pierce","Not fantasy-relevant","Got lead-back volume through the first 8 weeks, but Singletary started to take more of it by week 6. Once he started missing time, Singletary became the lead back and never relinquished it again","Only 1 touchdown from 7 goal-line attempts"]
[null,null,null,null,null,null,null,null,null,null,null,null,null,null,null,null,null,null,null,null,null,null,null,null,null,null,null,null,null,null,null,null,null,null,null,null,131,"Israel Abanikanda","NYJ",21,"RB",6,0,22,70,0,3,12,3.2,11.7,1,null,132,"Zach Charbonnet","SEA",22,"RB",16,2,40,33,0.82499999999999996,209,6.3,0,7,39,5.2,2.1,13.1,0,null,null,null,null,null,null,null,null,null,null,null,null,null,null,null,null,null,null,null,null,null,null,null,null,null,null,null,null,null,null,null,null,null,null,null,null,null,null,null,null,null,null,null,null,null,null,null,null,null,"Emari Demercado",0,14,"Emari Demercado","Got an opportunity to be lead back with Conner injured and managed to get a few top 24 finishes but nothing to really help you in fantasy"]
[null,null,null,null,null,null,null,null,null,null,null,null,null,null,null,null,null,null,null,null,null,null,null,null,null,null,null,null,null,null,null,null,null,null,null,null,132,"Salvon Ahmed","MIA",25,"RB",8,0,22,61,1,3,10,2.8,7.6,0,null,133,"Taysom Hill","NOR",33,"QB",16,7,40,33,0.82499999999999996,291,8.8000000000000007,2,11,36,7.3,2.1,18.2,1,null,null,null,null,null,null,null,null,null,null,null,null,null,null,null,null,null,null,null,null,null,null,null,null,null,null,null,null,null,null,null,null,null,null,null,null,null,null,null,null,null,null,null,null,null,null,null,null,null,"Dameon Pierce",0.3,14.9,"Keaton Mitchell","Exploded on to the scene with an RB5 performance in week 9 and showed explosive promise","In reality, he had two massive plays in a blowout and not much else","He's capable of those explosive plays from nowhere but the floor is non-existent most of the time"]
[null,null,null,null,null,null,null,null,null,null,null,null,null,null,null,null,null,null,null,null,null,null,null,null,null,null,null,null,null,null,null,null,null,null,null,null,133,"La'Mical Perine","KAN",25,"RB",3,1,22,77,0,3,10,3.5,25.7,0,null,134,"DeVante Parker","NWE",30,"WR",13,13,55,33,0.6,394,11.9,0,17,30,7.2,2.5,30.3,0,null,null,null,null,null,null,null,null,null,null,null,null,null,null,null,null,null,null,null,null,null,null,null,null,null,null,null,null,null,null,null,null,null,null,null,null,null,null,null,null,null,null,null,null,null,null,null,null,null,"Antonio Gibson",2.9,16.5,"Clyde Edwards-Helaire","Not fantasy-relevant","RB9 in week 15 with no-one else available against a poor Patriots time, but nothing outside of that"]
[null,null,null,null,null,null,null,null,null,null,null,null,null,null,null,null,null,null,null,null,null,null,null,null,null,null,null,null,null,null,null,null,null,null,null,null,134,"Sam Darnold","SFO",26,"QB",10,1,21,15,1,3,9,0.7,1.5,3,null,135,"Rashod Bateman","BAL",24,"WR",16,12,56,32,0.57099999999999995,367,11.5,1,20,29,6.6,2,22.9,0,null,null,null,null,null,null,null,null,null,null,null,null,null,null,null,null,null,null,null,null,null,null,null,null,null,null,null,null,null,null,null,null,null,null,null,null,null,null,null,null,null,null,null,null,null,null,null,null,null,"Rico Dowdle",0.4,13.9,"Joshua Kelley","Not fantasy-relevant","Top 12 performance in week 1 when the Chargers had 40 (!) rush attempts but produced nothing else despite being the lead back for the next 3 weeks","Never saw double-digit opportunities again from week 6 on"]
[null,null,null,null,null,null,null,null,null,null,null,null,null,null,null,null,null,null,null,null,null,null,null,null,null,null,null,null,null,null,null,null,null,null,null,null,135,"Jerick McKinnon","KAN",31,"RB",12,0,21,60,1,7,10,2.9,5,0,null,136,"Noah Fant","SEA",26,"TE",17,17,43,32,0.74399999999999999,414,12.9,0,16,51,9.6,1.9,24.4,0,null,null,null,null,null,null,null,null,null,null,null,null,null,null,null,null,null,null,null,null,null,null,null,null,null,null,null,null,null,null,null,null,null,null,null,null,null,null,null,null,null,null,null,null,null,null,null,null,null,"Darrell Henderson",5.5,13.6,"Zamir White","Completely irrelevant until Jacobs got injured then stepped straight in to the lead role from weeks 15-17, producing 3 top 17 finishes","Exact definition of a classic handcuff - only relevant if the lead back misses time"]
[null,null,null,null,null,null,null,null,null,null,null,null,null,null,null,null,null,null,null,null,null,null,null,null,null,null,null,null,null,null,null,null,null,null,null,null,136,"Matthew Stafford","LAR",35,"QB",15,15,21,65,0,4,9,3.1,4.3,0,null,137,"Pat Freiermuth","PIT",25,"TE",12,9,47,32,0.68100000000000005,308,9.6,2,17,29,6.6,2.7,25.7,0,null,null,null,null,null,null,null,null,null,null,null,null,null,null,null,null,null,null,null,null,null,null,null,null,null,null,null,null,null,null,null,null,null,null,null,null,null,null,null,null,null,null,null,null,null,null,null,null,null,"Salvon Ahmed",1.1000000000000001,12.4,"Michael Carter","Not fantasy-relevant","Didn't get opportunities in the run game or receiving game in either New York or Arizona"]
[null,null,null,null,null,null,null,null,null,null,null,null,null,null,null,null,null,null,null,null,null,null,null,null,null,null,null,null,null,null,null,null,null,null,null,null,137,"Jimmy Garoppolo","LVR",32,"QB",7,6,20,39,0,6,9,2,5.6,1,null,138,"Alec Pierce","IND",23,"WR",17,16,65,32,0.49199999999999999,514,16.100000000000001,2,24,58,7.9,1.9,30.2,0,null,null,null,null,null,null,null,null,null,null,null,null,null,null,null,null,null,null,null,null,null,null,null,null,null,null,null,null,null,null,null,null,null,null,null,null,null,null,null,null,null,null,null,null,null,null,null,null,null,"Latavius Murray",0,14.9,"Michael Carter","Not fantasy-relevant","Didn't get opportunities in the run game or receiving game in either New York or Arizona"]
[null,null,null,null,null,null,null,null,null,null,null,null,null,null,null,null,null,null,null,null,null,null,null,null,null,null,null,null,null,null,null,null,null,null,null,null,138,"Boston Scott","PHI",28,"RB",15,0,20,86,0,5,18,4.3,5.7,1,null,139,"Kyren Williams","LAR",23,"RB",12,11,48,32,0.66700000000000004,206,6.4,3,9,24,4.3,2.7,17.2,3,null,null,null,null,null,null,null,null,null,null,null,null,null,null,null,null,null,null,null,null,null,null,null,null,null,null,null,null,null,null,null,null,null,null,null,null,null,null,null,null,null,null,null,null,null,null,null,null,null,"Matt Breida",-0.1,12.8,"Jamaal Williams","Not fantasy-relevant","Didn't get any opportunities of relevance and wasn’t the goal-line back like he was in Detroit"]
[null,null,null,null,null,null,null,null,null,null,null,null,null,null,null,null,null,null,null,null,null,null,null,null,null,null,null,null,null,null,null,null,null,null,null,null,139,"Chris Brooks","MIA",23,"RB",9,0,19,106,0,2,52,5.6,11.8,0,null,140,"Tucker Kraft","GNB",23,"TE",17,8,40,31,0.77500000000000002,355,11.5,2,18,43,8.9,1.8,20.9,0,null,null,null,null,null,null,null,null,null,null,null,null,null,null,null,null,null,null,null,null,null,null,null,null,null,null,null,null,null,null,null,null,null,null,null,null,null,null,null,null,null,null,null,null,null,null,null,null,null,"Zach Charbonnet",0.6,16.899999999999999,"Chase Brown","Not fantasy-relevant","Did start getting more work from week 13 onwards when the Bengals started pounding the run game, but produced nothing outside of a 54 yard receiving touchdown against the Colts"]
[null,null,null,null,null,null,null,null,null,null,null,null,null,null,null,null,null,null,null,null,null,null,null,null,null,null,null,null,null,null,null,null,null,null,null,null,140,"Eric Gray","NYG",24,"RB",13,0,17,48,0,2,12,2.8,3.7,3,null,141,"Jaleel McLaughlin","DEN",23,"RB",17,3,36,31,0.86099999999999999,160,5.2,2,5,22,4.4000000000000004,1.8,9.4,0,null,null,null,null,null,null,null,null,null,null,null,null,null,null,null,null,null,null,null,null,null,null,null,null,null,null,null,null,null,null,null,null,null,null,null,null,null,null,null,null,null,null,null,null,null,null,null,null,null,"Royce Freeman",0,13.7,"Matt Breida","Not fantasy-relevant","A bit of touchdown and PPR volume opportunity in weeks 3 & 4 with Saquon injured, produced top 24 finishes"]
[null,null,null,null,null,null,null,null,null,null,null,null,null,null,null,null,null,null,null,null,null,null,null,null,null,null,null,null,null,null,null,null,null,null,null,null,141,"Aidan O'Connell","LVR",25,"QB",11,10,17,11,1,7,3,0.6,1,4,null,142,"Darnell Mooney","CHI",26,"WR",15,14,61,31,0.50800000000000001,414,13.4,1,20,41,6.8,2.1,27.6,0,null,null,null,null,null,null,null,null,null,null,null,null,null,null,null,null,null,null,null,null,null,null,null,null,null,null,null,null,null,null,null,null,null,null,null,null,null,null,null,null,null,null,null,null,null,null,null,null,null,"J.K. Dobbins",11.7,11.7,"Cam Akers","Not fantasy-relevant","Kicked out of Los Angeles and then never made an impact in Minnesota despite a poor depth chart ahead of him"]
[null,null,null,null,null,null,null,null,null,null,null,null,null,null,null,null,null,null,null,null,null,null,null,null,null,null,null,null,null,null,null,null,null,null,null,null,142,"Ryan Tannehill","TEN",35,"QB",10,8,17,74,1,4,23,4.4000000000000004,7.4,4,null,143,"Kenneth Gainwell","PHI",24,"RB",16,2,37,30,0.81100000000000005,183,6.1,0,11,19,4.9000000000000004,1.9,11.4,3,null,null,null,null,null,null,null,null,null,null,null,null,null,null,null,null,null,null,null,null,null,null,null,null,null,null,null,null,null,null,null,null,null,null,null,null,null,null,null,null,null,null,null,null,null,null,null,null,null,"Tony Jones",0.5,15.4,"Cam Akers","Not fantasy-relevant","Kicked out of Los Angeles and then never made an impact in Minnesota despite a poor depth chart ahead of him"]
[null,null,null,null,null,null,null,null,null,null,null,null,null,null,null,null,null,null,null,null,null,null,null,null,null,null,null,null,null,null,null,null,null,null,null,null,143,"Carson Wentz","LAR",31,"QB",2,1,17,56,1,4,12,3.3,28,0,null,144,"Kylen Granson","IND",25,"TE",15,7,50,30,0.6,368,12.3,1,19,46,7.4,2,24.5,0,null,null,null,null,null,null,null,null,null,null,null,null,null,null,null,null,null,null,null,null,null,null,null,null,null,null,null,null,null,null,null,null,null,null,null,null,null,null,null,null,null,null,null,null,null,null,null,null,null,"Jordan Mason",0.3,12.9,"Dalvin Cook","Not fantasy-relevant","The cliff came quickly for Cook. Shared the load in week 1 while Breece got up to speed and then produced nothing after that"]
[null,null,null,null,null,null,null,null,null,null,null,null,null,null,null,null,null,null,null,null,null,null,null,null,null,null,null,null,null,null,null,null,null,null,null,null,144,"Bailey Zappe","NWE",24,"QB",10,6,17,83,1,6,18,4.9000000000000004,8.3000000000000007,2,null,145,"Aaron Jones","GNB",29,"RB",11,11,43,30,0.69799999999999995,233,7.8,1,13,51,5.4,2.7,21.2,2,null,null,null,null,null,null,null,null,null,null,null,null,null,null,null,null,null,null,null,null,null,null,null,null,null,null,null,null,null,null,null,null,null,null,null,null,null,null,null,null,null,null,null,null,null,null,null,null,null,"Kenneth Gainwell",1.5,11.4,"Royce Freeman","Not fantasy-relevant","Came out of nowhere to help the Rams when Kyren was injured, managed a couple of touchdowns, and disappeared from relevance as fast as he came"]
[null,null,null,null,null,null,null,null,null,null,null,null,null,null,null,null,null,null,null,null,null,null,null,null,null,null,null,null,null,null,null,null,null,null,null,null,145,"Kevin Harris","NWE",23,"RB",4,0,16,65,1,2,18,4.0999999999999996,16.3,0,null,146,"Isaiah Likely","BAL",23,"TE",17,8,40,30,0.75,411,13.7,5,15,54,10.3,1.8,24.2,0,null,null,null,null,null,null,null,null,null,null,null,null,null,null,null,null,null,null,null,null,null,null,null,null,null,null,null,null,null,null,null,null,null,null,null,null,null,null,null,null,null,null,null,null,null,null,null,null,null,"Kendre Miller",1.8,13,"Darrell Henderson","Not fantasy-relevant","Helped the Rams out when Kyren was injured and volumed his way to a couple of top 24 performances"]
[null,null,null,null,null,null,null,null,null,null,null,null,null,null,null,null,null,null,null,null,null,null,null,null,null,null,null,null,null,null,null,null,null,null,null,null,146,"Mitchell Trubisky","PIT",29,"QB",5,2,16,54,2,6,15,3.4,10.8,1,null,147,"Alexander Mattison","MIN",25,"RB",16,13,44,30,0.68200000000000005,192,6.4,3,5,47,4.4000000000000004,1.9,12,3,null,null,null,null,null,null,null,null,null,null,null,null,null,null,null,null,null,null,null,null,null,null,null,null,null,null,null,null,null,null,null,null,null,null,null,null,null,null,null,null,null,null,null,null,null,null,null,null,null,"Craig Reynolds",0,11.2,"Salvon Ahmed","Not fantasy-relevant","Managed a couple of top 24 finishes with touchdowns, 1 late in a blowout win and 1 filling in for Achane in the game he played 3 snaps"]
[null,null,null,null,null,null,null,null,null,null,null,null,null,null,null,null,null,null,null,null,null,null,null,null,null,null,null,null,null,null,null,null,null,null,null,null,147,"Ameer Abdullah","LVR",30,"RB",17,0,15,89,0,6,12,5.9,5.2,0,null,148,"Devin Singletary","HOU",26,"RB",17,10,38,30,0.78900000000000003,193,6.4,0,7,41,5.0999999999999996,1.8,11.4,1,null,null,null,null,null,null,null,null,null,null,null,null,null,null,null,null,null,null,null,null,null,null,null,null,null,null,null,null,null,null,null,null,null,null,null,null,null,null,null,null,null,null,null,null,null,null,null,null,null,"Darrynton Evans",0.5,13,"Chris Rodriguez","Not fantasy-relevant","Did get an RB7 performance in week 16 with Brian Robinson out injured. However he still only got 10 carries and needed 2 touchdowns to get there"]
[null,null,null,null,null,null,null,null,null,null,null,null,null,null,null,null,null,null,null,null,null,null,null,null,null,null,null,null,null,null,null,null,null,null,null,null,148,"Taylor Heinicke","ATL",30,"QB",5,4,15,124,1,5,24,8.3000000000000007,24.8,1,null,149,"Mike Gesicki","NWE",28,"TE",17,10,45,29,0.64400000000000002,244,8.4,2,11,18,5.4,1.7,14.4,0,null,null,null,null,null,null,null,null,null,null,null,null,null,null,null,null,null,null,null,null,null,null,null,null,null,null,null,null,null,null,null,null,null,null,null,null,null,null,null,null,null,null,null,null,null,null,null,null,null,"Kyle Juszczyk",0,12.6,"Ameer Abdullah","Not fantasy-relevant"]
[null,null,null,null,null,null,null,null,null,null,null,null,null,null,null,null,null,null,null,null,null,null,null,null,null,null,null,null,null,null,null,null,null,null,null,null,149,"Tyler Huntley","BAL",25,"QB",5,1,15,55,0,3,11,3.7,11,0,null,"Rk","Player","Tm","Age","Pos","G","GS","Tgt","Rec","Ctch%","Yds","Y/R","TD","1D","Lng","Y/Tgt","R/G","Y/G","Fmb",null,null,null,null,null,null,null,null,null,null,null,null,null,null,null,null,null,null,null,null,null,null,null,null,null,null,null,null,null,null,null,null,null,null,null,null,null,null,null,null,null,null,null,null,null,null,null,null,null,"Michael Carter",0,13.7,"Jordan Mason","Not fantasy-relevant"]
[null,null,null,null,null,null,null,null,null,null,null,null,null,null,null,null,null,null,null,null,null,null,null,null,null,null,null,null,null,null,null,null,null,null,null,null,"Rk","Player","Tm","Age","Pos","G","GS","Att","Yds","TD","1D","Lng","Y/A","Y/G","Fmb",null,150,"Najee Harris","PIT",25,"RB",17,17,38,29,0.76300000000000001,170,5.9,0,9,32,4.5,1.7,10,2,null,null,null,null,null,null,null,null,null,null,null,null,null,null,null,null,null,null,null,null,null,null,null,null,null,null,null,null,null,null,null,null,null,null,null,null,null,null,null,null,null,null,null,null,null,null,null,null,null,"Elijah Mitchell",-0.3,14,"Kyle Juszczyk","Not fantasy-relevant","Full Back"]
[null,null,null,null,null,null,null,null,null,null,null,null,null,null,null,null,null,null,null,null,null,null,null,null,null,null,null,null,null,null,null,null,null,null,null,null,150,"Sean Tucker","TAM",22,"RB",11,0,15,23,0,1,7,1.5,2.1,0,null,151,"Brandon Powell","MIN",28,"WR",17,2,44,29,0.65900000000000003,324,11.2,1,18,28,7.4,1.7,19.100000000000001,1,null,null,null,null,null,null,null,null,null,null,null,null,null,null,null,null,null,null,null,null,null,null,null,null,null,null,null,null,null,null,null,null,null,null,null,null,null,null,null,null,null,null,null,null,null,null,null,null,null,"Ty Johnson",0.2,14.8,"Pierre Strong","Not fantasy-relevant"]
[null,null,null,null,null,null,null,null,null,null,null,null,null,null,null,null,null,null,null,null,null,null,null,null,null,null,null,null,null,null,null,null,null,null,null,null,151,"Trayveon Williams","CIN",26,"RB",17,0,15,69,0,2,15,4.5999999999999996,4.0999999999999996,0,null,152,"JuJu Smith-Schuster","NWE",27,"WR",11,7,47,29,0.61699999999999999,260,9,1,13,37,5.5,2.6,23.6,0,null,null,null,null,null,null,null,null,null,null,null,null,null,null,null,null,null,null,null,null,null,null,null,null,null,null,null,null,null,null,null,null,null,null,null,null,null,null,null,null,null,null,null,null,null,null,null,null,null,"Deon Jackson",0.2,7.8,"Jeff Wilson","Not fantasy-relevant","Dropped down the depth chart with the emergence of Achane"]
[null,null,null,null,null,null,null,null,null,null,null,null,null,null,null,null,null,null,null,null,null,null,null,null,null,null,null,null,null,null,null,null,null,null,null,null,152,"Raheem Blackshear","CAR",24,"RB",12,0,14,46,0,1,9,3.3,3.8,0,null,153,"Kenneth Walker","SEA",23,"RB",15,15,37,29,0.78400000000000003,259,8.9,1,9,64,7,1.9,17.3,1,null,null,null,null,null,null,null,null,null,null,null,null,null,null,null,null,null,null,null,null,null,null,null,null,null,null,null,null,null,null,null,null,null,null,null,null,null,null,null,null,null,null,null,null,null,null,null,null,null,"Melvin Gordon",5.4,7.5,"Chase Edmonds","Not fantasy-relevant"]
[null,null,null,null,null,null,null,null,null,null,null,null,null,null,null,null,null,null,null,null,null,null,null,null,null,null,null,null,null,null,null,null,null,null,null,null,153,"Kirk Cousins","MIN",35,"QB",8,8,14,25,0,6,10,1.8,3.1,7,null,154,"Noah Gray","KAN",24,"TE",17,10,41,28,0.68300000000000005,305,10.9,2,16,34,7.4,1.6,17.899999999999999,0,null,null,null,null,null,null,null,null,null,null,null,null,null,null,null,null,null,null,null,null,null,null,null,null,null,null,null,null,null,null,null,null,null,null,null,null,null,null,null,null,null,null,null,null,null,null,null,null,null,"Nick Bawden",0.3,6.1,"D'Ernest Johnson","Not fantasy-relevant"]
[null,null,null,null,null,null,null,null,null,null,null,null,null,null,null,null,null,null,null,null,null,null,null,null,null,null,null,null,null,null,null,null,null,null,null,null,154,"Derius Davis","LAC",23,"WR",17,2,14,101,0,5,51,7.2,5.9,3,null,155,"Derrick Henry","TEN",29,"RB",17,17,36,28,0.77800000000000002,214,7.6,0,7,46,5.9,1.6,12.6,0,null,null,null,null,null,null,null,null,null,null,null,null,null,null,null,null,null,null,null,null,null,null,null,null,null,null,null,null,null,null,null,null,null,null,null,null,null,null,null,null,null,null,null,null,null,null,null,null,null,"Cam Akers",2.5,9.5,"Cordarrelle Patterson","Not fantasy-relevant"]
[null,null,null,null,null,null,null,null,null,null,null,null,null,null,null,null,null,null,null,null,null,null,null,null,null,null,null,null,null,null,null,null,null,null,null,null,155,"Deon Jackson","3TM",24,"RB",4,1,14,16,0,1,7,1.1000000000000001,4,2,null,156,"Justice Hill","BAL",26,"RB",16,5,39,28,0.71799999999999997,206,7.4,1,8,24,5.3,1.8,12.9,1,null,null,null,null,null,null,null,null,null,null,null,null,null,null,null,null,null,null,null,null,null,null,null,null,null,null,null,null,null,null,null,null,null,null,null,null,null,null,null,null,null,null,null,null,null,null,null,null,null,"Damien Williams",0.2,5.4,"Craig Reynolds","Not fantasy-relevant"]
[null,null,null,null,null,null,null,null,null,null,null,null,null,null,null,null,null,null,null,null,null,null,null,null,null,null,null,null,null,null,null,null,null,null,null,null,156,"CeeDee Lamb","DAL",24,"WR",17,17,14,113,2,6,24,8.1,6.6,3,null,157,"Christian Watson","GNB",24,"WR",9,9,53,28,0.52800000000000002,422,15.1,5,20,77,8,3.1,46.9,0,null,null,null,null,null,null,null,null,null,null,null,null,null,null,null,null,null,null,null,null,null,null,null,null,null,null,null,null,null,null,null,null,null,null,null,null,null,null,null,null,null,null,null,null,null,null,null,null,null,"Kenyan Drake",0,5.0999999999999996,"Elijah Mitchell","Not fantasy-relevant","Missed a lot of time through injury, still the RB2 behind CMC when fit"]
[null,null,null,null,null,null,null,null,null,null,null,null,null,null,null,null,null,null,null,null,null,null,null,null,null,null,null,null,null,null,null,null,null,null,null,null,157,"Dorian Thompson-Robinson","CLE",24,"QB",8,3,14,65,0,4,12,4.5999999999999996,8.1,2,null,158,"Nick Westbrook-Ikhine","TEN",26,"WR",14,9,45,28,0.622,370,13.2,3,18,33,8.1999999999999993,2,26.4,0,null,null,null,null,null,null,null,null,null,null,null,null,null,null,null,null,null,null,null,null,null,null,null,null,null,null,null,null,null,null,null,null,null,null,null,null,null,null,null,null,null,null,null,null,null,null,null,null,null,"Jamaal Williams",1.4,11.1,"Tony Jones","Not fantasy-relevant"]
[null,null,null,null,null,null,null,null,null,null,null,null,null,null,null,null,null,null,null,null,null,null,null,null,null,null,null,null,null,null,null,null,null,null,null,null,158,"Emanuel Wilson","GNB",24,"RB",7,0,14,85,0,2,31,6.1,12.1,1,null,159,"De'Von Achane","MIA",22,"RB",11,4,37,27,0.73,197,7.3,3,10,23,5.3,2.5,17.899999999999999,1,null,null,null,null,null,null,null,null,null,null,null,null,null,null,null,null,null,null,null,null,null,null,null,null,null,null,null,null,null,null,null,null,null,null,null,null,null,null,null,null,null,null,null,null,null,null,null,null,null,"Hunter Luepke",0,6.4,"Tony Jones","Not fantasy-relevant"]
[null,null,null,null,null,null,null,null,null,null,null,null,null,null,null,null,null,null,null,null,null,null,null,null,null,null,null,null,null,null,null,null,null,null,null,null,159,"Kyle Allen","BUF",27,"QB",7,0,13,-13,0,0,0,-1,-1.9,0,null,160,"Braxton Berrios","MIA",28,"WR",16,1,33,27,0.81799999999999995,238,8.8000000000000007,1,15,22,7.2,1.7,14.9,1,null,null,null,null,null,null,null,null,null,null,null,null,null,null,null,null,null,null,null,null,null,null,null,null,null,null,null,null,null,null,null,null,null,null,null,null,null,null,null,null,null,null,null,null,null,null,null,null,null,"Chris Brooks",1.2,6.6,"Darrynton Evans","Not fantasy-relevant"]
[null,null,null,null,null,null,null,null,null,null,null,null,null,null,null,null,null,null,null,null,null,null,null,null,null,null,null,null,null,null,null,null,null,null,null,null,160,"Tyler Goodson","IND",23,"RB",6,1,13,87,0,4,31,6.7,14.5,0,null,161,"James Conner","ARI",28,"RB",13,13,33,27,0.81799999999999995,165,6.1,2,11,34,5,2.1,12.7,0,null,null,null,null,null,null,null,null,null,null,null,null,null,null,null,null,null,null,null,null,null,null,null,null,null,null,null,null,null,null,null,null,null,null,null,null,null,null,null,null,null,null,null,null,null,null,null,null,null,"Pierre Strong",0,9.1999999999999993,"Darrynton Evans","Not fantasy-relevant"]
[null,null,null,null,null,null,null,null,null,null,null,null,null,null,null,null,null,null,null,null,null,null,null,null,null,null,null,null,null,null,null,null,null,null,null,null,161,"P.J. Walker","CLE",28,"QB",6,2,13,30,0,3,9,2.2999999999999998,5,4,null,162,"Zach Ertz","ARI",33,"TE",7,7,43,27,0.628,187,6.9,1,8,17,4.3,3.9,26.7,0,null,null,null,null,null,null,null,null,null,null,null,null,null,null,null,null,null,null,null,null,null,null,null,null,null,null,null,null,null,null,null,null,null,null,null,null,null,null,null,null,null,null,null,null,null,null,null,null,null,"Dalvin Cook",0,8.9,"Ty Johnson","Not fantasy-relevant"]
[null,null,null,null,null,null,null,null,null,null,null,null,null,null,null,null,null,null,null,null,null,null,null,null,null,null,null,null,null,null,null,null,null,null,null,null,162,"Leonard Fournette","BUF",28,"RB",2,0,12,40,0,2,9,3.3,20,0,null,163,"Michael Mayer","LVR",22,"TE",14,12,40,27,0.67500000000000004,304,11.3,2,19,32,7.6,1.9,21.7,0,null,null,null,null,null,null,null,null,null,null,null,null,null,null,null,null,null,null,null,null,null,null,null,null,null,null,null,null,null,null,null,null,null,null,null,null,null,null,null,null,null,null,null,null,null,null,null,null,null,"Elijah Dotson",3.9,3.9,"Patrick Taylor","Not fantasy-relevant"]
[null,null,null,null,null,null,null,null,null,null,null,null,null,null,null,null,null,null,null,null,null,null,null,null,null,null,null,null,null,null,null,null,null,null,null,null,163,"Puka Nacua","LAR",22,"WR",17,17,12,89,0,5,31,7.4,5.2,1,null,164,"Zack Moss","IND",26,"RB",14,8,37,27,0.73,192,7.1,2,10,26,5.2,1.9,13.7,0,null,null,null,null,null,null,null,null,null,null,null,null,null,null,null,null,null,null,null,null,null,null,null,null,null,null,null,null,null,null,null,null,null,null,null,null,null,null,null,null,null,null,null,null,null,null,null,null,null,"Gary Brightwell",2.9,5.6,"Kendre Miller","Not fantasy-relevant"]
[null,null,null,null,null,null,null,null,null,null,null,null,null,null,null,null,null,null,null,null,null,null,null,null,null,null,null,null,null,null,null,null,null,null,null,null,164,"Cooper Rush","DAL",30,"QB",7,0,12,-5,0,1,6,-0.4,-0.7,0,null,165,"Donald Parham","LAC",26,"TE",14,8,41,27,0.65900000000000003,285,10.6,4,22,24,7,1.9,20.399999999999999,0,null,null,null,null,null,null,null,null,null,null,null,null,null,null,null,null,null,null,null,null,null,null,null,null,null,null,null,null,null,null,null,null,null,null,null,null,null,null,null,null,null,null,null,null,null,null,null,null,null,"Keith Smith",0.9,3.8,"Tank Bigsby","Not fantasy-relevant","Was expected to take some of the hammer work and potential goal-line opportunities. Got some goal-line opportunties early but completely irrelevant"]
[null,null,null,null,null,null,null,null,null,null,null,null,null,null,null,null,null,null,null,null,null,null,null,null,null,null,null,null,null,null,null,null,null,null,null,null,165,"Laviska Shenault","CAR",25,"WR",8,0,12,55,0,3,11,4.5999999999999996,6.9,1,null,166,"Miles Sanders","CAR",26,"RB",16,5,41,27,0.65900000000000003,154,5.7,0,8,14,3.8,1.7,9.6,2,null,null,null,null,null,null,null,null,null,null,null,null,null,null,null,null,null,null,null,null,null,null,null,null,null,null,null,null,null,null,null,null,null,null,null,null,null,null,null,null,null,null,null,null,null,null,null,null,null,"Tank Bigsby",-0.2,7.3,"Alec Ingold","Not fantasy-relevant","Full Back"]
[null,null,null,null,null,null,null,null,null,null,null,null,null,null,null,null,null,null,null,null,null,null,null,null,null,null,null,null,null,null,null,null,null,null,null,null,166,"Calvin Austin","PIT",24,"WR",17,1,11,57,1,4,12,5.2,3.4,2,null,167,"Kadarius Toney","KAN",24,"WR",13,2,38,27,0.71099999999999997,169,6.3,1,12,18,4.4000000000000004,2.1,13,1,null,null,null,null,null,null,null,null,null,null,null,null,null,null,null,null,null,null,null,null,null,null,null,null,null,null,null,null,null,null,null,null,null,null,null,null,null,null,null,null,null,null,null,null,null,null,null,null,null,"Raheem Blackshear",0.6,5.0999999999999996,"Nick Chubb","Over 100 yards on the ground in week 1, another 64 yards off 10 touches in week 2 before a brutal injury ruled him out for the rest of the season","Was absolutely looking like the elite running back we expected before the injury"]
[null,null,null,null,null,null,null,null,null,null,null,null,null,null,null,null,null,null,null,null,null,null,null,null,null,null,null,null,null,null,null,null,null,null,null,null,167,"Tank Dell","HOU",24,"WR",11,8,11,51,0,3,13,4.5999999999999996,4.5999999999999996,1,null,168,"Justin Watson","KAN",27,"WR",16,8,53,27,0.50900000000000001,460,17,3,21,41,8.6999999999999993,1.7,28.8,1,null,null,null,null,null,null,null,null,null,null,null,null,null,null,null,null,null,null,null,null,null,null,null,null,null,null,null,null,null,null,null,null,null,null,null,null,null,null,null,null,null,null,null,null,null,null,null,null,null,"Jake Funk",3.2,3.2,"Trey Sermon","Not fantasy-relevant"]
[null,null,null,null,null,null,null,null,null,null,null,null,null,null,null,null,null,null,null,null,null,null,null,null,null,null,null,null,null,null,null,null,null,null,null,null,168,"Rashaad Penny","PHI",27,"RB",3,0,11,33,0,1,7,3,11,0,null,169,"Demarcus Robinson","LAR",29,"WR",16,4,39,26,0.66700000000000004,371,14.3,4,20,37,9.5,1.6,23.2,2,null,null,null,null,null,null,null,null,null,null,null,null,null,null,null,null,null,null,null,null,null,null,null,null,null,null,null,null,null,null,null,null,null,null,null,null,null,null,null,null,null,null,null,null,null,null,null,null,null,"Damien Harris",0.1,9.3000000000000007,"Melvin Gordon","Not fantasy-relevant"]
[null,null,null,null,null,null,null,null,null,null,null,null,null,null,null,null,null,null,null,null,null,null,null,null,null,null,null,null,null,null,null,null,null,null,null,null,169,"Jayden Reed","GNB",23,"WR",16,13,11,119,2,6,32,10.8,7.4,2,null,170,"Daniel Bellinger","NYG",23,"TE",17,13,28,25,0.89300000000000002,255,10.199999999999999,0,6,26,9.1,1.5,15,0,null,null,null,null,null,null,null,null,null,null,null,null,null,null,null,null,null,null,null,null,null,null,null,null,null,null,null,null,null,null,null,null,null,null,null,null,null,null,null,null,null,null,null,null,null,null,null,null,null,"Anthony McFarland",3.1,3.1,"Kevin Harris","Not fantasy-relevant"]
[null,null,null,null,null,null,null,null,null,null,null,null,null,null,null,null,null,null,null,null,null,null,null,null,null,null,null,null,null,null,null,null,null,null,null,null,170,"Trevor Siemian","NYJ",32,"QB",5,3,11,40,0,5,13,3.6,8,5,null,171,"Austin Hooper","LVR",29,"TE",17,9,31,25,0.80600000000000005,234,9.4,0,12,21,7.5,1.5,13.8,0,null,null,null,null,null,null,null,null,null,null,null,null,null,null,null,null,null,null,null,null,null,null,null,null,null,null,null,null,null,null,null,null,null,null,null,null,null,null,null,null,null,null,null,null,null,null,null,null,null,"Alec Ingold",0,5.4,"Damien Harris","Not fantasy-relevant","Injured since week 6 but wasn’t doing much even before that"]
[null,null,null,null,null,null,null,null,null,null,null,null,null,null,null,null,null,null,null,null,null,null,null,null,null,null,null,null,null,null,null,null,null,null,null,null,171,"Kadarius Toney","KAN",24,"WR",13,2,11,31,0,2,14,2.8,2.4,1,null,172,"Trenton Irwin","CIN",28,"WR",16,5,32,25,0.78100000000000003,316,12.6,1,15,32,9.9,1.6,19.8,2,null,null,null,null,null,null,null,null,null,null,null,null,null,null,null,null,null,null,null,null,null,null,null,null,null,null,null,null,null,null,null,null,null,null,null,null,null,null,null,null,null,null,null,null,null,null,null,null,null,"Ronnie Rivers",0.1,7.7,"Isaiah Spiller","Not fantasy-relevant","Couldn’t break through even with Ekeler's struggles"]
[null,null,null,null,null,null,null,null,null,null,null,null,null,null,null,null,null,null,null,null,null,null,null,null,null,null,null,null,null,null,null,null,null,null,null,null,172,"KaVontae Turpin","DAL",27,"WR",16,0,11,110,1,5,46,10,6.9,1,null,173,"Jerick McKinnon","KAN",31,"RB",12,0,32,25,0.78100000000000003,192,7.7,4,10,27,6,2.1,16,0,null,null,null,null,null,null,null,null,null,null,null,null,null,null,null,null,null,null,null,null,null,null,null,null,null,null,null,null,null,null,null,null,null,null,null,null,null,null,null,null,null,null,null,null,null,null,null,null,null,"Boston Scott",0.3,4,"Tyler Goodson","Not fantasy-relevant"]
[null,null,null,null,null,null,null,null,null,null,null,null,null,null,null,null,null,null,null,null,null,null,null,null,null,null,null,null,null,null,null,null,null,null,null,null,173,"Damien Williams","ARI",31,"RB",3,0,11,43,0,1,9,3.9,14.3,0,null,174,"Raheem Mostert","MIA",31,"RB",15,15,32,25,0.78100000000000003,175,7,3,6,22,5.5,1.7,11.7,4,null,null,null,null,null,null,null,null,null,null,null,null,null,null,null,null,null,null,null,null,null,null,null,null,null,null,null,null,null,null,null,null,null,null,null,null,null,null,null,null,null,null,null,null,null,null,null,null,null,"Patrick Taylor",0.1,7.2,"Israel Abanikanda","Not fantasy-relevant","Inactive for most of the season, started to get some playing time towards the end of the season but nothing productive"]
[null,null,null,null,null,null,null,null,null,null,null,null,null,null,null,null,null,null,null,null,null,null,null,null,null,null,null,null,null,null,null,null,null,null,null,null,174,"DeeJay Dallas","SEA",25,"RB",17,0,10,36,0,2,8,3.6,2.1,2,null,175,"Colby Parkinson","SEA",24,"TE",17,1,34,25,0.73499999999999999,247,9.9,2,11,27,7.3,1.5,14.5,0,null,null,null,null,null,null,null,null,null,null,null,null,null,null,null,null,null,null,null,null,null,null,null,null,null,null,null,null,null,null,null,null,null,null,null,null,null,null,null,null,null,null,null,null,null,null,null,null,null,"Deuce Vaughn",0.8,6.2,"Boston Scott","Not fantasy-relevant","Didn't even score past the Giants this season"]
[null,null,null,null,null,null,null,null,null,null,null,null,null,null,null,null,null,null,null,null,null,null,null,null,null,null,null,null,null,null,null,null,null,null,null,null,175,"Nick Mullens","MIN",28,"QB",5,3,10,25,0,4,6,2.5,5,2,null,176,"Hunter Renfrow","LVR",28,"WR",17,3,37,25,0.67600000000000005,255,10.199999999999999,0,11,38,6.9,1.5,15,1,null,null,null,null,null,null,null,null,null,null,null,null,null,null,null,null,null,null,null,null,null,null,null,null,null,null,null,null,null,null,null,null,null,null,null,null,null,null,null,null,null,null,null,null,null,null,null,null,null,"Keaontay Ingram",-0.4,7.1,"Patrick Ricard","Not fantasy-relevant","Full Back"]
[null,null,null,null,null,null,null,null,null,null,null,null,null,null,null,null,null,null,null,null,null,null,null,null,null,null,null,null,null,null,null,null,null,null,null,null,176,"Mason Rudolph","PIT",28,"QB",4,3,10,8,0,4,7,0.8,2,3,null,177,"Michael Carter","2TM",24,"RB",15,0,31,24,0.77400000000000002,101,4.2,1,5,10,3.3,1.6,6.7,0,null,null,null,null,null,null,null,null,null,null,null,null,null,null,null,null,null,null,null,null,null,null,null,null,null,null,null,null,null,null,null,null,null,null,null,null,null,null,null,null,null,null,null,null,null,null,null,null,null,"Rashaad Penny",0.8,2.4,"Trayveon Williams","Not fantasy-relevant"]
[null,null,null,null,null,null,null,null,null,null,null,null,null,null,null,null,null,null,null,null,null,null,null,null,null,null,null,null,null,null,null,null,null,null,null,null,177,"Tre Tucker","LVR",22,"WR",16,1,10,77,0,4,34,7.7,4.8,0,null,178,"Greg Dortch","ARI",25,"WR",16,4,41,24,0.58499999999999996,280,11.7,2,14,38,6.8,1.5,17.5,0,null,null,null,null,null,null,null,null,null,null,null,null,null,null,null,null,null,null,null,null,null,null,null,null,null,null,null,null,null,null,null,null,null,null,null,null,null,null,null,null,null,null,null,null,null,null,null,null,null,"Devine Ozigbo",2.2999999999999998,2.2999999999999998,"Deuce Vaughn","Not fantasy-relevant"]
[null,null,null,null,null,null,null,null,null,null,null,null,null,null,null,null,null,null,null,null,null,null,null,null,null,null,null,null,null,null,null,null,null,null,null,null,178,"Gary Brightwell","NYG",24,"RB",7,0,9,19,0,0,5,2.1,2.7,0,null,179,"Jameson Williams","DET",22,"WR",12,10,42,24,0.57099999999999995,354,14.8,2,14,63,8.4,2,29.5,1,null,null,null,null,null,null,null,null,null,null,null,null,null,null,null,null,null,null,null,null,null,null,null,null,null,null,null,null,null,null,null,null,null,null,null,null,null,null,null,null,null,null,null,null,null,null,null,null,null,"C.J. Ham",0.7,2.7,"Ronnie Rivers","Not fantasy-relevant"]
[null,null,null,null,null,null,null,null,null,null,null,null,null,null,null,null,null,null,null,null,null,null,null,null,null,null,null,null,null,null,null,null,null,null,null,null,179,"Zach Evans","LAR",22,"RB",10,0,9,19,0,0,5,2.1,1.9,0,null,"Rk","Player","Tm","Age","Pos","G","GS","Tgt","Rec","Ctch%","Yds","Y/R","TD","1D","Lng","Y/Tgt","R/G","Y/G","Fmb",null,null,null,null,null,null,null,null,null,null,null,null,null,null,null,null,null,null,null,null,null,null,null,null,null,null,null,null,null,null,null,null,null,null,null,null,null,null,null,null,null,null,null,null,null,null,null,null,null,"Jakob Johnson",2.2000000000000002,2.2000000000000002,"Emanuel Wilson","Not fantasy-relevant"]
[null,null,null,null,null,null,null,null,null,null,null,null,null,null,null,null,null,null,null,null,null,null,null,null,null,null,null,null,null,null,null,null,null,null,null,null,"Rk","Player","Tm","Age","Pos","G","GS","Att","Yds","TD","1D","Lng","Y/A","Y/G","Fmb",null,180,"Connor Heyward","PIT",24,"TE",17,7,34,23,0.67600000000000005,167,7.3,0,8,13,4.9000000000000004,1.4,9.8000000000000007,0,null,null,null,null,null,null,null,null,null,null,null,null,null,null,null,null,null,null,null,null,null,null,null,null,null,null,null,null,null,null,null,null,null,null,null,null,null,null,null,null,null,null,null,null,null,null,null,null,null,"Mike Boone",0,4.8,"Raheem Blackshear","Not fantasy-relevant"]
[null,null,null,null,null,null,null,null,null,null,null,null,null,null,null,null,null,null,null,null,null,null,null,null,null,null,null,null,null,null,null,null,null,null,null,null,180,"Joe Flacco","CLE",38,"QB",5,5,9,2,0,3,3,0.2,0.4,4,null,181,"Jalin Hyatt","NYG",22,"WR",17,7,40,23,0.57499999999999996,373,16.2,0,11,58,9.3000000000000007,1.4,21.9,1,null,null,null,null,null,null,null,null,null,null,null,null,null,null,null,null,null,null,null,null,null,null,null,null,null,null,null,null,null,null,null,null,null,null,null,null,null,null,null,null,null,null,null,null,null,null,null,null,null,"Tyrion Davis-Price",2.1,2.1,"Keaontay Ingram","Not fantasy-relevant"]
[null,null,null,null,null,null,null,null,null,null,null,null,null,null,null,null,null,null,null,null,null,null,null,null,null,null,null,null,null,null,null,null,null,null,null,null,181,"Marvin Mims","DEN",21,"WR",16,7,9,30,0,2,11,3.3,1.9,2,null,182,"Allen Lazard","NYJ",28,"WR",14,12,49,23,0.46899999999999997,311,13.5,1,17,39,6.3,1.6,22.2,0,null,null,null,null,null,null,null,null,null,null,null,null,null,null,null,null,null,null,null,null,null,null,null,null,null,null,null,null,null,null,null,null,null,null,null,null,null,null,null,null,null,null,null,null,null,null,null,null,null,"Chris Evans",2.1,2.1,"Mike Boone","Not fantasy-relevant"]
[null,null,null,null,null,null,null,null,null,null,null,null,null,null,null,null,null,null,null,null,null,null,null,null,null,null,null,null,null,null,null,null,null,null,null,null,182,"Elijah Moore","CLE",23,"WR",17,12,9,11,0,2,19,1.2,0.6,2,null,183,"Tommy Tremble","CAR",23,"TE",16,8,32,23,0.71899999999999997,194,8.4,3,10,30,6.1,1.4,12.1,0,null,null,null,null,null,null,null,null,null,null,null,null,null,null,null,null,null,null,null,null,null,null,null,null,null,null,null,null,null,null,null,null,null,null,null,null,null,null,null,null,null,null,null,null,null,null,null,null,null,"Adam Prentice",2,2.4,"Hunter Luepke","Not fantasy-relevant"]
[null,null,null,null,null,null,null,null,null,null,null,null,null,null,null,null,null,null,null,null,null,null,null,null,null,null,null,null,null,null,null,null,null,null,null,null,183,"Calvin Ridley","JAX",29,"WR",17,17,9,23,0,3,18,2.6,1.4,1,null,184,"AJ Dillon","GNB",25,"RB",15,6,28,22,0.78600000000000003,223,10.1,0,10,35,8,1.5,14.9,0,null,null,null,null,null,null,null,null,null,null,null,null,null,null,null,null,null,null,null,null,null,null,null,null,null,null,null,null,null,null,null,null,null,null,null,null,null,null,null,null,null,null,null,null,null,null,null,null,null,"Eric Gray",0.2,3.6,"DeeJay Dallas","Not fantasy-relevant"]
[null,null,null,null,null,null,null,null,null,null,null,null,null,null,null,null,null,null,null,null,null,null,null,null,null,null,null,null,null,null,null,null,null,null,null,null,184,"Wan'Dale Robinson","NYG",22,"WR",15,8,9,87,1,4,32,9.6999999999999993,5.8,0,null,185,"Dawson Knox","BUF",27,"TE",12,11,36,22,0.61099999999999999,186,8.5,2,13,17,5.2,1.8,15.5,0,null,null,null,null,null,null,null,null,null,null,null,null,null,null,null,null,null,null,null,null,null,null,null,null,null,null,null,null,null,null,null,null,null,null,null,null,null,null,null,null,null,null,null,null,null,null,null,null,null,"Ke'Shawn Vaughn",0,2.9,"J.K. Dobbins","Tore his achilles in the 3rd quarter of week 1 - still finished RB23 that week so was tracking well"]
[null,null,null,null,null,null,null,null,null,null,null,null,null,null,null,null,null,null,null,null,null,null,null,null,null,null,null,null,null,null,null,null,null,null,null,null,185,"Jarrett Stidham","DEN",27,"QB",3,2,9,8,0,1,4,0.9,2.7,1,null,186,"Marvin Mims","DEN",21,"WR",16,7,33,22,0.66700000000000004,377,17.100000000000001,1,9,60,11.4,1.4,23.6,2,null,null,null,null,null,null,null,null,null,null,null,null,null,null,null,null,null,null,null,null,null,null,null,null,null,null,null,null,null,null,null,null,null,null,null,null,null,null,null,null,null,null,null,null,null,null,null,null,null,"Patrick Ricard",0,7.4,"Gary Brightwell","Not fantasy-relevant"]
[null,null,null,null,null,null,null,null,null,null,null,null,null,null,null,null,null,null,null,null,null,null,null,null,null,null,null,null,null,null,null,null,null,null,null,null,186,"C.J. Beathard","JAX",30,"QB",7,1,8,35,0,2,19,4.4000000000000004,5,1,null,187,"Chris Moore","TEN",30,"WR",17,5,35,22,0.629,424,19.3,0,16,49,12.1,1.3,24.9,1,null,null,null,null,null,null,null,null,null,null,null,null,null,null,null,null,null,null,null,null,null,null,null,null,null,null,null,null,null,null,null,null,null,null,null,null,null,null,null,null,null,null,null,null,null,null,null,null,null,"Ameer Abdullah",0,6.5,"Nick Bawden","Not fantasy-relevant"]
[null,null,null,null,null,null,null,null,null,null,null,null,null,null,null,null,null,null,null,null,null,null,null,null,null,null,null,null,null,null,null,null,null,null,null,null,187,"Khari Blasingame","CHI",27,"FB",16,2,8,26,0,0,6,3.3,1.6,0,null,188,"Josh Oliver","MIN",26,"TE",17,14,28,22,0.78600000000000003,213,9.6999999999999993,2,12,33,7.6,1.3,12.5,1,null,null,null,null,null,null,null,null,null,null,null,null,null,null,null,null,null,null,null,null,null,null,null,null,null,null,null,null,null,null,null,null,null,null,null,null,null,null,null,null,null,null,null,null,null,null,null,null,null,"Ty Montgomery",0,3.6,"Chris Brooks","Not fantasy-relevant"]
[null,null,null,null,null,null,null,null,null,null,null,null,null,null,null,null,null,null,null,null,null,null,null,null,null,null,null,null,null,null,null,null,null,null,null,null,188,"J.K. Dobbins","BAL",25,"RB",1,1,8,22,1,1,4,2.8,22,0,null,189,"Drew Sample","CIN",27,"TE",17,10,27,22,0.81499999999999995,163,7.4,2,9,22,6,1.3,9.6,0,null,null,null,null,null,null,null,null,null,null,null,null,null,null,null,null,null,null,null,null,null,null,null,null,null,null,null,null,null,null,null,null,null,null,null,null,null,null,null,null,null,null,null,null,null,null,null,null,null,"Sean Tucker",0,4.4000000000000004,"C.J. Ham","Not fantasy-relevant","Full Back"]
[null,null,null,null,null,null,null,null,null,null,null,null,null,null,null,null,null,null,null,null,null,null,null,null,null,null,null,null,null,null,null,null,null,null,null,null,189,"Demario Douglas","NWE",23,"WR",14,7,8,41,0,2,20,5.0999999999999996,2.9,3,null,190,"Jalen Tolbert","DAL",24,"WR",17,6,36,22,0.61099999999999999,268,12.2,2,13,45,7.4,1.3,15.8,1,null,null,null,null,null,null,null,null,null,null,null,null,null,null,null,null,null,null,null,null,null,null,null,null,null,null,null,null,null,null,null,null,null,null,null,null,null,null,null,null,null,null,null,null,null,null,null,null,null,"Evan Hull",1.7,1.7,"Ty Montgomery","Not fantasy-relevant"]
[null,null,null,null,null,null,null,null,null,null,null,null,null,null,null,null,null,null,null,null,null,null,null,null,null,null,null,null,null,null,null,null,null,null,null,null,190,"Zay Flowers","BAL",23,"WR",16,16,8,56,1,1,37,7,3.5,0,null,191,"Adam Trautman","DEN",26,"TE",17,12,35,22,0.629,204,9.3000000000000007,3,10,24,5.8,1.3,12,0,null,null,null,null,null,null,null,null,null,null,null,null,null,null,null,null,null,null,null,null,null,null,null,null,null,null,null,null,null,null,null,null,null,null,null,null,null,null,null,null,null,null,null,null,null,null,null,null,null,"Cordarrelle Patterson",0,7,"Eric Gray","Not fantasy-relevant"]
[null,null,null,null,null,null,null,null,null,null,null,null,null,null,null,null,null,null,null,null,null,null,null,null,null,null,null,null,null,null,null,null,null,null,null,null,191,"Xavier Gipson","NYJ",22,"WR",17,3,8,68,1,4,18,8.5,4,5,null,192,"Cedrick Wilson","MIA",28,"WR",15,3,38,22,0.57899999999999996,296,13.5,3,14,31,7.8,1.5,19.7,0,null,null,null,null,null,null,null,null,null,null,null,null,null,null,null,null,null,null,null,null,null,null,null,null,null,null,null,null,null,null,null,null,null,null,null,null,null,null,null,null,null,null,null,null,null,null,null,null,null,"Zonovan Knight",1.3,1.8,"Brandon Bolden","Not fantasy-relevant"]
[null,null,null,null,null,null,null,null,null,null,null,null,null,null,null,null,null,null,null,null,null,null,null,null,null,null,null,null,null,null,null,null,null,null,null,null,192,"Velus Jones","CHI",26,"WR",14,0,8,51,0,4,17,6.4,3.6,0,null,193,"Ty Chandler","MIN",25,"RB",17,4,25,21,0.84,159,7.6,0,7,19,6.4,1.2,9.4,0,null,null,null,null,null,null,null,null,null,null,null,null,null,null,null,null,null,null,null,null,null,null,null,null,null,null,null,null,null,null,null,null,null,null,null,null,null,null,null,null,null,null,null,null,null,null,null,null,null,"Isaiah Spiller",0.2,5,"Deon Jackson","Not fantasy-relevant"]
[null,null,null,null,null,null,null,null,null,null,null,null,null,null,null,null,null,null,null,null,null,null,null,null,null,null,null,null,null,null,null,null,null,null,null,null,193,"Marcus Mariota","PHI",30,"QB",3,0,8,52,0,6,17,6.5,17.3,1,null,194,"Emari Demercado","ARI",24,"RB",14,2,30,21,0.7,119,5.7,0,4,22,4,1.5,8.5,0,null,null,null,null,null,null,null,null,null,null,null,null,null,null,null,null,null,null,null,null,null,null,null,null,null,null,null,null,null,null,null,null,null,null,null,null,null,null,null,null,null,null,null,null,null,null,null,null,null,"D'Ernest Johnson",-0.4,7.1,"Deon Jackson","Not fantasy-relevant"]
[null,null,null,null,null,null,null,null,null,null,null,null,null,null,null,null,null,null,null,null,null,null,null,null,null,null,null,null,null,null,null,null,null,null,null,null,194,"Dare Ogunbowale","HOU",29,"RB",12,0,8,35,0,2,17,4.4000000000000004,2.9,0,null,195,"Xavier Gipson","NYJ",22,"WR",17,3,38,21,0.55300000000000005,229,10.9,0,9,36,6,1.2,13.5,5,null,null,null,null,null,null,null,null,null,null,null,null,null,null,null,null,null,null,null,null,null,null,null,null,null,null,null,null,null,null,null,null,null,null,null,null,null,null,null,null,null,null,null,null,null,null,null,null,null,"Emanuel Wilson",0.5,4.7,"Deon Jackson","Not fantasy-relevant"]
[null,null,null,null,null,null,null,null,null,null,null,null,null,null,null,null,null,null,null,null,null,null,null,null,null,null,null,null,null,null,null,null,null,null,null,null,195,"Ihmir Smith-Marsette","CAR",24,"WR",17,0,8,74,1,4,20,9.3000000000000007,4.4000000000000004,2,null,196,"Isaiah Hodgins","NYG",25,"WR",17,9,33,21,0.63600000000000001,230,11,3,12,24,7,1.2,13.5,1,null,null,null,null,null,null,null,null,null,null,null,null,null,null,null,null,null,null,null,null,null,null,null,null,null,null,null,null,null,null,null,null,null,null,null,null,null,null,null,null,null,null,null,null,null,null,null,null,null,"Trey Sermon",0,8.8000000000000007,"Damien Williams","Not fantasy-relevant"]
[null,null,null,null,null,null,null,null,null,null,null,null,null,null,null,null,null,null,null,null,null,null,null,null,null,null,null,null,null,null,null,null,null,null,null,null,196,"Deven Thompkins","TAM",24,"WR",17,1,8,56,0,4,17,7,3.3,3,null,197,"Skyy Moore","KAN",23,"WR",14,8,38,21,0.55300000000000005,244,11.6,1,13,54,6.4,1.5,17.399999999999999,0,null,null,null,null,null,null,null,null,null,null,null,null,null,null,null,null,null,null,null,null,null,null,null,null,null,null,null,null,null,null,null,null,null,null,null,null,null,null,null,null,null,null,null,null,null,null,null,null,null,"Khari Blasingame",0,2.6,"Dare Ogunbowale","Not fantasy-relevant"]
[null,null,null,null,null,null,null,null,null,null,null,null,null,null,null,null,null,null,null,null,null,null,null,null,null,null,null,null,null,null,null,null,null,null,null,null,197,"Clayton Tune","ARI",24,"QB",7,1,8,30,1,3,11,3.8,4.3,2,null,198,"Foster Moreau","NOR",26,"TE",15,10,25,21,0.84,193,9.1999999999999993,1,9,23,7.7,1.4,12.9,0,null,null,null,null,null,null,null,null,null,null,null,null,null,null,null,null,null,null,null,null,null,null,null,null,null,null,null,null,null,null,null,null,null,null,null,null,null,null,null,null,null,null,null,null,null,null,null,null,null,"Trayveon Williams",0,2.4,"Ke'Shawn Vaughn","Not fantasy-relevant"]
[null,null,null,null,null,null,null,null,null,null,null,null,null,null,null,null,null,null,null,null,null,null,null,null,null,null,null,null,null,null,null,null,null,null,null,null,198,"Mike White","MIA",28,"QB",6,0,8,-9,0,0,0,-1.1000000000000001,-1.5,1,null,199,"Cedric Tillman","CLE",23,"WR",14,3,44,21,0.47699999999999998,224,10.7,0,12,23,5.0999999999999996,1.5,16,0,null,null,null,null,null,null,null,null,null,null,null,null,null,null,null,null,null,null,null,null,null,null,null,null,null,null,null,null,null,null,null,null,null,null,null,null,null,null,null,null,null,null,null,null,null,null,null,null,null,"DeeJay Dallas",0,2.8,"Keith Smith","Not fantasy-relevant","Full Back"]
[null,null,null,null,null,null,null,null,null,null,null,null,null,null,null,null,null,null,null,null,null,null,null,null,null,null,null,null,null,null,null,null,null,null,null,null,199,"Michael Burton","DEN",31,"FB",17,3,7,9,0,4,4,1.3,0.5,0,null,200,"Marquez Valdes-Scantling","KAN",29,"WR",16,10,42,21,0.5,315,15,1,14,46,7.5,1.3,19.7,1,null,null,null,null,null,null,null,null,null,null,null,null,null,null,null,null,null,null,null,null,null,null,null,null,null,null,null,null,null,null,null,null,null,null,null,null,null,null,null,null,null,null,null,null,null,null,null,null,null,"Chase Edmonds",0.4,10.6,"Khari Blasingame","Not fantasy-relevant"]
[null,null,null,null,null,null,null,null,null,null,null,null,null,null,null,null,null,null,null,null,null,null,null,null,null,null,null,null,null,null,null,null,null,null,null,null,200,"Jeff Driskel","CLE",30,"QB",1,1,7,33,0,4,13,4.7,33,0,null,201,"Parris Campbell","NYG",26,"WR",12,3,27,20,0.74099999999999999,104,5.2,0,2,17,3.9,1.7,8.6999999999999993,0,null,null,null,null,null,null,null,null,null,null,null,null,null,null,null,null,null,null,null,null,null,null,null,null,null,null,null,null,null,null,null,null,null,null,null,null,null,null,null,null,null,null,null,null,null,null,null,null,null,"Zach Evans",0,1,"Sean Tucker","Not fantasy-relevant","Some preseason hype from draftnicks who think they know better than the NFL - he was undrafted and despite a shallow depth chart ahead of him he was limited to special teams after week 3"]
[null,null,null,null,null,null,null,null,null,null,null,null,null,null,null,null,null,null,null,null,null,null,null,null,null,null,null,null,null,null,null,null,null,null,null,null,201,"Blaine Gabbert","KAN",34,"QB",2,1,7,45,0,2,25,6.4,22.5,0,null,202,"Khalil Herbert","CHI",25,"RB",12,9,31,20,0.64500000000000002,134,6.7,1,9,23,4.3,1.7,11.2,1,null,null,null,null,null,null,null,null,null,null,null,null,null,null,null,null,null,null,null,null,null,null,null,null,null,null,null,null,null,null,null,null,null,null,null,null,null,null,null,null,null,null,null,null,null,null,null,null,null,"Michael Burton",-0.2,1.4,"Kenyan Drake","Not fantasy-relevant"]
[null,null,null,null,null,null,null,null,null,null,null,null,null,null,null,null,null,null,null,null,null,null,null,null,null,null,null,null,null,null,null,null,null,null,null,null,202,"Kalif Raymond","DET",29,"WR",17,3,7,75,0,2,40,10.7,4.4000000000000004,1,null,203,"Van Jefferson","2TM",27,"WR",17,9,43,20,0.46500000000000002,209,10.5,0,10,46,4.9000000000000004,1.2,12.3,0,null,null,null,null,null,null,null,null,null,null,null,null,null,null,null,null,null,null,null,null,null,null,null,null,null,null,null,null,null,null,null,null,null,null,null,null,null,null,null,null,null,null,null,null,null,null,null,null,null,"Dare Ogunbowale",0,2.5,"Kenyan Drake","Not fantasy-relevant"]
[null,null,null,null,null,null,null,null,null,null,null,null,null,null,null,null,null,null,null,null,null,null,null,null,null,null,null,null,null,null,null,null,null,null,null,null,203,"Curtis Samuel","WAS",27,"WR",16,13,7,39,1,4,15,5.6,2.4,0,null,204,"Ameer Abdullah","LVR",30,"RB",17,0,24,19,0.79200000000000004,131,6.9,0,4,18,5.5,1.1000000000000001,7.7,0,null,null,null,null,null,null,null,null,null,null,null,null,null,null,null,null,null,null,null,null,null,null,null,null,null,null,null,null,null,null,null,null,null,null,null,null,null,null,null,null,null,null,null,null,null,null,null,null,null,"Jeff Wilson",1.1000000000000001,10.3,"Michael Burton","Not fantasy-relevant","Full Back"]
[null,null,null,null,null,null,null,null,null,null,null,null,null,null,null,null,null,null,null,null,null,null,null,null,null,null,null,null,null,null,null,null,null,null,null,null,204,"Tyler Scott","CHI",22,"WR",17,4,7,41,0,2,16,5.9,2.4,1,null,205,"John Bates","WAS",26,"TE",17,4,28,19,0.67900000000000005,151,7.9,0,6,35,5.4,1.1000000000000001,8.9,0,null,null,null,null,null,null,null,null,null,null,null,null,null,null,null,null,null,null,null,null,null,null,null,null,null,null,null,null,null,null,null,null,null,null,null,null,null,null,null,null,null,null,null,null,null,null,null,null,null,"Kevin Harris",2.1,8.9,"Adam Prentice","Not fantasy-relevant"]
[null,null,null,null,null,null,null,null,null,null,null,null,null,null,null,null,null,null,null,null,null,null,null,null,null,null,null,null,null,null,null,null,null,null,null,null,205,"Rashid Shaheed","NOR",25,"WR",15,8,7,37,0,1,12,5.3,2.5,1,null,206,"Jake Bobo","SEA",25,"WR",17,0,25,19,0.76,196,10.3,2,9,31,7.8,1.1000000000000001,11.5,0,null,null,null,null,null,null,null,null,null,null,null,null,null,null,null,null,null,null,null,null,null,null,null,null,null,null,null,null,null,null,null,null,null,null,null,null,null,null,null,null,null,null,null,null,null,null,null,null,null,"Tyler Goodson",0.3,9.9,"Jashaun Corbin","Not fantasy-relevant"]
[null,null,null,null,null,null,null,null,null,null,null,null,null,null,null,null,null,null,null,null,null,null,null,null,null,null,null,null,null,null,null,null,null,null,null,null,206,"Tyrion Davis-Price","SFO",23,"RB",1,0,6,21,0,1,15,3.5,21,0,null,207,"Jauan Jennings","SFO",26,"WR",13,2,33,19,0.57599999999999996,265,13.9,1,12,31,8,1.5,20.399999999999999,0,null,null,null,null,null,null,null,null,null,null,null,null,null,null,null,null,null,null,null,null,null,null,null,null,null,null,null,null,null,null,null,null,null,null,null,null,null,null,null,null,null,null,null,null,null,null,null,null,null,"Israel Abanikanda",-0.1,7,"Elijah Dotson","Not fantasy-relevant"]
[null,null,null,null,null,null,null,null,null,null,null,null,null,null,null,null,null,null,null,null,null,null,null,null,null,null,null,null,null,null,null,null,null,null,null,null,207,"Jaren Hall","MIN",25,"QB",3,2,6,14,0,0,8,2.2999999999999998,4.7,2,null,208,"Brandon Johnson","DEN",25,"WR",13,2,30,19,0.63300000000000001,284,14.9,4,12,50,9.5,1.5,21.8,0,null,null,null,null,null,null,null,null,null,null,null,null,null,null,null,null,null,null,null,null,null,null,null,null,null,null,null,null,null,null,null,null,null,null,null,null,null,null,null,null,null,null,null,null,null,null,null,null,null,"Brandon Bolden",0.6,8.5,"Jake Funk","Not fantasy-relevant"]
[null,null,null,null,null,null,null,null,null,null,null,null,null,null,null,null,null,null,null,null,null,null,null,null,null,null,null,null,null,null,null,null,null,null,null,null,208,"Tyreek Hill","MIA",29,"WR",16,16,6,15,0,2,14,2.5,0.9,1,null,209,"Terrace Marshall","CAR",23,"WR",9,4,33,19,0.57599999999999996,139,7.3,0,8,14,4.2,2.1,15.4,1,null,null,null,null,null,null,null,null,null,null,null,null,null,null,null,null,null,null,null,null,null,null,null,null,null,null,null,null,null,null,null,null,null,null,null,null,null,null,null,null,null,null,null,null,null,null,null,null,null,"Jashaun Corbin",4.3,4.3,"Rashaad Penny","Not fantasy-relevant"]
[null,null,null,null,null,null,null,null,null,null,null,null,null,null,null,null,null,null,null,null,null,null,null,null,null,null,null,null,null,null,null,null,null,null,null,null,209,"Hunter Luepke","DAL",23,"RB",17,0,6,19,1,5,9,3.2,1.1000000000000001,0,null,"Rk","Player","Tm","Age","Pos","G","GS","Tgt","Rec","Ctch%","Yds","Y/R","TD","1D","Lng","Y/Tgt","R/G","Y/G","Fmb",null,null,null,null,null,null,null,null,null,null,null,null,null,null,null,null,null,null,null,null,null,null,null,null,null,null,null,null,null,null,null,null,null,null,null,null,null,null,null,null,null,null,null,null,null,null,null,null,null,"Alex Armah",0,1.3,"Zonovan Knight","Not fantasy-relevant"]
[null,null,null,null,null,null,null,null,null,null,null,null,null,null,null,null,null,null,null,null,null,null,null,null,null,null,null,null,null,null,null,null,null,null,null,null,"Rk","Player","Tm","Age","Pos","G","GS","Att","Yds","TD","1D","Lng","Y/A","Y/G","Fmb",null,210,"Jonathan Taylor","IND",24,"RB",10,7,23,19,0.82599999999999996,153,8.1,1,5,40,6.7,1.9,15.3,1,null,null,null,null,null,null,null,null,null,null,null,null,null,null,null,null,null,null,null,null,null,null,null,null,null,null,null,null,null,null,null,null,null,null,null,null,null,null,null,null,null,null,null,null,null,null,null,null,null,"Derrick Gore",2.2999999999999998,2.2999999999999998,"Anthony McFarland","Not fantasy-relevant"]
[null,null,null,null,null,null,null,null,null,null,null,null,null,null,null,null,null,null,null,null,null,null,null,null,null,null,null,null,null,null,null,null,null,null,null,null,210,"Tutu Atwell","LAR",24,"WR",16,14,5,31,0,2,22,6.2,1.9,0,null,211,"Tre Tucker","LVR",22,"WR",16,1,34,19,0.55900000000000005,331,17.399999999999999,2,12,50,9.6999999999999993,1.2,20.7,0,null,null,null,null,null,null,null,null,null,null,null,null,null,null,null,null,null,null,null,null,null,null,null,null,null,null,null,null,null,null,null,null,null,null,null,null,null,null,null,null,null,null,null,null,null,null,null,null,null,"Leonard Fournette",2,2,"Alex Armah","Not fantasy-relevant","Full Back"]
[null,null,null,null,null,null,null,null,null,null,null,null,null,null,null,null,null,null,null,null,null,null,null,null,null,null,null,null,null,null,null,null,null,null,null,null,211,"Andrew Beck","HOU",27,"FB",15,12,5,3,1,2,2,0.6,0.2,1,null,212,"Mike Williams","LAC",29,"WR",3,3,26,19,0.73099999999999998,249,13.1,1,9,49,9.6,6.3,83,0,null,null,null,null,null,null,null,null,null,null,null,null,null,null,null,null,null,null,null,null,null,null,null,null,null,null,null,null,null,null,null,null,null,null,null,null,null,null,null,null,null,null,null,null,null,null,null,null,null,"Kene Nwangwu",0.1,0.9,"Derrick Gore","Not fantasy-relevant"]
[null,null,null,null,null,null,null,null,null,null,null,null,null,null,null,null,null,null,null,null,null,null,null,null,null,null,null,null,null,null,null,null,null,null,null,null,212,"Mike Boone","HOU",28,"S",9,0,5,23,0,2,11,4.5999999999999996,2.6,1,null,213,"Tyler Allgeier","ATL",23,"RB",17,3,23,18,0.78300000000000003,193,10.7,1,6,75,8.4,1.1000000000000001,11.4,0,null,null,null,null,null,null,null,null,null,null,null,null,null,null,null,null,null,null,null,null,null,null,null,null,null,null,null,null,null,null,null,null,null,null,null,null,null,null,null,null,null,null,null,null,null,null,null,null,null,"Jonathan Ward",1.1000000000000001,1.1000000000000001,"Devine Ozigbo","Not fantasy-relevant"]
[null,null,null,null,null,null,null,null,null,null,null,null,null,null,null,null,null,null,null,null,null,null,null,null,null,null,null,null,null,null,null,null,null,null,null,null,213,"Lynn Bowden","NOR",26,"WR",15,3,5,32,0,3,29,6.4,2.1,1,null,214,"Mack Hollins","ATL",30,"WR",13,3,30,18,0.6,251,13.9,0,9,45,8.4,1.4,19.3,0,null,null,null,null,null,null,null,null,null,null,null,null,null,null,null,null,null,null,null,null,null,null,null,null,null,null,null,null,null,null,null,null,null,null,null,null,null,null,null,null,null,null,null,null,null,null,null,null,null,"James Robinson",1,1,"Jakob Johnson","Not fantasy-relevant"]
[null,null,null,null,null,null,null,null,null,null,null,null,null,null,null,null,null,null,null,null,null,null,null,null,null,null,null,null,null,null,null,null,null,null,null,null,214,"Harrison Bryant","CLE",25,"TE",17,9,5,8,0,4,2,1.6,0.5,1,null,215,"Hayden Hurst","CAR",30,"TE",9,8,32,18,0.56299999999999994,184,10.199999999999999,1,7,48,5.8,2,20.399999999999999,0,null,null,null,null,null,null,null,null,null,null,null,null,null,null,null,null,null,null,null,null,null,null,null,null,null,null,null,null,null,null,null,null,null,null,null,null,null,null,null,null,null,null,null,null,null,null,null,null,null,"La'Mical Perine",0.1,0.1,"Tyrion Davis-Price","Not fantasy-relevant"]
[null,null,null,null,null,null,null,null,null,null,null,null,null,null,null,null,null,null,null,null,null,null,null,null,null,null,null,null,null,null,null,null,null,null,null,null,215,"Treylon Burks","TEN",23,"WR",11,9,5,18,0,0,9,3.6,1.6,0,null,216,"Will Mallory","IND",24,"TE",12,2,26,18,0.69199999999999995,207,11.5,0,11,43,8,1.5,17.3,1,null,null,null,null,null,null,null,null,null,null,null,null,null,null,null,null,null,null,null,null,null,null,null,null,null,null,null,null,null,null,null,null,null,null,null,null,null,null,null,null,null,null,null,null,null,null,null,null,null,"Jason Cabinda",0,0,"Chris Evans","Not fantasy-relevant"]
[null,null,null,null,null,null,null,null,null,null,null,null,null,null,null,null,null,null,null,null,null,null,null,null,null,null,null,null,null,null,null,null,null,null,null,null,216,"Brandin Cooks","DAL",30,"WR",16,15,5,35,0,1,14,7,2.2000000000000002,1,null,217,"Irv Smith","CIN",25,"TE",12,6,26,18,0.69199999999999995,115,6.4,1,5,14,4.4000000000000004,1.5,9.6,1,null,null,null,null,null,null,null,null,null,null,null,null,null,null,null,null,null,null,null,null,null,null,null,null,null,null,null,null,null,null,null,null,null,null,null,null,null,null,null,null,null,null,null,null,null,null,null,null,null,"JaMycal Hasty",0,0,"Leonard Fournette","Not fantasy-relevant"]
[null,null,null,null,null,null,null,null,null,null,null,null,null,null,null,null,null,null,null,null,null,null,null,null,null,null,null,null,null,null,null,null,null,null,null,null,217,"Erik Ezukanma","MIA",23,"WR",2,0,5,22,0,1,12,4.4000000000000004,11,0,null,218,"Jamaal Williams","NOR",28,"RB",13,4,20,18,0.9,62,3.4,0,1,12,3.1,1.4,4.8,1,null,null,null,null,null,null,null,null,null,null,null,null,null,null,null,null,null,null,null,null,null,null,null,null,null,null,null,null,null,null,null,null,null,null,null,null,null,null,null,null,null,null,null,null,null,null,null,null,null,"Travis Homer",0,0,"Evan Hull","Not fantasy-relevant"]
[null,null,null,null,null,null,null,null,null,null,null,null,null,null,null,null,null,null,null,null,null,null,null,null,null,null,null,null,null,null,null,null,null,null,null,null,218,"Xavier Hutchinson","HOU",23,"WR",16,0,5,49,0,3,17,9.8000000000000007,3.1,0,null,219,"Calvin Austin","PIT",24,"WR",17,1,30,17,0.56699999999999995,180,10.6,1,7,72,6,1,10.6,2,null,null,null,null,null,null,null,null,null,null,null,null,null,null,null,null,null,null,null,null,null,null,null,null,null,null,null,null,null,null,null,null,null,null,null,null,null,null,null,null,null,null,null,null,null,null,null,null,null,"Jonathan Williams",-0.2,-0.2,"Zach Evans","Not fantasy-relevant"]
[null,null,null,null,null,null,null,null,null,null,null,null,null,null,null,null,null,null,null,null,null,null,null,null,null,null,null,null,null,null,null,null,null,null,null,null,219,"Kyle Juszczyk","SFO",32,"FB",17,16,5,6,0,2,3,1.2,0.4,0,null,220,"Matt Breida","NYG",28,"RB",17,4,21,17,0.81,88,5.2,0,2,22,4.2,1,5.2,1,null,null,null,null,null,null,null,null,null,null,null,null,null,null,null,null,null,null,null,null,null,null,null,null,null,null,null,null,null,null,null,null,null,null,null,null,null,null,null,null,null,null,null,null,null,null,null,null,null,"Tyreek Hill",10.1,39.4,"Kene Nwangwu","Not fantasy-relevant"]
[null,null,null,null,null,null,null,null,null,null,null,null,null,null,null,null,null,null,null,null,null,null,null,null,null,null,null,null,null,null,null,null,null,null,null,null,220,"Drew Lock","SEA",27,"QB",4,2,5,14,0,1,11,2.8,3.5,0,null,221,"Will Dissly","SEA",27,"TE",16,14,22,17,0.77300000000000002,172,10.1,1,8,21,7.8,1.1000000000000001,10.8,0,null,null,null,null,null,null,null,null,null,null,null,null,null,null,null,null,null,null,null,null,null,null,null,null,null,null,null,null,null,null,null,null,null,null,null,null,null,null,null,null,null,null,null,null,null,null,null,null,null,"Keenan Allen",9.5,40.5,"Jonathan Ward","Not fantasy-relevant"]
[null,null,null,null,null,null,null,null,null,null,null,null,null,null,null,null,null,null,null,null,null,null,null,null,null,null,null,null,null,null,null,null,null,null,null,null,221,"Kene Nwangwu","MIN",25,"RB",9,0,5,13,0,0,8,2.6,1.4,0,null,222,"Rico Dowdle","DAL",25,"RB",16,0,22,17,0.77300000000000002,144,8.5,2,6,32,6.5,1.1000000000000001,9,0,null,null,null,null,null,null,null,null,null,null,null,null,null,null,null,null,null,null,null,null,null,null,null,null,null,null,null,null,null,null,null,null,null,null,null,null,null,null,null,null,null,null,null,null,null,null,null,null,null,"CeeDee Lamb",8.9,42.2,"James Robinson","Not fantasy-relevant"]
[null,null,null,null,null,null,null,null,null,null,null,null,null,null,null,null,null,null,null,null,null,null,null,null,null,null,null,null,null,null,null,null,null,null,null,null,222,"Brandon Powell","MIN",28,"WR",17,2,5,17,0,1,9,3.4,1,1,null,223,"Clyde Edwards-Helaire","KAN",24,"RB",15,3,22,17,0.77300000000000002,188,11.1,1,7,48,8.5,1.1000000000000001,12.5,0,null,null,null,null,null,null,null,null,null,null,null,null,null,null,null,null,null,null,null,null,null,null,null,null,null,null,null,null,null,null,null,null,null,null,null,null,null,null,null,null,null,null,null,null,null,null,null,null,null,"Puka Nacua",6.2,33,"La'Mical Perine","Not fantasy-relevant"]
[null,null,null,null,null,null,null,null,null,null,null,null,null,null,null,null,null,null,null,null,null,null,null,null,null,null,null,null,null,null,null,null,null,null,null,null,223,"Malik Willis","TEN",24,"QB",3,0,5,21,0,1,11,4.2,7,1,null,224,"Brevin Jordan","HOU",23,"TE",14,6,21,17,0.81,219,12.9,2,13,27,10.4,1.2,15.6,0,null,null,null,null,null,null,null,null,null,null,null,null,null,null,null,null,null,null,null,null,null,null,null,null,null,null,null,null,null,null,null,null,null,null,null,null,null,null,null,null,null,null,null,null,null,null,null,null,null,"D.J. Moore",4.8,49,"Jason Cabinda","Not fantasy-relevant"]
[null,null,null,null,null,null,null,null,null,null,null,null,null,null,null,null,null,null,null,null,null,null,null,null,null,null,null,null,null,null,null,null,null,null,null,null,224,"Jameis Winston","NOR",29,"QB",7,0,5,-6,0,0,-1,-1.2,-0.9,0,null,225,"Johnny Mundt","MIN",29,"TE",17,0,23,17,0.73899999999999999,172,10.1,1,8,32,7.5,1,10.1,0,null,null,null,null,null,null,null,null,null,null,null,null,null,null,null,null,null,null,null,null,null,null,null,null,null,null,null,null,null,null,null,null,null,null,null,null,null,null,null,null,null,null,null,null,null,null,null,null,null,"Amon-Ra St. Brown",5.0999999999999996,30.5,"JaMycal Hasty","Not fantasy-relevant"]
[null,null,null,null,null,null,null,null,null,null,null,null,null,null,null,null,null,null,null,null,null,null,null,null,null,null,null,null,null,null,null,null,null,null,null,null,225,"Jamal Agnew","JAX",28,"WR",11,1,4,-2,0,0,1,-0.5,-0.2,1,null,226,"Latavius Murray","BUF",33,"RB",16,4,22,17,0.77300000000000002,119,7,0,7,22,5.4,1.1000000000000001,7.4,1,null,null,null,null,null,null,null,null,null,null,null,null,null,null,null,null,null,null,null,null,null,null,null,null,null,null,null,null,null,null,null,null,null,null,null,null,null,null,null,null,null,null,null,null,null,null,null,null,null,"A.J. Brown",1.8,38.5,"JaMycal Hasty","Not fantasy-relevant"]
[null,null,null,null,null,null,null,null,null,null,null,null,null,null,null,null,null,null,null,null,null,null,null,null,null,null,null,null,null,null,null,null,null,null,null,null,226,"Brandon Bolden","LVR",33,"RB",17,0,4,31,1,2,26,7.8,1.8,0,null,227,"Tyler Scott","CHI",22,"WR",17,4,32,17,0.53100000000000003,168,9.9,0,10,30,5.3,1,9.9,1,null,null,null,null,null,null,null,null,null,null,null,null,null,null,null,null,null,null,null,null,null,null,null,null,null,null,null,null,null,null,null,null,null,null,null,null,null,null,null,null,null,null,null,null,null,null,null,null,null,"Mike Evans",1.8,29.2,"Travis Homer","Not fantasy-relevant"]
[null,null,null,null,null,null,null,null,null,null,null,null,null,null,null,null,null,null,null,null,null,null,null,null,null,null,null,null,null,null,null,null,null,null,null,null,227,"Tim Boyle","NYJ",29,"QB",3,2,4,5,0,3,2,1.3,1.7,2,null,228,"Deven Thompkins","TAM",24,"WR",17,1,25,17,0.68,83,4.9000000000000004,1,5,26,3.3,1,4.9000000000000004,3,null,null,null,null,null,null,null,null,null,null,null,null,null,null,null,null,null,null,null,null,null,null,null,null,null,null,null,null,null,null,null,null,null,null,null,null,null,null,null,null,null,null,null,null,null,null,null,null,null,"Brandon Aiyuk",6.7,31.8,"Jonathan Williams","Not fantasy-relevant"]
[null,null,null,null,null,null,null,null,null,null,null,null,null,null,null,null,null,null,null,null,null,null,null,null,null,null,null,null,null,null,null,null,null,null,null,null,228,"Elijah Dotson","LAC",24,"RB",4,0,4,6,0,0,2,1.5,1.5,0,null,229,"Salvon Ahmed","MIA",25,"RB",8,0,23,16,0.69599999999999995,88,5.5,1,4,20,3.8,2,11,0,null,null,null,null,null,null,null,null,null,null,null,null,null,null,null,null,null,null,null,null,null,null,null,null,null,null,null,null,null,null,null,null,null,null,null,null,null,null,null,null,null,null,null,null,null,null,null,null,null,"Nico Collins",2.2999999999999998,35.799999999999997,"CeeDee Lamb","5 top 5 finishes was 3rd in the league, 9 top 12 finishes was joint 1st, and 13 top 24 finishes was 1st","Wasn't the best start to the season though with only 2 top 12 finishes in the first 6 weeks","Absolute stud after the week 7 bye, getting enormous target volume and scoring touchdowns in 8 of 10 games to close out the season","Heavily targeting CeeDee worked so it's a fair assumption they'll do the same next season, and he'll be a stud again"]
[null,null,null,null,null,null,null,null,null,null,null,null,null,null,null,null,null,null,null,null,null,null,null,null,null,null,null,null,null,null,null,null,null,null,null,null,229,"Devin Duvernay","BAL",26,"WR",13,1,4,15,0,0,8,3.8,1.2,0,null,230,"Treylon Burks","TEN",23,"WR",11,9,30,16,0.53300000000000003,221,13.8,0,8,70,7.4,1.5,20.100000000000001,0,null,null,null,null,null,null,null,null,null,null,null,null,null,null,null,null,null,null,null,null,null,null,null,null,null,null,null,null,null,null,null,null,null,null,null,null,null,null,null,null,null,null,null,null,null,null,null,null,null,"Cooper Kupp",2.1,27.8,"Tyreek Hill","9 (!) top 5 finishes was 3 ahead of 2nd with another 2 top 24 finishes. 11 of 15 top 24 finishes was 3rd in the league","The only thing that slowed him down was injury, leaving early in week 14, missing week 15 and not getting back in to the top 12 to finish the season","Outside of that injury he was a blow-the-doors-off week winner time and again, with massive target shares"]
[null,null,null,null,null,null,null,null,null,null,null,null,null,null,null,null,null,null,null,null,null,null,null,null,null,null,null,null,null,null,null,null,null,null,null,null,230,"Chris Godwin","TAM",27,"WR",17,17,4,38,1,3,19,9.5,2.2000000000000002,0,null,231,"Jamison Crowder","WAS",30,"WR",17,0,20,16,0.8,159,9.9,1,8,26,8,0.9,9.4,2,null,null,null,null,null,null,null,null,null,null,null,null,null,null,null,null,null,null,null,null,null,null,null,null,null,null,null,null,null,null,null,null,null,null,null,null,null,null,null,null,null,null,null,null,null,null,null,null,null,"Adam Thielen",1.2,31.5,"Amon-Ra St. Brown","1 of 7 players to have 3 top 5 finishes, with only 5 players ahead of that total. 8 top 12 finishes and 12 top 24 finishes were both 2nd in the league","Clear #1 target volume but with less double-digit targets than some of the other elite receivers","The Lions like to run the ball where they can which takes the top off that target share but in games where they throw a lot, that's when he hits the top 5 ceiling","Solid and reliable volume that will never lose you a week, with upside that can occassionally win you the week"]
[null,null,null,null,null,null,null,null,null,null,null,null,null,null,null,null,null,null,null,null,null,null,null,null,null,null,null,null,null,null,null,null,null,null,null,null,231,"Marquise Goodwin","CLE",33,"WR",12,0,4,33,0,2,20,8.3000000000000007,2.8,0,null,232,"Alex Erickson","LAC",31,"WR",8,3,29,16,0.55200000000000005,232,14.5,1,12,27,8,2,29,0,null,null,null,null,null,null,null,null,null,null,null,null,null,null,null,null,null,null,null,null,null,null,null,null,null,null,null,null,null,null,null,null,null,null,null,null,null,null,null,null,null,null,null,null,null,null,null,null,null,"Deebo Samuel",0,35.799999999999997,"A.J. Brown","1 of 7 players to have 3 top 5 finishes, with only 5 players ahead of that total. 8 top 12 finishes was 2nd in the league and 10 top 24 finishes was 5th","Only managed 2 top 12 finishes in the last third of the season but his volume was actually slightly higher than the middle of the season - the differences was 0 touchdowns","Brown's catch % hurts him in PPR leagues, when he doesn’t have touchdowns his volume doesn’t give enough catches to make up for it","In the final third of the season, Brown's aDOT (average depth of target), YAC (yards after catch) and Catch % all went down considerably"]
[null,null,null,null,null,null,null,null,null,null,null,null,null,null,null,null,null,null,null,null,null,null,null,null,null,null,null,null,null,null,null,null,null,null,null,null,232,"Deonte Harty","BUF",26,"WR",16,1,4,0,0,0,4,0,0,2,null,233,"Bo Melton","GNB",24,"WR",5,1,24,16,0.66700000000000004,218,13.6,1,13,37,9.1,3.2,43.6,0,null,null,null,null,null,null,null,null,null,null,null,null,null,null,null,null,null,null,null,null,null,null,null,null,null,null,null,null,null,null,null,null,null,null,null,null,null,null,null,null,null,null,null,null,null,null,null,null,null,"Stefon Diggs",6.4,36,"Puka Nacua","Only 3 players had more top 5 finishes (4), no-one had more top 12 finishes (9), and only 4 players had more top 24 finishes (10)","However, when he wasn't in the top 24 he killed you, returning finishes between WR36 and WR64","Unsurprisingly his high-ceiling was reduced when Kupp returned from injury, going from 31% target share to 26%","Half of his top 5 games were without Kupp, but he was still top 12 in 42% of games with Kupp on the field","Somewhat boom/bust without injury to others - 42% top 12 finishes, 42% outside the top 36"]
[null,null,null,null,null,null,null,null,null,null,null,null,null,null,null,null,null,null,null,null,null,null,null,null,null,null,null,null,null,null,null,null,null,null,null,null,233,"Jakobi Meyers","LVR",27,"WR",16,16,4,24,2,3,17,6,1.5,0,null,234,"John Metchie","HOU",23,"WR",16,0,30,16,0.53300000000000003,158,9.9,0,7,22,5.3,1,9.9,0,null,null,null,null,null,null,null,null,null,null,null,null,null,null,null,null,null,null,null,null,null,null,null,null,null,null,null,null,null,null,null,null,null,null,null,null,null,null,null,null,null,null,null,null,null,null,null,null,null,"Ja'Marr Chase",5.9,52.2,"D.J. Moore","4 top 5 finishes is 4th in the league and 6 top 12 finishes is 7th in the league, but only 7 top 24 finishes (17th)","There were 5 games in the middle of the season with Tyson Bagent as his Quarterback where he topped out at WR20, which brings down his numbers","Likewise there was a 3 touchdown game in week 5 which artificially boost his numbers","When Fields came back from week 11, Moore had 2 top 5 finishes, 2 top 12 finishes and 2 finishes outside the top 36 - this is a perfect microcosm of the D.J. Moore experience"]
[null,null,null,null,null,null,null,null,null,null,null,null,null,null,null,null,null,null,null,null,null,null,null,null,null,null,null,null,null,null,null,null,null,null,null,null,234,"D.J. Moore","CHI",26,"WR",17,17,4,21,1,1,16,5.3,1.2,1,null,235,"David Montgomery","DET",26,"RB",14,14,24,16,0.66700000000000004,117,7.3,0,7,19,4.9000000000000004,1.1000000000000001,8.4,2,null,null,null,null,null,null,null,null,null,null,null,null,null,null,null,null,null,null,null,null,null,null,null,null,null,null,null,null,null,null,null,null,null,null,null,null,null,null,null,null,null,null,null,null,null,null,null,null,null,"Davante Adams",1.4,42.2,"Mike Evans","3 top 5 finishes (6th in the league), 6 top 12 finishes (7th in the league), and 11 top 24 finishes (3rd in the league)","Somewhat touchdown-reliant - 1st in touchdowns, 16th in targets, 20th in receptions, 21st per game in PPR points excluding Touchdowns","Not the dominant #1 target on his team that you usually need to be to finish top 10, very close in target volume to Chris Godwin albeit with very different type of target"]
[null,null,null,null,null,null,null,null,null,null,null,null,null,null,null,null,null,null,null,null,null,null,null,null,null,null,null,null,null,null,null,null,null,null,null,null,235,"Amon-Ra St. Brown","DET",24,"WR",16,16,4,24,0,2,11,6,1.5,1,null,236,"Jeremy Ruckert","NYJ",23,"TE",15,6,22,16,0.72699999999999998,151,9.4,0,6,23,6.9,1.1000000000000001,10.1,0,null,null,null,null,null,null,null,null,null,null,null,null,null,null,null,null,null,null,null,null,null,null,null,null,null,null,null,null,null,null,null,null,null,null,null,null,null,null,null,null,null,null,null,null,null,null,null,null,null,"George Pickens",1.9,35.5,"Keenan Allen","2nd in top 5 finishes (6) and 5th in top 12 finishes (7) despite missing 3 games","Did have 6 games outside the top 20 though, before missing the fantasy playoffs completely","Elite volume with 31% target share before his injury","Produces with the volume without getting many touchdowns so when the touchdowns come it gives him a high ceiling","Worth noting the lack of reliable alternative pass-catching options on the Chargers with Allen entering his age 32 season in 2024"]
[null,null,null,null,null,null,null,null,null,null,null,null,null,null,null,null,null,null,null,null,null,null,null,null,null,null,null,null,null,null,null,null,null,null,null,null,236,"Christian Watson","GNB",24,"WR",9,9,4,11,0,1,13,2.8,1.2,0,null,237,"Parker Washington","JAX",21,"WR",9,1,21,16,0.76200000000000001,132,8.3000000000000007,2,5,19,6.3,1.8,14.7,2,null,null,null,null,null,null,null,null,null,null,null,null,null,null,null,null,null,null,null,null,null,null,null,null,null,null,null,null,null,null,null,null,null,null,null,null,null,null,null,null,null,null,null,null,null,null,null,null,null,"Amari Cooper",2.6,49.5,"Stefon Diggs","Only 2 top 5 finishes (13th), 5 top 12 finishes (10th), but 9 top 24 finishes (8th). That's a solid high-end WR2 with upside but not the top 5 option he was drafted to be","His target share was where Elite WRs tend to be and it remaining high throughout with an occasional exception","However, after Joe Brady took over playcalling, the Bills averaged 10 pass attemps less per game. In the fantasy playoffs, they averaged just 22 pass attempts","He didn’t receive a single target inside the 10 yard line after week 7 and was severely lacking in the touchdown department","With the drop in team passing volume and touchdown opportunity, he was completely irrelevant during the fantasy playoffs"]
[null,null,null,null,null,null,null,null,null,null,null,null,null,null,null,null,null,null,null,null,null,null,null,null,null,null,null,null,null,null,null,null,null,null,null,null,237,"Garrett Wilson","NYJ",23,"WR",17,17,4,0,0,1,6,0,0,2,null,238,"Jordan Akins","CLE",31,"TE",17,4,23,15,0.65200000000000002,132,8.8000000000000007,0,6,28,5.7,0.9,7.8,0,null,null,null,null,null,null,null,null,null,null,null,null,null,null,null,null,null,null,null,null,null,null,null,null,null,null,null,null,null,null,null,null,null,null,null,null,null,null,null,null,null,null,null,null,null,null,null,null,null,"Tank Dell",3.9,29.6,"Ja'Marr Chase","Only 2 top 5 finishes (13th), 5 top 12 finishes (10th), and 5 top 24 finishes (33rd), means he was irrelevant more than he was a top option","His boom weeks are better than most which pulls his overall numbers up but the reality is that he hurt your lineup a lot - tends to be the games where his catch % is just not there (has 16th best catchable target rate per playerprofiler)","24% target share is not in the elite category but he was tracking at 32% through weeks 1-8, on his way to a monster target total","Despite that, he finished 4 of 7 games in that stretch outside the top 24, that was before Burrow was injured","You can see how Burrow's injury would impact the back half of the season and there was talk of Burrow playing injured to start the season, how much this impacted Chase is a question"]
[null,null,null,null,null,null,null,null,null,null,null,null,null,null,null,null,null,null,null,null,null,null,null,null,null,null,null,null,null,null,null,null,null,null,null,null,238,"Matt Barkley","JAX",33,"QB",1,0,3,-3,0,0,-1,-1,-3,0,null,239,"Dalvin Cook","NYJ",28,"RB",15,1,20,15,0.75,78,5.2,0,3,15,3.9,1,5.2,2,null,null,null,null,null,null,null,null,null,null,null,null,null,null,null,null,null,null,null,null,null,null,null,null,null,null,null,null,null,null,null,null,null,null,null,null,null,null,null,null,null,null,null,null,null,null,null,null,null,"DeAndre Hopkins",3,34.799999999999997,"Davante Adams","Only 2 top 5 finishes (13th), 4 top 12 finishes (14th), and 8 top 24 finishes (11th)","A target share of 32% overall is nothing short of Elite. There were 2 huge games in there but even without these he was still 28% which is still elite","Problem was a lack of touchdowns with his lowest touchdown total since 2019. It's very difficult for a WR to be consistently top 12 in PPR without at least either regular touchdowns or a high catch % - Adams had neither","Of 8 games outside the top 24, 5 were outside the top 40 and 2 were outside the top 100 - if he didn’t hit a big game with touchdowns, he killed your lineup"]
[null,null,null,null,null,null,null,null,null,null,null,null,null,null,null,null,null,null,null,null,null,null,null,null,null,null,null,null,null,null,null,null,null,null,null,null,239,"Jacoby Brissett","WAS",31,"QB",3,0,3,19,0,0,10,6.3,6.3,0,null,"Rk","Player","Tm","Age","Pos","G","GS","Tgt","Rec","Ctch%","Yds","Y/R","TD","1D","Lng","Y/Tgt","R/G","Y/G","Fmb",null,null,null,null,null,null,null,null,null,null,null,null,null,null,null,null,null,null,null,null,null,null,null,null,null,null,null,null,null,null,null,null,null,null,null,null,null,null,null,null,null,null,null,null,null,null,null,null,null,"Jordan Addison",0,31.3,"Brandon Aiyuk","3 top 5 finishes (6th in the league), 5 top 12 finishes (10th in the league), and 9 top 24 finishes (8th in the league)","PPR point totals were incredibly consistent across the three phases of the season but his target volume dipped in the middle. He scored most of his touchdowns in that stretch to help balance it out","Through the first half of the season, he had a target share towards the high 20%s which is up there with the best but then he dropped in to low 20%s after the bye when Deebo was fit","There's a 'pick your poison' element to this offense that makes the receivers unpredictable and hard to know who is going to be the one to back in any given week","With the ability to be a volume receiver or a touchdown target in any given week, it helps him to be a WR2 with WR1 upside"]
[null,null,null,null,null,null,null,null,null,null,null,null,null,null,null,null,null,null,null,null,null,null,null,null,null,null,null,null,null,null,null,null,null,null,null,null,"Rk","Player","Tm","Age","Pos","G","GS","Att","Yds","TD","1D","Lng","Y/A","Y/G","Fmb",null,240,"Derius Davis","LAC",23,"WR",17,2,17,15,0.88200000000000001,66,4.4000000000000004,0,0,18,3.9,0.9,3.9,3,null,null,null,null,null,null,null,null,null,null,null,null,null,null,null,null,null,null,null,null,null,null,null,null,null,null,null,null,null,null,null,null,null,null,null,null,null,null,null,null,null,null,null,null,null,null,null,null,null,"Justin Jefferson",4.7,27.9,"Michael Pittman","0 top 5 finishes and only 4 top 12 finishes (14th in the league) but 10 top 24 finishes was 5th in the league","Gets an Elite target share (30% from weeks 1-14) but doesn’t have huge explosive games or score many touchdowns","He PPRs his way to a consistent WR2 performance but doesn’t get enough touchdowns or big plays to give him the spike weeks","This also means that if they have a heavy run game, he doesn’t have enough opportunity to rack up points - what this mean with Anthony Richardson fit is a concern","Perennial positive touchdown regression candidate that could make the leap if that regression came. We're heading in to year 5 and still waiting for that regression to come"]
[null,null,null,null,null,null,null,null,null,null,null,null,null,null,null,null,null,null,null,null,null,null,null,null,null,null,null,null,null,null,null,null,null,null,null,null,240,"DeAndre Carter","LVR",30,"WR",17,1,3,18,0,2,15,6,1.1000000000000001,2,null,241,"Mecole Hardman","2TM",25,"WR",11,2,24,15,0.625,124,8.3000000000000007,0,8,37,5.2,1.4,11.3,1,null,null,null,null,null,null,null,null,null,null,null,null,null,null,null,null,null,null,null,null,null,null,null,null,null,null,null,null,null,null,null,null,null,null,null,null,null,null,null,null,null,null,null,null,null,null,null,null,null,"DeVonta Smith",1.6,24.6,"Deebo Samuel","2 top 5 finishes, with 6 top 12 finishes (7th in the league), and 8 top 24 finishes (11th in the leauge) with effectively 3 games missed","You need to really pull Deebo's season apart to understand it. Questionable going in to week 3 and had 0 targets, played in week 4 but only 3 targets, then injured week 6 through 8, playing only 56% of snaps in week 10","Weeks 1-3 then had 2 top 12 finishes; weeks 11-17 had 5 top 14 finishes including 2 top 2 finishes - when he's a full go, he's a top option","The 'pick your poison' part of this office makes it tough to know which receiver will dominate but Deebo's rushing upside (including Touchdowns) helps balance that out and keep him a top option (when fit)"]
[null,null,null,null,null,null,null,null,null,null,null,null,null,null,null,null,null,null,null,null,null,null,null,null,null,null,null,null,null,null,null,null,null,null,null,null,241,"Ja'Marr Chase","CIN",23,"WR",16,16,3,-6,0,0,2,-2,-0.4,1,null,242,"Deonte Harty","BUF",26,"WR",16,1,21,15,0.71399999999999997,150,10,1,9,43,7.1,0.9,9.4,2,null,null,null,null,null,null,null,null,null,null,null,null,null,null,null,null,null,null,null,null,null,null,null,null,null,null,null,null,null,null,null,null,null,null,null,null,null,null,null,null,null,null,null,null,null,null,null,null,null,"Jayden Reed",1.7,26.9,"DeVonta Smith","Only 1 top 5 finish but 4 top 12 finishes was 14th in the league and 8 top 24 finishes was 11th in the league","If he scored a touchdown, he was a top 20 option, if he didn’t then he wasn't particularly helping your team in that week. Without the solid no-touchdown baseline, it makes it difficult for touchdowns to give him a high ceiling","An overall 21% target share would indicate a high-end WR2 but it was more like 16-18% when Goedert was healthy","It generally takes a game of high passing volume from the Eagles to get him close to double-digit targets, which is not what the Eagles like to do"]
[null,null,null,null,null,null,null,null,null,null,null,null,null,null,null,null,null,null,null,null,null,null,null,null,null,null,null,null,null,null,null,null,null,null,null,null,242,"Sean Clifford","GNB",25,"QB",2,0,3,-2,0,0,0,-0.7,-1,1,null,243,"Malik Heath","GNB",23,"WR",13,1,24,15,0.625,125,8.3000000000000007,1,6,16,5.2,1.2,9.6,0,null,null,null,null,null,null,null,null,null,null,null,null,null,null,null,null,null,null,null,null,null,null,null,null,null,null,null,null,null,null,null,null,null,null,null,null,null,null,null,null,null,null,null,null,null,null,null,null,null,"Calvin Ridley",1.5,31.1,"Amari Cooper","2 top finishes, only 3 top 12 finishes and 7 top 24 finishes","Completely propped up by his week 16 masterpiece - if you gave him his season average in week 16 he would have finished WR34 and WR36 per game","A few top 20 performances stopped you from dropping him to the waiver wire but outside of week 16, he wasn’t helping your team"]
[null,null,null,null,null,null,null,null,null,null,null,null,null,null,null,null,null,null,null,null,null,null,null,null,null,null,null,null,null,null,null,null,null,null,null,null,243,"Andy Dalton","CAR",36,"QB",3,1,3,12,0,2,10,4,4,0,null,244,"Kareem Hunt","CLE",28,"RB",15,2,21,15,0.71399999999999997,84,5.6,0,5,13,4,1,5.6,0,null,null,null,null,null,null,null,null,null,null,null,null,null,null,null,null,null,null,null,null,null,null,null,null,null,null,null,null,null,null,null,null,null,null,null,null,null,null,null,null,null,null,null,null,null,null,null,null,null,"Tee Higgins",1.5,28.9,"Adam Thielen","A tale of two seasons - top 5 in 3 out of the first 6 of the season and then never topped WR21 after that","Panthers came out of the bye with a different play caller at which point Thielen's aDOT (average depth of target) dropped and his production followed","When Reich took back over, Thielen's aDOT jumped back up but his target share suffered and never returned","Perhaps impacted by a change in redzone philosophy - through weeks 1-6 Carolina threw a pass on 63% of plays inside the 10. After the bye it was just 31%"]
[null,null,null,null,null,null,null,null,null,null,null,null,null,null,null,null,null,null,null,null,null,null,null,null,null,null,null,null,null,null,null,null,null,null,null,null,244,"Gerald Everett","LAC",29,"TE",15,12,3,10,0,0,6,3.3,0.7,3,null,245,"Andrei Iosivas","CIN",24,"WR",16,1,25,15,0.6,116,7.7,4,11,16,4.5999999999999996,0.9,7.3,0,null,null,null,null,null,null,null,null,null,null,null,null,null,null,null,null,null,null,null,null,null,null,null,null,null,null,null,null,null,null,null,null,null,null,null,null,null,null,null,null,null,null,null,null,null,null,null,null,null,"Rashee Rice",4,24.7,"Nico Collins","3 top 5 finishes, 4 top 12 finishes and 8 top 24 finishes with 2 games and another getting injured early","Interestingly, all of his big games came at home albeit most of the games he missed were road games so the sample size is skewed","Unsurprisingly, the Texans were 49ers-like in the way that the #1 target can change game-to-game, making it hard to know which receiver will pay off in a given week","Fantasy results are a bit of a rollercoaster so he's suited to being a 2nd/3rd receiver with explosive upside that can win you a week"]
[null,null,null,null,null,null,null,null,null,null,null,null,null,null,null,null,null,null,null,null,null,null,null,null,null,null,null,null,null,null,null,null,null,null,null,null,245,"Derrick Gore","WAS",29,"RB",6,0,3,26,0,1,23,8.6999999999999993,4.3,0,null,246,"Kyle Philips","TEN",24,"WR",9,0,22,15,0.68200000000000005,181,12.1,0,9,29,8.1999999999999993,1.7,20.100000000000001,1,null,null,null,null,null,null,null,null,null,null,null,null,null,null,null,null,null,null,null,null,null,null,null,null,null,null,null,null,null,null,null,null,null,null,null,null,null,null,null,null,null,null,null,null,null,null,null,null,null,"Jakobi Meyers",2.9,30.1,"D.K. Metcalf","1 WR1 finish was his only top 5 finish for the season, with 1 other top 12 finish and 6 top 24 finishes","As with previous seasons, the target leader fluctuates between Lockett and Metcalf with D.K. never taking the lead role for himself. Then throw JSN in the mix and that caps his big game potential","Didn't really help your team outside a couple of reasonable high-end WR2 games in weeks 10/11 and then a monster game in week 13 against Dallas","Did manage consistent run of low-end WR2 for the last 4 games of the fantasy season","Take out his monster week 13 game and replace it with his average, and he was WR28 overall, WR30 per game"]
[null,null,null,null,null,null,null,null,null,null,null,null,null,null,null,null,null,null,null,null,null,null,null,null,null,null,null,null,null,null,null,null,null,null,null,null,246,"Brian Hoyer","LVR",38,"QB",3,1,3,-3,0,0,-1,-1,-1,0,null,247,"Quez Watkins","PHI",25,"WR",9,5,21,15,0.71399999999999997,142,9.5,1,8,19,6.8,1.7,15.8,0,null,null,null,null,null,null,null,null,null,null,null,null,null,null,null,null,null,null,null,null,null,null,null,null,null,null,null,null,null,null,null,null,null,null,null,null,null,null,null,null,null,null,null,null,null,null,null,null,null,"Kendrick Bourne",5.6,27.1,"Chris Olave","0 top 5 finishes and only 3 top 12 finishes, but did manage 8 top 24 finishes (11th in the league)","Elite target share in the first 3 games before Kamara came back from suspension and that dropped significantly - a steady WR2 target share from that point with an occasional spike week","Had a couple of rough games in weeks 4/5 that brought down his numbers but then steady churn through the middle of the season as a solid WR2","Still king of the air yards but too many games where his QB can't connect enough","Mostly dependable WR2 but tough to see the upside as it stands"]
[null,null,null,null,null,null,null,null,null,null,null,null,null,null,null,null,null,null,null,null,null,null,null,null,null,null,null,null,null,null,null,null,null,null,null,null,247,"Quentin Johnston","LAC",22,"WR",17,10,3,9,0,0,6,3,0.5,0,null,248,"Zamir White","LVR",24,"RB",17,4,19,15,0.78900000000000003,98,6.5,0,4,15,5.2,0.9,5.8,1,null,null,null,null,null,null,null,null,null,null,null,null,null,null,null,null,null,null,null,null,null,null,null,null,null,null,null,null,null,null,null,null,null,null,null,null,null,null,null,null,null,null,null,null,null,null,null,null,null,"Noah Brown",0,27.3,"Rashee Rice","A tale of two seasons - a part time player to begin the season, getting consistently above 50% snaps from week 7 and becoming a major part of the offense from week 12","25% target share from weeks 12 onwards with 3 top 12 finishes and a top 5 finish in those 6 games","His full season pace from week 12 onwards would have been WR4, 8th in targets, 2nd in receptions, 5th in yards, 8th in touchdowns","His catch % was one of the highest in the league down the stretch so if he can continue to command volume he can be a high-floor WR1"]
[null,null,null,null,null,null,null,null,null,null,null,null,null,null,null,null,null,null,null,null,null,null,null,null,null,null,null,null,null,null,null,null,null,null,null,null,248,"Cole Kmet","CHI",24,"TE",17,17,3,2,0,2,1,0.7,0.1,1,null,249,"Jamal Agnew","JAX",28,"WR",11,1,21,14,0.66700000000000004,225,16.100000000000001,1,8,65,10.7,1.3,20.5,1,null,null,null,null,null,null,null,null,null,null,null,null,null,null,null,null,null,null,null,null,null,null,null,null,null,null,null,null,null,null,null,null,null,null,null,null,null,null,null,null,null,null,null,null,null,null,null,null,null,"D.K. Metcalf",6,37.4,"Garrett Wilson","Oh what might have been if Aaron Rodgers didn't injury himself before ever getting going","0 top 5 finishes and only 1 top 12 finish all season but did manage 9 top 24 finishes (8th in the league)","Huge candidate for touchdown regression - 4th in the league in targets (elite share throughout the season) but only 3 touchdowns all season","Low catch % hurts his floor so if a QB upgrade corrects that then his floor gets a huge boost with positive touchdown regression to push his ceiling higher","His catchable target rate was 65th in the league (per playerprofiler) so it does seem like it's the QB rather than him"]
[null,null,null,null,null,null,null,null,null,null,null,null,null,null,null,null,null,null,null,null,null,null,null,null,null,null,null,null,null,null,null,null,null,null,null,null,249,"Zonovan Knight","DET",22,"RB",2,0,3,13,0,0,8,4.3,6.5,0,null,250,"David Bell","CLE",23,"WR",15,3,23,14,0.60899999999999999,167,11.9,3,9,41,7.3,0.9,11.1,0,null,null,null,null,null,null,null,null,null,null,null,null,null,null,null,null,null,null,null,null,null,null,null,null,null,null,null,null,null,null,null,null,null,null,null,null,null,null,null,null,null,null,null,null,null,null,null,null,null,"Jaylen Waddle",6.2,28.2,"George Pickens","Some spike weeks with 2 top 5 finishes and 4 top 12 finish, but only 1 other inside the top 24","Of those 5 top 24 performances, 4 of them were games were he got more than 30% of the team's targets. The other, a game against Cincinnati where he caught an 86 yard TD and a 66 yard TD","The usage of Pickens and Diontae looks a little like the Seahawks usage of Metcalf and Lockett - very much shared without consistent weekly upside","He does clearly have explosive potential but he doesn't help your team most of the time and its hard to predict those boom games"]
[null,null,null,null,null,null,null,null,null,null,null,null,null,null,null,null,null,null,null,null,null,null,null,null,null,null,null,null,null,null,null,null,null,null,null,null,250,"Ray-Ray McCloud","SFO",27,"WR",12,1,3,30,0,2,15,10,2.5,1,null,251,"Chase Brown","CIN",23,"RB",12,0,15,14,0.93300000000000005,156,11.1,1,4,54,10.4,1.2,13,1,null,null,null,null,null,null,null,null,null,null,null,null,null,null,null,null,null,null,null,null,null,null,null,null,null,null,null,null,null,null,null,null,null,null,null,null,null,null,null,null,null,null,null,null,null,null,null,null,null,"Chris Godwin",3.6,25.5,"DeAndre Hopkins","2 top 5 finishes with 1 other in the top 12 and 2 more in the top 24. 7 of his games were outside the top 50","He had a monster 3-touchdown game in week 8 that boosts his overall finish. If you take that out and give him is rest-of-season average instead, he would be WR35 - better off streaming","Generally speaking he has no floor so when he does score a touchdown it's still not enough to really pay off","That's despite a very good target share, he just doesn’t convert those targets in to catches and yards"]
[null,null,null,null,null,null,null,null,null,null,null,null,null,null,null,null,null,null,null,null,null,null,null,null,null,null,null,null,null,null,null,null,null,null,null,null,251,"Isaiah McKenzie","IND",28,"WR",13,2,3,14,0,0,7,4.7,1.1000000000000001,3,null,252,"Chase Edmonds","TAM",27,"RB",13,0,17,14,0.82399999999999995,81,5.8,0,5,14,4.8,1.1000000000000001,6.2,0,null,null,null,null,null,null,null,null,null,null,null,null,null,null,null,null,null,null,null,null,null,null,null,null,null,null,null,null,null,null,null,null,null,null,null,null,null,null,null,null,null,null,null,null,null,null,null,null,null,"Drake London",0,27.2,"Jordan Addison","2 top 5 finishes and 3 other top 24 finishes. His 2 top 5 finishes were both WR1 weeks with over 100 yards and 2 touchdowns in each","His best stretch of the season was weeks 5-8 after Justin Jefferson went down injured and Kirk Cousins was still under center","He wasn't the #1 target in that period but he did get a lot of the redzone looks leading to touchdowns","Struggled to beat out KJ Osborn except for the Joshua Dobbs games (who seemingly doesn’t like Osborn!)","Some flashes but he couldn’t get himself in to the top 2 targets consistently, even without Jefferson on the field"]
[null,null,null,null,null,null,null,null,null,null,null,null,null,null,null,null,null,null,null,null,null,null,null,null,null,null,null,null,null,null,null,null,null,null,null,null,252,"Bo Melton","GNB",24,"WR",5,1,3,21,0,2,12,7,4.2,0,null,253,"Elijah Higgins","ARI",23,"TE",11,2,19,14,0.73699999999999999,163,11.6,1,9,26,8.6,1.3,14.8,0,null,null,null,null,null,null,null,null,null,null,null,null,null,null,null,null,null,null,null,null,null,null,null,null,null,null,null,null,null,null,null,null,null,null,null,null,null,null,null,null,null,null,null,null,null,null,null,null,null,"Terry McLaurin",0,26.1,"Calvin Ridley","Only 1 top 5 finish but 4 top 12 finishes was 14th in the league. Only 1 other game inside the top 24","Target share of 20% until week 13 when Christian Kirk got injured and then 25% while he was out. That's a solid if not spectacular target share","He also got plenty of air yards with that opportunity but his 56% catch rate was the lowest of his career","The opportunity was definitely there but with such a low catch rate, it made it hard to turn in to PPR production","Had a couple of big 2-touchdown games but touchdowns were hard to come by in most games"]
[null,null,null,null,null,null,null,null,null,null,null,null,null,null,null,null,null,null,null,null,null,null,null,null,null,null,null,null,null,null,null,null,null,null,null,null,253,"Ty Montgomery","NWE",30,"RB",13,0,3,9,0,0,7,3,0.7,0,null,254,"KhaDarel Hodge","ATL",28,"WR",17,4,23,14,0.60899999999999999,232,16.600000000000001,0,13,52,10.1,0.8,13.6,1,null,null,null,null,null,null,null,null,null,null,null,null,null,null,null,null,null,null,null,null,null,null,null,null,null,null,null,null,null,null,null,null,null,null,null,null,null,null,null,null,null,null,null,null,null,null,null,null,null,"Diontae Johnson",2.7,22,"Zay Flowers","0 top 5 finishes, 3 top 12 finishes (24th) and 6 top 24 finishes. Also had 5 finishes outside the top 50","Was the #1 target and actually accumulated a good target total even before Mark Andrews injury. Didn't get much of the redzone targets though, particularly as the season went on","Good catch % coupled with the target volume should have been enough to make him regularly top 12 but his aDOT (average depth of target) supressed his yardage totals and kept him in the WR2 range","aDOT improved significantly after the bye, and with some touchdowns to go with it - got him 3 top 13 finishes out of the last 4 games","If he can continue to get more looks downfield like he did at the end of the season then he becomes a good WR2 with upside"]
[null,null,null,null,null,null,null,null,null,null,null,null,null,null,null,null,null,null,null,null,null,null,null,null,null,null,null,null,null,null,null,null,null,null,null,null,254,"Skyy Moore","KAN",23,"WR",14,8,3,23,0,1,11,7.7,1.6,0,null,255,"Kyle Juszczyk","SFO",32,"FB",17,16,17,14,0.82399999999999995,119,8.5,2,8,22,7,0.8,7,0,null,null,null,null,null,null,null,null,null,null,null,null,null,null,null,null,null,null,null,null,null,null,null,null,null,null,null,null,null,null,null,null,null,null,null,null,null,null,null,null,null,null,null,null,null,null,null,null,null,"Brandin Cooks",1.7,32.299999999999997,"Jayden Reed","1 top 5 finish but 4 top 12 finishes was 14th in the league. 2 other games inside the top 24","His season definitely developed. Not fantasy relevant to start with, showed improvement after the bye and then had 6 top 25 finishes in his last 7, including 2 top 12 and a top 5 finish","Those particular weeks were boosted by touchdowns so would otherwise have not been big weeks, but he does get a few rush attempts (including rushing touchdowns) that prop him up","Interestingly, during that period is aDOT (average depth of target) came down and he moved from just being the deep shot player he was earlier in the season","His redzone usage (which helped his touchdowns) does coincide with Christian Watson's absence - Watson took the lions share of redzone targets when he played"]
[null,null,null,null,null,null,null,null,null,null,null,null,null,null,null,null,null,null,null,null,null,null,null,null,null,null,null,null,null,null,null,null,null,null,null,null,255,"Devine Ozigbo","DET",27,"RB",3,0,3,5,0,1,4,1.7,1.7,0,null,256,"Byron Pringle","WAS",30,"WR",17,1,22,14,0.63600000000000001,161,11.5,0,7,26,7.3,0.8,9.5,1,null,null,null,null,null,null,null,null,null,null,null,null,null,null,null,null,null,null,null,null,null,null,null,null,null,null,null,null,null,null,null,null,null,null,null,null,null,null,null,null,null,null,null,null,null,null,null,null,null,"DJ Chark",2.5,27.8,"Jaylen Waddle","Only 1 top 5 finish and 2 top 12 finishes. 6 top 24 finishes but only 1 outside the top 50 (a game he left with injury)","His big top 5 finish was the game that Tyreek missed against the Jets, but he still gets a mid-20% target share when everyone's on the field","Very volatile in terms of aDOT (average depth of target), YAC (yards after catch) and catch %, meand you just don't know what you're going to get in any given week","Didn't get a single redzone target after week 8 and none inside the 10 yard line after week 6","Target volume gives him a floor that doesn't kill you and he generally gets you WR2 numbers if he scores a touchdown (which is unfortunately impacted by his redzone usage)"]
[null,null,null,null,null,null,null,null,null,null,null,null,null,null,null,null,null,null,null,null,null,null,null,null,null,null,null,null,null,null,null,null,null,null,null,null,256,"Trey Palmer","TAM",22,"WR",17,8,3,22,0,1,13,7.3,1.3,3,null,257,"Jeff Wilson","MIA",28,"RB",10,0,17,14,0.82399999999999995,85,6.1,0,3,12,5,1.4,8.5,0,null,null,null,null,null,null,null,null,null,null,null,null,null,null,null,null,null,null,null,null,null,null,null,null,null,null,null,null,null,null,null,null,null,null,null,null,null,null,null,null,null,null,null,null,null,null,null,null,null,"Josh Downs",2,23.5,"Chris Godwin","1 top finish, 2 top 12 finishes and just 4 top 24 finishes. 4 games outside the top 50","He was only slightly behind Evans in total targets and went through phases of being the #1 target. Weeks 4-8 and 15-17 in particular were decent WR2 weeks for him","He was WR20 overall in targets but 2 receiving touchdowns was 113th. Suprisingly he had more redzone targets than Evans so there were opportunities","If he'd got even 6 touchdowns instead of 2, he would have been WR16 overall, WR24 per game. That's a much more reliable WR2"]
[null,null,null,null,null,null,null,null,null,null,null,null,null,null,null,null,null,null,null,null,null,null,null,null,null,null,null,null,null,null,null,null,null,null,null,null,257,"George Pickens","PIT",22,"WR",17,16,3,18,0,2,16,6,1.1000000000000001,3,null,258,"Mo Alie-Cox","IND",30,"TE",17,7,22,13,0.59099999999999997,161,12.4,3,9,35,7.3,0.8,9.5,0,null,null,null,null,null,null,null,null,null,null,null,null,null,null,null,null,null,null,null,null,null,null,null,null,null,null,null,null,null,null,null,null,null,null,null,null,null,null,null,null,null,null,null,null,null,null,null,null,null,"Michael Pittman",2.5,27.5,"Courtland Sutton","0 top 5 finishes despite scoring 10 touchdowns on the year, 3 top 12 finishes and 7 top 24 finishes","Was in close to a 50/50 target share with Jeudy and got more redzone targets but didn't register a single 100 yard game all season","Average catch % and aDOT (average depth of target) but 128th in YAC (yards after catch) per reception - he caught it and fell over","Mostly just a WR3 who can get you a WR2 week if they score a touchdown"]
[null,null,null,null,null,null,null,null,null,null,null,null,null,null,null,null,null,null,null,null,null,null,null,null,null,null,null,null,null,null,null,null,null,null,null,null,258,"Brett Rypien","LAR",27,"QB",2,1,3,19,0,1,8,6.3,9.5,2,null,259,"Pharaoh Brown","NWE",29,"TE",17,11,15,13,0.86699999999999999,208,16,1,8,58,13.9,0.8,12.2,1,null,null,null,null,null,null,null,null,null,null,null,null,null,null,null,null,null,null,null,null,null,null,null,null,null,null,null,null,null,null,null,null,null,null,null,null,null,null,null,null,null,null,null,null,null,null,null,null,null,"Gabriel Davis",0,23.7,"Jakobi Meyers","1 top 5 finish (WR3 in week 1 of the season), 3 top 12 finishes and 6 top 24 finishes. 4 games outside the top 50","Had a 3 game stretch in weeks 5-7 of finishing between 10th and 15th but then target volume dropped off and an occasional touchdown pushed him in to the top 24","That drop off coincided with the Josh McDaniels firing and Aiden O'Connell taking over as the starting Quarterback - perhaps the new coach remembering he had Davante Adams"]
[null,null,null,null,null,null,null,null,null,null,null,null,null,null,null,null,null,null,null,null,null,null,null,null,null,null,null,null,null,null,null,null,null,null,null,null,259,"Tyquan Thornton","NWE",23,"WR",9,3,3,51,0,1,39,17,5.7,0,null,260,"Harrison Bryant","CLE",25,"TE",17,9,20,13,0.65,81,6.2,3,4,23,4.0999999999999996,0.8,4.8,1,null,null,null,null,null,null,null,null,null,null,null,null,null,null,null,null,null,null,null,null,null,null,null,null,null,null,null,null,null,null,null,null,null,null,null,null,null,null,null,null,null,null,null,null,null,null,null,null,null,"Chris Olave",1.4,21.4,"Terry McLaurin","1 top 5 finish, no other top 12 finishes and 6 total top 24 finishes, but only 2 games outside the top 50","Wasn't a dominant target leader on a week-to-week basis but he did consistently get his share while others had up and down weeks","Good spell from weeks 4-9 with 5 top 25 performances. Solid if not spectacular","Very low touchdown rate, of his 5 total touchdowns 1 of those was a fumble recovery. Would have been more of a top 24 option with a couple more touchdowns","Didn't get his first 100 yard game until week 15 (with Jacoby Brissett under center)"]
[null,null,null,null,null,null,null,null,null,null,null,null,null,null,null,null,null,null,null,null,null,null,null,null,null,null,null,null,null,null,null,null,null,null,null,null,260,"Jaylen Waddle","MIA",25,"WR",14,14,3,12,0,1,12,4,0.9,0,null,261,"Luke Farrell","JAX",26,"TE",17,8,15,13,0.86699999999999999,155,11.9,0,5,42,10.3,0.8,9.1,0,null,null,null,null,null,null,null,null,null,null,null,null,null,null,null,null,null,null,null,null,null,null,null,null,null,null,null,null,null,null,null,null,null,null,null,null,null,null,null,null,null,null,null,null,null,null,null,null,null,"Courtland Sutton",0,23.1,"Tyler Lockett","0 top 5 finishes, 3 top 12 finishes (24th) and 6 top 24 finishes. Also had 6 finishes outside the top 50","Close to Metcalf in total targets with a decent target total most weeks, but never hit 100 yards in a game","Half of his total touchdowns (4 excluding week 18) came in one game in week 2","When he made it to 6 catches in a game then he gave you a good WR2 performance with touchdown upside, if he didn’t get to 6 catches then he was no help for fantasy","124th in the league in YAC (yards after catch) per reception so if he doesn’t get enough catches to boost his PPR floor then he wont get there with the ball in his hands"]
[null,null,null,null,null,null,null,null,null,null,null,null,null,null,null,null,null,null,null,null,null,null,null,null,null,null,null,null,null,null,null,null,null,null,null,null,261,"Jonathan Ward","TEN",26,"RB",7,0,3,11,0,1,8,3.7,1.6,0,null,262,"Lil'Jordan Humphrey","DEN",25,"WR",17,8,19,13,0.68400000000000005,162,12.5,3,9,54,8.5,0.8,9.5,0,null,null,null,null,null,null,null,null,null,null,null,null,null,null,null,null,null,null,null,null,null,null,null,null,null,null,null,null,null,null,null,null,null,null,null,null,null,null,null,null,null,null,null,null,null,null,null,null,null,"Zay Flowers",1.7,23.2,"Romeo Doubs","0 top 5 finishes, 1 top 12 finish and 5 top 24 finishes. 6 games outside the top 50","Seems all the Packers receivers had a patch during the season where they were the man - for Doubs it was weeks 3 & 4, getting double-digit targets in both","Outside of that, he was a much smaller contributor in the passing game, not reliable for catches or yards","Did get his share of touchdowns throughout the season which helped him in to the top 24 on occasion but he mostly hurt your team when he didn’t score","Topped out at 95 yards in week 4 but averaged less than 40 yards per game and 3 catches outside of that"]
[null,null,null,null,null,null,null,null,null,null,null,null,null,null,null,null,null,null,null,null,null,null,null,null,null,null,null,null,null,null,null,null,null,null,null,null,262,"Jameson Williams","DET",22,"WR",12,10,3,29,1,1,19,9.6999999999999993,2.4,1,null,263,"Alec Ingold","MIA",27,"FB",17,13,16,13,0.81299999999999994,119,9.1999999999999993,0,5,23,7.4,0.8,7,0,null,null,null,null,null,null,null,null,null,null,null,null,null,null,null,null,null,null,null,null,null,null,null,null,null,null,null,null,null,null,null,null,null,null,null,null,null,null,null,null,null,null,null,null,null,null,null,null,null,"Tyler Lockett",2,25.9,"Justin Jefferson","1 top 5 finish, 5 top 12 finishes and 1 other inside the top 24. Doesn’t sound a lot until you realise he only played 7 full games. I.e. he had 1 game (week 17) where he wasn’t top 24 and only 2 where he wasn’t top 12","30% target share in weeks 1-4 before the injury and 29% after his return - that's Elite","His 17 game pace in weeks 1-4: 200 targets, 140 receptions, 2308 yards, 13 touchdowns. That's out of this world ","His 17 game pace after his return: 170 targets, 102 receptions, 1609 yards and 6 touchdowns. That's still very high level, albeit with a dinted catch % and touchdown rate comparatively - remembering also that he Nick Mullens throwing him the ball at this time"]
[null,null,null,null,null,null,null,null,null,null,null,null,null,null,null,null,null,null,null,null,null,null,null,null,null,null,null,null,null,null,null,null,null,null,null,null,263,"Keenan Allen","LAC",31,"WR",13,13,2,6,0,1,4,3,0.5,2,null,264,"Donovan Peoples-Jones","2TM",24,"WR",15,6,25,13,0.52,155,11.9,0,7,29,6.2,0.9,10.3,1,null,null,null,null,null,null,null,null,null,null,null,null,null,null,null,null,null,null,null,null,null,null,null,null,null,null,null,null,null,null,null,null,null,null,null,null,null,null,null,null,null,null,null,null,null,null,null,null,null,"Rashid Shaheed",0,24.3,"Tank Dell","2 top 5 finishes, 3 top 12 finishes and 6 top 24 finishes - out of 8 full games","Had a couple of decent games in weeks 2 and 3, scoring touchdowns in both and then was becoming a more consistent performer from week 9 until his injury in week 13 - 4 top 24 performances in a row including 2 top 5","Hard to know if the 4 games before injury is enough of a sample size but the 17 game pace from those games: 183 targets, 106 receptions, 1568 yards and 21 touchdowns","21 touchdown pace is clearly not sustainable but it wouldn’t matter with that level of targets, receptions and yards","Tied to an exciting offense and exciting young Quarterback, he is always a big play waiting to happen"]
[null,null,null,null,null,null,null,null,null,null,null,null,null,null,null,null,null,null,null,null,null,null,null,null,null,null,null,null,null,null,null,null,null,null,null,null,264,"Nick Bawden","NYJ",27,"FB",16,2,2,4,1,1,3,2,0.3,0,null,265,"Dameon Pierce","HOU",23,"RB",14,7,17,13,0.76500000000000001,101,7.8,0,3,27,5.9,0.9,7.2,0,null,null,null,null,null,null,null,null,null,null,null,null,null,null,null,null,null,null,null,null,null,null,null,null,null,null,null,null,null,null,null,null,null,null,null,null,null,null,null,null,null,null,null,null,null,null,null,null,null,"Josh Palmer",2.2999999999999998,21.3,"Drake London","1 top 5 finish, 2 top 12 finishes and 4 top 24 finishes. 6 games outside the top 50","His 2 big games netted him top 6 finishes without even scoring touchdowns, showing he does have that ceiling if the touchdowns did flow","Talking of touchdowns, he scored 2 (!!) all season. That said, even bumping him up to 6 touchdowns would have kept him outside the top 36 on a per-game basis","Target share is pretty good in the most part with an occassional dud but the total pass attempts for the Falcons is what kills the receivers","He got more than 7 targets 4 times all season - 2 top 6 performances and 1 top 24 out of those 4"]
[null,null,null,null,null,null,null,null,null,null,null,null,null,null,null,null,null,null,null,null,null,null,null,null,null,null,null,null,null,null,null,null,null,null,null,null,265,"Tyler Boyd","CIN",29,"WR",17,13,2,11,0,1,6,5.5,0.6,0,null,266,"Tyquan Thornton","NWE",23,"WR",9,3,23,13,0.56499999999999995,91,7,0,3,15,4,1.4,10.1,0,null,null,null,null,null,null,null,null,null,null,null,null,null,null,null,null,null,null,null,null,null,null,null,null,null,null,null,null,null,null,null,null,null,null,null,null,null,null,null,null,null,null,null,null,null,null,null,null,null,"Odell Beckham",0,19.7,"Cooper Kupp","Only played 11 full games. 3 Top 5 finishes, 4 top 12 and 5 top 24. If you extrapolate that to 16 games, it would have been 4 top 5 (4th), 6 top 12 (7th) and 7 top 24 (17th)","Showed flashes of the Cooper Kupp from previous seasons. 4 games over 100 yards and 5 total touchdowns in 11 games","Commanded a 30% target share from weeks 5 to 9 (noting that Kyren Williams was out for most of this stretch) but then down to 25% for weeks 13-17 (after his second injury)","The Rams had more options in 2023 with Puka Nakua and Kyren Williams in particular, made Kupp less of a necessity","He did still dominate redzone targets in the back end of the season"]
[null,null,null,null,null,null,null,null,null,null,null,null,null,null,null,null,null,null,null,null,null,null,null,null,null,null,null,null,null,null,null,null,null,null,null,null,266,"Teddy Bridgewater","DET",31,"QB",1,0,2,-2,0,0,-1,-1,-2,0,null,267,"Brock Wright","DET",25,"TE",14,4,14,13,0.92900000000000005,91,7,1,2,25,6.5,0.9,6.5,0,null,null,null,null,null,null,null,null,null,null,null,null,null,null,null,null,null,null,null,null,null,null,null,null,null,null,null,null,null,null,null,null,null,null,null,null,null,null,null,null,null,null,null,null,null,null,null,null,null,"Christian Watson",4.3,27.6,"Gabriel Davis","0 top 5 finishes, 4 top 12 finishes and 6 top 24 finishes. 7(!) games outside the top 50 including 3 outside the top 100","Has always been a boom/bust player but his booms weren't week-winning and his busts were crushing","His aDOT (average depth of target) is massive and his catch % is low - deep shots, all or nothing","Registered 4 games without a catch and 1 game without a target","Did manage to get a 20%+ target share in 4 games - got over 100 yards in 3 of them and scored in all 4"]
[null,null,null,null,null,null,null,null,null,null,null,null,null,null,null,null,null,null,null,null,null,null,null,null,null,null,null,null,null,null,null,null,null,null,null,null,267,"Marquise Brown","ARI",26,"WR",14,14,2,23,0,1,29,11.5,1.6,0,null,268,"Dyami Brown","WAS",24,"WR",17,1,23,12,0.52200000000000002,168,14,1,8,35,7.3,0.7,9.9,0,null,null,null,null,null,null,null,null,null,null,null,null,null,null,null,null,null,null,null,null,null,null,null,null,null,null,null,null,null,null,null,null,null,null,null,null,null,null,null,null,null,null,null,null,null,null,null,null,null,"Jahan Dotson",0,24.8,"Brandin Cooks","1 top 5 finish was his only top 12 finish, and 5 top 24 finishes. 8 games outside the top 50","Managed 8 touchdowns on the year. Outside of a 2 catch / 1 touchdown game against Miami, if he scored a touchdown then he gave you a top 30 performance","The other exception was a monster game against the Giants in week 10 with 9 catches for 173 yards and a touchdown - this was the exception rather than the rule","Generally the 3rd option in the passing game and inside the red zone so he does get you a touchdown here and there","Not enough volume to make him a worthwhile play if he doesn’t score, and generally if he does score he's still not giving you a good ceiling"]
[null,null,null,null,null,null,null,null,null,null,null,null,null,null,null,null,null,null,null,null,null,null,null,null,null,null,null,null,null,null,null,null,null,null,null,null,268,"Ashtyn Davis","NYJ",27,"S",17,5,2,3,0,1,4,1.5,0.2,1,null,269,"Gus Edwards","BAL",28,"RB",17,9,13,12,0.92300000000000004,180,15,0,5,80,13.8,0.7,10.6,3,null,null,null,null,null,null,null,null,null,null,null,null,null,null,null,null,null,null,null,null,null,null,null,null,null,null,null,null,null,null,null,null,null,null,null,null,null,null,null,null,null,null,null,null,null,null,null,null,null,"Garrett Wilson",2.9,20.100000000000001,"Christian Kirk","0 top 5 finishes, only 1 top 12 finish and 5 top 24 finishes. Only 3 games outside the top 50 and one of those was when he got injured after 1 snap","Basically missed weeks 13 onwards through injury","Had a reasonably stable floor from weeks 2 to 10 with only 1 game outside the top 30 in that stretch, and a 25% target share","That target share took a big hit when Zay Jones returned from injury","He doesn’t get many looks inside the redzone and doesn’t get many touchdowns (3 in 12 full games). That caps his ceiling to a WR2"]
[null,null,null,null,null,null,null,null,null,null,null,null,null,null,null,null,null,null,null,null,null,null,null,null,null,null,null,null,null,null,null,null,null,null,null,null,269,"Kenyan Drake","2TM",29,"RB",3,0,2,0,0,0,0,0,0,1,null,"Rk","Player","Tm","Age","Pos","G","GS","Tgt","Rec","Ctch%","Yds","Y/R","TD","1D","Lng","Y/Tgt","R/G","Y/G","Fmb",null,null,null,null,null,null,null,null,null,null,null,null,null,null,null,null,null,null,null,null,null,null,null,null,null,null,null,null,null,null,null,null,null,null,null,null,null,null,null,null,null,null,null,null,null,null,null,null,null,"Christian Kirk",3.2,22,"Curtis Samuel","0 top 5 finishes, 1 top 12 finish and 5 top 24 finishes. 8 games outside the top 50","fairly consistent target share across the season with some spike games here and there","Good run through weeks 4-6 of touchdowns in each game pushing him in to the top 24","Not going to win you a week but can get you a solid top 24 performance if he scores","Schemed up in the run game from time to time gives him an extra opportunity to score"]
[null,null,null,null,null,null,null,null,null,null,null,null,null,null,null,null,null,null,null,null,null,null,null,null,null,null,null,null,null,null,null,null,null,null,null,null,"Rk","Player","Tm","Age","Pos","G","GS","Att","Yds","TD","1D","Lng","Y/A","Y/G","Fmb",null,270,"Ray-Ray McCloud","SFO",27,"WR",12,1,15,12,0.8,135,11.3,0,7,41,9,1,11.3,1,null,null,null,null,null,null,null,null,null,null,null,null,null,null,null,null,null,null,null,null,null,null,null,null,null,null,null,null,null,null,null,null,null,null,null,null,null,null,null,null,null,null,null,null,null,null,null,null,null,"Curtis Samuel",1.5,21.1,"Josh Downs","1 top 12 finish and 1 other top 24 finish. 9 games outside the top 50","A 59 yard touchdown in week 7 was the only thing propelling him in to useful status","Even a 13 target game in week 12 didn't get him in to the top 36 for that week","Just not relevant the vast majority of the time"]
[null,null,null,null,null,null,null,null,null,null,null,null,null,null,null,null,null,null,null,null,null,null,null,null,null,null,null,null,null,null,null,null,null,null,null,null,270,"D'Wayne Eskridge","SEA",26,"WR",4,0,2,5,0,1,10,2.5,1.3,0,null,271,"A.T. Perry","NOR",24,"WR",10,3,18,12,0.66700000000000004,246,20.5,4,10,44,13.7,1.2,24.6,0,null,null,null,null,null,null,null,null,null,null,null,null,null,null,null,null,null,null,null,null,null,null,null,null,null,null,null,null,null,null,null,null,null,null,null,null,null,null,null,null,null,null,null,null,null,null,null,null,null,"Romeo Doubs",1.4,20.2,"Tyler Boyd","1 top 12 finish and 1 other top 24 finish. 8 games outside the top 50","Steady target share at the start of the season without much production to show for it","Spike week in week 10 with no Tee Higgins but had 3 other games without Higgins where he failed to produce anything","Not the waiver-wire plug-and-play option he used to be when one of his teammates misses time"]
[null,null,null,null,null,null,null,null,null,null,null,null,null,null,null,null,null,null,null,null,null,null,null,null,null,null,null,null,null,null,null,null,null,null,null,null,271,"Chris Evans","CIN",26,"RB",8,0,2,12,0,0,7,6,1.5,0,null,272,"Stephen Sullivan","CAR",27,"TE",11,0,24,12,0.5,125,10.4,0,5,20,5.2,1.1000000000000001,11.4,0,null,null,null,null,null,null,null,null,null,null,null,null,null,null,null,null,null,null,null,null,null,null,null,null,null,null,null,null,null,null,null,null,null,null,null,null,null,null,null,null,null,null,null,null,null,null,null,null,null,"Wan'Dale Robinson",0,19.899999999999999,"Jaxon Smith-Njigba","0 top 12 finishes and 3 top 24 finishes. 7 games outside the top 50 but 4 of these were the start of his rookie season","Very much the 3rd receiver for the most part and his targets were very short, limiting his ability to rack up yards and fantasy points","Limited touchdown opportunity, particularly with redzone targets but did start to pick up a few more redzone targets in the second half of the season as Lockett dropped off"]
[null,null,null,null,null,null,null,null,null,null,null,null,null,null,null,null,null,null,null,null,null,null,null,null,null,null,null,null,null,null,null,null,null,null,null,null,272,"Jake Funk","IND",25,"RB",4,0,2,10,0,0,7,5,2.5,0,null,273,"KaVontae Turpin","DAL",27,"WR",16,0,18,12,0.66700000000000004,127,10.6,3,9,34,7.1,0.8,7.9,1,null,null,null,null,null,null,null,null,null,null,null,null,null,null,null,null,null,null,null,null,null,null,null,null,null,null,null,null,null,null,null,null,null,null,null,null,null,null,null,null,null,null,null,null,null,null,null,null,null,"Josh Reynolds",2.1,23.6,"Tee Higgins","1 top 5 finish, 4 top 12 finishes, no other top 24 finishes. 5 games outside of the top 50, 4 games missed with another 3 part-time games due to injury","Effectively missing 7 games is a big deal and is the real reflection of his season. Of the remaining games he was top 10 in 4 of them and completely hurt your lineup in the other 5","It wasn't a quarterback thing either - his 'all or nothing' splits were the same with Joe Burrow and Jake Browning","He's a big aDOT (average depth of target) guy but in his down games his catch % was woeful","8 targets in week 1 with 0 (!) catches, 25% catch rate in week 3, and 5 games with 50% (3 with Browning)"]
[null,null,null,null,null,null,null,null,null,null,null,null,null,null,null,null,null,null,null,null,null,null,null,null,null,null,null,null,null,null,null,null,null,null,null,null,273,"DeAndre Hopkins","TEN",31,"WR",17,16,2,9,0,0,5,4.5,0.5,0,null,274,"Cam Akers","2TM",24,"RB",7,1,12,11,0.91700000000000004,70,6.4,0,2,30,5.8,1.6,10,0,null,null,null,null,null,null,null,null,null,null,null,null,null,null,null,null,null,null,null,null,null,null,null,null,null,null,null,null,null,null,null,null,null,null,null,null,null,null,null,null,null,null,null,null,null,null,null,null,null,"Darius Slayton",0,20.6,"Elijah Moore","Only 2 top 24 finishes, nothing higher than 18. 8 games outside the top 50","His two top 24 finishes needed a touchdown to get him there, the only 2 he scored all season","His catch % was poor considering his aDOT (average depth of target) wasn't particularly high - less than 57% overall, with 8 games at 50% or less","He's not fantasy relevant anymore"]
[null,null,null,null,null,null,null,null,null,null,null,null,null,null,null,null,null,null,null,null,null,null,null,null,null,null,null,null,null,null,null,null,null,null,null,null,274,"Alec Ingold","MIA",27,"FB",17,13,2,0,0,0,0,0,0,0,null,275,"Andrew Beck","HOU",27,"FB",15,12,13,11,0.84599999999999997,55,5,2,4,26,4.2,0.7,3.7,1,null,null,null,null,null,null,null,null,null,null,null,null,null,null,null,null,null,null,null,null,null,null,null,null,null,null,null,null,null,null,null,null,null,null,null,null,null,null,null,null,null,null,null,null,null,null,null,null,null,"Mike Williams",9.9,25.1,"Rashid Shaheed","3 top 12 finishes, 1 other top 24 finish. Every other game he played was WR45 or lower","Big play threat without a significant target share. Big aDOT (average depth of target) shows he's the inconsistent downfield target","His top 12 games were built largely off long touchdowns","Had an opportunity to take more target share with some injuries around him but stayed in the role he has","You're not going to play him as a reliable player but he makes an interesting DFS play from time to time, or maybe a big shot in the flex if you're chasing points"]
[null,null,null,null,null,null,null,null,null,null,null,null,null,null,null,null,null,null,null,null,null,null,null,null,null,null,null,null,null,null,null,null,null,null,null,null,275,"Charlie Jones","CIN",25,"WR",11,0,2,13,0,1,7,6.5,1.2,0,null,276,"Lynn Bowden","NOR",26,"WR",15,3,16,11,0.68799999999999994,83,7.5,0,2,17,5.2,0.7,5.5,1,null,null,null,null,null,null,null,null,null,null,null,null,null,null,null,null,null,null,null,null,null,null,null,null,null,null,null,null,null,null,null,null,null,null,null,null,null,null,null,null,null,null,null,null,null,null,null,null,null,"Tyler Boyd",4,19.7,"Marquise Brown","0 top 12 finishes and 5 top 24 finishes. 5 games outside the top 50 although the last 2 of those were fitness issues before shutting down for the season","Had a 25% target share from weeks 1-12, that goes up to 27% if you look at the first 9 weeks. In those 12 weeks, he got top 24 in 6 of them","The downturn in production coincided with an uptick in targets for Trey McBride and his catch % nose-dived after week 4, hitting greater than 50% only once after that time","Kyler Murray didn't target him in the redzone on his return either, limiting his potential touchdown upside"]
[null,null,null,null,null,null,null,null,null,null,null,null,null,null,null,null,null,null,null,null,null,null,null,null,null,null,null,null,null,null,null,null,null,null,null,null,276,"Case Keenum","HOU",35,"QB",2,2,2,1,0,0,1,0.5,0.5,1,null,277,"D'Onta Foreman","CHI",27,"RB",9,8,16,11,0.68799999999999994,77,7,1,6,17,4.8,1.2,8.6,1,null,null,null,null,null,null,null,null,null,null,null,null,null,null,null,null,null,null,null,null,null,null,null,null,null,null,null,null,null,null,null,null,null,null,null,null,null,null,null,null,null,null,null,null,null,null,null,null,null,"Khalil Shakir",0,20.5,"Diontae Johnson","1 top 5 finish and 6 top 24 finishes. 3 games outside the top 50 if you don't count week 1 where he left injured. Missed 5 other games and really got started in week 7","24% target share from week 7 onwards. 4 touchdowns in 11 games was somewhat of a bounceback from 0 touchdowns in 2022","His highest target share games were without Freiermuth on the field, 4 of his 6 top 24 games were with Mitchell Trubisky, as were 3 of his 4 touchdowns","The highest aDOT (average depth of target) of his career and his catch % stays below 60% which makes it hard for him to be a consistent performer"]
[null,null,null,null,null,null,null,null,null,null,null,null,null,null,null,null,null,null,null,null,null,null,null,null,null,null,null,null,null,null,null,null,null,null,null,null,277,"Davis Mills","HOU",25,"QB",6,0,2,9,0,0,9,4.5,1.5,0,null,278,"Julio Jones","PHI",34,"WR",11,4,19,11,0.57899999999999996,74,6.7,3,4,22,3.9,1,6.7,0,null,null,null,null,null,null,null,null,null,null,null,null,null,null,null,null,null,null,null,null,null,null,null,null,null,null,null,null,null,null,null,null,null,null,null,null,null,null,null,null,null,null,null,null,null,null,null,null,null,"Michael Wilson",0,26.6,"Darius Slayton","1 top 12 finish in week 17, 2 other top 24 finishes in weeks 11 and 16. 10 games outside the top 50","The three top 24 finishes came off the back of a 69 yard touchdown, an 80 yard touchdown and 40 yard touchdown","He's a guy who pops off an occasional huge touchdown but is not relevant for fantasy most of the time"]
[null,null,null,null,null,null,null,null,null,null,null,null,null,null,null,null,null,null,null,null,null,null,null,null,null,null,null,null,null,null,null,null,null,null,null,null,278,"Darnell Mooney","CHI",26,"WR",15,14,2,5,0,0,3,2.5,0.3,0,null,279,"Tim Jones","JAX",25,"WR",17,2,18,11,0.61099999999999999,83,7.5,0,4,15,4.5999999999999996,0.6,4.9000000000000004,0,null,null,null,null,null,null,null,null,null,null,null,null,null,null,null,null,null,null,null,null,null,null,null,null,null,null,null,null,null,null,null,null,null,null,null,null,null,null,null,null,null,null,null,null,null,null,null,null,null,"Braxton Berrios",0,17.399999999999999,"Jerry Jeudy","Not a single top 24 finish, 1 game missed and 6 outside the top 50","2nd in targets on his team, reasonable aDOT (average depth of target) and opportunities in the redzone but he was not useful at all for your fantasy team","Only 1 touchdown all season is a candidate for some positive regression","The Broncos were bottom 5 in pass attempts so being 2nd on the team in targets isnt as useful as with other teams"]
[null,null,null,null,null,null,null,null,null,null,null,null,null,null,null,null,null,null,null,null,null,null,null,null,null,null,null,null,null,null,null,null,null,null,null,null,279,"Chris Moore","TEN",30,"WR",17,5,2,39,0,1,38,19.5,2.2999999999999998,1,null,280,"Isaiah McKenzie","IND",28,"WR",13,2,14,11,0.78600000000000003,82,7.5,0,4,30,5.9,0.8,6.3,3,null,null,null,null,null,null,null,null,null,null,null,null,null,null,null,null,null,null,null,null,null,null,null,null,null,null,null,null,null,null,null,null,null,null,null,null,null,null,null,null,null,null,null,null,null,null,null,null,null,"Jamison Crowder",0,22.5,"Josh Reynolds","1 top 12 finish, 3 top 24 finishes. 8 games outside the top 50 and 1 game missed","Overall finish boosted by a two-touchdown game in week 2. One of his other top 24 finishes was without Amon-Ra on the field","Does get an occassional touchdown but even that's not guaranteed to make him fantasy relevant","DFS punt play in a favourable matchup but never going to be trustable in a normal lineup"]
[null,null,null,null,null,null,null,null,null,null,null,null,null,null,null,null,null,null,null,null,null,null,null,null,null,null,null,null,null,null,null,null,null,null,null,null,280,"Chigoziem Okonkwo","TEN",24,"TE",17,11,2,6,0,1,4,3,0.4,0,null,281,"Scott Miller","ATL",26,"WR",17,0,16,11,0.68799999999999994,161,14.6,2,6,56,10.1,0.6,9.5,0,null,null,null,null,null,null,null,null,null,null,null,null,null,null,null,null,null,null,null,null,null,null,null,null,null,null,null,null,null,null,null,null,null,null,null,null,null,null,null,null,null,null,null,null,null,null,null,null,null,"Bo Melton",1.7,22.5,"Jahan Dotson","2 top 12 finishes in weeks 8 & 9, nothing else in the top 24. 9 games outside the top 50 including 3 games outside the top 100","Average target share on a team with plenty of pass attempts to go around, fair share of redzone targets but catch % and yardage totals were generally poor","Weeks 8 & 9 were only games with more than 52 yards all season and 8 catches in week 8 was only game with more than 5","Was actively hurting your team if he was in  your lineup, in the most part"]
[null,null,null,null,null,null,null,null,null,null,null,null,null,null,null,null,null,null,null,null,null,null,null,null,null,null,null,null,null,null,null,null,null,null,null,null,281,"Nathan Peterman","CHI",29,"QB",2,0,2,-4,0,0,-2,-2,-2,1,null,282,"Trent Sherfield","BUF",27,"WR",17,1,22,11,0.5,86,7.8,1,4,12,3.9,0.6,5.0999999999999996,0,null,null,null,null,null,null,null,null,null,null,null,null,null,null,null,null,null,null,null,null,null,null,null,null,null,null,null,null,null,null,null,null,null,null,null,null,null,null,null,null,null,null,null,null,null,null,null,null,null,"Marquise Brown",0,17.399999999999999,"Wan'Dale Robinson","1 top 12 finish, 4 top 24 finishes. 9 games outside the top 50 and 2 games missed","Gets some schemed up rushing attempts which led to a 24 yard rushing touchdown in week 17 and his only top 12 finish","Sporadic usage with some games at 7+ targets and others at 3- targets","Very low aDOT (average depth of target) gave him a good catch % but low yardage totals, damaging his floor","Would need sustained target volume to be of more use in fantasy"]
[null,null,null,null,null,null,null,null,null,null,null,null,null,null,null,null,null,null,null,null,null,null,null,null,null,null,null,null,null,null,null,null,null,null,null,null,282,"Adam Prentice","NOR",26,"FB",13,1,2,12,0,1,7,6,0.9,1,null,283,"Stone Smartt","LAC",25,"TE",16,3,21,11,0.52400000000000002,155,14.1,1,6,51,7.4,0.7,9.6999999999999993,0,null,null,null,null,null,null,null,null,null,null,null,null,null,null,null,null,null,null,null,null,null,null,null,null,null,null,null,null,null,null,null,null,null,null,null,null,null,null,null,null,null,null,null,null,null,null,null,null,null,"Jaxon Smith-Njigba",2,16.3,"K.J. Osborn","A bit-part player regardless of whether Justin Jefferson was in the side or injured","Did get two 90+ yard games giving a couple of top 24 finishes","Generally not particularly useful for fantasy"]
[null,null,null,null,null,null,null,null,null,null,null,null,null,null,null,null,null,null,null,null,null,null,null,null,null,null,null,null,null,null,null,null,null,null,null,null,283,"Jalen Reeves-Maybin","DET",28,"LB",17,0,2,3,0,1,3,1.5,0.2,0,null,284,"Patrick Taylor","GNB",25,"RB",11,0,17,11,0.64700000000000002,49,4.5,0,4,16,2.9,1,4.5,0,null,null,null,null,null,null,null,null,null,null,null,null,null,null,null,null,null,null,null,null,null,null,null,null,null,null,null,null,null,null,null,null,null,null,null,null,null,null,null,null,null,null,null,null,null,null,null,null,null,"Demarcus Robinson",2.5,20.2,"DJ Chark","1 top 5 finish and 2 other top 24 finishes. 8 games outside the top 50 and 3 missed.","A 98 yard 2 touchdown game in week 16 boosted his overall numbers","Its like they remembered he was there in weeks 15 & 16 and started throwing him the ball again but he was generally a low target share player","Like a lot of wide receivers, a touchdown week can bump him in to the top 24 occassionally but he's not going to get there on trustable volume"]
[null,null,null,null,null,null,null,null,null,null,null,null,null,null,null,null,null,null,null,null,null,null,null,null,null,null,null,null,null,null,null,null,null,null,null,null,284,"Ben Skowronek","LAR",26,"WR",17,0,2,9,0,1,11,4.5,0.5,0,null,285,"Robert Tonyan","CHI",29,"TE",17,6,17,11,0.64700000000000002,112,10.199999999999999,0,6,24,6.6,0.6,6.6,0,null,null,null,null,null,null,null,null,null,null,null,null,null,null,null,null,null,null,null,null,null,null,null,null,null,null,null,null,null,null,null,null,null,null,null,null,null,null,null,null,null,null,null,null,null,null,null,null,null,"Tutu Atwell",0,18.399999999999999,"Odell Beckham","2 top 12 finishes and 1 other top 24 finish. 8 games outside the top 50 and 2 games missed","Had a 3 game stretch in weeks 9-11 with 2 back-to-back touchdowns and a 100+ yard game","The first touchdown game was garbage-time at the end of a blowout, the second touchdown game was his only catch, and the 100+ yard game was when Andrews went out the game injured","One more good game was basically a 46 yard Touchdown against the Rams","Everything else was hurting your lineup and he isn't someone you can ever trust"]
[null,null,null,null,null,null,null,null,null,null,null,null,null,null,null,null,null,null,null,null,null,null,null,null,null,null,null,null,null,null,null,null,null,null,null,null,285,"Jordan Addison","MIN",21,"WR",17,14,1,2,0,0,2,2,0.1,0,null,286,"Cole Turner","WAS",23,"TE",12,1,15,11,0.73299999999999998,120,10.9,0,4,29,8,0.9,10,0,null,null,null,null,null,null,null,null,null,null,null,null,null,null,null,null,null,null,null,null,null,null,null,null,null,null,null,null,null,null,null,null,null,null,null,null,null,null,null,null,null,null,null,null,null,null,null,null,null,"K.J. Osborn",1.3,20.5,"Tutu Atwell","2 top 24 finishes, both in the first 3 weeks while Cooper Kupp was out","Didn't produce anything else for fantasy once Kupp returned","21% target share in those first 4 weeks without Kupp, 10% target share for the rest of the season"]
[null,null,null,null,null,null,null,null,null,null,null,null,null,null,null,null,null,null,null,null,null,null,null,null,null,null,null,null,null,null,null,null,null,null,null,null,286,"Mark Andrews","BAL",28,"TE",10,9,1,0,0,0,0,0,0,1,null,287,"Davis Allen","LAR",22,"TE",15,1,11,10,0.90900000000000003,95,9.5,1,7,21,8.6,0.7,6.3,0,null,null,null,null,null,null,null,null,null,null,null,null,null,null,null,null,null,null,null,null,null,null,null,null,null,null,null,null,null,null,null,null,null,null,null,null,null,null,null,null,null,null,null,null,null,null,null,null,null,"Elijah Moore",2,17.100000000000001,"Demario Douglas","Had a spell of 3 top 30 finishes in 4 weeks with another towards the end of the season","Usage definitely increased after the first 6 weeks and also missed 3 games in total","Increase in targets largely coincided with injuries to others. Same consistently high share was not there once Bailey Zappe took over under center"]
[null,null,null,null,null,null,null,null,null,null,null,null,null,null,null,null,null,null,null,null,null,null,null,null,null,null,null,null,null,null,null,null,null,null,null,null,287,"Rashod Bateman","BAL",24,"WR",16,12,1,18,0,1,18,18,1.1000000000000001,0,null,288,"Jalen Guyton","LAC",26,"WR",8,3,21,10,0.47599999999999998,89,8.9,1,6,18,4.2,1.3,11.1,0,null,null,null,null,null,null,null,null,null,null,null,null,null,null,null,null,null,null,null,null,null,null,null,null,null,null,null,null,null,null,null,null,null,null,null,null,null,null,null,null,null,null,null,null,null,null,null,null,null,"Michael Gallup",0,15.2,"Kendrick Bourne","WR5 finish in week 1 followed by 4 games outside the top 50 and then 2 games at WR10. Missed the last 8 games with injury","Big weeks with larger target shares all coincided with injuries to others (Parker, JuJu, Douglas)","Always a shot for a touchdown but not a high yardage player even with double-digit targets"]
[null,null,null,null,null,null,null,null,null,null,null,null,null,null,null,null,null,null,null,null,null,null,null,null,null,null,null,null,null,null,null,null,null,null,null,null,288,"Braxton Berrios","MIA",28,"WR",16,1,1,11,0,1,11,11,0.7,1,null,289,"Darrell Henderson","LAR",26,"RB",4,4,14,10,0.71399999999999997,103,10.3,0,3,32,7.4,2.5,25.8,0,null,null,null,null,null,null,null,null,null,null,null,null,null,null,null,null,null,null,null,null,null,null,null,null,null,null,null,null,null,null,null,null,null,null,null,null,null,null,null,null,null,null,null,null,null,null,null,null,null,"Darnell Mooney",0,17.7,"Noah Brown","WR3, WR6 and WR9 finishes in weeks 9, 10 and 15 respectively","Missed 6 games and didn't do anything else outside those 3 games (outside the top 50 in all)","The week 9 WR3 finish was off a 75 yard touchdown, the other two high finishes were games when Nico Collins was injured","Interesting streamer if Collins is injured, steps right in to that role"]
[null,null,null,null,null,null,null,null,null,null,null,null,null,null,null,null,null,null,null,null,null,null,null,null,null,null,null,null,null,null,null,null,null,null,null,null,289,"Jake Bobo","SEA",25,"WR",17,0,1,3,1,1,3,3,0.2,0,null,290,"Richie James","KAN",28,"WR",9,1,14,10,0.71399999999999997,114,11.4,0,5,45,8.1,1.1000000000000001,12.7,2,null,null,null,null,null,null,null,null,null,null,null,null,null,null,null,null,null,null,null,null,null,null,null,null,null,null,null,null,null,null,null,null,null,null,null,null,null,null,null,null,null,null,null,null,null,null,null,null,null,"Greg Dortch",0,15.2,"Christian Watson","Injury-plagued season…again","Missed the first 3 weeks, 2 top 36 finishes in the next 2, 4 games outside the top 50 and then 2 top 12 finishes before missing the rest of the season","Capable of putting together a string of good games but there's a lot of low-catch % games that lead to poor finishes","Didn’t top 60% catch rate through week 11 and then had 70% + in weeks 12/13 before getting injured again","Flashes of talent if he can stay fit and keep himself firmly atop a messy WR depth chart"]
[null,null,null,null,null,null,null,null,null,null,null,null,null,null,null,null,null,null,null,null,null,null,null,null,null,null,null,null,null,null,null,null,null,null,null,null,290,"Kendrick Bourne","NWE",28,"WR",8,5,1,4,0,1,4,4,0.5,1,null,291,"D'Ernest Johnson","JAX",27,"RB",17,0,12,10,0.83299999999999996,140,14,0,6,42,11.7,0.6,8.1999999999999993,0,null,null,null,null,null,null,null,null,null,null,null,null,null,null,null,null,null,null,null,null,null,null,null,null,null,null,null,null,null,null,null,null,null,null,null,null,null,null,null,null,null,null,null,null,null,null,null,null,null,"Michael Thomas",0,13.2,"Josh Palmer","Missed 7 games, got 2 top 12 finishes and a further top 24 finish in the games he played. Only 3 games outside the top 50","Targets increased significantly after Mike Williams went out injured and before he went out injured himself","His two top 12 games included a 60 yard reception and a 79 yard touchdown - big play threat can give you a spike week but needs injuries ahead of him to bolster his floor"]
[null,null,null,null,null,null,null,null,null,null,null,null,null,null,null,null,null,null,null,null,null,null,null,null,null,null,null,null,null,null,null,null,null,null,null,null,291,"Dyami Brown","WAS",24,"WR",17,1,1,0,0,0,0,0,0,0,null,292,"Kendre Miller","NOR",21,"RB",8,0,11,10,0.90900000000000003,117,11.7,0,5,33,10.6,1.3,14.6,0,null,null,null,null,null,null,null,null,null,null,null,null,null,null,null,null,null,null,null,null,null,null,null,null,null,null,null,null,null,null,null,null,null,null,null,null,null,null,null,null,null,null,null,null,null,null,null,null,null,"Zay Jones",0,18,"Rondale Moore","A couple of top 25 performances when he scored a touchdown","Schemed touches in the rushing game gives him a shot to boost his floor but generally gets low-volume and low-value opportunities","A good portion of those rushing touches were when James Conner was injured"]
[null,null,null,null,null,null,null,null,null,null,null,null,null,null,null,null,null,null,null,null,null,null,null,null,null,null,null,null,null,null,null,null,null,null,null,null,292,"Noah Brown","HOU",27,"WR",10,7,1,-1,0,0,-1,-1,-0.1,0,null,293,"Laviska Shenault","CAR",25,"WR",8,0,10,10,1,60,6,0,2,14,6,1.3,7.5,1,null,null,null,null,null,null,null,null,null,null,null,null,null,null,null,null,null,null,null,null,null,null,null,null,null,null,null,null,null,null,null,null,null,null,null,null,null,null,null,null,null,null,null,null,null,null,null,null,null,"Nick Westbrook-Ikhine",1.7,16.100000000000001,"Dontayvion Wicks","Not fantasy-relevant","A couple of top 30 finishes but nothing else","Buried in a depth chart of young wide receivers and he's not near the top of it"]
[null,null,null,null,null,null,null,null,null,null,null,null,null,null,null,null,null,null,null,null,null,null,null,null,null,null,null,null,null,null,null,null,null,null,null,null,293,"Jason Cabinda","DET",27,"FB",4,0,1,0,0,0,0,0,0,0,null,294,"Sterling Shepard","NYG",30,"WR",15,2,22,10,0.45500000000000002,57,5.7,1,4,13,2.6,0.7,3.8,1,null,null,null,null,null,null,null,null,null,null,null,null,null,null,null,null,null,null,null,null,null,null,null,null,null,null,null,null,null,null,null,null,null,null,null,null,null,null,null,null,null,null,null,null,null,null,null,null,null,"Nelson Agholor",0,17.3,"Michael Wilson","Missed 4 games through injury and struggled to catch the ball when he came back","Top 10 finish in week 4 with 2 touchdowns and 76 yards off 7 targets","Nothing else for fantasy outside of that, you would never have the confidence to start him"]
[null,null,null,null,null,null,null,null,null,null,null,null,null,null,null,null,null,null,null,null,null,null,null,null,null,null,null,null,null,null,null,null,null,null,null,null,294,"Nico Collins","HOU",24,"WR",15,10,1,7,0,0,7,7,0.5,1,null,295,"Geoff Swaim","ARI",30,"TE",14,8,11,10,0.90900000000000003,94,9.4,0,4,26,8.5,0.7,6.7,0,null,null,null,null,null,null,null,null,null,null,null,null,null,null,null,null,null,null,null,null,null,null,null,null,null,null,null,null,null,null,null,null,null,null,null,null,null,null,null,null,null,null,null,null,null,null,null,null,null,"Marvin Mims",-1.1000000000000001,20.3,"Khalil Shakir","A top 12 perfomance in week 11 with another top 24 performance in week 8","His big week was due to an 81 yard touchdown in week 11","Lower on the depth chart and his bigger target games when Dawson Knox was out","Eye-test says he comes up with a play when Allen needs him, fantasy production says otherwise"]
[null,null,null,null,null,null,null,null,null,null,null,null,null,null,null,null,null,null,null,null,null,null,null,null,null,null,null,null,null,null,null,null,null,null,null,null,295,"Tyler Conklin","NYJ",28,"TE",17,12,1,0,0,0,0,0,0,0,null,296,"Olamide Zaccheaus","PHI",26,"WR",17,1,20,10,0.5,164,16.399999999999999,2,7,34,8.1999999999999993,0.6,9.6,0,null,null,null,null,null,null,null,null,null,null,null,null,null,null,null,null,null,null,null,null,null,null,null,null,null,null,null,null,null,null,null,null,null,null,null,null,null,null,null,null,null,null,null,null,null,null,null,null,null,"Trenton Irwin",1.4,14,"Alec Pierce","Not fantasy-relevant","36 yard touchdown in week 13 was one of only 2 touchdowns all year and gave him a top 15 finish","Didn’t catch more than 4 balls in a single game and only did that once"]
[null,null,null,null,null,null,null,null,null,null,null,null,null,null,null,null,null,null,null,null,null,null,null,null,null,null,null,null,null,null,null,null,null,null,null,null,296,"Jashaun Corbin","NYG",23,"RB",6,0,1,1,0,1,1,1,0.2,0,null,297,"River Cracraft","MIA",29,"WR",10,1,12,9,0.75,121,13.4,1,8,24,10.1,0.9,12.1,0,null,null,null,null,null,null,null,null,null,null,null,null,null,null,null,null,null,null,null,null,null,null,null,null,null,null,null,null,null,null,null,null,null,null,null,null,null,null,null,null,null,null,null,null,null,null,null,null,null,"Rondale Moore",0,16.2,"Trey Palmer","Not fantasy-relevant","Random top 20 finish in week 17 with 84 yards and a touchdown","Reasonable target share outside of that but no useable production even with an odd touchdown"]
[null,null,null,null,null,null,null,null,null,null,null,null,null,null,null,null,null,null,null,null,null,null,null,null,null,null,null,null,null,null,null,null,null,null,null,null,297,"Gabriel Davis","BUF",24,"WR",17,17,1,-2,0,0,-2,-2,-0.1,1,null,298,"Keaton Mitchell","BAL",21,"RB",8,2,11,9,0.81799999999999995,93,10.3,0,5,32,8.5,1.1000000000000001,11.6,0,null,null,null,null,null,null,null,null,null,null,null,null,null,null,null,null,null,null,null,null,null,null,null,null,null,null,null,null,null,null,null,null,null,null,null,null,null,null,null,null,null,null,null,null,null,null,null,null,null,"Allen Lazard",0,15.1,"Justin Watson","Not fantasy-relevant","Random top 20 spike game in week 11 against the Eagles with 11 targets for 53 yards and a touchdown"]
[null,null,null,null,null,null,null,null,null,null,null,null,null,null,null,null,null,null,null,null,null,null,null,null,null,null,null,null,null,null,null,null,null,null,null,null,298,"Stefon Diggs","BUF",30,"WR",17,17,1,5,0,1,5,5,0.3,2,null,299,"Andrew Ogletree","IND",25,"TE",12,9,21,9,0.42899999999999999,147,16.3,2,8,33,7,0.8,12.3,0,null,null,null,null,null,null,null,null,null,null,null,null,null,null,null,null,null,null,null,null,null,null,null,null,null,null,null,null,null,null,null,null,null,null,null,null,null,null,null,null,null,null,null,null,null,null,null,null,null,"Brandon Johnson",0,20.6,"Kalif Raymond","Not fantasy-relevant","Only topped 4 targets twice all season and capped out at 6"]
[null,null,null,null,null,null,null,null,null,null,null,null,null,null,null,null,null,null,null,null,null,null,null,null,null,null,null,null,null,null,null,null,null,null,null,null,299,"Greg Dortch","ARI",25,"WR",16,4,1,5,0,0,5,5,0.3,0,null,"Rk","Player","Tm","Age","Pos","G","GS","Tgt","Rec","Ctch%","Yds","Y/R","TD","1D","Lng","Y/Tgt","R/G","Y/G","Fmb",null,null,null,null,null,null,null,null,null,null,null,null,null,null,null,null,null,null,null,null,null,null,null,null,null,null,null,null,null,null,null,null,null,null,null,null,null,null,null,null,null,null,null,null,null,null,null,null,null,"Trey Palmer",1.5,18.399999999999999,"Michael Thomas","Injured in week 10 and missed the rest of the season","Hovered around low WR30's / high WR40's for most of weeks 1-8","20% target share through the first 8 weeks but only 1 touchdown (which gave him a top 24 finish) and hovered between 42 and 68 yards only","Flashes of the old Michael Thomas and then same-old Michael Thomas"]
[null,null,null,null,null,null,null,null,null,null,null,null,null,null,null,null,null,null,null,null,null,null,null,null,null,null,null,null,null,null,null,null,null,null,null,null,"Rk","Player","Tm","Age","Pos","G","GS","Att","Yds","TD","1D","Lng","Y/A","Y/G","Fmb",null,300,"Cordarrelle Patterson","ATL",32,"RB",14,0,12,9,0.75,38,4.2,1,2,11,3.2,0.6,2.7,1,null,null,null,null,null,null,null,null,null,null,null,null,null,null,null,null,null,null,null,null,null,null,null,null,null,null,null,null,null,null,null,null,null,null,null,null,null,null,null,null,null,null,null,null,null,null,null,null,null,"Justin Watson",0,16.3,"Quentin Johnston","Not fantasy-relevant","Did manage a WR27 finish in week 10 thanks to a touchdown but that was on 4 targets for 34 yards so not exactly week-winning","Target share increased down the stretch but it took a lot of injuries ahead of him and even then he didnt do enough with it to be useful"]
[null,null,null,null,null,null,null,null,null,null,null,null,null,null,null,null,null,null,null,null,null,null,null,null,null,null,null,null,null,null,null,null,null,null,null,null,300,"Blake Gillikin","ARI",25,"P",13,0,1,10,0,1,10,10,0.8,0,null,301,"MyCole Pruitt","ATL",31,"TE",17,8,12,9,0.75,110,12.2,1,6,22,9.1999999999999993,0.5,6.5,1,null,null,null,null,null,null,null,null,null,null,null,null,null,null,null,null,null,null,null,null,null,null,null,null,null,null,null,null,null,null,null,null,null,null,null,null,null,null,null,null,null,null,null,null,null,null,null,null,null,"Demario Douglas",3,14.4,"Demarcus Robinson","Completely irrelevant / special teams player only through weeks 1-8. Followed by 3 more games of low target share","From weeks 13-17, became a full time player with plenty of targets and 4 games of back-to-back touchdowns making him a low-end WR2 through that period","That run was a direct result of a drop in availability of Tutu Atwell"]
[null,null,null,null,null,null,null,null,null,null,null,null,null,null,null,null,null,null,null,null,null,null,null,null,null,null,null,null,null,null,null,null,null,null,null,null,301,"Dallas Goedert","PHI",28,"TE",14,14,1,1,0,0,1,1,0.1,0,null,302,"Josh Whyle","TEN",24,"TE",11,3,15,9,0.6,94,10.4,1,8,24,6.3,0.8,8.5,0,null,null,null,null,null,null,null,null,null,null,null,null,null,null,null,null,null,null,null,null,null,null,null,null,null,null,null,null,null,null,null,null,null,null,null,null,null,null,null,null,null,null,null,null,null,null,null,null,null,"Deven Thompkins",-0.1,15.6,"Robert Woods","Not fantasy-relevant","Occasional top 36 finish but low volume and low touchdown player"]
[null,null,null,null,null,null,null,null,null,null,null,null,null,null,null,null,null,null,null,null,null,null,null,null,null,null,null,null,null,null,null,null,null,null,null,null,302,"Kylen Granson","IND",25,"TE",15,7,1,2,0,1,2,2,0.1,0,null,303,"Mitchell Wilcox","CIN",27,"TE",17,4,12,9,0.75,56,6.2,0,2,12,4.7,0.5,3.3,0,null,null,null,null,null,null,null,null,null,null,null,null,null,null,null,null,null,null,null,null,null,null,null,null,null,null,null,null,null,null,null,null,null,null,null,null,null,null,null,null,null,null,null,null,null,null,null,null,null,"Jalin Hyatt",0,15.9,"Nelson Agholor","1 Top 24 finish, 2 others in the top 36. 9 games outside the top 50 including 5 outside the top 100","Occasional touchdown when you don’t expect it but not unusual to only got 1 target in a game and/or 0 catches","Can't use him in fantasy"]
[null,null,null,null,null,null,null,null,null,null,null,null,null,null,null,null,null,null,null,null,null,null,null,null,null,null,null,null,null,null,null,null,null,null,null,null,303,"Noah Gray","KAN",24,"TE",17,10,1,1,0,0,1,1,0.1,0,null,304,"Chase Claypool","2TM",25,"WR",12,2,21,8,0.38100000000000001,77,9.6,1,4,20,3.7,0.7,6.4,0,null,null,null,null,null,null,null,null,null,null,null,null,null,null,null,null,null,null,null,null,null,null,null,null,null,null,null,null,null,null,null,null,null,null,null,null,null,null,null,null,null,null,null,null,null,null,null,null,null,"Dontayvion Wicks",0,15.7,"Michael Gallup","2 Top 24 finishes and 2 more top 36 finishes. 11 games outside the top 50 including 3 outside the top 100","From week 3 was the #2 target and had a reasonable target share, although didn’t really convert those targets in to yards, catches or touchdowns","After the bye, those targets dropped off as Lamb became the focus. Gallup went from #2 target to #5 target","One of his top 24 finishes as a two-catch game where he caught a 40+ yard touchdown"]
[null,null,null,null,null,null,null,null,null,null,null,null,null,null,null,null,null,null,null,null,null,null,null,null,null,null,null,null,null,null,null,null,null,null,null,null,304,"C.J. Ham","MIN",30,"FB",17,5,1,7,0,0,7,7,0.4,0,null,305,"Josiah Deguara","GNB",26,"TE",15,4,8,8,1,65,8.1,0,3,19,8.1,0.5,4.3,0,null,null,null,null,null,null,null,null,null,null,null,null,null,null,null,null,null,null,null,null,null,null,null,null,null,null,null,null,null,null,null,null,null,null,null,null,null,null,null,null,null,null,null,null,null,null,null,null,null,"Tre Tucker",0,20.7,"Jonathan Mingo","Not fantasy-relevant","Second in targets on the Panthers, 85 targets…. 0 touchdowns and a 51% catch rate","Laviska Shenault and Dwayne Brown are the only other wide receivers in the last 10 years to get 85+ targets and not score","No wide receiver with 85+ targets in the last 10 years had less yards"]
[null,null,null,null,null,null,null,null,null,null,null,null,null,null,null,null,null,null,null,null,null,null,null,null,null,null,null,null,null,null,null,null,null,null,null,null,305,"Mecole Hardman","2TM",25,"WR",11,2,1,3,0,0,3,3,0.3,1,null,306,"Xavier Hutchinson","HOU",23,"WR",16,0,19,8,0.42099999999999999,90,11.3,0,3,34,4.7,0.5,5.6,0,null,null,null,null,null,null,null,null,null,null,null,null,null,null,null,null,null,null,null,null,null,null,null,null,null,null,null,null,null,null,null,null,null,null,null,null,null,null,null,null,null,null,null,null,null,null,null,null,null,"Alec Pierce",0,19,"Nick Westbrook-Ikhine","Not fantasy-relevant","Couple of spike target weeks but not enough to get him usable "]
[null,null,null,null,null,null,null,null,null,null,null,null,null,null,null,null,null,null,null,null,null,null,null,null,null,null,null,null,null,null,null,null,null,null,null,null,306,"Johnny Hekker","CAR",33,"P",17,0,1,-11,0,0,-11,-11,-0.6,1,null,307,"Joshua Kelley","LAC",26,"RB",17,3,12,8,0.66700000000000004,32,4,0,0,6,2.7,0.5,1.9,1,null,null,null,null,null,null,null,null,null,null,null,null,null,null,null,null,null,null,null,null,null,null,null,null,null,null,null,null,null,null,null,null,null,null,null,null,null,null,null,null,null,null,null,null,null,null,null,null,null,"Jauan Jennings",0,13.4,"Jameson Williams","Not fantasy-relevant","Missed the start of the season for his betting indiscretions","Does get schemed touches that show off his abilities but his usage has remained limited"]
[null,null,null,null,null,null,null,null,null,null,null,null,null,null,null,null,null,null,null,null,null,null,null,null,null,null,null,null,null,null,null,null,null,null,null,null,307,"Peyton Hendershot","DAL",24,"TE",8,1,1,0,0,0,0,0,0,0,null,308,"Lucas Krull","DEN",25,"TE",7,2,14,8,0.57099999999999995,95,11.9,1,5,35,6.8,1.1000000000000001,13.6,0,null,null,null,null,null,null,null,null,null,null,null,null,null,null,null,null,null,null,null,null,null,null,null,null,null,null,null,null,null,null,null,null,null,null,null,null,null,null,null,null,null,null,null,null,null,null,null,null,null,"Jake Bobo",0,16.100000000000001,"Darnell Mooney","Not fantasy-relevant","A couple of spike performances pushed him in to the top 24 on occasion but generally low catch % and low target volume"]
[null,null,null,null,null,null,null,null,null,null,null,null,null,null,null,null,null,null,null,null,null,null,null,null,null,null,null,null,null,null,null,null,null,null,null,null,308,"Connor Heyward","PIT",24,"TE",17,7,1,0,0,0,0,0,0,0,null,309,"Luke Schoonmaker","DAL",25,"TE",17,0,15,8,0.53300000000000003,65,8.1,2,5,18,4.3,0.5,3.8,0,null,null,null,null,null,null,null,null,null,null,null,null,null,null,null,null,null,null,null,null,null,null,null,null,null,null,null,null,null,null,null,null,null,null,null,null,null,null,null,null,null,null,null,null,null,null,null,null,null,"Jalen Tolbert",0,13.9,"Rashod Bateman","Not fantasy-relevant","Only managed more than 3 catches once all season and only 1 touchdown"]
[null,null,null,null,null,null,null,null,null,null,null,null,null,null,null,null,null,null,null,null,null,null,null,null,null,null,null,null,null,null,null,null,null,null,null,null,309,"KhaDarel Hodge","ATL",28,"WR",17,4,1,0,0,0,0,0,0,1,null,310,"Ben Skowronek","LAR",26,"WR",17,0,12,8,0.66700000000000004,66,8.3000000000000007,1,3,20,5.5,0.5,3.9,0,null,null,null,null,null,null,null,null,null,null,null,null,null,null,null,null,null,null,null,null,null,null,null,null,null,null,null,null,null,null,null,null,null,null,null,null,null,null,null,null,null,null,null,null,null,null,null,null,null,"Marquez Valdes-Scantling",0,17.399999999999999,"DeVante Parker","Not fantasy-relevant","1 big target share game with Douglas out and Bailey Zappe under center, but that still didn’t lead to fantasy production"]
[null,null,null,null,null,null,null,null,null,null,null,null,null,null,null,null,null,null,null,null,null,null,null,null,null,null,null,null,null,null,null,null,null,null,null,null,310,"Amani Hooker","TEN",25,"DB",13,13,1,2,0,1,2,2,0.2,0,null,311,"Ihmir Smith-Marsette","CAR",24,"WR",17,0,10,8,0.8,51,6.4,0,5,18,5.0999999999999996,0.5,3,2,null,null,null,null,null,null,null,null,null,null,null,null,null,null,null,null,null,null,null,null,null,null,null,null,null,null,null,null,null,null,null,null,null,null,null,null,null,null,null,null,null,null,null,null,null,null,null,null,null,"Jamal Agnew",0,15,"Brandon Powell","Not fantasy-relevant"]
[null,null,null,null,null,null,null,null,null,null,null,null,null,null,null,null,null,null,null,null,null,null,null,null,null,null,null,null,null,null,null,null,null,null,null,null,311,"Evan Hull","IND",23,"RB",1,0,1,1,0,0,1,1,1,0,null,312,"Samori Toure","GNB",25,"WR",11,0,18,8,0.44400000000000001,78,9.8000000000000007,0,4,35,4.3,0.7,7.1,1,null,null,null,null,null,null,null,null,null,null,null,null,null,null,null,null,null,null,null,null,null,null,null,null,null,null,null,null,null,null,null,null,null,null,null,null,null,null,null,null,null,null,null,null,null,null,null,null,null,"Alex Erickson",1.9,16.8,"Zay Jones","Injury-riddled season, missing 8 games in total","Solid target share when he did play but only cracked the top 20 once with an occasional top 36 finish on his good weeks","Often a deeper target so had a number of games with a low catch % too"]
[null,null,null,null,null,null,null,null,null,null,null,null,null,null,null,null,null,null,null,null,null,null,null,null,null,null,null,null,null,null,null,null,null,null,null,null,312,"Rakim Jarrett","TAM",22,"WR",10,0,1,0,0,0,0,0,0,0,null,313,"C.J. Uzomah","NYJ",30,"TE",12,8,12,8,0.66700000000000004,58,7.3,1,5,19,4.8,0.7,4.8,0,null,null,null,null,null,null,null,null,null,null,null,null,null,null,null,null,null,null,null,null,null,null,null,null,null,null,null,null,null,null,null,null,null,null,null,null,null,null,null,null,null,null,null,null,null,null,null,null,null,"Parker Washington",1.2,18.100000000000001,"Cedrick Wilson","Not fantasy-relevant","An occasional touchdown might spur him in to the top 36 but that’s it"]
[null,null,null,null,null,null,null,null,null,null,null,null,null,null,null,null,null,null,null,null,null,null,null,null,null,null,null,null,null,null,null,null,null,null,null,null,313,"Justin Jefferson","MIN",24,"WR",10,9,1,-12,0,0,-12,-12,-1.2,1,null,314,"Israel Abanikanda","NYJ",21,"RB",6,0,11,7,0.63600000000000001,43,6.1,0,2,13,3.9,1.2,7.2,1,null,null,null,null,null,null,null,null,null,null,null,null,null,null,null,null,null,null,null,null,null,null,null,null,null,null,null,null,null,null,null,null,null,null,null,null,null,null,null,null,null,null,null,null,null,null,null,null,null,"Julio Jones",1,17.399999999999999,"Marvin Mims","Not fantasy-relevant","Some special teams flashes and schemed touches was a positive sign of intent","60 yard touchdown reception in week 2 helped him to a top 20 finish but that was it","Only got more than 3 targets twice all season and capped out at 5"]
[null,null,null,null,null,null,null,null,null,null,null,null,null,null,null,null,null,null,null,null,null,null,null,null,null,null,null,null,null,null,null,null,null,null,null,null,314,"Van Jefferson","2TM",27,"WR",17,9,1,4,0,0,4,4,0.2,0,null,315,"Mike Boone","HOU",28,"S",9,0,9,7,0.77800000000000002,40,5.7,0,2,12,4.4000000000000004,0.8,4.4000000000000004,1,null,null,null,null,null,null,null,null,null,null,null,null,null,null,null,null,null,null,null,null,null,null,null,null,null,null,null,null,null,null,null,null,null,null,null,null,null,null,null,null,null,null,null,null,null,null,null,null,null,"David Moore",0,14.8,"Chris Moore","Not fantasy-relevant"]
[null,null,null,null,null,null,null,null,null,null,null,null,null,null,null,null,null,null,null,null,null,null,null,null,null,null,null,null,null,null,null,null,null,null,null,null,315,"Cameron Johnston","HOU",31,"P",13,0,1,-23,0,0,-23,-23,-1.8,0,null,316,"Darrynton Evans","2TM",25,"RB",7,0,12,7,0.58299999999999996,49,7,0,2,17,4.0999999999999996,1,7,0,null,null,null,null,null,null,null,null,null,null,null,null,null,null,null,null,null,null,null,null,null,null,null,null,null,null,null,null,null,null,null,null,null,null,null,null,null,null,null,null,null,null,null,null,null,null,null,null,null,"Robert Woods",0.8,13.4,"Allen Robinson","Not fantasy-relevant"]
[null,null,null,null,null,null,null,null,null,null,null,null,null,null,null,null,null,null,null,null,null,null,null,null,null,null,null,null,null,null,null,null,null,null,null,null,316,"Christian Kirk","JAX",27,"WR",12,12,1,6,0,0,6,6,0.5,2,null,317,"C.J. Ham","MIN",30,"FB",17,5,9,7,0.77800000000000002,25,3.6,0,1,7,2.8,0.4,1.5,0,null,null,null,null,null,null,null,null,null,null,null,null,null,null,null,null,null,null,null,null,null,null,null,null,null,null,null,null,null,null,null,null,null,null,null,null,null,null,null,null,null,null,null,null,null,null,null,null,null,"Jerry Jeudy",3.1,13.1,"Greg Dortch","Was not part of the receiving game at all until week 11, then filling in for Michael Wilson and Marquise Brown","In those last 7 games, managed 2 touchdowns, 2 top 24 performances and 2 top 36 performances","Decent backup for his team that gives you a deep option when there's injuries"]
[null,null,null,null,null,null,null,null,null,null,null,null,null,null,null,null,null,null,null,null,null,null,null,null,null,null,null,null,null,null,null,null,null,null,null,null,317,"George Kittle","SFO",30,"TE",16,16,1,2,0,1,2,2,0.1,0,null,318,"Ty Johnson","BUF",26,"RB",10,0,7,7,1,62,8.9,1,2,28,8.9,0.7,6.2,1,null,null,null,null,null,null,null,null,null,null,null,null,null,null,null,null,null,null,null,null,null,null,null,null,null,null,null,null,null,null,null,null,null,null,null,null,null,null,null,null,null,null,null,null,null,null,null,null,null,"Jameson Williams",0,13.3,"JuJu Smith-Schuster","Not fantasy-relevant","Almost cracked the top 24 a couple of times with some increased target share when others were injured but they were only 2 games with more than 50 yards"]
[null,null,null,null,null,null,null,null,null,null,null,null,null,null,null,null,null,null,null,null,null,null,null,null,null,null,null,null,null,null,null,null,null,null,null,null,318,"Cooper Kupp","LAR",30,"WR",12,12,1,-3,0,0,-3,-3,-0.3,0,null,319,"Charlie Jones","CIN",25,"WR",11,0,9,7,0.77800000000000002,64,9.1,0,3,35,7.1,0.6,5.8,0,null,null,null,null,null,null,null,null,null,null,null,null,null,null,null,null,null,null,null,null,null,null,null,null,null,null,null,null,null,null,null,null,null,null,null,null,null,null,null,null,null,null,null,null,null,null,null,null,null,"Kalif Raymond",0.9,14.6,"Allen Lazard","Not fantasy-relevant"]
[null,null,null,null,null,null,null,null,null,null,null,null,null,null,null,null,null,null,null,null,null,null,null,null,null,null,null,null,null,null,null,null,null,null,null,null,319,"Sam LaPorta","DET",22,"TE",17,14,1,4,0,0,4,4,0.2,0,null,320,"Tony Jones","2TM",26,"RB",7,1,10,7,0.7,37,5.3,0,1,11,3.7,1,5.3,0,null,null,null,null,null,null,null,null,null,null,null,null,null,null,null,null,null,null,null,null,null,null,null,null,null,null,null,null,null,null,null,null,null,null,null,null,null,null,null,null,null,null,null,null,null,null,null,null,null,"KaVontae Turpin",1.8,11.8,"KaVontae Turpin","Not fantasy-relevant"]
[null,null,null,null,null,null,null,null,null,null,null,null,null,null,null,null,null,null,null,null,null,null,null,null,null,null,null,null,null,null,null,null,null,null,null,null,320,"John Metchie","HOU",23,"WR",16,0,1,4,0,0,4,4,0.3,0,null,321,"Charlie Kolar","BAL",24,"TE",15,3,9,7,0.77800000000000002,87,12.4,1,5,19,9.6999999999999993,0.5,5.8,0,null,null,null,null,null,null,null,null,null,null,null,null,null,null,null,null,null,null,null,null,null,null,null,null,null,null,null,null,null,null,null,null,null,null,null,null,null,null,null,null,null,null,null,null,null,null,null,null,null,"Robbie Chosen",0,13.8,"Jalin Hyatt","Not fantasy-relevant","Part time player with one random game of good involvement in week 12 that netted a top 24 finish before disappearing again"]
[null,null,null,null,null,null,null,null,null,null,null,null,null,null,null,null,null,null,null,null,null,null,null,null,null,null,null,null,null,null,null,null,null,null,null,null,321,"Nick Niemann","LAC",26,"LB",17,3,1,0,0,0,-2,0,0,1,null,322,"Jalen Reagor","NWE",24,"WR",11,1,23,7,0.30399999999999999,138,19.7,0,5,39,6,0.6,12.5,0,null,null,null,null,null,null,null,null,null,null,null,null,null,null,null,null,null,null,null,null,null,null,null,null,null,null,null,null,null,null,null,null,null,null,null,null,null,null,null,null,null,null,null,null,null,null,null,null,null,"River Cracraft",0,13.9,"Brandon Johnson","Not fantasy-relevant","WR15 finish in week 2 was off the back of 2 touchdowns from 3 targets. That's neither predictable or repeatable, and was the only relevant performance in fantasy"]
[null,null,null,null,null,null,null,null,null,null,null,null,null,null,null,null,null,null,null,null,null,null,null,null,null,null,null,null,null,null,null,null,null,null,null,null,322,"Keisean Nixon","GNB",26,"CB",17,13,1,11,0,1,11,11,0.6,3,null,323,"Deuce Vaughn","DAL",22,"RB",7,0,7,7,1,40,5.7,0,1,11,5.7,1,5.7,0,null,null,null,null,null,null,null,null,null,null,null,null,null,null,null,null,null,null,null,null,null,null,null,null,null,null,null,null,null,null,null,null,null,null,null,null,null,null,null,null,null,null,null,null,null,null,null,null,null,"Terrace Marshall",0,14.6,"Marquez Valdes-Scantling","Not fantasy-relevant","46 yard touchdown pass in week 7 got him a top 14 finish","As seen in the playoffs, there's always a chance he gets one of these long bombs and gives you a useable week. He doesn’t get them often enough, and doesn’t catch enough of the opportunities he does get"]
[null,null,null,null,null,null,null,null,null,null,null,null,null,null,null,null,null,null,null,null,null,null,null,null,null,null,null,null,null,null,null,null,null,null,null,null,323,"Josh Palmer","LAC",24,"WR",10,6,1,6,0,0,6,6,0.6,1,null,324,"Darnell Washington","PIT",22,"TE",17,7,10,7,0.7,61,8.6999999999999993,0,4,12,6.1,0.4,3.6,0,null,null,null,null,null,null,null,null,null,null,null,null,null,null,null,null,null,null,null,null,null,null,null,null,null,null,null,null,null,null,null,null,null,null,null,null,null,null,null,null,null,null,null,null,null,null,null,null,null,"Allen Robinson",0,12.5,"Tre Tucker","Not fantasy-relevant","Top 15 finish in week 15 scoring 2 touchdowns in a huge blowout win over the Chargers"]
[null,null,null,null,null,null,null,null,null,null,null,null,null,null,null,null,null,null,null,null,null,null,null,null,null,null,null,null,null,null,null,null,null,null,null,null,324,"Kyle Pitts","ATL",23,"TE",17,15,1,-4,0,0,-4,-4,-0.2,0,null,325,"Trayveon Williams","CIN",26,"RB",17,0,9,7,0.77800000000000002,10,1.4,0,0,5,1.1000000000000001,0.4,0.6,0,null,null,null,null,null,null,null,null,null,null,null,null,null,null,null,null,null,null,null,null,null,null,null,null,null,null,null,null,null,null,null,null,null,null,null,null,null,null,null,null,null,null,null,null,null,null,null,null,null,"Cedrick Wilson",2.2000000000000002,10.7,"Trenton Irwin","Not fantasy-relevant","Managed a couple of top 26 finishes with increased workloads in games without Tee Higgins"]
[null,null,null,null,null,null,null,null,null,null,null,null,null,null,null,null,null,null,null,null,null,null,null,null,null,null,null,null,null,null,null,null,null,null,null,null,325,"Jalen Reagor","NWE",24,"WR",11,1,1,17,0,1,17,17,1.5,0,null,326,"Ronnie Bell","SFO",23,"WR",17,0,13,6,0.46200000000000002,68,11.3,3,5,20,5.2,0.4,4,1,null,null,null,null,null,null,null,null,null,null,null,null,null,null,null,null,null,null,null,null,null,null,null,null,null,null,null,null,null,null,null,null,null,null,null,null,null,null,null,null,null,null,null,null,null,null,null,null,null,"Olamide Zaccheaus",0,13.8,"Isaiah Hodgins","Not fantasy-relevant"]
[null,null,null,null,null,null,null,null,null,null,null,null,null,null,null,null,null,null,null,null,null,null,null,null,null,null,null,null,null,null,null,null,null,null,null,null,326,"Rashee Rice","KAN",23,"WR",16,8,1,-3,0,0,-3,-3,-0.2,2,null,327,"Raheem Blackshear","CAR",24,"RB",12,0,7,6,0.85699999999999998,45,7.5,0,1,19,6.4,0.5,3.8,0,null,null,null,null,null,null,null,null,null,null,null,null,null,null,null,null,null,null,null,null,null,null,null,null,null,null,null,null,null,null,null,null,null,null,null,null,null,null,null,null,null,null,null,null,null,null,null,null,null,"Calvin Austin",0,15.2,"Xavier Gipson","Not fantasy-relevant"]
[null,null,null,null,null,null,null,null,null,null,null,null,null,null,null,null,null,null,null,null,null,null,null,null,null,null,null,null,null,null,null,null,null,null,null,null,327,"Demarcus Robinson","LAR",29,"WR",16,4,1,23,0,1,23,23,1.4,2,null,328,"Jalen Brooks","DAL",23,"WR",7,0,6,6,1,64,10.7,0,4,24,10.7,0.9,9.1,0,null,null,null,null,null,null,null,null,null,null,null,null,null,null,null,null,null,null,null,null,null,null,null,null,null,null,null,null,null,null,null,null,null,null,null,null,null,null,null,null,null,null,null,null,null,null,null,null,null,"Jonathan Mingo",1.5,12.9,"Braxton Berrios","Not fantasy-relevant","One top 12 performance in week 4 with an increased workload and touchdown in a blowout","Mainly just the kick returner"]
[null,null,null,null,null,null,null,null,null,null,null,null,null,null,null,null,null,null,null,null,null,null,null,null,null,null,null,null,null,null,null,null,null,null,null,null,328,"James Robinson","GNB",25,"RB",1,0,1,2,0,0,2,2,2,0,null,329,"DeeJay Dallas","SEA",25,"RB",17,0,9,6,0.66700000000000004,26,4.3,0,1,14,2.9,0.4,1.5,2,null,null,null,null,null,null,null,null,null,null,null,null,null,null,null,null,null,null,null,null,null,null,null,null,null,null,null,null,null,null,null,null,null,null,null,null,null,null,null,null,null,null,null,null,null,null,null,null,null,"Skyy Moore",0,16,"Jake Bobo","Not fantasy-relevant","Squeezed in to the top 24 with a touchdown and increased target share in week 7 with DK Metcalf out"]
[null,null,null,null,null,null,null,null,null,null,null,null,null,null,null,null,null,null,null,null,null,null,null,null,null,null,null,null,null,null,null,null,null,null,null,null,329,"Khalil Shakir","BUF",23,"WR",17,10,1,10,0,1,10,10,0.6,1,null,"Rk","Player","Tm","Age","Pos","G","GS","Tgt","Rec","Ctch%","Yds","Y/R","TD","1D","Lng","Y/Tgt","R/G","Y/G","Fmb",null,null,null,null,null,null,null,null,null,null,null,null,null,null,null,null,null,null,null,null,null,null,null,null,null,null,null,null,null,null,null,null,null,null,null,null,null,null,null,null,null,null,null,null,null,null,null,null,null,"Treylon Burks",0,10.6,"Skyy Moore","Not fantasy-relevant"]
[null,null,null,null,null,null,null,null,null,null,null,null,null,null,null,null,null,null,null,null,null,null,null,null,null,null,null,null,null,null,null,null,null,null,null,null,"Rk","Player","Tm","Age","Pos","G","GS","Att","Yds","TD","1D","Lng","Y/A","Y/G","Fmb",null,330,"Keelan Doss","LAC",27,"WR",5,0,13,6,0.46200000000000002,33,5.5,0,1,9,2.5,1.2,6.6,0,null,null,null,null,null,null,null,null,null,null,null,null,null,null,null,null,null,null,null,null,null,null,null,null,null,null,null,null,null,null,null,null,null,null,null,null,null,null,null,null,null,null,null,null,null,null,null,null,null,"Isaiah Hodgins",0,14,"Kadarius Toney","Not fantasy-relevant","A tumultuous season on and off the field, nothing helpful for fantasy"]
[null,null,null,null,null,null,null,null,null,null,null,null,null,null,null,null,null,null,null,null,null,null,null,null,null,null,null,null,null,null,null,null,null,null,null,null,330,"Sterling Shepard","NYG",30,"WR",15,2,1,6,0,0,6,6,0.4,1,null,331,"Tyler Goodson","IND",23,"RB",6,1,9,6,0.66700000000000004,34,5.7,0,1,15,3.8,1,5.7,0,null,null,null,null,null,null,null,null,null,null,null,null,null,null,null,null,null,null,null,null,null,null,null,null,null,null,null,null,null,null,null,null,null,null,null,null,null,null,null,null,null,null,null,null,null,null,null,null,null,"Kadarius Toney",0,9.4,"Jalen Tolbert","Not fantasy-relevant","Squeezed in to the top 24 with a touchdown in week 9"]
[null,null,null,null,null,null,null,null,null,null,null,null,null,null,null,null,null,null,null,null,null,null,null,null,null,null,null,null,null,null,null,null,null,null,null,null,331,"Steven Sims","HOU",26,"WR",3,0,1,1,0,0,1,1,0.3,0,null,332,"Jimmy Graham","NOR",37,"TE",13,2,7,6,0.85699999999999998,39,6.5,4,6,12,5.6,0.5,3,0,null,null,null,null,null,null,null,null,null,null,null,null,null,null,null,null,null,null,null,null,null,null,null,null,null,null,null,null,null,null,null,null,null,null,null,null,null,null,null,null,null,null,null,null,null,null,null,null,null,"DeVante Parker",1.7,11.7,"Jauan Jennings","Not fantasy-relevant","Squeezed in to the top 24 with a touchdown in week 13"]
[null,null,null,null,null,null,null,null,null,null,null,null,null,null,null,null,null,null,null,null,null,null,null,null,null,null,null,null,null,null,null,null,null,null,null,null,332,"Jonnu Smith","ATL",28,"TE",17,6,1,0,0,0,0,0,0,1,null,333,"Eric Gray","NYG",24,"RB",13,0,7,6,0.85699999999999998,22,3.7,0,0,9,3.1,0.5,1.7,3,null,null,null,null,null,null,null,null,null,null,null,null,null,null,null,null,null,null,null,null,null,null,null,null,null,null,null,null,null,null,null,null,null,null,null,null,null,null,null,null,null,null,null,null,null,null,null,null,null,"Deonte Harty",-0.2,8.1999999999999993,"Hunter Renfrow","Not fantasy-relevant"]
[null,null,null,null,null,null,null,null,null,null,null,null,null,null,null,null,null,null,null,null,null,null,null,null,null,null,null,null,null,null,null,null,null,null,null,null,333,"Ryan Stonehouse","TEN",24,"P",12,0,1,-11,0,0,-11,-11,-0.9,1,null,334,"Julian Hill","MIA",23,"TE",15,4,9,6,0.66700000000000004,48,8,0,2,18,5.3,0.4,3.2,1,null,null,null,null,null,null,null,null,null,null,null,null,null,null,null,null,null,null,null,null,null,null,null,null,null,null,null,null,null,null,null,null,null,null,null,null,null,null,null,null,null,null,null,null,null,null,null,null,null,"Mack Hollins",0,9,"Mike Williams","Injured in week 3 and missed the rest of the season","Poor week 1, top 24 in week 2, top 10 in week 3 with 100+ yards and a touchdown","21% target share through the first 3 weeks including a 13 target game in week 2"]
[null,null,null,null,null,null,null,null,null,null,null,null,null,null,null,null,null,null,null,null,null,null,null,null,null,null,null,null,null,null,null,null,null,null,null,null,334,"Trent Taylor","CHI",29,"WR",17,0,1,-2,0,0,-2,-2,-0.1,2,null,335,"Elijah Mitchell","SFO",25,"RB",11,1,8,6,0.75,14,2.2999999999999998,0,2,9,1.8,0.5,1.3,0,null,null,null,null,null,null,null,null,null,null,null,null,null,null,null,null,null,null,null,null,null,null,null,null,null,null,null,null,null,null,null,null,null,null,null,null,null,null,null,null,null,null,null,null,null,null,null,null,null,"Chase Claypool",0,12.6,"Lil'Jordan Humphrey","Not fantasy-relevant","Did manage a top 26 finish with a 54 yard touchdown in week 17 but that was an outlier"]
[null,null,null,null,null,null,null,null,null,null,null,null,null,null,null,null,null,null,null,null,null,null,null,null,null,null,null,null,null,null,null,null,null,null,null,null,335,"Adam Thielen","CAR",33,"WR",17,17,1,6,0,0,6,6,0.4,2,null,336,"Justyn Ross","KAN",24,"WR",10,1,11,6,0.54500000000000004,53,8.8000000000000007,0,2,20,4.8,0.6,5.3,0,null,null,null,null,null,null,null,null,null,null,null,null,null,null,null,null,null,null,null,null,null,null,null,null,null,null,null,null,null,null,null,null,null,null,null,null,null,null,null,null,null,null,null,null,null,null,null,null,null,"Parris Campbell",0.8,8.4,"Mack Hollins","Not fantasy-relevant"]
[null,null,null,null,null,null,null,null,null,null,null,null,null,null,null,null,null,null,null,null,null,null,null,null,null,null,null,null,null,null,null,null,null,null,null,null,336,"Logan Thomas","WAS",32,"TE",16,15,1,2,0,1,2,2,0.1,2,null,337,"Isaiah Spiller","LAC",22,"RB",9,0,6,6,1,34,5.7,0,1,10,5.7,0.7,3.8,0,null,null,null,null,null,null,null,null,null,null,null,null,null,null,null,null,null,null,null,null,null,null,null,null,null,null,null,null,null,null,null,null,null,null,null,null,null,null,null,null,null,null,null,null,null,null,null,null,null,"Andrei Iosivas",0,7.6,"Jamal Agnew","Not fantasy-relevant","Did manage a top 24 finish with a 65 yard touchdown in week 15 but that was an outlier"]
[null,null,null,null,null,null,null,null,null,null,null,null,null,null,null,null,null,null,null,null,null,null,null,null,null,null,null,null,null,null,null,null,null,null,null,null,337,"Cedric Tillman","CLE",23,"WR",14,3,1,8,0,0,8,8,0.6,0,null,338,"Blake Bell","KAN",32,"TE",17,3,9,5,0.55600000000000005,26,5.2,1,1,8,2.9,0.3,1.5,1,null,null,null,null,null,null,null,null,null,null,null,null,null,null,null,null,null,null,null,null,null,null,null,null,null,null,null,null,null,null,null,null,null,null,null,null,null,null,null,null,null,null,null,null,null,null,null,null,null,"JuJu Smith-Schuster",1.5,13,"Calvin Austin","Not fantasy-relevant"]
[null,null,null,null,null,null,null,null,null,null,null,null,null,null,null,null,null,null,null,null,null,null,null,null,null,null,null,null,null,null,null,null,null,null,null,null,338,"Kyle Trask","TAM",25,"QB",2,0,1,-1,0,0,-1,-1,-0.5,0,null,339,"Gary Brightwell","NYG",24,"RB",7,0,7,5,0.71399999999999997,47,9.4,0,2,18,6.7,0.7,6.7,0,null,null,null,null,null,null,null,null,null,null,null,null,null,null,null,null,null,null,null,null,null,null,null,null,null,null,null,null,null,null,null,null,null,null,null,null,null,null,null,null,null,null,null,null,null,null,null,null,null,"Lil'Jordan Humphrey",0,14.9,"Alex Erickson","Not fantasy-relevant"]
[null,null,null,null,null,null,null,null,null,null,null,null,null,null,null,null,null,null,null,null,null,null,null,null,null,null,null,null,null,null,null,null,null,null,null,null,339,"Zeke Turner","ARI",27,"LB",16,1,1,2,0,1,2,2,0.1,0,null,340,"Jason Brownlee","NYJ",24,"WR",7,5,8,5,0.625,56,11.2,1,2,24,7,0.7,8,0,null,null,null,null,null,null,null,null,null,null,null,null,null,null,null,null,null,null,null,null,null,null,null,null,null,null,null,null,null,null,null,null,null,null,null,null,null,null,null,null,null,null,null,null,null,null,null,null,null,"Ronnie Bell",0,10.4,"A.T. Perry","Not fantasy-relevant"]
[null,null,null,null,null,null,null,null,null,null,null,null,null,null,null,null,null,null,null,null,null,null,null,null,null,null,null,null,null,null,null,null,null,null,null,null,340,"Tress Way","WAS",33,"P",17,0,1,0,0,0,0,0,0,0,null,341,"Randall Cobb","NYJ",33,"WR",11,1,17,5,0.29399999999999998,39,7.8,1,3,15,2.2999999999999998,0.5,3.5,0,null,null,null,null,null,null,null,null,null,null,null,null,null,null,null,null,null,null,null,null,null,null,null,null,null,null,null,null,null,null,null,null,null,null,null,null,null,null,null,null,null,null,null,null,null,null,null,null,null,"Brandon Powell",0,10.9,"Treylon Burks","Not fantasy-relevant","Missed a lot of time and struggled to get going","In the few games he did play he rarely got more than 3 targets. His 6 target game in week 3 netted him a single catch for 5 yards"]
[null,null,null,null,null,null,null,null,null,null,null,null,null,null,null,null,null,null,null,null,null,null,null,null,null,null,null,null,null,null,null,null,null,null,null,null,341,"Dontayvion Wicks","GNB",22,"WR",15,6,1,1,0,0,1,1,0.1,3,null,342,"Payne Durham","TAM",23,"TE",13,2,7,5,0.71399999999999997,58,11.6,0,3,25,8.3000000000000007,0.4,4.5,0,null,null,null,null,null,null,null,null,null,null,null,null,null,null,null,null,null,null,null,null,null,null,null,null,null,null,null,null,null,null,null,null,null,null,null,null,null,null,null,null,null,null,null,null,null,null,null,null,null,"Van Jefferson",0,6.8,"Parker Washington","Not fantasy-relevant","Got some opportunity with Kirk injured and got a couple of touchdowns but nothing reliable"]
[null,null,null,null,null,null,null,null,null,null,null,null,null,null,null,null,null,null,null,null,null,null,null,null,null,null,null,null,null,null,null,null,null,null,null,null,342,"Jonathan Williams","WAS",29,"RB",1,0,1,-2,0,0,-2,-2,-2,0,null,343,"Brycen Hopkins","LAR",26,"TE",15,0,7,5,0.71399999999999997,78,15.6,0,3,29,11.1,0.3,5.2,0,null,null,null,null,null,null,null,null,null,null,null,null,null,null,null,null,null,null,null,null,null,null,null,null,null,null,null,null,null,null,null,null,null,null,null,null,null,null,null,null,null,null,null,null,null,null,null,null,null,"Chris Moore",0,9.6999999999999993,"Van Jefferson","Not fantasy-relevant"]
[null,null,null,null,null,null,null,null,null,null,null,null,null,null,null,null,null,null,null,null,null,null,null,null,null,null,null,null,null,null,null,null,null,null,null,null,343,"Mike Williams","LAC",29,"WR",3,3,1,3,0,0,3,3,1,0,null,344,"Deon Jackson","3TM",24,"RB",4,1,6,5,0.83299999999999996,14,2.8,0,0,8,2.2999999999999998,1.3,3.5,2,null,null,null,null,null,null,null,null,null,null,null,null,null,null,null,null,null,null,null,null,null,null,null,null,null,null,null,null,null,null,null,null,null,null,null,null,null,null,null,null,null,null,null,null,null,null,null,null,null,"Rashod Bateman",1.6,9.4,"Van Jefferson","Not fantasy-relevant"]
[null,null,null,null,null,null,null,null,null,null,null,null,null,null,null,null,null,null,null,null,null,null,null,null,null,null,null,null,null,null,null,null,null,null,null,null,344,"Robert Woods","HOU",31,"WR",14,11,1,7,0,0,7,7,0.5,0,null,345,"Marvin Jones","DET",33,"WR",6,4,10,5,0.5,35,7,0,2,16,3.5,0.8,5.8,1,null,null,null,null,null,null,null,null,null,null,null,null,null,null,null,null,null,null,null,null,null,null,null,null,null,null,null,null,null,null,null,null,null,null,null,null,null,null,null,null,null,null,null,null,null,null,null,null,null,"John Metchie",0,4.5,"KhaDarel Hodge","Not fantasy-relevant"]
[null,null,null,null,null,null,null,null,null,null,null,null,null,null,null,null,null,null,null,null,null,null,null,null,null,null,null,null,null,null,null,null,null,null,null,null,345,"Logan Woodside","ATL",28,"QB",1,0,1,6,0,0,6,6,6,0,null,346,"Keith Kirkwood","NOR",29,"WR",13,4,9,5,0.55600000000000005,37,7.4,1,3,13,4.0999999999999996,0.4,2.8,0,null,null,null,null,null,null,null,null,null,null,null,null,null,null,null,null,null,null,null,null,null,null,null,null,null,null,null,null,null,null,null,null,null,null,null,null,null,null,null,null,null,null,null,null,null,null,null,null,null,"Derius Davis",0.2,8.6999999999999993,"Cedric Tillman","Not fantasy-relevant"]
[null,null,null,null,null,null,null,null,null,null,null,null,null,null,null,null,null,null,null,null,null,null,null,null,null,null,null,null,null,null,null,null,null,null,null,null,346,"Ty Zentner","2TM",25,"K-P",9,0,1,0,0,0,0,0,0,1,null,347,"Ty Montgomery","NWE",30,"RB",13,0,12,5,0.41699999999999998,40,8,0,3,17,3.3,0.4,3.1,0,null,null,null,null,null,null,null,null,null,null,null,null,null,null,null,null,null,null,null,null,null,null,null,null,null,null,null,null,null,null,null,null,null,null,null,null,null,null,null,null,null,null,null,null,null,null,null,null,null,"Quez Watkins",0,5.8,"Jamison Crowder","Not fantasy-relevant","Largely a special teams player but called in to action in weeks 8 & 9 with Curtis Samuel injured"]
[null,null,null,null,null,null,null,null,null,null,null,null,null,null,null,null,null,null,null,null,null,null,null,null,null,null,null,null,null,null,null,null,null,null,null,null,null,null,null,null,null,null,null,null,null,null,null,null,null,null,null,null,348,"David Moore","TAM",28,"WR",7,0,7,5,0.71399999999999997,94,18.8,1,3,52,13.4,0.7,13.4,0,null,null,null,null,null,null,null,null,null,null,null,null,null,null,null,null,null,null,null,null,null,null,null,null,null,null,null,null,null,null,null,null,null,null,null,null,null,null,null,null,null,null,null,null,null,null,null,null,null,"Ray-Ray McCloud",1.1000000000000001,6.3,"Deven Thompkins","Not fantasy-relevant"]
[null,null,null,null,null,null,null,null,null,null,null,null,null,null,null,null,null,null,null,null,null,null,null,null,null,null,null,null,null,null,null,null,null,null,null,null,null,null,null,null,null,null,null,null,null,null,null,null,null,null,null,null,349,"Craig Reynolds","DET",27,"RB",17,0,5,5,1,47,9.4,0,2,28,9.4,0.3,2.8,2,null,null,null,null,null,null,null,null,null,null,null,null,null,null,null,null,null,null,null,null,null,null,null,null,null,null,null,null,null,null,null,null,null,null,null,null,null,null,null,null,null,null,null,null,null,null,null,null,null,"Hunter Renfrow",0,9.1999999999999993,"Tyler Scott","Not fantasy-relevant"]
[null,null,null,null,null,null,null,null,null,null,null,null,null,null,null,null,null,null,null,null,null,null,null,null,null,null,null,null,null,null,null,null,null,null,null,null,null,null,null,null,null,null,null,null,null,null,null,null,null,null,null,null,350,"Patrick Ricard","BAL",29,"FB",17,9,7,5,0.71399999999999997,52,10.4,1,3,28,7.4,0.3,3.1,0,null,null,null,null,null,null,null,null,null,null,null,null,null,null,null,null,null,null,null,null,null,null,null,null,null,null,null,null,null,null,null,null,null,null,null,null,null,null,null,null,null,null,null,null,null,null,null,null,null,"Trent Sherfield",0,3.8,"Dyami Brown","Not fantasy-relevant"]
[null,null,null,null,null,null,null,null,null,null,null,null,null,null,null,null,null,null,null,null,null,null,null,null,null,null,null,null,null,null,null,null,null,null,null,null,null,null,null,null,null,null,null,null,null,null,null,null,null,null,null,null,351,"Ronnie Rivers","LAR",24,"RB",9,1,5,5,1,22,4.4000000000000004,0,0,10,4.4000000000000004,0.6,2.4,0,null,null,null,null,null,null,null,null,null,null,null,null,null,null,null,null,null,null,null,null,null,null,null,null,null,null,null,null,null,null,null,null,null,null,null,null,null,null,null,null,null,null,null,null,null,null,null,null,null,"Dyami Brown",0,12.1,"Olamide Zaccheaus","Not fantasy-relevant"]
[null,null,null,null,null,null,null,null,null,null,null,null,null,null,null,null,null,null,null,null,null,null,null,null,null,null,null,null,null,null,null,null,null,null,null,null,null,null,null,null,null,null,null,null,null,null,null,null,null,null,null,null,352,"Equanimeous St. Brown","CHI",27,"WR",7,2,6,5,0.83299999999999996,62,12.4,0,3,21,10.3,0.7,8.9,0,null,null,null,null,null,null,null,null,null,null,null,null,null,null,null,null,null,null,null,null,null,null,null,null,null,null,null,null,null,null,null,null,null,null,null,null,null,null,null,null,null,null,null,null,null,null,null,null,null,"Laviska Shenault",0.7,4.8,"Deonte Harty","Not fantasy-relevant"]
[null,null,null,null,null,null,null,null,null,null,null,null,null,null,null,null,null,null,null,null,null,null,null,null,null,null,null,null,null,null,null,null,null,null,null,null,null,null,null,null,null,null,null,null,null,null,null,null,null,null,null,null,353,"Jack Stoll","PHI",25,"TE",17,10,8,5,0.625,38,7.6,0,2,14,4.8,0.3,2.2000000000000002,0,null,null,null,null,null,null,null,null,null,null,null,null,null,null,null,null,null,null,null,null,null,null,null,null,null,null,null,null,null,null,null,null,null,null,null,null,null,null,null,null,null,null,null,null,null,null,null,null,null,"Donovan Peoples-Jones",0,7.9,"Bo Melton","Not fantasy-relevant","Big week 17 game netted a top 6 finish but this was with a depleted depth chart ahead of him"]
[null,null,null,null,null,null,null,null,null,null,null,null,null,null,null,null,null,null,null,null,null,null,null,null,null,null,null,null,null,null,null,null,null,null,null,null,null,null,null,null,null,null,null,null,null,null,null,null,null,null,null,null,354,"Brenton Strange","JAX",23,"TE",14,4,9,5,0.55600000000000005,35,7,1,2,17,3.9,0.4,2.5,0,null,null,null,null,null,null,null,null,null,null,null,null,null,null,null,null,null,null,null,null,null,null,null,null,null,null,null,null,null,null,null,null,null,null,null,null,null,null,null,null,null,null,null,null,null,null,null,null,null,"Tyler Scott",-0.5,7.6,"Julio Jones","Not fantasy-relevant","Did somehow manage a top 16 finish in week 17 by catching 2 touchdowns off 2 targets"]
[null,null,null,null,null,null,null,null,null,null,null,null,null,null,null,null,null,null,null,null,null,null,null,null,null,null,null,null,null,null,null,null,null,null,null,null,null,null,null,null,null,null,null,null,null,null,null,null,null,null,null,null,355,"Pierre Strong","CLE",25,"RB",17,1,8,5,0.625,47,9.4,0,1,41,5.9,0.3,2.8,1,null,null,null,null,null,null,null,null,null,null,null,null,null,null,null,null,null,null,null,null,null,null,null,null,null,null,null,null,null,null,null,null,null,null,null,null,null,null,null,null,null,null,null,null,null,null,null,null,null,"Samori Toure",0,4.7,"Terrace Marshall","Not fantasy-relevant","Did miss a lot of games  but wasn't relevant in the ones he played"]
[null,null,null,null,null,null,null,null,null,null,null,null,null,null,null,null,null,null,null,null,null,null,null,null,null,null,null,null,null,null,null,null,null,null,null,null,null,null,null,null,null,null,null,null,null,null,null,null,null,null,null,null,356,"Ian Thomas","CAR",27,"TE",12,5,9,5,0.55600000000000005,56,11.2,0,1,28,6.2,0.4,4.7,0,null,null,null,null,null,null,null,null,null,null,null,null,null,null,null,null,null,null,null,null,null,null,null,null,null,null,null,null,null,null,null,null,null,null,null,null,null,null,null,null,null,null,null,null,null,null,null,null,null,"David Bell",0,11.1,"John Metchie","Not fantasy-relevant","Did miss a few games  but wasn't relevant in the ones he played"]
[null,null,null,null,null,null,null,null,null,null,null,null,null,null,null,null,null,null,null,null,null,null,null,null,null,null,null,null,null,null,null,null,null,null,null,null,null,null,null,null,null,null,null,null,null,null,null,null,null,null,null,null,357,"Nate Adkins","DEN",24,"TE",10,1,5,4,0.8,22,5.5,0,1,11,4.4000000000000004,0.4,2.2000000000000002,0,null,null,null,null,null,null,null,null,null,null,null,null,null,null,null,null,null,null,null,null,null,null,null,null,null,null,null,null,null,null,null,null,null,null,null,null,null,null,null,null,null,null,null,null,null,null,null,null,null,"Scotty Miller",0,9.4,"Scotty Miller","Not fantasy-relevant","Did miss a lot of games  but wasn't relevant in the ones he played"]
[null,null,null,null,null,null,null,null,null,null,null,null,null,null,null,null,null,null,null,null,null,null,null,null,null,null,null,null,null,null,null,null,null,null,null,null,null,null,null,null,null,null,null,null,null,null,null,null,null,null,null,null,358,"Lawrence Cager","NYG",26,"TE",11,0,5,4,0.8,36,9,1,2,10,7.2,0.4,3.3,0,null,null,null,null,null,null,null,null,null,null,null,null,null,null,null,null,null,null,null,null,null,null,null,null,null,null,null,null,null,null,null,null,null,null,null,null,null,null,null,null,null,null,null,null,null,null,null,null,null,"Justyn Ross",0,4.8,"Parris Campbell","Not fantasy-relevant","Did miss a lot of games  but wasn't relevant in the ones he played"]
[null,null,null,null,null,null,null,null,null,null,null,null,null,null,null,null,null,null,null,null,null,null,null,null,null,null,null,null,null,null,null,null,null,null,null,null,null,null,null,null,null,null,null,null,null,null,null,null,null,null,null,null,359,"Grant Calcaterra","PHI",25,"TE",15,1,4,4,1,39,9.8000000000000007,0,3,12,9.8000000000000007,0.3,2.6,0,null,null,null,null,null,null,null,null,null,null,null,null,null,null,null,null,null,null,null,null,null,null,null,null,null,null,null,null,null,null,null,null,null,null,null,null,null,null,null,null,null,null,null,null,null,null,null,null,null,"KhaDarel Hodge",0,10.5,"Byron Pringle","Not fantasy-relevant"]
[null,null,null,null,null,null,null,null,null,null,null,null,null,null,null,null,null,null,null,null,null,null,null,null,null,null,null,null,null,null,null,null,null,null,null,null,null,null,null,null,null,null,null,null,null,null,null,null,null,null,null,null,"Rk","Player","Tm","Age","Pos","G","GS","Tgt","Rec","Ctch%","Yds","Y/R","TD","1D","Lng","Y/Tgt","R/G","Y/G","Fmb",null,null,null,null,null,null,null,null,null,null,null,null,null,null,null,null,null,null,null,null,null,null,null,null,null,null,null,null,null,null,null,null,null,null,null,null,null,null,null,null,null,null,null,null,null,null,null,null,null,"Marvin Jones",0,4.2,"Andrei Iosivas","Not fantasy-relevant"]
[null,null,null,null,null,null,null,null,null,null,null,null,null,null,null,null,null,null,null,null,null,null,null,null,null,null,null,null,null,null,null,null,null,null,null,null,null,null,null,null,null,null,null,null,null,null,null,null,null,null,null,null,360,"DeAndre Carter","LVR",30,"WR",17,1,7,4,0.57099999999999995,39,9.8000000000000007,0,0,16,5.6,0.2,2.2999999999999998,2,null,null,null,null,null,null,null,null,null,null,null,null,null,null,null,null,null,null,null,null,null,null,null,null,null,null,null,null,null,null,null,null,null,null,null,null,null,null,null,null,null,null,null,null,null,null,null,null,null,"Quentin Johnston",0,13.4,"Malik Heath","Not fantasy-relevant"]
[null,null,null,null,null,null,null,null,null,null,null,null,null,null,null,null,null,null,null,null,null,null,null,null,null,null,null,null,null,null,null,null,null,null,null,null,null,null,null,null,null,null,null,null,null,null,null,null,null,null,null,null,361,"Robbie Chosen","MIA",30,"WR",9,0,6,4,0.66700000000000004,126,31.5,1,3,68,21,0.4,14,0,null,null,null,null,null,null,null,null,null,null,null,null,null,null,null,null,null,null,null,null,null,null,null,null,null,null,null,null,null,null,null,null,null,null,null,null,null,null,null,null,null,null,null,null,null,null,null,null,null,"Cody Thompson",2,2,"Kyle Philips","Not fantasy-relevant"]
[null,null,null,null,null,null,null,null,null,null,null,null,null,null,null,null,null,null,null,null,null,null,null,null,null,null,null,null,null,null,null,null,null,null,null,null,null,null,null,null,null,null,null,null,null,null,null,null,null,null,null,null,362,"Nick Chubb","CLE",28,"RB",2,2,4,4,1,21,5.3,0,1,10,5.3,2,10.5,0,null,null,null,null,null,null,null,null,null,null,null,null,null,null,null,null,null,null,null,null,null,null,null,null,null,null,null,null,null,null,null,null,null,null,null,null,null,null,null,null,null,null,null,null,null,null,null,null,null,"Byron Pringle",0,8.5,"Derius Davis","Not fantasy-relevant"]
[null,null,null,null,null,null,null,null,null,null,null,null,null,null,null,null,null,null,null,null,null,null,null,null,null,null,null,null,null,null,null,null,null,null,null,null,null,null,null,null,null,null,null,null,null,null,null,null,null,null,null,null,363,"Britain Covey","PHI",26,"WR",16,0,6,4,0.66700000000000004,42,10.5,0,2,22,7,0.3,2.6,2,null,null,null,null,null,null,null,null,null,null,null,null,null,null,null,null,null,null,null,null,null,null,null,null,null,null,null,null,null,null,null,null,null,null,null,null,null,null,null,null,null,null,null,null,null,null,null,null,null,"Willie Snead",1.5,1.9,"Tyquan Thornton","Not fantasy-relevant"]
[null,null,null,null,null,null,null,null,null,null,null,null,null,null,null,null,null,null,null,null,null,null,null,null,null,null,null,null,null,null,null,null,null,null,null,null,null,null,null,null,null,null,null,null,null,null,null,null,null,null,null,null,364,"Devin Duvernay","BAL",26,"WR",13,1,9,4,0.44400000000000001,18,4.5,0,0,10,2,0.3,1.4,0,null,null,null,null,null,null,null,null,null,null,null,null,null,null,null,null,null,null,null,null,null,null,null,null,null,null,null,null,null,null,null,null,null,null,null,null,null,null,null,null,null,null,null,null,null,null,null,null,null,"Isaiah McKenzie",0,7.1,"David Bell","Not fantasy-relevant"]
[null,null,null,null,null,null,null,null,null,null,null,null,null,null,null,null,null,null,null,null,null,null,null,null,null,null,null,null,null,null,null,null,null,null,null,null,null,null,null,null,null,null,null,null,null,null,null,null,null,null,null,null,365,"Marquise Goodwin","CLE",33,"WR",12,0,13,4,0.308,67,16.8,0,1,57,5.2,0.3,5.6,0,null,null,null,null,null,null,null,null,null,null,null,null,null,null,null,null,null,null,null,null,null,null,null,null,null,null,null,null,null,null,null,null,null,null,null,null,null,null,null,null,null,null,null,null,null,null,null,null,null,"Tyquan Thornton",1.2,5.4,"Jalen Guyton","Not fantasy-relevant"]
[null,null,null,null,null,null,null,null,null,null,null,null,null,null,null,null,null,null,null,null,null,null,null,null,null,null,null,null,null,null,null,null,null,null,null,null,null,null,null,null,null,null,null,null,null,null,null,null,null,null,null,null,366,"Peyton Hendershot","DAL",24,"TE",8,1,7,4,0.57099999999999995,38,9.5,0,1,24,5.4,0.5,4.8,0,null,null,null,null,null,null,null,null,null,null,null,null,null,null,null,null,null,null,null,null,null,null,null,null,null,null,null,null,null,null,null,null,null,null,null,null,null,null,null,null,null,null,null,null,null,null,null,null,null,"Charlie Jones",0.9,3,"Ihmir Smith-Marsette","Not fantasy-relevant"]
[null,null,null,null,null,null,null,null,null,null,null,null,null,null,null,null,null,null,null,null,null,null,null,null,null,null,null,null,null,null,null,null,null,null,null,null,null,null,null,null,null,null,null,null,null,null,null,null,null,null,null,null,367,"Keaontay Ingram","ARI",24,"RB",8,1,4,4,1,26,6.5,0,1,9,6.5,0.5,3.3,0,null,null,null,null,null,null,null,null,null,null,null,null,null,null,null,null,null,null,null,null,null,null,null,null,null,null,null,null,null,null,null,null,null,null,null,null,null,null,null,null,null,null,null,null,null,null,null,null,null,"Equanimeous St. Brown",0,3.9,"River Cracraft","Not fantasy-relevant"]
[null,null,null,null,null,null,null,null,null,null,null,null,null,null,null,null,null,null,null,null,null,null,null,null,null,null,null,null,null,null,null,null,null,null,null,null,null,null,null,null,null,null,null,null,null,null,null,null,null,null,null,null,368,"Rakim Jarrett","TAM",22,"WR",10,0,9,4,0.44400000000000001,60,15,0,1,41,6.7,0.4,6,0,null,null,null,null,null,null,null,null,null,null,null,null,null,null,null,null,null,null,null,null,null,null,null,null,null,null,null,null,null,null,null,null,null,null,null,null,null,null,null,null,null,null,null,null,null,null,null,null,null,"Xavier Gipson",0,12.8,"Donovan Peoples-Jones","Not fantasy-relevant"]
[null,null,null,null,null,null,null,null,null,null,null,null,null,null,null,null,null,null,null,null,null,null,null,null,null,null,null,null,null,null,null,null,null,null,null,null,null,null,null,null,null,null,null,null,null,null,null,null,null,null,null,null,369,"Velus Jones","CHI",26,"WR",14,0,7,4,0.57099999999999995,20,5,0,1,11,2.9,0.3,1.4,0,null,null,null,null,null,null,null,null,null,null,null,null,null,null,null,null,null,null,null,null,null,null,null,null,null,null,null,null,null,null,null,null,null,null,null,null,null,null,null,null,null,null,null,null,null,null,null,null,null,"Cedric Tillman",0,9.5,"Donovan Peoples-Jones","Not fantasy-relevant"]
[null,null,null,null,null,null,null,null,null,null,null,null,null,null,null,null,null,null,null,null,null,null,null,null,null,null,null,null,null,null,null,null,null,null,null,null,null,null,null,null,null,null,null,null,null,null,null,null,null,null,null,null,370,"Marcedes Lewis","CHI",39,"TE",17,4,5,4,0.8,29,7.3,1,2,16,5.8,0.2,1.7,0,null,null,null,null,null,null,null,null,null,null,null,null,null,null,null,null,null,null,null,null,null,null,null,null,null,null,null,null,null,null,null,null,null,null,null,null,null,null,null,null,null,null,null,null,null,null,null,null,null,"Tim Jones",0,6.2,"Ronnie Bell","Not fantasy-relevant"]
[null,null,null,null,null,null,null,null,null,null,null,null,null,null,null,null,null,null,null,null,null,null,null,null,null,null,null,null,null,null,null,null,null,null,null,null,null,null,null,null,null,null,null,null,null,null,null,null,null,null,null,null,371,"Zach Pascal","ARI",29,"WR",14,1,15,4,0.26700000000000002,19,4.8,0,1,9,1.3,0.3,1.4,0,null,null,null,null,null,null,null,null,null,null,null,null,null,null,null,null,null,null,null,null,null,null,null,null,null,null,null,null,null,null,null,null,null,null,null,null,null,null,null,null,null,null,null,null,null,null,null,null,null,"Sterling Shepard",0,7.2,"Robbie Chosen","Not fantasy-relevant"]
[null,null,null,null,null,null,null,null,null,null,null,null,null,null,null,null,null,null,null,null,null,null,null,null,null,null,null,null,null,null,null,null,null,null,null,null,null,null,null,null,null,null,null,null,null,null,null,null,null,null,null,null,372,"Boston Scott","PHI",28,"RB",15,0,6,4,0.66700000000000004,52,13,0,2,27,8.6999999999999993,0.3,3.5,1,null,null,null,null,null,null,null,null,null,null,null,null,null,null,null,null,null,null,null,null,null,null,null,null,null,null,null,null,null,null,null,null,null,null,null,null,null,null,null,null,null,null,null,null,null,null,null,null,null,"Velus Jones",-0.3,3,"Ray-Ray McCloud","Not fantasy-relevant"]
[null,null,null,null,null,null,null,null,null,null,null,null,null,null,null,null,null,null,null,null,null,null,null,null,null,null,null,null,null,null,null,null,null,null,null,null,null,null,null,null,null,null,null,null,null,null,null,null,null,null,null,null,373,"Ben Sims","GNB",23,"TE",17,1,6,4,0.66700000000000004,21,5.3,1,3,12,3.5,0.2,1.2,0,null,null,null,null,null,null,null,null,null,null,null,null,null,null,null,null,null,null,null,null,null,null,null,null,null,null,null,null,null,null,null,null,null,null,null,null,null,null,null,null,null,null,null,null,null,null,null,null,null,"Mecole Hardman",0,4,"Laviska Shenault","Not fantasy-relevant"]
[null,null,null,null,null,null,null,null,null,null,null,null,null,null,null,null,null,null,null,null,null,null,null,null,null,null,null,null,null,null,null,null,null,null,null,null,null,null,null,null,null,null,null,null,null,null,null,null,null,null,null,null,374,"Austin Trammell","LAR",25,"WR",16,0,7,4,0.57099999999999995,29,7.3,0,2,14,4.0999999999999996,0.3,1.8,3,null,null,null,null,null,null,null,null,null,null,null,null,null,null,null,null,null,null,null,null,null,null,null,null,null,null,null,null,null,null,null,null,null,null,null,null,null,null,null,null,null,null,null,null,null,null,null,null,null,"Antoine Green",0,1.2,"Lynn Bowden","Not fantasy-relevant"]
[null,null,null,null,null,null,null,null,null,null,null,null,null,null,null,null,null,null,null,null,null,null,null,null,null,null,null,null,null,null,null,null,null,null,null,null,null,null,null,null,null,null,null,null,null,null,null,null,null,null,null,null,375,"Emanuel Wilson","GNB",24,"RB",7,0,5,4,0.8,23,5.8,0,1,9,4.5999999999999996,0.6,3.3,1,null,null,null,null,null,null,null,null,null,null,null,null,null,null,null,null,null,null,null,null,null,null,null,null,null,null,null,null,null,null,null,null,null,null,null,null,null,null,null,null,null,null,null,null,null,null,null,null,null,"Kwamie Lassiter",1.2,1.2,"Isaiah McKenzie","Not fantasy-relevant"]
[null,null,null,null,null,null,null,null,null,null,null,null,null,null,null,null,null,null,null,null,null,null,null,null,null,null,null,null,null,null,null,null,null,null,null,null,null,null,null,null,null,null,null,null,null,null,null,null,null,null,null,null,376,"Alex Armah","WAS",29,"RB",8,0,3,3,1,13,4.3,0,1,10,4.3,0.4,1.6,0,null,null,null,null,null,null,null,null,null,null,null,null,null,null,null,null,null,null,null,null,null,null,null,null,null,null,null,null,null,null,null,null,null,null,null,null,null,null,null,null,null,null,null,null,null,null,null,null,null,"Zach Pascal",0,4,"Chase Claypool","Not fantasy-relevant"]
[null,null,null,null,null,null,null,null,null,null,null,null,null,null,null,null,null,null,null,null,null,null,null,null,null,null,null,null,null,null,null,null,null,null,null,null,null,null,null,null,null,null,null,null,null,null,null,null,null,null,null,null,377,"Nick Bawden","NYJ",27,"FB",16,2,3,3,1,21,7,0,1,8,7,0.2,1.3,0,null,null,null,null,null,null,null,null,null,null,null,null,null,null,null,null,null,null,null,null,null,null,null,null,null,null,null,null,null,null,null,null,null,null,null,null,null,null,null,null,null,null,null,null,null,null,null,null,null,"Xavier Hutchinson",0,4.4000000000000004,"Chase Claypool","Not fantasy-relevant"]
[null,null,null,null,null,null,null,null,null,null,null,null,null,null,null,null,null,null,null,null,null,null,null,null,null,null,null,null,null,null,null,null,null,null,null,null,null,null,null,null,null,null,null,null,null,null,null,null,null,null,null,null,378,"Khari Blasingame","CHI",27,"FB",16,2,6,3,0.5,2,0.7,0,0,4,0.3,0.2,0.1,0,null,null,null,null,null,null,null,null,null,null,null,null,null,null,null,null,null,null,null,null,null,null,null,null,null,null,null,null,null,null,null,null,null,null,null,null,null,null,null,null,null,null,null,null,null,null,null,null,null,"Ben Skowronek",-0.2,9,"Xavier Hutchinson","Not fantasy-relevant"]
[null,null,null,null,null,null,null,null,null,null,null,null,null,null,null,null,null,null,null,null,null,null,null,null,null,null,null,null,null,null,null,null,null,null,null,null,null,null,null,null,null,null,null,null,null,null,null,null,null,null,null,null,379,"Miles Boykin","PIT",27,"WR",17,0,4,3,0.75,17,5.7,0,0,6,4.3,0.2,1,0,null,null,null,null,null,null,null,null,null,null,null,null,null,null,null,null,null,null,null,null,null,null,null,null,null,null,null,null,null,null,null,null,null,null,null,null,null,null,null,null,null,null,null,null,null,null,null,null,null,"Erik Ezukanma",0.5,3,"David Moore","Not fantasy-relevant"]
[null,null,null,null,null,null,null,null,null,null,null,null,null,null,null,null,null,null,null,null,null,null,null,null,null,null,null,null,null,null,null,null,null,null,null,null,null,null,null,null,null,null,null,null,null,null,null,null,null,null,null,null,380,"Michael Burton","DEN",31,"FB",17,3,3,3,1,8,2.7,0,2,4,2.7,0.2,0.5,0,null,null,null,null,null,null,null,null,null,null,null,null,null,null,null,null,null,null,null,null,null,null,null,null,null,null,null,null,null,null,null,null,null,null,null,null,null,null,null,null,null,null,null,null,null,null,null,null,null,"Devin Duvernay",0,3,"Richie James","Not fantasy-relevant"]
[null,null,null,null,null,null,null,null,null,null,null,null,null,null,null,null,null,null,null,null,null,null,null,null,null,null,null,null,null,null,null,null,null,null,null,null,null,null,null,null,null,null,null,null,null,null,null,null,null,null,null,null,381,"Chris Conley","SFO",31,"WR",8,0,6,3,0.5,69,23,0,2,48,11.5,0.4,8.6,0,null,null,null,null,null,null,null,null,null,null,null,null,null,null,null,null,null,null,null,null,null,null,null,null,null,null,null,null,null,null,null,null,null,null,null,null,null,null,null,null,null,null,null,null,null,null,null,null,null,"Rakim Jarrett",0,5.0999999999999996,"Tim Jones","Not fantasy-relevant"]
[null,null,null,null,null,null,null,null,null,null,null,null,null,null,null,null,null,null,null,null,null,null,null,null,null,null,null,null,null,null,null,null,null,null,null,null,null,null,null,null,null,null,null,null,null,null,null,null,null,null,null,null,382,"Elijah Cooks","JAX",25,"WR",9,0,4,3,0.75,38,12.7,0,2,23,9.5,0.3,4.2,0,null,null,null,null,null,null,null,null,null,null,null,null,null,null,null,null,null,null,null,null,null,null,null,null,null,null,null,null,null,null,null,null,null,null,null,null,null,null,null,null,null,null,null,null,null,null,null,null,null,"Marquise Goodwin",0,6.7,"Ben Skowronek","Not fantasy-relevant"]
[null,null,null,null,null,null,null,null,null,null,null,null,null,null,null,null,null,null,null,null,null,null,null,null,null,null,null,null,null,null,null,null,null,null,null,null,null,null,null,null,null,null,null,null,null,null,null,null,null,null,null,null,383,"Jashaun Corbin","NYG",23,"RB",6,0,3,3,1,12,4,0,1,7,4,0.5,2,0,null,null,null,null,null,null,null,null,null,null,null,null,null,null,null,null,null,null,null,null,null,null,null,null,null,null,null,null,null,null,null,null,null,null,null,null,null,null,null,null,null,null,null,null,null,null,null,null,null,"DeAndre Carter",0,2.6,"Sterling Shepard","Not fantasy-relevant"]
[null,null,null,null,null,null,null,null,null,null,null,null,null,null,null,null,null,null,null,null,null,null,null,null,null,null,null,null,null,null,null,null,null,null,null,null,null,null,null,null,null,null,null,null,null,null,null,null,null,null,null,null,384,"Greg Dulcich","DEN",23,"TE",2,1,4,3,0.75,25,8.3000000000000007,0,2,13,6.3,1.5,12.5,0,null,null,null,null,null,null,null,null,null,null,null,null,null,null,null,null,null,null,null,null,null,null,null,null,null,null,null,null,null,null,null,null,null,null,null,null,null,null,null,null,null,null,null,null,null,null,null,null,null,"Randall Cobb",0,8.5,"Jason Brownlee","Not fantasy-relevant"]
[null,null,null,null,null,null,null,null,null,null,null,null,null,null,null,null,null,null,null,null,null,null,null,null,null,null,null,null,null,null,null,null,null,null,null,null,null,null,null,null,null,null,null,null,null,null,null,null,null,null,null,null,385,"Melvin Gordon","BAL",30,"RB",4,0,3,3,1,46,15.3,0,3,23,15.3,0.8,11.5,1,null,null,null,null,null,null,null,null,null,null,null,null,null,null,null,null,null,null,null,null,null,null,null,null,null,null,null,null,null,null,null,null,null,null,null,null,null,null,null,null,null,null,null,null,null,null,null,null,null,"Kyle Philips",0,10.8,"Jalen Reagor","Not fantasy-relevant"]
[null,null,null,null,null,null,null,null,null,null,null,null,null,null,null,null,null,null,null,null,null,null,null,null,null,null,null,null,null,null,null,null,null,null,null,null,null,null,null,null,null,null,null,null,null,null,null,null,null,null,null,null,386,"Kevin Harris","NWE",23,"RB",4,0,3,3,1,58,19.3,0,2,48,19.3,0.8,14.5,0,null,null,null,null,null,null,null,null,null,null,null,null,null,null,null,null,null,null,null,null,null,null,null,null,null,null,null,null,null,null,null,null,null,null,null,null,null,null,null,null,null,null,null,null,null,null,null,null,null,"Richie James",0,8.4,"Samori Toure","Not fantasy-relevant"]
[null,null,null,null,null,null,null,null,null,null,null,null,null,null,null,null,null,null,null,null,null,null,null,null,null,null,null,null,null,null,null,null,null,null,null,null,null,null,null,null,null,null,null,null,null,null,null,null,null,null,null,null,387,"Hunter Luepke","DAL",23,"RB",17,0,4,3,0.75,18,6,0,1,12,4.5,0.2,1.1000000000000001,0,null,null,null,null,null,null,null,null,null,null,null,null,null,null,null,null,null,null,null,null,null,null,null,null,null,null,null,null,null,null,null,null,null,null,null,null,null,null,null,null,null,null,null,null,null,null,null,null,null,"Miles Boykin",0,1.6,"Keith Kirkwood","Not fantasy-relevant"]
[null,null,null,null,null,null,null,null,null,null,null,null,null,null,null,null,null,null,null,null,null,null,null,null,null,null,null,null,null,null,null,null,null,null,null,null,null,null,null,null,null,null,null,null,null,null,null,null,null,null,null,null,388,"Jordan Mason","SFO",24,"RB",17,0,4,3,0.75,31,10.3,0,1,13,7.8,0.2,1.8,0,null,null,null,null,null,null,null,null,null,null,null,null,null,null,null,null,null,null,null,null,null,null,null,null,null,null,null,null,null,null,null,null,null,null,null,null,null,null,null,null,null,null,null,null,null,null,null,null,null,"Gunner Olszewski",0,1,"D.J. Montgomery","Not fantasy-relevant"]
[null,null,null,null,null,null,null,null,null,null,null,null,null,null,null,null,null,null,null,null,null,null,null,null,null,null,null,null,null,null,null,null,null,null,null,null,null,null,null,null,null,null,null,null,null,null,null,null,null,null,null,null,389,"D.J. Montgomery","IND",27,"WR",7,0,8,3,0.375,56,18.7,1,3,34,7,0.4,8,0,null,null,null,null,null,null,null,null,null,null,null,null,null,null,null,null,null,null,null,null,null,null,null,null,null,null,null,null,null,null,null,null,null,null,null,null,null,null,null,null,null,null,null,null,null,null,null,null,null,"Keith Kirkwood",0,7.7,"Trent Sherfield","Not fantasy-relevant"]
[null,null,null,null,null,null,null,null,null,null,null,null,null,null,null,null,null,null,null,null,null,null,null,null,null,null,null,null,null,null,null,null,null,null,null,null,null,null,null,null,null,null,null,null,null,null,null,null,null,null,null,null,"Rk","Player","Tm","Age","Pos","G","GS","Tgt","Rec","Ctch%","Yds","Y/R","TD","1D","Lng","Y/Tgt","R/G","Y/G","Fmb",null,null,null,null,null,null,null,null,null,null,null,null,null,null,null,null,null,null,null,null,null,null,null,null,null,null,null,null,null,null,null,null,null,null,null,null,null,null,null,null,null,null,null,null,null,null,null,null,null,"A.T. Perry",1.5,11.8,"Marquise Goodwin","Not fantasy-relevant"]
[null,null,null,null,null,null,null,null,null,null,null,null,null,null,null,null,null,null,null,null,null,null,null,null,null,null,null,null,null,null,null,null,null,null,null,null,null,null,null,null,null,null,null,null,null,null,null,null,null,null,null,null,390,"Jalen Nailor","MIN",24,"WR",6,1,6,3,0.5,29,9.6999999999999993,0,1,16,4.8,0.5,4.8,0,null,null,null,null,null,null,null,null,null,null,null,null,null,null,null,null,null,null,null,null,null,null,null,null,null,null,null,null,null,null,null,null,null,null,null,null,null,null,null,null,null,null,null,null,null,null,null,null,null,"Malik Heath",0,8.6,"Mecole Hardman","Not fantasy-relevant"]
[null,null,null,null,null,null,null,null,null,null,null,null,null,null,null,null,null,null,null,null,null,null,null,null,null,null,null,null,null,null,null,null,null,null,null,null,null,null,null,null,null,null,null,null,null,null,null,null,null,null,null,null,391,"La'Mical Perine","KAN",25,"RB",3,1,5,3,0.6,33,11,0,1,25,6.6,1,11,0,null,null,null,null,null,null,null,null,null,null,null,null,null,null,null,null,null,null,null,null,null,null,null,null,null,null,null,null,null,null,null,null,null,null,null,null,null,null,null,null,null,null,null,null,null,null,null,null,null,"Jalen Guyton",0,14.1,"Mecole Hardman","Not fantasy-relevant"]
[null,null,null,null,null,null,null,null,null,null,null,null,null,null,null,null,null,null,null,null,null,null,null,null,null,null,null,null,null,null,null,null,null,null,null,null,null,null,null,null,null,null,null,null,null,null,null,null,null,null,null,null,392,"Eric Saubert","2TM",29,"TE",10,1,3,3,1,12,4,0,1,5,4,0.3,1.2,0,null,null,null,null,null,null,null,null,null,null,null,null,null,null,null,null,null,null,null,null,null,null,null,null,null,null,null,null,null,null,null,null,null,null,null,null,null,null,null,null,null,null,null,null,null,null,null,null,null,"Ihmir Smith-Marsette",1,12.1,"Randall Cobb","Not fantasy-relevant"]
[null,null,null,null,null,null,null,null,null,null,null,null,null,null,null,null,null,null,null,null,null,null,null,null,null,null,null,null,null,null,null,null,null,null,null,null,null,null,null,null,null,null,null,null,null,null,null,null,null,null,null,null,393,"Trey Sermon","IND",24,"RB",14,0,6,3,0.5,13,4.3,0,0,7,2.2000000000000002,0.2,0.9,0,null,null,null,null,null,null,null,null,null,null,null,null,null,null,null,null,null,null,null,null,null,null,null,null,null,null,null,null,null,null,null,null,null,null,null,null,null,null,null,null,null,null,null,null,null,null,null,null,null,"Lynn Bowden",0,6.4,"Quez Watkins","Not fantasy-relevant"]
[null,null,null,null,null,null,null,null,null,null,null,null,null,null,null,null,null,null,null,null,null,null,null,null,null,null,null,null,null,null,null,null,null,null,null,null,null,null,null,null,null,null,null,null,null,null,null,null,null,null,null,null,394,"Steven Sims","HOU",26,"WR",3,0,3,3,1,25,8.3000000000000007,0,1,23,8.3000000000000007,1,8.3000000000000007,0,null,null,null,null,null,null,null,null,null,null,null,null,null,null,null,null,null,null,null,null,null,null,null,null,null,null,null,null,null,null,null,null,null,null,null,null,null,null,null,null,null,null,null,null,null,null,null,null,null,"Jason Brownlee",4,7.8,"Jalen Brooks","Not fantasy-relevant"]
[null,null,null,null,null,null,null,null,null,null,null,null,null,null,null,null,null,null,null,null,null,null,null,null,null,null,null,null,null,null,null,null,null,null,null,null,null,null,null,null,null,null,null,null,null,null,null,null,null,null,null,null,395,"Keith Smith","ATL",31,"FB",13,6,3,3,1,33,11,0,1,28,11,0.2,2.5,0,null,null,null,null,null,null,null,null,null,null,null,null,null,null,null,null,null,null,null,null,null,null,null,null,null,null,null,null,null,null,null,null,null,null,null,null,null,null,null,null,null,null,null,null,null,null,null,null,null,"Jalen Reagor",0,5.3,"Velus Jones","Not fantasy-relevant"]
[null,null,null,null,null,null,null,null,null,null,null,null,null,null,null,null,null,null,null,null,null,null,null,null,null,null,null,null,null,null,null,null,null,null,null,null,null,null,null,null,null,null,null,null,null,null,null,null,null,null,null,null,396,"Charlie Woerner","SFO",26,"TE",17,2,3,3,1,32,10.7,0,1,20,10.7,0.2,1.9,0,null,null,null,null,null,null,null,null,null,null,null,null,null,null,null,null,null,null,null,null,null,null,null,null,null,null,null,null,null,null,null,null,null,null,null,null,null,null,null,null,null,null,null,null,null,null,null,null,null,"D.J. Montgomery",1.8,12.8,"Rakim Jarrett","Not fantasy-relevant"]
[null,null,null,null,null,null,null,null,null,null,null,null,null,null,null,null,null,null,null,null,null,null,null,null,null,null,null,null,null,null,null,null,null,null,null,null,null,null,null,null,null,null,null,null,null,null,null,null,null,null,null,null,397,"Kayshon Boutte","NWE",21,"WR",5,0,7,2,0.28599999999999998,19,9.5,0,1,11,2.7,0.4,3.8,0,null,null,null,null,null,null,null,null,null,null,null,null,null,null,null,null,null,null,null,null,null,null,null,null,null,null,null,null,null,null,null,null,null,null,null,null,null,null,null,null,null,null,null,null,null,null,null,null,null,"Jalen Brooks",3.4,7.9,"Marvin Jones","Not fantasy-relevant"]
[null,null,null,null,null,null,null,null,null,null,null,null,null,null,null,null,null,null,null,null,null,null,null,null,null,null,null,null,null,null,null,null,null,null,null,null,null,null,null,null,null,null,null,null,null,null,null,null,null,null,null,null,398,"J.K. Dobbins","BAL",25,"RB",1,1,3,2,0.66700000000000004,15,7.5,0,0,10,5,2,15,0,null,null,null,null,null,null,null,null,null,null,null,null,null,null,null,null,null,null,null,null,null,null,null,null,null,null,null,null,null,null,null,null,null,null,null,null,null,null,null,null,null,null,null,null,null,null,null,null,null,"Simi Fehoko",7.9,7.9,"DeAndre Carter","Not fantasy-relevant"]
[null,null,null,null,null,null,null,null,null,null,null,null,null,null,null,null,null,null,null,null,null,null,null,null,null,null,null,null,null,null,null,null,null,null,null,null,null,null,null,null,null,null,null,null,null,null,null,null,null,null,null,null,399,"Elijah Dotson","LAC",24,"RB",4,0,2,2,1,13,6.5,0,0,7,6.5,0.5,3.3,0,null,null,null,null,null,null,null,null,null,null,null,null,null,null,null,null,null,null,null,null,null,null,null,null,null,null,null,null,null,null,null,null,null,null,null,null,null,null,null,null,null,null,null,null,null,null,null,null,null,"Keelan Doss",7.5,7.5,"Equanimeous St. Brown","Not fantasy-relevant"]
[null,null,null,null,null,null,null,null,null,null,null,null,null,null,null,null,null,null,null,null,null,null,null,null,null,null,null,null,null,null,null,null,null,null,null,null,null,null,null,null,null,null,null,null,null,null,null,null,null,null,null,null,400,"Kenyan Drake","2TM",29,"RB",3,0,3,2,0.66700000000000004,31,15.5,0,0,24,10.3,0.7,10.3,1,null,null,null,null,null,null,null,null,null,null,null,null,null,null,null,null,null,null,null,null,null,null,null,null,null,null,null,null,null,null,null,null,null,null,null,null,null,null,null,null,null,null,null,null,null,null,null,null,null,"Austin Trammell",0,5.3,"Simi Fehoko","Not fantasy-relevant"]
[null,null,null,null,null,null,null,null,null,null,null,null,null,null,null,null,null,null,null,null,null,null,null,null,null,null,null,null,null,null,null,null,null,null,null,null,null,null,null,null,null,null,null,null,null,null,null,null,null,null,null,null,401,"Damien Harris","BUF",26,"RB",6,0,2,2,1,16,8,0,0,13,8,0.3,2.7,0,null,null,null,null,null,null,null,null,null,null,null,null,null,null,null,null,null,null,null,null,null,null,null,null,null,null,null,null,null,null,null,null,null,null,null,null,null,null,null,null,null,null,null,null,null,null,null,null,null,"Elijah Cooks",0,6.8,"Justyn Ross","Not fantasy-relevant"]
[null,null,null,null,null,null,null,null,null,null,null,null,null,null,null,null,null,null,null,null,null,null,null,null,null,null,null,null,null,null,null,null,null,null,null,null,null,null,null,null,null,null,null,null,null,null,null,null,null,null,null,null,402,"Trishton Jackson","MIN",25,"WR",7,0,4,2,0.5,9,4.5,0,0,7,2.2999999999999998,0.3,1.3,0,null,null,null,null,null,null,null,null,null,null,null,null,null,null,null,null,null,null,null,null,null,null,null,null,null,null,null,null,null,null,null,null,null,null,null,null,null,null,null,null,null,null,null,null,null,null,null,null,null,"Jalen Nailor",2.6,3.3,"Keelan Doss","Not fantasy-relevant"]
[null,null,null,null,null,null,null,null,null,null,null,null,null,null,null,null,null,null,null,null,null,null,null,null,null,null,null,null,null,null,null,null,null,null,null,null,null,null,null,null,null,null,null,null,null,null,null,null,null,null,null,null,403,"Tyler Johnson","LAR",25,"WR",1,0,3,2,0.66700000000000004,8,4,1,1,8,2.7,2,8,0,null,null,null,null,null,null,null,null,null,null,null,null,null,null,null,null,null,null,null,null,null,null,null,null,null,null,null,null,null,null,null,null,null,null,null,null,null,null,null,null,null,null,null,null,null,null,null,null,null,"Steven Sims",1.1000000000000001,4.5,"Devin Duvernay","Not fantasy-relevant"]
[null,null,null,null,null,null,null,null,null,null,null,null,null,null,null,null,null,null,null,null,null,null,null,null,null,null,null,null,null,null,null,null,null,null,null,null,null,null,null,null,null,null,null,null,null,null,null,null,null,null,null,null,404,"Chris Manhertz","DEN",31,"TE",16,4,4,2,0.5,16,8,0,1,10,4,0.1,1,0,null,null,null,null,null,null,null,null,null,null,null,null,null,null,null,null,null,null,null,null,null,null,null,null,null,null,null,null,null,null,null,null,null,null,null,null,null,null,null,null,null,null,null,null,null,null,null,null,null,"Mike Strachan",0,5.5,"Austin Trammell","Not fantasy-relevant"]
[null,null,null,null,null,null,null,null,null,null,null,null,null,null,null,null,null,null,null,null,null,null,null,null,null,null,null,null,null,null,null,null,null,null,null,null,null,null,null,null,null,null,null,null,null,null,null,null,null,null,null,null,405,"Anthony McFarland","PIT",24,"RB",3,0,2,2,1,11,5.5,0,1,6,5.5,0.7,3.7,0,null,null,null,null,null,null,null,null,null,null,null,null,null,null,null,null,null,null,null,null,null,null,null,null,null,null,null,null,null,null,null,null,null,null,null,null,null,null,null,null,null,null,null,null,null,null,null,null,null,"Kayshon Boutte",1.8,2.1,"Elijah Cooks","Not fantasy-relevant"]
[null,null,null,null,null,null,null,null,null,null,null,null,null,null,null,null,null,null,null,null,null,null,null,null,null,null,null,null,null,null,null,null,null,null,null,null,null,null,null,null,null,null,null,null,null,null,null,null,null,null,null,null,406,"James Mitchell","DET",24,"TE",15,1,2,2,1,28,14,0,1,24,14,0.1,1.9,0,null,null,null,null,null,null,null,null,null,null,null,null,null,null,null,null,null,null,null,null,null,null,null,null,null,null,null,null,null,null,null,null,null,null,null,null,null,null,null,null,null,null,null,null,null,null,null,null,null,"Malik Taylor",1.6,1.7,"Jalen Nailor","Not fantasy-relevant"]
[null,null,null,null,null,null,null,null,null,null,null,null,null,null,null,null,null,null,null,null,null,null,null,null,null,null,null,null,null,null,null,null,null,null,null,null,null,null,null,null,null,null,null,null,null,null,null,null,null,null,null,null,407,"Quintin Morris","BUF",24,"TE",15,0,3,2,0.66700000000000004,26,13,1,1,15,8.6999999999999993,0.1,1.7,0,null,null,null,null,null,null,null,null,null,null,null,null,null,null,null,null,null,null,null,null,null,null,null,null,null,null,null,null,null,null,null,null,null,null,null,null,null,null,null,null,null,null,null,null,null,null,null,null,null,"Trishton Jackson",1.2,1.7,"Zach Pascal","Not fantasy-relevant"]
[null,null,null,null,null,null,null,null,null,null,null,null,null,null,null,null,null,null,null,null,null,null,null,null,null,null,null,null,null,null,null,null,null,null,null,null,null,null,null,null,null,null,null,null,null,null,null,null,null,null,null,null,408,"Dare Ogunbowale","HOU",29,"RB",12,0,7,2,0.28599999999999998,18,9,0,0,14,2.6,0.2,1.5,0,null,null,null,null,null,null,null,null,null,null,null,null,null,null,null,null,null,null,null,null,null,null,null,null,null,null,null,null,null,null,null,null,null,null,null,null,null,null,null,null,null,null,null,null,null,null,null,null,null,"Collin Johnson",2.1,2.1,"Steven Sims","Not fantasy-relevant"]
[null,null,null,null,null,null,null,null,null,null,null,null,null,null,null,null,null,null,null,null,null,null,null,null,null,null,null,null,null,null,null,null,null,null,null,null,null,null,null,null,null,null,null,null,null,null,null,null,null,null,null,null,409,"Adam Prentice","NOR",26,"FB",13,1,3,2,0.66700000000000004,12,6,0,0,7,4,0.2,0.9,1,null,null,null,null,null,null,null,null,null,null,null,null,null,null,null,null,null,null,null,null,null,null,null,null,null,null,null,null,null,null,null,null,null,null,null,null,null,null,null,null,null,null,null,null,null,null,null,null,null,"Britain Covey",1.7,1.7,"Charlie Jones","Not fantasy-relevant"]
[null,null,null,null,null,null,null,null,null,null,null,null,null,null,null,null,null,null,null,null,null,null,null,null,null,null,null,null,null,null,null,null,null,null,null,null,null,null,null,null,null,null,null,null,null,null,null,null,null,null,null,null,410,"Teagan Quitoriano","HOU",23,"TE",7,5,3,2,0.66700000000000004,33,16.5,0,2,22,11,0.3,4.7,0,null,null,null,null,null,null,null,null,null,null,null,null,null,null,null,null,null,null,null,null,null,null,null,null,null,null,null,null,null,null,null,null,null,null,null,null,null,null,null,null,null,null,null,null,null,null,null,null,null,"Mason Kinsey",1.6,1.6,"Mike Strachan","Not fantasy-relevant"]
[null,null,null,null,null,null,null,null,null,null,null,null,null,null,null,null,null,null,null,null,null,null,null,null,null,null,null,null,null,null,null,null,null,null,null,null,null,null,null,null,null,null,null,null,null,null,null,null,null,null,null,null,411,"Chris Rodriguez","WAS",23,"RB",13,0,2,2,1,12,6,0,1,7,6,0.2,0.9,1,null,null,null,null,null,null,null,null,null,null,null,null,null,null,null,null,null,null,null,null,null,null,null,null,null,null,null,null,null,null,null,null,null,null,null,null,null,null,null,null,null,null,null,null,null,null,null,null,null,"Colton Dowell",0,1.3,"Miles Boykin","Not fantasy-relevant"]
[null,null,null,null,null,null,null,null,null,null,null,null,null,null,null,null,null,null,null,null,null,null,null,null,null,null,null,null,null,null,null,null,null,null,null,null,null,null,null,null,null,null,null,null,null,null,null,null,null,null,null,null,412,"Willie Snead","SFO",31,"WR",4,0,3,2,0.66700000000000004,14,7,0,0,9,4.7,0.5,3.5,0,null,null,null,null,null,null,null,null,null,null,null,null,null,null,null,null,null,null,null,null,null,null,null,null,null,null,null,null,null,null,null,null,null,null,null,null,null,null,null,null,null,null,null,null,null,null,null,null,null,"D'Wayne Eskridge",0,1,"Kayshon Boutte","Not fantasy-relevant"]
[null,null,null,null,null,null,null,null,null,null,null,null,null,null,null,null,null,null,null,null,null,null,null,null,null,null,null,null,null,null,null,null,null,null,null,null,null,null,null,null,null,null,null,null,null,null,null,null,null,null,null,null,413,"Malik Taylor","NYJ",28,"WR",3,0,4,2,0.5,13,6.5,0,0,7,3.3,0.7,4.3,0,null,null,null,null,null,null,null,null,null,null,null,null,null,null,null,null,null,null,null,null,null,null,null,null,null,null,null,null,null,null,null,null,null,null,null,null,null,null,null,null,null,null,null,null,null,null,null,null,null,"Damiere Byrd",0,0,"Willie Snead","Not fantasy-relevant"]
[null,null,null,null,null,null,null,null,null,null,null,null,null,null,null,null,null,null,null,null,null,null,null,null,null,null,null,null,null,null,null,null,null,null,null,null,null,null,null,null,null,null,null,null,null,null,null,null,null,null,null,null,414,"Sean Tucker","TAM",22,"RB",11,0,2,2,1,9,4.5,0,0,6,4.5,0.2,0.8,0,null,null,null,null,null,null,null,null,null,null,null,null,null,null,null,null,null,null,null,null,null,null,null,null,null,null,null,null,null,null,null,null,null,null,null,null,null,null,null,null,null,null,null,null,null,null,null,null,null,"Phillip Dorsett",0,1.8,"Malik Taylor","Not fantasy-relevant"]
[null,null,null,null,null,null,null,null,null,null,null,null,null,null,null,null,null,null,null,null,null,null,null,null,null,null,null,null,null,null,null,null,null,null,null,null,null,null,null,null,null,null,null,null,null,null,null,null,null,null,null,null,415,"Ke'Shawn Vaughn","TAM",26,"RB",6,0,5,2,0.4,2,1,0,0,3,0.4,0.3,0.3,0,null,null,null,null,null,null,null,null,null,null,null,null,null,null,null,null,null,null,null,null,null,null,null,null,null,null,null,null,null,null,null,null,null,null,null,null,null,null,null,null,null,null,null,null,null,null,null,null,null,"Shedrick Jackson",0,0,"Trishton Jackson","Not fantasy-relevant"]
[null,null,null,null,null,null,null,null,null,null,null,null,null,null,null,null,null,null,null,null,null,null,null,null,null,null,null,null,null,null,null,null,null,null,null,null,null,null,null,null,null,null,null,null,null,null,null,null,null,null,null,null,416,"David Wells","TAM",28,"TE",5,0,2,2,1,-10,-5,0,1,1,-5,0.4,-2,1,null,null,null,null,null,null,null,null,null,null,null,null,null,null,null,null,null,null,null,null,null,null,null,null,null,null,null,null,null,null,null,null,null,null,null,null,null,null,null,null,null,null,null,null,null,null,null,null,null,"James Proche",0,0,"Erik Ezukanma","Not fantasy-relevant"]
[null,null,null,null,null,null,null,null,null,null,null,null,null,null,null,null,null,null,null,null,null,null,null,null,null,null,null,null,null,null,null,null,null,null,null,null,null,null,null,null,null,null,null,null,null,null,null,null,null,null,null,null,417,"Damien Williams","ARI",31,"RB",3,0,2,2,1,12,6,0,0,8,6,0.7,4,0,null,null,null,null,null,null,null,null,null,null,null,null,null,null,null,null,null,null,null,null,null,null,null,null,null,null,null,null,null,null,null,null,null,null,null,null,null,null,null,null,null,null,null,null,null,null,null,null,null,"Amari Rodgers",0,0,"Collin Johnson","Not fantasy-relevant"]
[null,null,null,null,null,null,null,null,null,null,null,null,null,null,null,null,null,null,null,null,null,null,null,null,null,null,null,null,null,null,null,null,null,null,null,null,null,null,null,null,null,null,null,null,null,null,null,null,null,null,null,null,418,"Kenny Yeboah","NYJ",25,"TE",5,1,4,2,0.5,28,14,0,1,20,7,0.4,5.6,0,null,null,null,null,null,null,null,null,null,null,null,null,null,null,null,null,null,null,null,null,null,null,null,null,null,null,null,null,null,null,null,null,null,null,null,null,null,null,null,null,null,null,null,null,null,null,null,null,null,"Juwann Winfree",0,0,"Cody Thompson","Not fantasy-relevant"]
[null,null,null,null,null,null,null,null,null,null,null,null,null,null,null,null,null,null,null,null,null,null,null,null,null,null,null,null,null,null,null,null,null,null,null,null,null,null,null,null,null,null,null,null,null,null,null,null,null,null,null,null,419,"Tank Bigsby","JAX",22,"RB",17,0,4,1,0.25,6,6,0,0,6,1.5,0.1,0.4,2,null,null,null,null,null,null,null,null,null,null,null,null,null,null,null,null,null,null,null,null,null,null,null,null,null,null,null,null,null,null,null,null,null,null,null,null,null,null,null,null,null,null,null,null,null,null,null,null,null,"Trent Taylor",0,0,"Britain Covey","Not fantasy-relevant"]
[null,null,null,null,null,null,null,null,null,null,null,null,null,null,null,null,null,null,null,null,null,null,null,null,null,null,null,null,null,null,null,null,null,null,null,null,null,null,null,null,null,null,null,null,null,null,null,null,null,null,null,null,"Rk","Player","Tm","Age","Pos","G","GS","Tgt","Rec","Ctch%","Yds","Y/R","TD","1D","Lng","Y/Tgt","R/G","Y/G","Fmb",null,null,null,null,null,null,null,null,null,null,null,null,null,null,null,null,null,null,null,null,null,null,null,null,null,null,null,null,null,null,null,null,null,null,null,null,null,null,null,null,null,null,null,null,null,null,null,null,null,"Evan Engram",5.2,32.5,"Mason Kinsey","Not fantasy-relevant"]
[null,null,null,null,null,null,null,null,null,null,null,null,null,null,null,null,null,null,null,null,null,null,null,null,null,null,null,null,null,null,null,null,null,null,null,null,null,null,null,null,null,null,null,null,null,null,null,null,null,null,null,null,420,"Ben Bredeson","NYG",25,"G",16,16,1,1,1,0,0,0,0,0,0,0.1,0,0,null,null,null,null,null,null,null,null,null,null,null,null,null,null,null,null,null,null,null,null,null,null,null,null,null,null,null,null,null,null,null,null,null,null,null,null,null,null,null,null,null,null,null,null,null,null,null,null,null,"T.J. Hockenson",4.4000000000000004,30.4,"Colton Dowell","Not fantasy-relevant"]
[null,null,null,null,null,null,null,null,null,null,null,null,null,null,null,null,null,null,null,null,null,null,null,null,null,null,null,null,null,null,null,null,null,null,null,null,null,null,null,null,null,null,null,null,null,null,null,null,null,null,null,null,421,"Jake Browning","CIN",27,"QB",9,7,1,1,1,-7,-7,0,0,-7,-7,0.1,-0.8,3,null,null,null,null,null,null,null,null,null,null,null,null,null,null,null,null,null,null,null,null,null,null,null,null,null,null,null,null,null,null,null,null,null,null,null,null,null,null,null,null,null,null,null,null,null,null,null,null,null,"Travis Kelce",4.4000000000000004,35.9,"Antoine Green","Not fantasy-relevant"]
[null,null,null,null,null,null,null,null,null,null,null,null,null,null,null,null,null,null,null,null,null,null,null,null,null,null,null,null,null,null,null,null,null,null,null,null,null,null,null,null,null,null,null,null,null,null,null,null,null,null,null,null,422,"Khalil Dorsey","DET",25,"CB",13,2,1,1,1,31,31,0,1,31,31,0.1,2.4,0,null,null,null,null,null,null,null,null,null,null,null,null,null,null,null,null,null,null,null,null,null,null,null,null,null,null,null,null,null,null,null,null,null,null,null,null,null,null,null,null,null,null,null,null,null,null,null,null,null,"Sam LaPorta",4.7,29,"Kwamie Lassiter","Not fantasy-relevant"]
[null,null,null,null,null,null,null,null,null,null,null,null,null,null,null,null,null,null,null,null,null,null,null,null,null,null,null,null,null,null,null,null,null,null,null,null,null,null,null,null,null,null,null,null,null,null,null,null,null,null,null,null,423,"Colton Dowell","TEN",24,"WR",10,1,2,1,0.5,3,3,0,0,3,1.5,0.1,0.3,0,null,null,null,null,null,null,null,null,null,null,null,null,null,null,null,null,null,null,null,null,null,null,null,null,null,null,null,null,null,null,null,null,null,null,null,null,null,null,null,null,null,null,null,null,null,null,null,null,null,"David Njoku",3.7,27.1,"Gunner Olszewski","Not fantasy-relevant"]
[null,null,null,null,null,null,null,null,null,null,null,null,null,null,null,null,null,null,null,null,null,null,null,null,null,null,null,null,null,null,null,null,null,null,null,null,null,null,null,null,null,null,null,null,null,null,null,null,null,null,null,null,424,"Ross Dwelley","SFO",28,"TE",12,0,2,1,0.5,12,12,0,1,12,6,0.1,1,0,null,null,null,null,null,null,null,null,null,null,null,null,null,null,null,null,null,null,null,null,null,null,null,null,null,null,null,null,null,null,null,null,null,null,null,null,null,null,null,null,null,null,null,null,null,null,null,null,null,"Cole Kmet",2.9,27.6,"Gunner Olszewski","Not fantasy-relevant"]
[null,null,null,null,null,null,null,null,null,null,null,null,null,null,null,null,null,null,null,null,null,null,null,null,null,null,null,null,null,null,null,null,null,null,null,null,null,null,null,null,null,null,null,null,null,null,null,null,null,null,null,null,425,"Brandin Echols","NYJ",26,"CB",14,1,1,1,1,18,18,0,1,18,18,0.1,1.3,0,null,null,null,null,null,null,null,null,null,null,null,null,null,null,null,null,null,null,null,null,null,null,null,null,null,null,null,null,null,null,null,null,null,null,null,null,null,null,null,null,null,null,null,null,null,null,null,null,null,"George Kittle",1.1000000000000001,27.7,"D'Wayne Eskridge","Not fantasy-relevant"]
[null,null,null,null,null,null,null,null,null,null,null,null,null,null,null,null,null,null,null,null,null,null,null,null,null,null,null,null,null,null,null,null,null,null,null,null,null,null,null,null,null,null,null,null,null,null,null,null,null,null,null,null,426,"Chris Evans","CIN",26,"RB",8,0,1,1,1,-1,-1,0,0,-1,-1,0.1,-0.1,0,null,null,null,null,null,null,null,null,null,null,null,null,null,null,null,null,null,null,null,null,null,null,null,null,null,null,null,null,null,null,null,null,null,null,null,null,null,null,null,null,null,null,null,null,null,null,null,null,null,"Jake Ferguson",2.5,22.1,"Damiere Byrd","Not fantasy-relevant"]
[null,null,null,null,null,null,null,null,null,null,null,null,null,null,null,null,null,null,null,null,null,null,null,null,null,null,null,null,null,null,null,null,null,null,null,null,null,null,null,null,null,null,null,null,null,null,null,null,null,null,null,null,427,"Simi Fehoko","LAC",26,"WR",6,0,2,1,0.5,9,9,1,1,9,4.5,0.2,1.5,0,null,null,null,null,null,null,null,null,null,null,null,null,null,null,null,null,null,null,null,null,null,null,null,null,null,null,null,null,null,null,null,null,null,null,null,null,null,null,null,null,null,null,null,null,null,null,null,null,null,"Trey McBride",1.2,25.5,"Phillip Dorsett","Not fantasy-relevant"]
[null,null,null,null,null,null,null,null,null,null,null,null,null,null,null,null,null,null,null,null,null,null,null,null,null,null,null,null,null,null,null,null,null,null,null,null,null,null,null,null,null,null,null,null,null,null,null,null,null,null,null,null,428,"Tucker Fisk","ATL",24,"TE",6,2,1,1,1,9,9,0,1,9,9,0.2,1.5,0,null,null,null,null,null,null,null,null,null,null,null,null,null,null,null,null,null,null,null,null,null,null,null,null,null,null,null,null,null,null,null,null,null,null,null,null,null,null,null,null,null,null,null,null,null,null,null,null,null,"Dalton Schultz",1.2,29,"Shedrick Jackson","Not fantasy-relevant"]
[null,null,null,null,null,null,null,null,null,null,null,null,null,null,null,null,null,null,null,null,null,null,null,null,null,null,null,null,null,null,null,null,null,null,null,null,null,null,null,null,null,null,null,null,null,null,null,null,null,null,null,null,429,"John FitzPatrick","ATL",23,"TE",9,0,1,1,1,12,12,0,1,12,12,0.1,1.3,0,null,null,null,null,null,null,null,null,null,null,null,null,null,null,null,null,null,null,null,null,null,null,null,null,null,null,null,null,null,null,null,null,null,null,null,null,null,null,null,null,null,null,null,null,null,null,null,null,null,"Taysom Hill",0.2,20.7,"James Proche","Not fantasy-relevant"]
[null,null,null,null,null,null,null,null,null,null,null,null,null,null,null,null,null,null,null,null,null,null,null,null,null,null,null,null,null,null,null,null,null,null,null,null,null,null,null,null,null,null,null,null,null,null,null,null,null,null,null,null,430,"Cole Fotheringham","LVR",26,"TE",2,0,1,1,1,6,6,0,0,6,6,0.5,3,0,null,null,null,null,null,null,null,null,null,null,null,null,null,null,null,null,null,null,null,null,null,null,null,null,null,null,null,null,null,null,null,null,null,null,null,null,null,null,null,null,null,null,null,null,null,null,null,null,null,"Mark Andrews",4.3,25,"Amari Rodgers","Not fantasy-relevant"]
[null,null,null,null,null,null,null,null,null,null,null,null,null,null,null,null,null,null,null,null,null,null,null,null,null,null,null,null,null,null,null,null,null,null,null,null,null,null,null,null,null,null,null,null,null,null,null,null,null,null,null,null,431,"Royce Freeman","LAR",27,"RB",14,0,2,1,0.5,13,13,0,1,13,6.5,0.1,0.9,0,null,null,null,null,null,null,null,null,null,null,null,null,null,null,null,null,null,null,null,null,null,null,null,null,null,null,null,null,null,null,null,null,null,null,null,null,null,null,null,null,null,null,null,null,null,null,null,null,null,"Dalton Kincaid",0,18.100000000000001,"Juwann Winfree","Not fantasy-relevant"]
[null,null,null,null,null,null,null,null,null,null,null,null,null,null,null,null,null,null,null,null,null,null,null,null,null,null,null,null,null,null,null,null,null,null,null,null,null,null,null,null,null,null,null,null,null,null,null,null,null,null,null,null,432,"Jake Funk","IND",25,"RB",4,0,1,1,1,12,12,0,1,12,12,0.3,3,0,null,null,null,null,null,null,null,null,null,null,null,null,null,null,null,null,null,null,null,null,null,null,null,null,null,null,null,null,null,null,null,null,null,null,null,null,null,null,null,null,null,null,null,null,null,null,null,null,null,"Logan Thomas",0,22.7,"Trent Taylor","Not fantasy-relevant"]
[null,null,null,null,null,null,null,null,null,null,null,null,null,null,null,null,null,null,null,null,null,null,null,null,null,null,null,null,null,null,null,null,null,null,null,null,null,null,null,null,null,null,null,null,null,null,null,null,null,null,null,null,433,"Reggie Gilliam","BUF",26,"FB",17,0,1,1,1,3,3,0,0,3,3,0.1,0.2,0,null,null,null,null,null,null,null,null,null,null,null,null,null,null,null,null,null,null,null,null,null,null,null,null,null,null,null,null,null,null,null,null,null,null,null,null,null,null,null,null,null,null,null,null,null,null,null,null,null,"Hunter Henry",0,19.600000000000001,"Travis Kelce","7 top 5 finishes was the joint best in the league, 10 top 12 finishes was topped only by 2 players, and only 2 games outside the top 24","Catches, yards and touchdows took a big dip in the final 3 weeks of the fantasy season, but he did manage to return to form in the NFL playoffs","5 top 8 performances in games where he didn’t even score a touchdown, gives him a rock solid floor"]
[null,null,null,null,null,null,null,null,null,null,null,null,null,null,null,null,null,null,null,null,null,null,null,null,null,null,null,null,null,null,null,null,null,null,null,null,null,null,null,null,null,null,null,null,null,null,null,null,null,null,null,null,434,"Antoine Green","DET",24,"WR",9,0,2,1,0.5,2,2,0,0,2,1,0.1,0.2,0,null,null,null,null,null,null,null,null,null,null,null,null,null,null,null,null,null,null,null,null,null,null,null,null,null,null,null,null,null,null,null,null,null,null,null,null,null,null,null,null,null,null,null,null,null,null,null,null,null,"Kyle Pitts",1.5,15.7,"Sam LaPorta","7 top 5 finishes was the joint best in the league, 10 top 12 finishes was topped only by 2 players, and only 3 games outside the top 24","4 of his top 10 finishes were without touchdowns which gives his overall reliability a boost","Two multiple-touchdown games gives him a huge ceiling","Consistent usage throughout the season coupled with a high catch rate makes him a solid play in PPR"]
[null,null,null,null,null,null,null,null,null,null,null,null,null,null,null,null,null,null,null,null,null,null,null,null,null,null,null,null,null,null,null,null,null,null,null,null,null,null,null,null,null,null,null,null,null,null,null,null,null,null,null,null,435,"Justin Herbert","LAC",25,"QB",13,13,1,1,1,10,10,0,1,10,10,0.1,0.8,4,null,null,null,null,null,null,null,null,null,null,null,null,null,null,null,null,null,null,null,null,null,null,null,null,null,null,null,null,null,null,null,null,null,null,null,null,null,null,null,null,null,null,null,null,null,null,null,null,null,"Dallas Goedert",0,25.7,"T.J. Hockenson","7 top 5 finishes was the joint best in the league, 11 top 12 finishes was topped only by 1 player, as was his 14 top 24 finishes","Volume definitely got a boost when Justin Jefferson missed time, becoming the #1 target during the middle portion of the season","Was hyper-targeted by Joshua Dobbs in his first 2 games, which boosts his overall numbers","Solid consistent scorer with a high catch rate and plenty of targets. Really only killed your lineup in 1 game outside of the injury at the end of the season","Only scored in 4 games so plenty of ceiling still to unlock"]
[null,null,null,null,null,null,null,null,null,null,null,null,null,null,null,null,null,null,null,null,null,null,null,null,null,null,null,null,null,null,null,null,null,null,null,null,null,null,null,null,null,null,null,null,null,null,null,null,null,null,null,null,436,"Jesper Horsted","LVR",26,"TE",13,0,1,1,1,4,4,0,0,4,4,0.1,0.3,0,null,null,null,null,null,null,null,null,null,null,null,null,null,null,null,null,null,null,null,null,null,null,null,null,null,null,null,null,null,null,null,null,null,null,null,null,null,null,null,null,null,null,null,null,null,null,null,null,null,"Jonnu Smith",0,21,"Evan Engram","Number 1 in top 24 finishes with 15, number 1 in top 12 finishes with 12, but 6th in top 5 finishes with 4","A model of consistent solid floor that almost guarantees points every week, but without the huge ceiling of other big name Tight Ends","He did that while only scoring touchdowns in 2 games. If he could add those touchdowns more regularly, he might have that ceiling","Some extra target spike games in the final 3rd of the season with Christian Kirk out but solid target share before that"]
[null,null,null,null,null,null,null,null,null,null,null,null,null,null,null,null,null,null,null,null,null,null,null,null,null,null,null,null,null,null,null,null,null,null,null,null,null,null,null,null,null,null,null,null,null,null,null,null,null,null,null,null,437,"Sam Howell","WAS",23,"QB",17,17,1,1,1,4,4,0,0,4,4,0.1,0.2,4,null,null,null,null,null,null,null,null,null,null,null,null,null,null,null,null,null,null,null,null,null,null,null,null,null,null,null,null,null,null,null,null,null,null,null,null,null,null,null,null,null,null,null,null,null,null,null,null,null,"Juwan Johnson",0,23,"David Njoku","5 top 5 finishes (5th), 10 top 12 finishes (3rd), 14 top 24 finishes (2nd)","4 of the 5 top-5 finishes were in the last 4 games of the season, and all but one of his top 10 finishes were week 10 onwards","Played with 4 different QBs so hards to discern their impact but his aDOT (average depth of target) was noticeable lower with Deshaun Watson","Touchdowns definitely boosted his finishes down the stretch but he had plenty of good fantasy finishes in the second half of the season on yards and catches alone","If you're looking for turning points in his season, losing Deshaun Watson after week 3 was the target upturn and Joe Flacco was the touchdown upturn"]
[null,null,null,null,null,null,null,null,null,null,null,null,null,null,null,null,null,null,null,null,null,null,null,null,null,null,null,null,null,null,null,null,null,null,null,null,null,null,null,null,null,null,null,null,null,null,null,null,null,null,null,null,438,"Evan Hull","IND",23,"RB",1,0,1,1,1,6,6,0,0,6,6,1,6,0,null,null,null,null,null,null,null,null,null,null,null,null,null,null,null,null,null,null,null,null,null,null,null,null,null,null,null,null,null,null,null,null,null,null,null,null,null,null,null,null,null,null,null,null,null,null,null,null,null,"Tyler Higbee",0,19.899999999999999,"George Kittle","7 top 5 finishes was the joint best in the league, 9 top 12 finishes was 7th, and 10 top 24 finishes was 11th","That’s huge upside but not the most stable floor compared to those around him in the rankings, with 7 games outside the top 20 - that's 7 weeks where you cursed picking him where you did","A 66 yard touchdown and a 3 touchdown game were flashes of the explosion that can single-handedly win weeks if you're prepared to risk the floor games","His Home/Road splits are noticeable - only 1 of his 'bad' games was at home. Couple of good road games mixed in but mostly his down games","3 of his better games came without either Deebo or Aiyuk, again showing the built-in upside when one of them gets injured"]
[null,null,null,null,null,null,null,null,null,null,null,null,null,null,null,null,null,null,null,null,null,null,null,null,null,null,null,null,null,null,null,null,null,null,null,null,null,null,null,null,null,null,null,null,null,null,null,null,null,null,null,null,439,"Collin Johnson","CHI",26,"WR",3,0,1,1,1,11,11,0,1,11,11,0.3,3.7,0,null,null,null,null,null,null,null,null,null,null,null,null,null,null,null,null,null,null,null,null,null,null,null,null,null,null,null,null,null,null,null,null,null,null,null,null,null,null,null,null,null,null,null,null,null,null,null,null,null,"Donald Parham",0,14.4,"Cole Kmet","Only 2 top 5 finishes (14th in the league) but 10 top 12 finishes (3rd) and 12 top 24 finishes (6th)","That's a decent floor without the huge week-winning upside, with those higher weeks coming from touchdowns","This means the weeks without touchdowns get a safe, albeit not particularly high, floor","Had his 2 worst weeks and his 2 highest target weeks with Bagent under center before returning back to a stable handful of catches with Fields"]
[null,null,null,null,null,null,null,null,null,null,null,null,null,null,null,null,null,null,null,null,null,null,null,null,null,null,null,null,null,null,null,null,null,null,null,null,null,null,null,null,null,null,null,null,null,null,null,null,null,null,null,null,440,"Jakob Johnson","LVR",29,"FB",13,5,2,1,0.5,12,12,0,0,12,6,0.1,0.9,0,null,null,null,null,null,null,null,null,null,null,null,null,null,null,null,null,null,null,null,null,null,null,null,null,null,null,null,null,null,null,null,null,null,null,null,null,null,null,null,null,null,null,null,null,null,null,null,null,null,"Gerald Everett",0,14.3,"Trey McBride","4 top 5 finishes is 4th in the league, 7 top 12 finishes is 9th in the league, and 10 top 24 finishes is 11th","A tale of two seasons with nearly 4 times as many targets per game after the first third of the season, when Zach Ertz was no more for the Cardinals","After that point he had a target share of 27%, 2 double-digit catch games, 2 100+ yard games, and only 1 game with less than 5 catches","All that while only scoring 2 touchdowns shows there's very good production with a potentially high ceiling if the touchdowns come"]
[null,null,null,null,null,null,null,null,null,null,null,null,null,null,null,null,null,null,null,null,null,null,null,null,null,null,null,null,null,null,null,null,null,null,null,null,null,null,null,null,null,null,null,null,null,null,null,null,null,null,null,null,441,"Ko Kieft","TAM",25,"TE",16,6,5,1,0.2,2,2,1,1,2,0.4,0.1,0.1,0,null,null,null,null,null,null,null,null,null,null,null,null,null,null,null,null,null,null,null,null,null,null,null,null,null,null,null,null,null,null,null,null,null,null,null,null,null,null,null,null,null,null,null,null,null,null,null,null,null,"Tucker Kraft",1.6,15.7,"Jake Ferguson","3 top 5 finishes is 9th in the league, 9 top 12 finishes is 7th in the league, and 12 top 24 finishes is 6th in the league","That's a good floor if not a super-high ceiling. Was tough to trust regular production though - would have 3 'good' games in a row followed by 2 'bad' ones","Somewhat touchdown reliant, was always a shot to get a touchdown but rarely had enough target volume for a top finish if he didn’t get one","Had a 4 week spell (weeks 13-16) of 8 targets per game but this wasn't the norm for the rest of the season","12 target, 3 touchdown game in the playoffs shows his ceiling potential from time to time"]
[null,null,null,null,null,null,null,null,null,null,null,null,null,null,null,null,null,null,null,null,null,null,null,null,null,null,null,null,null,null,null,null,null,null,null,null,null,null,null,null,null,null,null,null,null,null,null,null,null,null,null,null,442,"Mason Kinsey","TEN",25,"WR",6,0,1,1,1,6,6,0,0,6,6,0.2,1,0,null,null,null,null,null,null,null,null,null,null,null,null,null,null,null,null,null,null,null,null,null,null,null,null,null,null,null,null,null,null,null,null,null,null,null,null,null,null,null,null,null,null,null,null,null,null,null,null,null,"Isaiah Likely",0,19.3,"Dalton Schultz","2 top 5 finishes, 7 top 12 finishes and 8 top 24 finishes. 5 games outside the top 36, 1 of those going off injured before missing 2 games","Targets generally increased from week 5 but its difficult to pull apart any particular reason with so many combinations of receivers missing various times during the season","Two 3-game stretches of good production were largely touchdown-based, with a random Davis Mills game in week 16","Capable of good production with the right set of circumstances but an unstable floor"]
[null,null,null,null,null,null,null,null,null,null,null,null,null,null,null,null,null,null,null,null,null,null,null,null,null,null,null,null,null,null,null,null,null,null,null,null,null,null,null,null,null,null,null,null,null,null,null,null,null,null,null,null,443,"Zonovan Knight","DET",22,"RB",2,0,1,1,1,8,8,0,0,8,8,0.5,4,0,null,null,null,null,null,null,null,null,null,null,null,null,null,null,null,null,null,null,null,null,null,null,null,null,null,null,null,null,null,null,null,null,null,null,null,null,null,null,null,null,null,null,null,null,null,null,null,null,null,"Darren Waller",0,22.8,"Dalton Kincaid","Only 1 top 5 finish and 6 top 12 finishes but 11 top 24 finishes","Basically did nothing until week 7 where he then put together 5 top 10 finishes back-to-back followed by a TE13 finish and then a bye. Dropped off the radar again until a TE7 finish in week 17","Those splits correlate perfectly with the absence of Dawson Knox - when he wasn't there, Kincaid was a good option, when he came back Kincaid dropped off","The really good news is those performances without Knox were almost all without touchdowns, so the floor is solid with some potential upside if the touchdowns increase","That is of course, provided he gets his 'without Knox' usage"]
[null,null,null,null,null,null,null,null,null,null,null,null,null,null,null,null,null,null,null,null,null,null,null,null,null,null,null,null,null,null,null,null,null,null,null,null,null,null,null,null,null,null,null,null,null,null,null,null,null,null,null,null,444,"Kwamie Lassiter","CIN",25,"WR",1,0,1,1,1,2,2,0,0,2,2,1,2,0,null,null,null,null,null,null,null,null,null,null,null,null,null,null,null,null,null,null,null,null,null,null,null,null,null,null,null,null,null,null,null,null,null,null,null,null,null,null,null,null,null,null,null,null,null,null,null,null,null,"Michael Mayer",0,13.9,"Mark Andrews","Only played 9 full games and was the TE4 per-game (including the game he left after 7 snaps)","All 9 were top 24, 6 were top 12 and 3 were top 5","23% target share in his healthy games was not quite the Andrews target share we've been used to, with Flowers in particular now taking a chunk of the targets","Overall numbers boosted by two 10 target games when the Ravens passed a lot more than normal. Also two 2-touchdown games in the mix as well, demonstrating the upside you get from him","Injury aside, although he was very good he wasn’t the elite target share and production player he had been in previous seasons"]
[null,null,null,null,null,null,null,null,null,null,null,null,null,null,null,null,null,null,null,null,null,null,null,null,null,null,null,null,null,null,null,null,null,null,null,null,null,null,null,null,null,null,null,null,null,null,null,null,null,null,null,null,445,"Nick Muse","MIN",25,"TE",2,0,1,1,1,22,22,0,1,22,22,0.5,11,0,null,null,null,null,null,null,null,null,null,null,null,null,null,null,null,null,null,null,null,null,null,null,null,null,null,null,null,null,null,null,null,null,null,null,null,null,null,null,null,null,null,null,null,null,null,null,null,null,null,"Zach Ertz",2.6,11.6,"Dallas Goedert","3 top 5 finishes and 1 other top 12 finish but 10 top 24 finishes. Missed 3 games","3rd target on the team but yet only had 4 games where he didn’t get at least 5 targets","Despite decent targets, his success fluctuated game-to-game with 5 games below a 65% catch rate. That's not a high-bar for a tight end","Tight Ends make their hay in the redzone but this Eagles team doesn't like to throw the ball when they get inside the 10, that hurts his upside"]
[null,null,null,null,null,null,null,null,null,null,null,null,null,null,null,null,null,null,null,null,null,null,null,null,null,null,null,null,null,null,null,null,null,null,null,null,null,null,null,null,null,null,null,null,null,null,null,null,null,null,null,null,446,"Gunner Olszewski","2TM",27,"WR",12,0,1,1,1,0,0,0,0,0,0,0.1,0,4,null,null,null,null,null,null,null,null,null,null,null,null,null,null,null,null,null,null,null,null,null,null,null,null,null,null,null,null,null,null,null,null,null,null,null,null,null,null,null,null,null,null,null,null,null,null,null,null,null,"Cade Otton",0,25,"Kyle Pitts","1 top 5 finish, 5 top 12 finishes and 11 top 24 finishes. 4 games outside the top 30","Target share is ok for a Tight End, although not in that Elite category. Also noteworthy that the Falcons pass volume is low so he would need a much bigger share to make up for it","Used a bit more downfield than a lot of TEs and with poor Quarterback play, his catch % is nowhere near what it would need to be for consistent point scoring","Occasional spike week in targets helps towards a top 10 finish but way too many other pass-catchers (London, Bijan, Jonnu!)for a team with such low volume","Doesn't get nearly enough looks in the redzone that give Tight Ends the touchdown upside they need"]
[null,null,null,null,null,null,null,null,null,null,null,null,null,null,null,null,null,null,null,null,null,null,null,null,null,null,null,null,null,null,null,null,null,null,null,null,null,null,null,null,null,null,null,null,null,null,null,null,null,null,null,null,447,"Devine Ozigbo","DET",27,"RB",3,0,1,1,1,8,8,0,0,8,8,0.3,2.7,0,null,null,null,null,null,null,null,null,null,null,null,null,null,null,null,null,null,null,null,null,null,null,null,null,null,null,null,null,null,null,null,null,null,null,null,null,null,null,null,null,null,null,null,null,null,null,null,null,null,"Chigoziem Okonkwo",0,18.3,"Logan Thomas","1 top 5 finish, 6 top 12 finishes and 10 top 24 finishes. 5 games outside the top 30 and 1 game missed","First two-thirds of the season looked similar in terms of volume and production but the final third almost halved","The good volume games weren't necessarily target share driven, they were games where Washington threw the ball a lot","Only got over 60 yards once and it took 11 targets to get there. Catch rate fluctuated throughout the season","Like a lot of Tight Ends, he can get you a top 10 finish with a touchdown but most of the time he's going to give you just enough to survive"]
[null,null,null,null,null,null,null,null,null,null,null,null,null,null,null,null,null,null,null,null,null,null,null,null,null,null,null,null,null,null,null,null,null,null,null,null,null,null,null,null,null,null,null,null,null,null,null,null,null,null,null,null,448,"Rashaad Penny","PHI",27,"RB",3,0,1,1,1,5,5,0,0,5,5,0.3,1.7,0,null,null,null,null,null,null,null,null,null,null,null,null,null,null,null,null,null,null,null,null,null,null,null,null,null,null,null,null,null,null,null,null,null,null,null,null,null,null,null,null,null,null,null,null,null,null,null,null,null,"Pat Freiermuth",0,21,"Taysom Hill","1 top 5 finish, 7 top 12 finishes and 8 top 24 finishes. 6 games outside the top 30 and 1 game missed","He's not a normal Tight End! Hill's points come from targets, rushes and the occasional pass. And his success depends who around him is available","Some receiving success without Juwan Johnson, but not every game he missed, and some spells of rushing success","His real value comes from the redzone touchdowns he snags now and then","His versatility is enticing but the truth is that he's hard to predict and could give you nothing in any given week"]
[null,null,null,null,null,null,null,null,null,null,null,null,null,null,null,null,null,null,null,null,null,null,null,null,null,null,null,null,null,null,null,null,null,null,null,null,null,null,null,null,null,null,null,null,null,null,null,null,null,null,null,null,449,"Kevin Rader","TEN",28,"TE",14,0,3,1,0.33300000000000002,6,6,0,0,6,2,0.1,0.4,0,null,null,null,null,null,null,null,null,null,null,null,null,null,null,null,null,null,null,null,null,null,null,null,null,null,null,null,null,null,null,null,null,null,null,null,null,null,null,null,null,null,null,null,null,null,null,null,null,null,"Harrison Bryant",0,15.9,"Hunter Henry","4 top 5 finishes, 1 other top 12 finishes and 8 top 24 finishes. 7 games outside the top 20 and 3 games missed","A couple of other useable weeks but his season basically came down to two 2-games stretches of top 5 peformances - weeks 1 & 2, and weeks 14 & 15","Those first 2 weeks were promising with 5 & 6 catches respectively, around 50 yards and a touchdown in each - that's good useable fantasy production for a tight end","His second 2 week spell was one week of 2 touchdowns from 3 targets, and 1 solid target week with 66 yards and a touchdown. Plenty of injuries around him in the last game helped his target share","Outside of that he was no use for your fantasy team at all"]
[null,null,null,null,null,null,null,null,null,null,null,null,null,null,null,null,null,null,null,null,null,null,null,null,null,null,null,null,null,null,null,null,null,null,null,null,null,null,null,null,null,null,null,null,null,null,null,null,null,null,null,null,"Rk","Player","Tm","Age","Pos","G","GS","Tgt","Rec","Ctch%","Yds","Y/R","TD","1D","Lng","Y/Tgt","R/G","Y/G","Fmb",null,null,null,null,null,null,null,null,null,null,null,null,null,null,null,null,null,null,null,null,null,null,null,null,null,null,null,null,null,null,null,null,null,null,null,null,null,null,null,null,null,null,null,null,null,null,null,null,null,"Luke Musgrave",1.1000000000000001,14.1,"Tyler Conklin","1 top 5 finish and 11 top 24 finishes","A steady stream of targets in the 5-7 per game range, regardless of who the QB was","Didn't result in any big yardage games, maxing out at 70 yards but more often around the 30-40 yard range","When he got towards the 50 yard mark, he was a steady TE2 from racking up PPR reception points","Didn't catch a single touchdown all year despite some redzone targets"]
[null,null,null,null,null,null,null,null,null,null,null,null,null,null,null,null,null,null,null,null,null,null,null,null,null,null,null,null,null,null,null,null,null,null,null,null,null,null,null,null,null,null,null,null,null,null,null,null,null,null,null,null,450,"Giovanni Ricci","CAR",27,"TE",5,0,1,1,1,2,2,0,0,2,2,0.2,0.4,0,null,null,null,null,null,null,null,null,null,null,null,null,null,null,null,null,null,null,null,null,null,null,null,null,null,null,null,null,null,null,null,null,null,null,null,null,null,null,null,null,null,null,null,null,null,null,null,null,null,"Kylen Granson",0,11.2,"Jonnu Smith","3 top 5 finishes, 4 top 12 finishes and 8 top 24 finishes","Nice run of games from weeks 2-6 with between 4 & 6 catches in every game to boost the PPR points","The larger yardage games all had a story though: on 95 yards in week 4, 73 of those came down two scores in the 4th quarter; 100 yards in week 9 came from a 60 yard touchdown","His usage came much more inconsistent after their bye and his redzone targets dropped as Bijan's increased","Would still have done your lineup more harm than good for half of the games"]
[null,null,null,null,null,null,null,null,null,null,null,null,null,null,null,null,null,null,null,null,null,null,null,null,null,null,null,null,null,null,null,null,null,null,null,null,null,null,null,null,null,null,null,null,null,null,null,null,null,null,null,null,451,"Desmond Ridder","ATL",24,"QB",15,13,1,1,1,-6,-6,0,0,-6,-6,0.1,-0.4,12,null,null,null,null,null,null,null,null,null,null,null,null,null,null,null,null,null,null,null,null,null,null,null,null,null,null,null,null,null,null,null,null,null,null,null,null,null,null,null,null,null,null,null,null,null,null,null,null,null,"Adam Trautman",0,12.6,"Cade Otton","1 top 5 finish, 1 other top 12 finish and 8 top 24 finishes","A big two-touchdown game in week 9 boosts his overall numbers but didn't crack the top 10 outside of that game","A few games in the high-teens gave you useable weeks but struggled to get to 5 catches or 50 yards in the most part","Low aDOT (average depth of target) means he needs to rack up a much greater volume of targets to build up the points"]
[null,null,null,null,null,null,null,null,null,null,null,null,null,null,null,null,null,null,null,null,null,null,null,null,null,null,null,null,null,null,null,null,null,null,null,null,null,null,null,null,null,null,null,null,null,null,null,null,null,null,null,null,452,"James Robinson","GNB",25,"RB",1,0,1,1,1,-2,-2,0,0,-2,-2,1,-2,0,null,null,null,null,null,null,null,null,null,null,null,null,null,null,null,null,null,null,null,null,null,null,null,null,null,null,null,null,null,null,null,null,null,null,null,null,null,null,null,null,null,null,null,null,null,null,null,null,null,"Brevin Jordan",1.9,9.9,"Gerald Everett","0 top 5 finishes but 4 top 12 finishes and 10 top 12 finishes","That gives you some level of floor but didn’t really have a ceiling with upside","As with most tight ends, an occassional touchdown pushed him in to the top 10 but he never got more than 50 yards in a game and only twice got more than 5 catches","Did get a 23% target share from week 14 but that was both without Keenan Allen and with Easton Stick as the Quarterback","Prior to that he was less than 10%, even without Mike Williams. That isn't a workload you want in your lineup"]
[null,null,null,null,null,null,null,null,null,null,null,null,null,null,null,null,null,null,null,null,null,null,null,null,null,null,null,null,null,null,null,null,null,null,null,null,null,null,null,null,null,null,null,null,null,null,null,null,null,null,null,null,453,"Malcolm Rodriguez","DET",24,"LB",17,3,1,1,1,6,6,0,1,6,6,0.1,0.4,0,null,null,null,null,null,null,null,null,null,null,null,null,null,null,null,null,null,null,null,null,null,null,null,null,null,null,null,null,null,null,null,null,null,null,null,null,null,null,null,null,null,null,null,null,null,null,null,null,null,"Tyler Conklin",0,14,"Tyler Higbee","1 top 5 finish, 4 top 12 finishes, 8 top 24 finishes","A 2-touchdown game in week 12 gave him a TE2 finish but he only got 29 yards on 5 catches so that was unreliable and unpredictable","Had a few high target-share games scattered throughout the season but not consistently","Not a high catch or high yardage player, only topping 5 catches in week 17 and 3 times above 50 yards","Does get more opportunity with injuries around him but doesn’t dominate, he's 4th target a lot of the time"]
[null,null,null,null,null,null,null,null,null,null,null,null,null,null,null,null,null,null,null,null,null,null,null,null,null,null,null,null,null,null,null,null,null,null,null,null,null,null,null,null,null,null,null,null,null,null,null,null,null,null,null,null,454,"Jeffery Simmons","TEN",26,"DT",12,12,1,1,1,2,2,1,1,2,2,0.1,0.2,0,null,null,null,null,null,null,null,null,null,null,null,null,null,null,null,null,null,null,null,null,null,null,null,null,null,null,null,null,null,null,null,null,null,null,null,null,null,null,null,null,null,null,null,null,null,null,null,null,null,"Hayden Hurst",0,15.1,"Chigoziem Okonkwo","1 top 5 finish, 1 other top 12 finish and 7 top 24 finishes","Not much consistent production throughout the season but definitely improved his fantasy finishes towards the end of the season","In reality he only had 1 game (week 16) where he was useful scoring 63 yards and a touchdown on 7 targets, and 1 other game where he was serviceable off the back of a 39 yard catch","All but those 2 games were below 50 yards and his catch % with Will Levis under center wasn't great, this improved with Tannehill","Only scored 1 touchdown all season"]
[null,null,null,null,null,null,null,null,null,null,null,null,null,null,null,null,null,null,null,null,null,null,null,null,null,null,null,null,null,null,null,null,null,null,null,null,null,null,null,null,null,null,null,null,null,null,null,null,null,null,null,null,455,"Dan Skipper","DET",29,"T",11,1,1,1,1,4,4,0,0,4,4,0.1,0.4,0,null,null,null,null,null,null,null,null,null,null,null,null,null,null,null,null,null,null,null,null,null,null,null,null,null,null,null,null,null,null,null,null,null,null,null,null,null,null,null,null,null,null,null,null,null,null,null,null,null,"Josh Oliver",0,14.7,"Darren Waller","2 top 5 finishes, 3 top 12 finishes and 7 top 24 finishes but missed 5 games with injury and another with only 23% of snaps","Never got a full compliment of snaps after the injury but did get a consistent 5-6 targets on his return","If you look at weeks 2-7 where he played a full snap share, he had a 22% target share and a catch rate over 70%","5 out of 6 of those games were targets of 7+, 3 of the games were over 75 yards, but he still only scored 1 touchdown in that stretch","When he was healthy in the first part of the season, he was a very useable Tight End with 3 very good fantasy finishes and another useable one"]
[null,null,null,null,null,null,null,null,null,null,null,null,null,null,null,null,null,null,null,null,null,null,null,null,null,null,null,null,null,null,null,null,null,null,null,null,null,null,null,null,null,null,null,null,null,null,null,null,null,null,null,null,456,"Donovan Smith","KAN",30,"T",12,12,1,1,1,0,0,0,0,0,0,0.1,0,0,null,null,null,null,null,null,null,null,null,null,null,null,null,null,null,null,null,null,null,null,null,null,null,null,null,null,null,null,null,null,null,null,null,null,null,null,null,null,null,null,null,null,null,null,null,null,null,null,null,"Pharaoh Brown",1.4,15.1,"Juwan Johnson","2 top 5 finishes, 4 top 12 finishes, 6 top 24 finishes, missed 4 games","In reality he didn't do too much until weeks 15-17 with finishes of TE11, TE5 and TE1, before that he wasn’t helping your lineup","In those 3 big finishes, they were games where he got the touchdown. Week 17 would have been a good finish without the Touchdown and week 16 would have been manageable","Had 3 games with more than 5 targets - 2 were in games where the Saints threw ~10 more times than average. The other was a game where Kamara left injured"]
[null,null,null,null,null,null,null,null,null,null,null,null,null,null,null,null,null,null,null,null,null,null,null,null,null,null,null,null,null,null,null,null,null,null,null,null,null,null,null,null,null,null,null,null,null,null,null,null,null,null,null,null,457,"Geno Smith","SEA",33,"QB",15,15,1,1,1,-2,-2,0,0,-2,-2,0.1,-0.1,5,null,null,null,null,null,null,null,null,null,null,null,null,null,null,null,null,null,null,null,null,null,null,null,null,null,null,null,null,null,null,null,null,null,null,null,null,null,null,null,null,null,null,null,null,null,null,null,null,null,"Andrew Ogletree",0,13.8,"Isaiah Likely","Came to life after Andrews went out with injury, getting 3 top 5 finishes in his last 4 games of the fantasy season","Took over the Andrews role almost perfectly, producing similar targets and yardage, and scoring touchdowns in 3 out of the last 4 games"]
[null,null,null,null,null,null,null,null,null,null,null,null,null,null,null,null,null,null,null,null,null,null,null,null,null,null,null,null,null,null,null,null,null,null,null,null,null,null,null,null,null,null,null,null,null,null,null,null,null,null,null,null,458,"Mike Strachan","CAR",26,"WR",4,1,3,1,0.33300000000000002,45,45,0,1,45,15,0.3,11.3,0,null,null,null,null,null,null,null,null,null,null,null,null,null,null,null,null,null,null,null,null,null,null,null,null,null,null,null,null,null,null,null,null,null,null,null,null,null,null,null,null,null,null,null,null,null,null,null,null,null,"Stone Smartt",0,12.1,"Tanner Hudson","Not particularly useful for fantasy","Missed large chunks of the first half of the season and had a handful of top-24 type performances in the second half","His highest target share games were without Tee Higgins on the field but even there he never topped 50 yards and only scored 1 touchdown"]
[null,null,null,null,null,null,null,null,null,null,null,null,null,null,null,null,null,null,null,null,null,null,null,null,null,null,null,null,null,null,null,null,null,null,null,null,null,null,null,null,null,null,null,null,null,null,null,null,null,null,null,null,459,"C.J. Stroud","HOU",22,"QB",15,15,1,1,1,0,0,0,0,0,0,0.1,0,8,null,null,null,null,null,null,null,null,null,null,null,null,null,null,null,null,null,null,null,null,null,null,null,null,null,null,null,null,null,null,null,null,null,null,null,null,null,null,null,null,null,null,null,null,null,null,null,null,null,"Tanner Hudson",1.5,10.1,"Noah Fant","Not someone you were really looking to use on a weekly basis, with no real ceiling (TE11 his highest finish in week 17)","Only once more than 5 targets and only once more than 4 catches, 0 touchdowns","4th in targets on his team at best"]
[null,null,null,null,null,null,null,null,null,null,null,null,null,null,null,null,null,null,null,null,null,null,null,null,null,null,null,null,null,null,null,null,null,null,null,null,null,null,null,null,null,null,null,null,null,null,null,null,null,null,null,null,460,"Cody Thompson","SEA",27,"WR",7,0,1,1,1,10,10,0,0,10,10,0.1,1.4,0,null,null,null,null,null,null,null,null,null,null,null,null,null,null,null,null,null,null,null,null,null,null,null,null,null,null,null,null,null,null,null,null,null,null,null,null,null,null,null,null,null,null,null,null,null,null,null,null,null,"Noah Fant",0,10.9,"Luke Musgrave","Starting Tight End for the Packers but missed week 12 onwards - 2 top 10 finishes in that stretch but some poor finishes too","Somewhat inconsistent, getting less yards on average than Kraft did on that target volume after the Musgrave injury","Only 1 touchdown so there's room for improvement"]
[null,null,null,null,null,null,null,null,null,null,null,null,null,null,null,null,null,null,null,null,null,null,null,null,null,null,null,null,null,null,null,null,null,null,null,null,null,null,null,null,null,null,null,null,null,null,null,null,null,null,null,null,461,"Laquon Treadwell","BAL",28,"WR",5,1,3,1,0.33300000000000002,16,16,0,1,16,5.3,0.2,3.2,0,null,null,null,null,null,null,null,null,null,null,null,null,null,null,null,null,null,null,null,null,null,null,null,null,null,null,null,null,null,null,null,null,null,null,null,null,null,null,null,null,null,null,null,null,null,null,null,null,null,"Colby Parkinson",0,10.8,"Tucker Kraft","6 game sample size of relevance, only starting to get meaningful snaps in week 12 after Musgrave went out","16% target share from week 13 onwards, with 4 top 16 finishes in that span. He basically took over the Musgrave targets","Yardage totals were ok on the target volume, with a couple of touchdowns thrown in","Has enough to get some useable weeks if he can maintain a consistent target share"]
[null,null,null,null,null,null,null,null,null,null,null,null,null,null,null,null,null,null,null,null,null,null,null,null,null,null,null,null,null,null,null,null,null,null,null,null,null,null,null,null,null,null,null,null,null,null,null,null,null,null,null,null,462,"Nick Vannett","LAC",30,"TE",8,5,1,1,1,3,3,0,1,3,3,0.1,0.4,0,null,null,null,null,null,null,null,null,null,null,null,null,null,null,null,null,null,null,null,null,null,null,null,null,null,null,null,null,null,null,null,null,null,null,null,null,null,null,null,null,null,null,null,null,null,null,null,null,null,"Blake Bell",0,9.1999999999999993,"Pat Freiermuth","1 huge game, 1 other top 10 finish on the back end of a touchdown, but nothing else of use for the rest of the season","Did miss 5 games but never got back to the promise he showed in 2022","His huge week 12 game netted 120 yards with 9 catches on 11 targets - that boosted his overall numbers and was an anomaly compared to the rest of his season","Outside of that game, never caught more than 3 passes in a game or more than 44 yards"]
[null,null,null,null,null,null,null,null,null,null,null,null,null,null,null,null,null,null,null,null,null,null,null,null,null,null,null,null,null,null,null,null,null,null,null,null,null,null,null,null,null,null,null,null,null,null,null,null,null,null,null,null,463,"Tylan Wallace","BAL",24,"WR",11,0,2,1,0.5,11,11,0,1,11,5.5,0.1,1,0,null,null,null,null,null,null,null,null,null,null,null,null,null,null,null,null,null,null,null,null,null,null,null,null,null,null,null,null,null,null,null,null,null,null,null,null,null,null,null,null,null,null,null,null,null,null,null,null,null,"Josh Whyle",0,10.6,"Noah Gray","Not fantasy-relevant","Occassional touchdown but only averaged a couple of targets per game"]
[null,null,null,null,null,null,null,null,null,null,null,null,null,null,null,null,null,null,null,null,null,null,null,null,null,null,null,null,null,null,null,null,null,null,null,null,null,null,null,null,null,null,null,null,null,null,null,null,null,null,null,null,464,"Trevon Wesco","TEN",28,"TE",15,10,3,1,0.33300000000000002,21,21,0,1,21,7,0.1,1.4,0,null,null,null,null,null,null,null,null,null,null,null,null,null,null,null,null,null,null,null,null,null,null,null,null,null,null,null,null,null,null,null,null,null,null,null,null,null,null,null,null,null,null,null,null,null,null,null,null,null,"Brenton Strange",0,10.7,"Kylen Granson","A couple of interesting flashes with 2 top 10 finishes - the first was just a touchdown, and the second was from a big 46 yard play","Was getting a slightly better target share at the start of the season when Anthony Richardson was under center, then dropped","One other big target game later in the season came when Pittman was out"]
[null,null,null,null,null,null,null,null,null,null,null,null,null,null,null,null,null,null,null,null,null,null,null,null,null,null,null,null,null,null,null,null,null,null,null,null,null,null,null,null,null,null,null,null,null,null,null,null,null,null,null,null,465,"Damiere Byrd","ATL",30,"WR",1,0,2,0,0,0,null,0,0,0,0,0,0,0,null,null,null,null,null,null,null,null,null,null,null,null,null,null,null,null,null,null,null,null,null,null,null,null,null,null,null,null,null,null,null,null,null,null,null,null,null,null,null,null,null,null,null,null,null,null,null,null,null,"Brock Wright",0,10.3,"Michael Mayer","Started to get in to the offense in week 5 but only caught more than 4 passes once, missed the last couple of games of the season","Did get a couple of touchdowns that gave him a top-10 finish","Good week 6 performance was when Hunter Renfrow was out"]
[null,null,null,null,null,null,null,null,null,null,null,null,null,null,null,null,null,null,null,null,null,null,null,null,null,null,null,null,null,null,null,null,null,null,null,null,null,null,null,null,null,null,null,null,null,null,null,null,null,null,null,null,466,"Irvin Charles","NYJ",26,"WR",12,0,1,0,0,0,null,0,0,0,0,0,0,0,null,null,null,null,null,null,null,null,null,null,null,null,null,null,null,null,null,null,null,null,null,null,null,null,null,null,null,null,null,null,null,null,null,null,null,null,null,null,null,null,null,null,null,null,null,null,null,null,null,"Johnny Mundt",0,13.9,"Donald Parham","1 top 5 finish and 4 top 12 finishes, missed 3 games at the end of the season","It's touchdowns or nothing with him, rarely more than 3 targets and only occassionally getting above 20 yards","Managed 5+ targets in two games, both when Everett was out"]
[null,null,null,null,null,null,null,null,null,null,null,null,null,null,null,null,null,null,null,null,null,null,null,null,null,null,null,null,null,null,null,null,null,null,null,null,null,null,null,null,null,null,null,null,null,null,null,null,null,null,null,null,467,"Phillip Dorsett","DEN",30,"WR",2,1,3,0,0,0,null,0,0,0,0,0,0,0,null,null,null,null,null,null,null,null,null,null,null,null,null,null,null,null,null,null,null,null,null,null,null,null,null,null,null,null,null,null,null,null,null,null,null,null,null,null,null,null,null,null,null,null,null,null,null,null,null,"Luke Schoonmaker",0,10.3,"Durham Smythe","Not fantasy-relevant","An occasional game over 4 targets but 3 was his average, with many games without a target","Capable of getting a 50 yard game with a handful of catches from time to time but it's unpredictable"]
[null,null,null,null,null,null,null,null,null,null,null,null,null,null,null,null,null,null,null,null,null,null,null,null,null,null,null,null,null,null,null,null,null,null,null,null,null,null,null,null,null,null,null,null,null,null,null,null,null,null,null,null,468,"D'Wayne Eskridge","SEA",26,"WR",4,0,1,0,0,0,null,0,0,0,0,0,0,0,null,null,null,null,null,null,null,null,null,null,null,null,null,null,null,null,null,null,null,null,null,null,null,null,null,null,null,null,null,null,null,null,null,null,null,null,null,null,null,null,null,null,null,null,null,null,null,null,null,"Elijah Higgins",0,14.4,"Mike Gesicki","Not fantasy-relevant","2 games with 6 targets, one of which with a whole bunch of teammates out injured","Only two games with more than 3 catches and topped out at 36 yards"]
[null,null,null,null,null,null,null,null,null,null,null,null,null,null,null,null,null,null,null,null,null,null,null,null,null,null,null,null,null,null,null,null,null,null,null,null,null,null,null,null,null,null,null,null,null,null,null,null,null,null,null,null,469,"Erik Ezukanma","MIA",23,"WR",2,0,1,0,0,0,null,0,0,0,0,0,0,0,null,null,null,null,null,null,null,null,null,null,null,null,null,null,null,null,null,null,null,null,null,null,null,null,null,null,null,null,null,null,null,null,null,null,null,null,null,null,null,null,null,null,null,null,null,null,null,null,null,"Lucas Krull",0,12.8,"Colby Parkinson","Not fantasy-relevant","A couple of touchdowns gave top 12 finishes but otherwise completely irrelevant","Never more than 3 catches in a game"]
[null,null,null,null,null,null,null,null,null,null,null,null,null,null,null,null,null,null,null,null,null,null,null,null,null,null,null,null,null,null,null,null,null,null,null,null,null,null,null,null,null,null,null,null,null,null,null,null,null,null,null,null,470,"Jamycal Hasty","2TM",27,"RB",5,0,2,0,0,0,null,0,0,0,0,0,0,0,null,null,null,null,null,null,null,null,null,null,null,null,null,null,null,null,null,null,null,null,null,null,null,null,null,null,null,null,null,null,null,null,null,null,null,null,null,null,null,null,null,null,null,null,null,null,null,null,null,"Davis Allen",1.6,15,"Adam Trautman","Not fantasy-relevant","Occasional touchdown helped to get some top 12 finishes but only 2 games with more than 3 targets","Only twice more than 30 yards and never more than 34 yards","One of those 5 target, 30+ yard games was with Jerry Jeudy out"]
[null,null,null,null,null,null,null,null,null,null,null,null,null,null,null,null,null,null,null,null,null,null,null,null,null,null,null,null,null,null,null,null,null,null,null,null,null,null,null,null,null,null,null,null,null,null,null,null,null,null,null,null,471,"Travis Homer","CHI",25,"RB",16,0,1,0,0,0,null,0,0,0,0,0,0,0,null,null,null,null,null,null,null,null,null,null,null,null,null,null,null,null,null,null,null,null,null,null,null,null,null,null,null,null,null,null,null,null,null,null,null,null,null,null,null,null,null,null,null,null,null,null,null,null,null,"Mike Gesicki",0,9.5,"Tommy Tremble","Not fantasy-relevant","Occasional touchdown but only once more than 3 targets in a game","Outside of that 6 target, 59 yard game in week 16 there was nothing of use, even when other pass-catchers were out"]
[null,null,null,null,null,null,null,null,null,null,null,null,null,null,null,null,null,null,null,null,null,null,null,null,null,null,null,null,null,null,null,null,null,null,null,null,null,null,null,null,null,null,null,null,null,null,null,null,null,null,null,null,472,"Shedrick Jackson","CIN",24,"WR",5,0,1,0,0,0,null,0,0,0,0,0,0,0,null,null,null,null,null,null,null,null,null,null,null,null,null,null,null,null,null,null,null,null,null,null,null,null,null,null,null,null,null,null,null,null,null,null,null,null,null,null,null,null,null,null,null,null,null,null,null,null,null,"Tommy Tremble",1.2,9.9,"Zach Ertz","Started the season with a great target share with 8+ targets in 3 of his first 4 games, getting 50+ yards in 2 of those games","Wasn’t enough to make him a top option or to hold off Trey McBride from taking over","Played his last game in week 7 and was never seen again"]
[null,null,null,null,null,null,null,null,null,null,null,null,null,null,null,null,null,null,null,null,null,null,null,null,null,null,null,null,null,null,null,null,null,null,null,null,null,null,null,null,null,null,null,null,null,null,null,null,null,null,null,null,473,"Sean McKeon","DAL",26,"TE",9,0,2,0,0,0,null,0,0,0,0,0,0,0,null,null,null,null,null,null,null,null,null,null,null,null,null,null,null,null,null,null,null,null,null,null,null,null,null,null,null,null,null,null,null,null,null,null,null,null,null,null,null,null,null,null,null,null,null,null,null,null,null,"Durham Smythe",0,10.6,"Brevin Jordan","Not fantasy-relevant","Occasional touchdown gave a top 12 finish but never more than 3 catches in a game","5 and 3 targets in weeks 13 & 14 were when Dalton Schultz missed time"]
[null,null,null,null,null,null,null,null,null,null,null,null,null,null,null,null,null,null,null,null,null,null,null,null,null,null,null,null,null,null,null,null,null,null,null,null,null,null,null,null,null,null,null,null,null,null,null,null,null,null,null,null,474,"Jordan Mims","NOR",24,"RB",2,0,2,0,0,0,null,0,0,0,0,0,0,0,null,null,null,null,null,null,null,null,null,null,null,null,null,null,null,null,null,null,null,null,null,null,null,null,null,null,null,null,null,null,null,null,null,null,null,null,null,null,null,null,null,null,null,null,null,null,null,null,null,"Foster Moreau",2.2999999999999998,7.6,"Daniel Bellinger","Not fantasy-relevant","Didn't get more than 1 target per game until Waller missed time, then averaged more like 2 or 3 targets"]
[null,null,null,null,null,null,null,null,null,null,null,null,null,null,null,null,null,null,null,null,null,null,null,null,null,null,null,null,null,null,null,null,null,null,null,null,null,null,null,null,null,null,null,null,null,null,null,null,null,null,null,null,475,"Albert Okwuegbunam","PHI",25,"TE",4,0,1,0,0,0,null,0,0,0,0,0,0,0,null,null,null,null,null,null,null,null,null,null,null,null,null,null,null,null,null,null,null,null,null,null,null,null,null,null,null,null,null,null,null,null,null,null,null,null,null,null,null,null,null,null,null,null,null,null,null,null,null,"Noah Gray",0,10.4,"Josh Oliver","Not fantasy-relevant","Random TE3 finish in week 11 off the back of a touchdown and 4 catches","Oustide of that, rarely above 2 targets"]
[null,null,null,null,null,null,null,null,null,null,null,null,null,null,null,null,null,null,null,null,null,null,null,null,null,null,null,null,null,null,null,null,null,null,null,null,null,null,null,null,null,null,null,null,null,null,null,null,null,null,null,null,476,"James Proche","CLE",27,"WR",10,1,5,0,0,0,null,0,0,0,0,0,0,1,null,null,null,null,null,null,null,null,null,null,null,null,null,null,null,null,null,null,null,null,null,null,null,null,null,null,null,null,null,null,null,null,null,null,null,null,null,null,null,null,null,null,null,null,null,null,null,null,null,"Jimmy Graham",0,9.6,"Drew Sample","Not fantasy-relevant"]
[null,null,null,null,null,null,null,null,null,null,null,null,null,null,null,null,null,null,null,null,null,null,null,null,null,null,null,null,null,null,null,null,null,null,null,null,null,null,null,null,null,null,null,null,null,null,null,null,null,null,null,null,477,"Amari Rodgers","IND",24,"WR",3,0,2,0,0,0,null,0,0,0,0,0,0,0,null,null,null,null,null,null,null,null,null,null,null,null,null,null,null,null,null,null,null,null,null,null,null,null,null,null,null,null,null,null,null,null,null,null,null,null,null,null,null,null,null,null,null,null,null,null,null,null,null,"Daniel Bellinger",0,8.3000000000000007,"Foster Moreau","Not fantasy-relevant","Got a bit more work when Juwan Johnson was out but not enough to make him relevant"]
[null,null,null,null,null,null,null,null,null,null,null,null,null,null,null,null,null,null,null,null,null,null,null,null,null,null,null,null,null,null,null,null,null,null,null,null,null,null,null,null,null,null,null,null,null,null,null,null,null,null,null,null,478,"Ryan Tannehill","TEN",35,"QB",10,8,1,0,0,0,null,0,0,0,0,0,0,4,null,null,null,null,null,null,null,null,null,null,null,null,null,null,null,null,null,null,null,null,null,null,null,null,null,null,null,null,null,null,null,null,null,null,null,null,null,null,null,null,null,null,null,null,null,null,null,null,null,"Mo Alie-Cox",0,10.5,"Mo Alie-Cox","Not fantasy-relevant","Occasional touchdown including a 35 yard touchdown in week 4","Never had more than 2 catches in a game"]
[null,null,null,null,null,null,null,null,null,null,null,null,null,null,null,null,null,null,null,null,null,null,null,null,null,null,null,null,null,null,null,null,null,null,null,null,null,null,null,null,null,null,null,null,null,null,null,null,null,null,null,null,479,"Trent Taylor","CHI",29,"WR",17,0,2,0,0,0,null,0,0,0,0,0,0,2,null,null,null,null,null,null,null,null,null,null,null,null,null,null,null,null,null,null,null,null,null,null,null,null,null,null,null,null,null,null,null,null,null,null,null,null,null,null,null,null,null,null,null,null,null,null,null,null,null,"Connor Heyward",0,7.4,"Hayden Hurst","Not fantasy-relevant","Big week 1 with 7 targets, 5 catches and a touchdown, and a 48 yard catch in week 9 were his only highlights","Injured from week 11 onwards"]
[null,null,null,null,null,null,null,null,null,null,null,null,null,null,null,null,null,null,null,null,null,null,null,null,null,null,null,null,null,null,null,null,null,null,null,null,null,null,null,null,null,null,null,null,null,null,null,null,null,null,null,null,"Rk","Player","Tm","Age","Pos","G","GS","Tgt","Rec","Ctch%","Yds","Y/R","TD","1D","Lng","Y/Tgt","R/G","Y/G","Fmb",null,null,null,null,null,null,null,null,null,null,null,null,null,null,null,null,null,null,null,null,null,null,null,null,null,null,null,null,null,null,null,null,null,null,null,null,null,null,null,null,null,null,null,null,null,null,null,null,null,"Dawson Knox",2,10,"Dawson Knox","Not fantasy-relevant","Missed 5 games in the middle of the season and struggled to get consistent snaps when he came back","His biggest impact was to cap the ceiling of Dalton Kincaid"]
[null,null,null,null,null,null,null,null,null,null,null,null,null,null,null,null,null,null,null,null,null,null,null,null,null,null,null,null,null,null,null,null,null,null,null,null,null,null,null,null,null,null,null,null,null,null,null,null,null,null,null,null,480,"Jonathan Williams","WAS",29,"RB",1,0,1,0,0,0,null,0,0,0,0,0,0,0,null,null,null,null,null,null,null,null,null,null,null,null,null,null,null,null,null,null,null,null,null,null,null,null,null,null,null,null,null,null,null,null,null,null,null,null,null,null,null,null,null,null,null,null,null,null,null,null,null,"John Bates",0,7.6,"Austin Hooper","Not fantasy-relevant","Unless you want 2 catches for 20 yards and 0 touchdowns, then he's your man"]
[null,null,null,null,null,null,null,null,null,null,null,null,null,null,null,null,null,null,null,null,null,null,null,null,null,null,null,null,null,null,null,null,null,null,null,null,null,null,null,null,null,null,null,null,null,null,null,null,null,null,null,null,481,"Rodney Williams","PIT",25,"TE",13,0,2,0,0,0,null,0,0,0,0,0,0,0,null,null,null,null,null,null,null,null,null,null,null,null,null,null,null,null,null,null,null,null,null,null,null,null,null,null,null,null,null,null,null,null,null,null,null,null,null,null,null,null,null,null,null,null,null,null,null,null,null,"Will Mallory",0,9.6,"Harrison Bryant","Not fantasy-relevant","Part time player, raretly getting more than a single target in a game","Managed a couple of top 10 finishes with a touchdown but this was unreliable and unpredictable"]
[null,null,null,null,null,null,null,null,null,null,null,null,null,null,null,null,null,null,null,null,null,null,null,null,null,null,null,null,null,null,null,null,null,null,null,null,null,null,null,null,null,null,null,null,null,null,null,null,null,null,null,null,482,"Juwann Winfree","IND",27,"WR",8,1,1,0,0,0,null,0,0,0,0,0,0,0,null,null,null,null,null,null,null,null,null,null,null,null,null,null,null,null,null,null,null,null,null,null,null,null,null,null,null,null,null,null,null,null,null,null,null,null,null,null,null,null,null,null,null,null,null,null,null,null,null,"Irv Smith",0,11.6,"Pharaoh Brown","Not fantasy-relevant","Doesn’t get more than 2 targets in a game and had 8 games without any at all","Did manage a top 5 finish in week 3 off the back of a 58 yard touchdown, but still only got 2 targets in that game"]
[null,null,null,null,null,null,null,null,null,null,null,null,null,null,null,null,null,null,null,null,null,null,null,null,null,null,null,null,null,null,null,null,null,null,null,null,null,null,null,null,null,null,null,null,null,null,null,null,null,null,null,null,null,null,null,null,null,null,null,null,null,null,null,null,null,null,null,null,null,null,null,null,null,null,null,null,null,null,null,null,null,null,null,null,null,null,null,null,null,null,null,null,null,null,null,null,null,null,null,null,null,null,null,null,null,null,null,null,null,null,null,null,null,null,null,null,null,null,null,null,"Drew Sample",0,12,"Will Mallory","Not fantasy-relevant"]
[null,null,null,null,null,null,null,null,null,null,null,null,null,null,null,null,null,null,null,null,null,null,null,null,null,null,null,null,null,null,null,null,null,null,null,null,null,null,null,null,null,null,null,null,null,null,null,null,null,null,null,null,null,null,null,null,null,null,null,null,null,null,null,null,null,null,null,null,null,null,null,null,null,null,null,null,null,null,null,null,null,null,null,null,null,null,null,null,null,null,null,null,null,null,null,null,null,null,null,null,null,null,null,null,null,null,null,null,null,null,null,null,null,null,null,null,null,null,null,null,"Andrew Beck",0,8.6,"Connor Heyward","4 top 25 finishes as the direct replacement to Pat Freiermuth when he was injured"]
[null,null,null,null,null,null,null,null,null,null,null,null,null,null,null,null,null,null,null,null,null,null,null,null,null,null,null,null,null,null,null,null,null,null,null,null,null,null,null,null,null,null,null,null,null,null,null,null,null,null,null,null,null,null,null,null,null,null,null,null,null,null,null,null,null,null,null,null,null,null,null,null,null,null,null,null,null,null,null,null,null,null,null,null,null,null,null,null,null,null,null,null,null,null,null,null,null,null,null,null,null,null,null,null,null,null,null,null,null,null,null,null,null,null,null,null,null,null,null,null,"Quintin Morris",2.1,8.5,"Andrew Ogletree","Not fantasy-relevant"]
[null,null,null,null,null,null,null,null,null,null,null,null,null,null,null,null,null,null,null,null,null,null,null,null,null,null,null,null,null,null,null,null,null,null,null,null,null,null,null,null,null,null,null,null,null,null,null,null,null,null,null,null,null,null,null,null,null,null,null,null,null,null,null,null,null,null,null,null,null,null,null,null,null,null,null,null,null,null,null,null,null,null,null,null,null,null,null,null,null,null,null,null,null,null,null,null,null,null,null,null,null,null,null,null,null,null,null,null,null,null,null,null,null,null,null,null,null,null,null,null,"Josiah Deguara",1.7,7.4,"Irv Smith","Not fantasy-relevant"]
[null,null,null,null,null,null,null,null,null,null,null,null,null,null,null,null,null,null,null,null,null,null,null,null,null,null,null,null,null,null,null,null,null,null,null,null,null,null,null,null,null,null,null,null,null,null,null,null,null,null,null,null,null,null,null,null,null,null,null,null,null,null,null,null,null,null,null,null,null,null,null,null,null,null,null,null,null,null,null,null,null,null,null,null,null,null,null,null,null,null,null,null,null,null,null,null,null,null,null,null,null,null,null,null,null,null,null,null,null,null,null,null,null,null,null,null,null,null,null,null,"Cole Turner",1.2,7.5,"John Bates","Not fantasy-relevant"]
[null,null,null,null,null,null,null,null,null,null,null,null,null,null,null,null,null,null,null,null,null,null,null,null,null,null,null,null,null,null,null,null,null,null,null,null,null,null,null,null,null,null,null,null,null,null,null,null,null,null,null,null,null,null,null,null,null,null,null,null,null,null,null,null,null,null,null,null,null,null,null,null,null,null,null,null,null,null,null,null,null,null,null,null,null,null,null,null,null,null,null,null,null,null,null,null,null,null,null,null,null,null,null,null,null,null,null,null,null,null,null,null,null,null,null,null,null,null,null,null,"Lawrence Cager",1.9,8,"Jimmy Graham","Not fantasy-relevant","7 targets, 6 catches, 4 touchdowns!"]
[null,null,null,null,null,null,null,null,null,null,null,null,null,null,null,null,null,null,null,null,null,null,null,null,null,null,null,null,null,null,null,null,null,null,null,null,null,null,null,null,null,null,null,null,null,null,null,null,null,null,null,null,null,null,null,null,null,null,null,null,null,null,null,null,null,null,null,null,null,null,null,null,null,null,null,null,null,null,null,null,null,null,null,null,null,null,null,null,null,null,null,null,null,null,null,null,null,null,null,null,null,null,null,null,null,null,null,null,null,null,null,null,null,null,null,null,null,null,null,null,"C.J. Uzomah",0,7.1,"Elijah Higgins","Not fantasy-relevant"]
[null,null,null,null,null,null,null,null,null,null,null,null,null,null,null,null,null,null,null,null,null,null,null,null,null,null,null,null,null,null,null,null,null,null,null,null,null,null,null,null,null,null,null,null,null,null,null,null,null,null,null,null,null,null,null,null,null,null,null,null,null,null,null,null,null,null,null,null,null,null,null,null,null,null,null,null,null,null,null,null,null,null,null,null,null,null,null,null,null,null,null,null,null,null,null,null,null,null,null,null,null,null,null,null,null,null,null,null,null,null,null,null,null,null,null,null,null,null,null,null,"Jeremy Ruckert",0,6.7,"Jeremy Ruckert","Not fantasy-relevant"]
[null,null,null,null,null,null,null,null,null,null,null,null,null,null,null,null,null,null,null,null,null,null,null,null,null,null,null,null,null,null,null,null,null,null,null,null,null,null,null,null,null,null,null,null,null,null,null,null,null,null,null,null,null,null,null,null,null,null,null,null,null,null,null,null,null,null,null,null,null,null,null,null,null,null,null,null,null,null,null,null,null,null,null,null,null,null,null,null,null,null,null,null,null,null,null,null,null,null,null,null,null,null,null,null,null,null,null,null,null,null,null,null,null,null,null,null,null,null,null,null,"Luke Farrell",0,8.5,"Johnny Mundt","Not fantasy-relevant"]
[null,null,null,null,null,null,null,null,null,null,null,null,null,null,null,null,null,null,null,null,null,null,null,null,null,null,null,null,null,null,null,null,null,null,null,null,null,null,null,null,null,null,null,null,null,null,null,null,null,null,null,null,null,null,null,null,null,null,null,null,null,null,null,null,null,null,null,null,null,null,null,null,null,null,null,null,null,null,null,null,null,null,null,null,null,null,null,null,null,null,null,null,null,null,null,null,null,null,null,null,null,null,null,null,null,null,null,null,null,null,null,null,null,null,null,null,null,null,null,null,"Robert Tonyan",0,7,"Stone Smartt","Not fantasy-relevant"]
[null,null,null,null,null,null,null,null,null,null,null,null,null,null,null,null,null,null,null,null,null,null,null,null,null,null,null,null,null,null,null,null,null,null,null,null,null,null,null,null,null,null,null,null,null,null,null,null,null,null,null,null,null,null,null,null,null,null,null,null,null,null,null,null,null,null,null,null,null,null,null,null,null,null,null,null,null,null,null,null,null,null,null,null,null,null,null,null,null,null,null,null,null,null,null,null,null,null,null,null,null,null,null,null,null,null,null,null,null,null,null,null,null,null,null,null,null,null,null,null,"Ben Sims",0,7.1,"Luke Farrell","Not fantasy-relevant"]
[null,null,null,null,null,null,null,null,null,null,null,null,null,null,null,null,null,null,null,null,null,null,null,null,null,null,null,null,null,null,null,null,null,null,null,null,null,null,null,null,null,null,null,null,null,null,null,null,null,null,null,null,null,null,null,null,null,null,null,null,null,null,null,null,null,null,null,null,null,null,null,null,null,null,null,null,null,null,null,null,null,null,null,null,null,null,null,null,null,null,null,null,null,null,null,null,null,null,null,null,null,null,null,null,null,null,null,null,null,null,null,null,null,null,null,null,null,null,null,null,"MyCole Pruitt",0,9,"Brock Wright","Not fantasy-relevant"]
[null,null,null,null,null,null,null,null,null,null,null,null,null,null,null,null,null,null,null,null,null,null,null,null,null,null,null,null,null,null,null,null,null,null,null,null,null,null,null,null,null,null,null,null,null,null,null,null,null,null,null,null,null,null,null,null,null,null,null,null,null,null,null,null,null,null,null,null,null,null,null,null,null,null,null,null,null,null,null,null,null,null,null,null,null,null,null,null,null,null,null,null,null,null,null,null,null,null,null,null,null,null,null,null,null,null,null,null,null,null,null,null,null,null,null,null,null,null,null,null,"Stephen Sullivan",0,6.8,"Will Dissly","Not fantasy-relevant"]
[null,null,null,null,null,null,null,null,null,null,null,null,null,null,null,null,null,null,null,null,null,null,null,null,null,null,null,null,null,null,null,null,null,null,null,null,null,null,null,null,null,null,null,null,null,null,null,null,null,null,null,null,null,null,null,null,null,null,null,null,null,null,null,null,null,null,null,null,null,null,null,null,null,null,null,null,null,null,null,null,null,null,null,null,null,null,null,null,null,null,null,null,null,null,null,null,null,null,null,null,null,null,null,null,null,null,null,null,null,null,null,null,null,null,null,null,null,null,null,null,"Charlie Kolar",0,8.9,"Luke Schoonmaker","Not fantasy-relevant"]
[null,null,null,null,null,null,null,null,null,null,null,null,null,null,null,null,null,null,null,null,null,null,null,null,null,null,null,null,null,null,null,null,null,null,null,null,null,null,null,null,null,null,null,null,null,null,null,null,null,null,null,null,null,null,null,null,null,null,null,null,null,null,null,null,null,null,null,null,null,null,null,null,null,null,null,null,null,null,null,null,null,null,null,null,null,null,null,null,null,null,null,null,null,null,null,null,null,null,null,null,null,null,null,null,null,null,null,null,null,null,null,null,null,null,null,null,null,null,null,null,"Ko Kieft",0,7.2,"Andrew Beck","Not fantasy-relevant"]
[null,null,null,null,null,null,null,null,null,null,null,null,null,null,null,null,null,null,null,null,null,null,null,null,null,null,null,null,null,null,null,null,null,null,null,null,null,null,null,null,null,null,null,null,null,null,null,null,null,null,null,null,null,null,null,null,null,null,null,null,null,null,null,null,null,null,null,null,null,null,null,null,null,null,null,null,null,null,null,null,null,null,null,null,null,null,null,null,null,null,null,null,null,null,null,null,null,null,null,null,null,null,null,null,null,null,null,null,null,null,null,null,null,null,null,null,null,null,null,null,"Will Dissly",0,6.5,"Stephen Sullivan","Not fantasy-relevant"]
[null,null,null,null,null,null,null,null,null,null,null,null,null,null,null,null,null,null,null,null,null,null,null,null,null,null,null,null,null,null,null,null,null,null,null,null,null,null,null,null,null,null,null,null,null,null,null,null,null,null,null,null,null,null,null,null,null,null,null,null,null,null,null,null,null,null,null,null,null,null,null,null,null,null,null,null,null,null,null,null,null,null,null,null,null,null,null,null,null,null,null,null,null,null,null,null,null,null,null,null,null,null,null,null,null,null,null,null,null,null,null,null,null,null,null,null,null,null,null,null,"Austin Hooper",0,5.8,"Josh Whyle","Not fantasy-relevant"]
[null,null,null,null,null,null,null,null,null,null,null,null,null,null,null,null,null,null,null,null,null,null,null,null,null,null,null,null,null,null,null,null,null,null,null,null,null,null,null,null,null,null,null,null,null,null,null,null,null,null,null,null,null,null,null,null,null,null,null,null,null,null,null,null,null,null,null,null,null,null,null,null,null,null,null,null,null,null,null,null,null,null,null,null,null,null,null,null,null,null,null,null,null,null,null,null,null,null,null,null,null,null,null,null,null,null,null,null,null,null,null,null,null,null,null,null,null,null,null,null,"Greg Dulcich",1.3,4.2,"Lucas Krull","Not fantasy-relevant"]
[null,null,null,null,null,null,null,null,null,null,null,null,null,null,null,null,null,null,null,null,null,null,null,null,null,null,null,null,null,null,null,null,null,null,null,null,null,null,null,null,null,null,null,null,null,null,null,null,null,null,null,null,null,null,null,null,null,null,null,null,null,null,null,null,null,null,null,null,null,null,null,null,null,null,null,null,null,null,null,null,null,null,null,null,null,null,null,null,null,null,null,null,null,null,null,null,null,null,null,null,null,null,null,null,null,null,null,null,null,null,null,null,null,null,null,null,null,null,null,null,"Mitchell Wilcox",0,4,"MyCole Pruitt","Not fantasy-relevant"]
[null,null,null,null,null,null,null,null,null,null,null,null,null,null,null,null,null,null,null,null,null,null,null,null,null,null,null,null,null,null,null,null,null,null,null,null,null,null,null,null,null,null,null,null,null,null,null,null,null,null,null,null,null,null,null,null,null,null,null,null,null,null,null,null,null,null,null,null,null,null,null,null,null,null,null,null,null,null,null,null,null,null,null,null,null,null,null,null,null,null,null,null,null,null,null,null,null,null,null,null,null,null,null,null,null,null,null,null,null,null,null,null,null,null,null,null,null,null,null,null,"Brycen Hopkins",1.5,3.1,"Cole Turner","Not fantasy-relevant"]
[null,null,null,null,null,null,null,null,null,null,null,null,null,null,null,null,null,null,null,null,null,null,null,null,null,null,null,null,null,null,null,null,null,null,null,null,null,null,null,null,null,null,null,null,null,null,null,null,null,null,null,null,null,null,null,null,null,null,null,null,null,null,null,null,null,null,null,null,null,null,null,null,null,null,null,null,null,null,null,null,null,null,null,null,null,null,null,null,null,null,null,null,null,null,null,null,null,null,null,null,null,null,null,null,null,null,null,null,null,null,null,null,null,null,null,null,null,null,null,null,"Geoff Swaim",0,4.2,"Jordan Akins","Not fantasy-relevant"]
[null,null,null,null,null,null,null,null,null,null,null,null,null,null,null,null,null,null,null,null,null,null,null,null,null,null,null,null,null,null,null,null,null,null,null,null,null,null,null,null,null,null,null,null,null,null,null,null,null,null,null,null,null,null,null,null,null,null,null,null,null,null,null,null,null,null,null,null,null,null,null,null,null,null,null,null,null,null,null,null,null,null,null,null,null,null,null,null,null,null,null,null,null,null,null,null,null,null,null,null,null,null,null,null,null,null,null,null,null,null,null,null,null,null,null,null,null,null,null,null,"Ian Thomas",0,3.8,"Robert Tonyan","Not fantasy-relevant"]
[null,null,null,null,null,null,null,null,null,null,null,null,null,null,null,null,null,null,null,null,null,null,null,null,null,null,null,null,null,null,null,null,null,null,null,null,null,null,null,null,null,null,null,null,null,null,null,null,null,null,null,null,null,null,null,null,null,null,null,null,null,null,null,null,null,null,null,null,null,null,null,null,null,null,null,null,null,null,null,null,null,null,null,null,null,null,null,null,null,null,null,null,null,null,null,null,null,null,null,null,null,null,null,null,null,null,null,null,null,null,null,null,null,null,null,null,null,null,null,null,"Marcedes Lewis",0,7.1,"C.J. Uzomah","Not fantasy-relevant"]
[null,null,null,null,null,null,null,null,null,null,null,null,null,null,null,null,null,null,null,null,null,null,null,null,null,null,null,null,null,null,null,null,null,null,null,null,null,null,null,null,null,null,null,null,null,null,null,null,null,null,null,null,null,null,null,null,null,null,null,null,null,null,null,null,null,null,null,null,null,null,null,null,null,null,null,null,null,null,null,null,null,null,null,null,null,null,null,null,null,null,null,null,null,null,null,null,null,null,null,null,null,null,null,null,null,null,null,null,null,null,null,null,null,null,null,null,null,null,null,null,"Payne Durham",0,3.5,"Geoff Swaim","Not fantasy-relevant"]
[null,null,null,null,null,null,null,null,null,null,null,null,null,null,null,null,null,null,null,null,null,null,null,null,null,null,null,null,null,null,null,null,null,null,null,null,null,null,null,null,null,null,null,null,null,null,null,null,null,null,null,null,null,null,null,null,null,null,null,null,null,null,null,null,null,null,null,null,null,null,null,null,null,null,null,null,null,null,null,null,null,null,null,null,null,null,null,null,null,null,null,null,null,null,null,null,null,null,null,null,null,null,null,null,null,null,null,null,null,null,null,null,null,null,null,null,null,null,null,null,"Teagan Quitoriano",0,3.2,"Davis Allen","Not fantasy-relevant","Filled in for Higbee in week 14, scoring a touchdown and 50 yards on 4 catches"]
[null,null,null,null,null,null,null,null,null,null,null,null,null,null,null,null,null,null,null,null,null,null,null,null,null,null,null,null,null,null,null,null,null,null,null,null,null,null,null,null,null,null,null,null,null,null,null,null,null,null,null,null,null,null,null,null,null,null,null,null,null,null,null,null,null,null,null,null,null,null,null,null,null,null,null,null,null,null,null,null,null,null,null,null,null,null,null,null,null,null,null,null,null,null,null,null,null,null,null,null,null,null,null,null,null,null,null,null,null,null,null,null,null,null,null,null,null,null,null,null,"Nate Adkins",0,2.8,"Charlie Kolar","Not fantasy-relevant"]
[null,null,null,null,null,null,null,null,null,null,null,null,null,null,null,null,null,null,null,null,null,null,null,null,null,null,null,null,null,null,null,null,null,null,null,null,null,null,null,null,null,null,null,null,null,null,null,null,null,null,null,null,null,null,null,null,null,null,null,null,null,null,null,null,null,null,null,null,null,null,null,null,null,null,null,null,null,null,null,null,null,null,null,null,null,null,null,null,null,null,null,null,null,null,null,null,null,null,null,null,null,null,null,null,null,null,null,null,null,null,null,null,null,null,null,null,null,null,null,null,"Trevon Wesco",0,3.1,"Mitchell Wilcox","Not fantasy-relevant"]
[null,null,null,null,null,null,null,null,null,null,null,null,null,null,null,null,null,null,null,null,null,null,null,null,null,null,null,null,null,null,null,null,null,null,null,null,null,null,null,null,null,null,null,null,null,null,null,null,null,null,null,null,null,null,null,null,null,null,null,null,null,null,null,null,null,null,null,null,null,null,null,null,null,null,null,null,null,null,null,null,null,null,null,null,null,null,null,null,null,null,null,null,null,null,null,null,null,null,null,null,null,null,null,null,null,null,null,null,null,null,null,null,null,null,null,null,null,null,null,null,"Jack Stoll",1.3,2.4,"Josiah Deguara","Not fantasy-relevant"]
[null,null,null,null,null,null,null,null,null,null,null,null,null,null,null,null,null,null,null,null,null,null,null,null,null,null,null,null,null,null,null,null,null,null,null,null,null,null,null,null,null,null,null,null,null,null,null,null,null,null,null,null,null,null,null,null,null,null,null,null,null,null,null,null,null,null,null,null,null,null,null,null,null,null,null,null,null,null,null,null,null,null,null,null,null,null,null,null,null,null,null,null,null,null,null,null,null,null,null,null,null,null,null,null,null,null,null,null,null,null,null,null,null,null,null,null,null,null,null,null,"Reggie Gilliam",1.3,1.3,"Brenton Strange","Not fantasy-relevant"]
[null,null,null,null,null,null,null,null,null,null,null,null,null,null,null,null,null,null,null,null,null,null,null,null,null,null,null,null,null,null,null,null,null,null,null,null,null,null,null,null,null,null,null,null,null,null,null,null,null,null,null,null,null,null,null,null,null,null,null,null,null,null,null,null,null,null,null,null,null,null,null,null,null,null,null,null,null,null,null,null,null,null,null,null,null,null,null,null,null,null,null,null,null,null,null,null,null,null,null,null,null,null,null,null,null,null,null,null,null,null,null,null,null,null,null,null,null,null,null,null,"Jordan Akins",0,3.8,"Lawrence Cager","Not fantasy-relevant"]
[null,null,null,null,null,null,null,null,null,null,null,null,null,null,null,null,null,null,null,null,null,null,null,null,null,null,null,null,null,null,null,null,null,null,null,null,null,null,null,null,null,null,null,null,null,null,null,null,null,null,null,null,null,null,null,null,null,null,null,null,null,null,null,null,null,null,null,null,null,null,null,null,null,null,null,null,null,null,null,null,null,null,null,null,null,null,null,null,null,null,null,null,null,null,null,null,null,null,null,null,null,null,null,null,null,null,null,null,null,null,null,null,null,null,null,null,null,null,null,null,"Giovanni Ricci",1.2,1.2,"Darnell Washington","Not fantasy-relevant","Not even really getting targets when Freiermuth was out"]
[null,null,null,null,null,null,null,null,null,null,null,null,null,null,null,null,null,null,null,null,null,null,null,null,null,null,null,null,null,null,null,null,null,null,null,null,null,null,null,null,null,null,null,null,null,null,null,null,null,null,null,null,null,null,null,null,null,null,null,null,null,null,null,null,null,null,null,null,null,null,null,null,null,null,null,null,null,null,null,null,null,null,null,null,null,null,null,null,null,null,null,null,null,null,null,null,null,null,null,null,null,null,null,null,null,null,null,null,null,null,null,null,null,null,null,null,null,null,null,null,"Darnell Washington",0,2.2000000000000002,"Marcedes Lewis","Not fantasy-relevant"]
[null,null,null,null,null,null,null,null,null,null,null,null,null,null,null,null,null,null,null,null,null,null,null,null,null,null,null,null,null,null,null,null,null,null,null,null,null,null,null,null,null,null,null,null,null,null,null,null,null,null,null,null,null,null,null,null,null,null,null,null,null,null,null,null,null,null,null,null,null,null,null,null,null,null,null,null,null,null,null,null,null,null,null,null,null,null,null,null,null,null,null,null,null,null,null,null,null,null,null,null,null,null,null,null,null,null,null,null,null,null,null,null,null,null,null,null,null,null,null,null,"David Wells",1,1,"Blake Bell","Not fantasy-relevant"]
[null,null,null,null,null,null,null,null,null,null,null,null,null,null,null,null,null,null,null,null,null,null,null,null,null,null,null,null,null,null,null,null,null,null,null,null,null,null,null,null,null,null,null,null,null,null,null,null,null,null,null,null,null,null,null,null,null,null,null,null,null,null,null,null,null,null,null,null,null,null,null,null,null,null,null,null,null,null,null,null,null,null,null,null,null,null,null,null,null,null,null,null,null,null,null,null,null,null,null,null,null,null,null,null,null,null,null,null,null,null,null,null,null,null,null,null,null,null,null,null,"Chris Manhertz",0,2,"Ben Sims","Not fantasy-relevant"]
[null,null,null,null,null,null,null,null,null,null,null,null,null,null,null,null,null,null,null,null,null,null,null,null,null,null,null,null,null,null,null,null,null,null,null,null,null,null,null,null,null,null,null,null,null,null,null,null,null,null,null,null,null,null,null,null,null,null,null,null,null,null,null,null,null,null,null,null,null,null,null,null,null,null,null,null,null,null,null,null,null,null,null,null,null,null,null,null,null,null,null,null,null,null,null,null,null,null,null,null,null,null,null,null,null,null,null,null,null,null,null,null,null,null,null,null,null,null,null,null,"Peyton Hendershot",0,1.6,"Payne Durham","Not fantasy-relevant"]
[null,null,null,null,null,null,null,null,null,null,null,null,null,null,null,null,null,null,null,null,null,null,null,null,null,null,null,null,null,null,null,null,null,null,null,null,null,null,null,null,null,null,null,null,null,null,null,null,null,null,null,null,null,null,null,null,null,null,null,null,null,null,null,null,null,null,null,null,null,null,null,null,null,null,null,null,null,null,null,null,null,null,null,null,null,null,null,null,null,null,null,null,null,null,null,null,null,null,null,null,null,null,null,null,null,null,null,null,null,null,null,null,null,null,null,null,null,null,null,null,"Julian Hill",0,4.3,"Quintin Morris","Not fantasy-relevant"]
[null,null,null,null,null,null,null,null,null,null,null,null,null,null,null,null,null,null,null,null,null,null,null,null,null,null,null,null,null,null,null,null,null,null,null,null,null,null,null,null,null,null,null,null,null,null,null,null,null,null,null,null,null,null,null,null,null,null,null,null,null,null,null,null,null,null,null,null,null,null,null,null,null,null,null,null,null,null,null,null,null,null,null,null,null,null,null,null,null,null,null,null,null,null,null,null,null,null,null,null,null,null,null,null,null,null,null,null,null,null,null,null,null,null,null,null,null,null,null,null,"Kenny Yeboah",0,4.8,"Julian Hill","Not fantasy-relevant"]
[null,null,null,null,null,null,null,null,null,null,null,null,null,null,null,null,null,null,null,null,null,null,null,null,null,null,null,null,null,null,null,null,null,null,null,null,null,null,null,null,null,null,null,null,null,null,null,null,null,null,null,null,null,null,null,null,null,null,null,null,null,null,null,null,null,null,null,null,null,null,null,null,null,null,null,null,null,null,null,null,null,null,null,null,null,null,null,null,null,null,null,null,null,null,null,null,null,null,null,null,null,null,null,null,null,null,null,null,null,null,null,null,null,null,null,null,null,null,null,null,"Grant Calcaterra",4.0999999999999996,4.0999999999999996,"Ian Thomas","Not fantasy-relevant"]
[null,null,null,null,null,null,null,null,null,null,null,null,null,null,null,null,null,null,null,null,null,null,null,null,null,null,null,null,null,null,null,null,null,null,null,null,null,null,null,null,null,null,null,null,null,null,null,null,null,null,null,null,null,null,null,null,null,null,null,null,null,null,null,null,null,null,null,null,null,null,null,null,null,null,null,null,null,null,null,null,null,null,null,null,null,null,null,null,null,null,null,null,null,null,null,null,null,null,null,null,null,null,null,null,null,null,null,null,null,null,null,null,null,null,null,null,null,null,null,null,"Charlie Woerner",1.3,1.9,"Ko Kieft","Not fantasy-relevant"]
[null,null,null,null,null,null,null,null,null,null,null,null,null,null,null,null,null,null,null,null,null,null,null,null,null,null,null,null,null,null,null,null,null,null,null,null,null,null,null,null,null,null,null,null,null,null,null,null,null,null,null,null,null,null,null,null,null,null,null,null,null,null,null,null,null,null,null,null,null,null,null,null,null,null,null,null,null,null,null,null,null,null,null,null,null,null,null,null,null,null,null,null,null,null,null,null,null,null,null,null,null,null,null,null,null,null,null,null,null,null,null,null,null,null,null,null,null,null,null,null,"Eric Saubert",1.2,1.5,"Jack Stoll","Not fantasy-relevant"]
[null,null,null,null,null,null,null,null,null,null,null,null,null,null,null,null,null,null,null,null,null,null,null,null,null,null,null,null,null,null,null,null,null,null,null,null,null,null,null,null,null,null,null,null,null,null,null,null,null,null,null,null,null,null,null,null,null,null,null,null,null,null,null,null,null,null,null,null,null,null,null,null,null,null,null,null,null,null,null,null,null,null,null,null,null,null,null,null,null,null,null,null,null,null,null,null,null,null,null,null,null,null,null,null,null,null,null,null,null,null,null,null,null,null,null,null,null,null,null,null,"Ross Dwelley",0,2.2000000000000002,"Nate Adkins","Not fantasy-relevant"]
[null,null,null,null,null,null,null,null,null,null,null,null,null,null,null,null,null,null,null,null,null,null,null,null,null,null,null,null,null,null,null,null,null,null,null,null,null,null,null,null,null,null,null,null,null,null,null,null,null,null,null,null,null,null,null,null,null,null,null,null,null,null,null,null,null,null,null,null,null,null,null,null,null,null,null,null,null,null,null,null,null,null,null,null,null,null,null,null,null,null,null,null,null,null,null,null,null,null,null,null,null,null,null,null,null,null,null,null,null,null,null,null,null,null,null,null,null,null,null,null,"Tucker Fisk",1.9,1.9,"Brycen Hopkins","Not fantasy-relevant"]
[null,null,null,null,null,null,null,null,null,null,null,null,null,null,null,null,null,null,null,null,null,null,null,null,null,null,null,null,null,null,null,null,null,null,null,null,null,null,null,null,null,null,null,null,null,null,null,null,null,null,null,null,null,null,null,null,null,null,null,null,null,null,null,null,null,null,null,null,null,null,null,null,null,null,null,null,null,null,null,null,null,null,null,null,null,null,null,null,null,null,null,null,null,null,null,null,null,null,null,null,null,null,null,null,null,null,null,null,null,null,null,null,null,null,null,null,null,null,null,null,"Cole Fotheringham",1.6,1.6,"Greg Dulcich","Missed nearly all of the season with the injury"]
[null,null,null,null,null,null,null,null,null,null,null,null,null,null,null,null,null,null,null,null,null,null,null,null,null,null,null,null,null,null,null,null,null,null,null,null,null,null,null,null,null,null,null,null,null,null,null,null,null,null,null,null,null,null,null,null,null,null,null,null,null,null,null,null,null,null,null,null,null,null,null,null,null,null,null,null,null,null,null,null,null,null,null,null,null,null,null,null,null,null,null,null,null,null,null,null,null,null,null,null,null,null,null,null,null,null,null,null,null,null,null,null,null,null,null,null,null,null,null,null,"Kevin Rader",1.6,1.6,"Teagan Quitoriano","Not fantasy-relevant"]
[null,null,null,null,null,null,null,null,null,null,null,null,null,null,null,null,null,null,null,null,null,null,null,null,null,null,null,null,null,null,null,null,null,null,null,null,null,null,null,null,null,null,null,null,null,null,null,null,null,null,null,null,null,null,null,null,null,null,null,null,null,null,null,null,null,null,null,null,null,null,null,null,null,null,null,null,null,null,null,null,null,null,null,null,null,null,null,null,null,null,null,null,null,null,null,null,null,null,null,null,null,null,null,null,null,null,null,null,null,null,null,null,null,null,null,null,null,null,null,null,"Jesper Horsted",1.4,1.4,"Kenny Yeboah","Not fantasy-relevant"]
[null,null,null,null,null,null,null,null,null,null,null,null,null,null,null,null,null,null,null,null,null,null,null,null,null,null,null,null,null,null,null,null,null,null,null,null,null,null,null,null,null,null,null,null,null,null,null,null,null,null,null,null,null,null,null,null,null,null,null,null,null,null,null,null,null,null,null,null,null,null,null,null,null,null,null,null,null,null,null,null,null,null,null,null,null,null,null,null,null,null,null,null,null,null,null,null,null,null,null,null,null,null,null,null,null,null,null,null,null,null,null,null,null,null,null,null,null,null,null,null,"James Mitchell",1.4,1.4,"Peyton Hendershot","Not fantasy-relevant"]
[null,null,null,null,null,null,null,null,null,null,null,null,null,null,null,null,null,null,null,null,null,null,null,null,null,null,null,null,null,null,null,null,null,null,null,null,null,null,null,null,null,null,null,null,null,null,null,null,null,null,null,null,null,null,null,null,null,null,null,null,null,null,null,null,null,null,null,null,null,null,null,null,null,null,null,null,null,null,null,null,null,null,null,null,null,null,null,null,null,null,null,null,null,null,null,null,null,null,null,null,null,null,null,null,null,null,null,null,null,null,null,null,null,null,null,null,null,null,null,null,"Sean McKeon",0,0,"Grant Calcaterra","Not fantasy-relevant"]
[null,null,null,null,null,null,null,null,null,null,null,null,null,null,null,null,null,null,null,null,null,null,null,null,null,null,null,null,null,null,null,null,null,null,null,null,null,null,null,null,null,null,null,null,null,null,null,null,null,null,null,null,null,null,null,null,null,null,null,null,null,null,null,null,null,null,null,null,null,null,null,null,null,null,null,null,null,null,null,null,null,null,null,null,null,null,null,null,null,null,null,null,null,null,null,null,null,null,null,null,null,null,null,null,null,null,null,null,null,null,null,null,null,null,null,null,null,null,null,null,"Albert Okwuegbunam",0,0,"Chris Manhertz","Not fantasy-relevant"]
[null,null,null,null,null,null,null,null,null,null,null,null,null,null,null,null,null,null,null,null,null,null,null,null,null,null,null,null,null,null,null,null,null,null,null,null,null,null,null,null,null,null,null,null,null,null,null,null,null,null,null,null,null,null,null,null,null,null,null,null,null,null,null,null,null,null,null,null,null,null,null,null,null,null,null,null,null,null,null,null,null,null,null,null,null,null,null,null,null,null,null,null,null,null,null,null,null,null,null,null,null,null,null,null,null,null,null,null,null,null,null,null,null,null,null,null,null,null,null,null,"Rodney Williams",0,0,"Charlie Woerner","Not fantasy-relevant"]
[null,null,null,null,null,null,null,null,null,null,null,null,null,null,null,null,null,null,null,null,null,null,null,null,null,null,null,null,null,null,null,null,null,null,null,null,null,null,null,null,null,null,null,null,null,null,null,null,null,null,null,null,null,null,null,null,null,null,null,null,null,null,null,null,null,null,null,null,null,null,null,null,null,null,null,null,null,null,null,null,null,null,null,null,null,null,null,null,null,null,null,null,null,null,null,null,null,null,null,null,null,null,null,null,null,null,null,null,null,null,null,null,null,null,null,null,null,null,null,null,null,null,null,"Trevon Wesco","Not fantasy-relevant"]
[null,null,null,null,null,null,null,null,null,null,null,null,null,null,null,null,null,null,null,null,null,null,null,null,null,null,null,null,null,null,null,null,null,null,null,null,null,null,null,null,null,null,null,null,null,null,null,null,null,null,null,null,null,null,null,null,null,null,null,null,null,null,null,null,null,null,null,null,null,null,null,null,null,null,null,null,null,null,null,null,null,null,null,null,null,null,null,null,null,null,null,null,null,null,null,null,null,null,null,null,null,null,null,null,null,null,null,null,null,null,null,null,null,null,null,null,null,null,null,null,null,null,null,"Eric Saubert","Not fantasy-relevant"]
[null,null,null,null,null,null,null,null,null,null,null,null,null,null,null,null,null,null,null,null,null,null,null,null,null,null,null,null,null,null,null,null,null,null,null,null,null,null,null,null,null,null,null,null,null,null,null,null,null,null,null,null,null,null,null,null,null,null,null,null,null,null,null,null,null,null,null,null,null,null,null,null,null,null,null,null,null,null,null,null,null,null,null,null,null,null,null,null,null,null,null,null,null,null,null,null,null,null,null,null,null,null,null,null,null,null,null,null,null,null,null,null,null,null,null,null,null,null,null,null,null,null,null,"Eric Saubert","Not fantasy-relevant"]
[null,null,null,null,null,null,null,null,null,null,null,null,null,null,null,null,null,null,null,null,null,null,null,null,null,null,null,null,null,null,null,null,null,null,null,null,null,null,null,null,null,null,null,null,null,null,null,null,null,null,null,null,null,null,null,null,null,null,null,null,null,null,null,null,null,null,null,null,null,null,null,null,null,null,null,null,null,null,null,null,null,null,null,null,null,null,null,null,null,null,null,null,null,null,null,null,null,null,null,null,null,null,null,null,null,null,null,null,null,null,null,null,null,null,null,null,null,null,null,null,null,null,null,"Ross Dwelley","Not fantasy-relevant"]
[null,null,null,null,null,null,null,null,null,null,null,null,null,null,null,null,null,null,null,null,null,null,null,null,null,null,null,null,null,null,null,null,null,null,null,null,null,null,null,null,null,null,null,null,null,null,null,null,null,null,null,null,null,null,null,null,null,null,null,null,null,null,null,null,null,null,null,null,null,null,null,null,null,null,null,null,null,null,null,null,null,null,null,null,null,null,null,null,null,null,null,null,null,null,null,null,null,null,null,null,null,null,null,null,null,null,null,null,null,null,null,null,null,null,null,null,null,null,null,null,null,null,null,"Tucker Fisk","Not fantasy-relevant"]
[null,null,null,null,null,null,null,null,null,null,null,null,null,null,null,null,null,null,null,null,null,null,null,null,null,null,null,null,null,null,null,null,null,null,null,null,null,null,null,null,null,null,null,null,null,null,null,null,null,null,null,null,null,null,null,null,null,null,null,null,null,null,null,null,null,null,null,null,null,null,null,null,null,null,null,null,null,null,null,null,null,null,null,null,null,null,null,null,null,null,null,null,null,null,null,null,null,null,null,null,null,null,null,null,null,null,null,null,null,null,null,null,null,null,null,null,null,null,null,null,null,null,null,"Cole Fotheringham","Not fantasy-relevant"]
[null,null,null,null,null,null,null,null,null,null,null,null,null,null,null,null,null,null,null,null,null,null,null,null,null,null,null,null,null,null,null,null,null,null,null,null,null,null,null,null,null,null,null,null,null,null,null,null,null,null,null,null,null,null,null,null,null,null,null,null,null,null,null,null,null,null,null,null,null,null,null,null,null,null,null,null,null,null,null,null,null,null,null,null,null,null,null,null,null,null,null,null,null,null,null,null,null,null,null,null,null,null,null,null,null,null,null,null,null,null,null,null,null,null,null,null,null,null,null,null,null,null,null,"Kevin Rader","Not fantasy-relevant"]
[null,null,null,null,null,null,null,null,null,null,null,null,null,null,null,null,null,null,null,null,null,null,null,null,null,null,null,null,null,null,null,null,null,null,null,null,null,null,null,null,null,null,null,null,null,null,null,null,null,null,null,null,null,null,null,null,null,null,null,null,null,null,null,null,null,null,null,null,null,null,null,null,null,null,null,null,null,null,null,null,null,null,null,null,null,null,null,null,null,null,null,null,null,null,null,null,null,null,null,null,null,null,null,null,null,null,null,null,null,null,null,null,null,null,null,null,null,null,null,null,null,null,null,"Jesper Horsted","Not fantasy-relevant"]
[null,null,null,null,null,null,null,null,null,null,null,null,null,null,null,null,null,null,null,null,null,null,null,null,null,null,null,null,null,null,null,null,null,null,null,null,null,null,null,null,null,null,null,null,null,null,null,null,null,null,null,null,null,null,null,null,null,null,null,null,null,null,null,null,null,null,null,null,null,null,null,null,null,null,null,null,null,null,null,null,null,null,null,null,null,null,null,null,null,null,null,null,null,null,null,null,null,null,null,null,null,null,null,null,null,null,null,null,null,null,null,null,null,null,null,null,null,null,null,null,null,null,null,"James Mitchell","Not fantasy-relevant"]
[null,null,null,null,null,null,null,null,null,null,null,null,null,null,null,null,null,null,null,null,null,null,null,null,null,null,null,null,null,null,null,null,null,null,null,null,null,null,null,null,null,null,null,null,null,null,null,null,null,null,null,null,null,null,null,null,null,null,null,null,null,null,null,null,null,null,null,null,null,null,null,null,null,null,null,null,null,null,null,null,null,null,null,null,null,null,null,null,null,null,null,null,null,null,null,null,null,null,null,null,null,null,null,null,null,null,null,null,null,null,null,null,null,null,null,null,null,null,null,null,null,null,null,"Reggie Gilliam","Not fantasy-relevant"]
[null,null,null,null,null,null,null,null,null,null,null,null,null,null,null,null,null,null,null,null,null,null,null,null,null,null,null,null,null,null,null,null,null,null,null,null,null,null,null,null,null,null,null,null,null,null,null,null,null,null,null,null,null,null,null,null,null,null,null,null,null,null,null,null,null,null,null,null,null,null,null,null,null,null,null,null,null,null,null,null,null,null,null,null,null,null,null,null,null,null,null,null,null,null,null,null,null,null,null,null,null,null,null,null,null,null,null,null,null,null,null,null,null,null,null,null,null,null,null,null,null,null,null,"Giovanni Ricci","Not fantasy-relevant"]
[null,null,null,null,null,null,null,null,null,null,null,null,null,null,null,null,null,null,null,null,null,null,null,null,null,null,null,null,null,null,null,null,null,null,null,null,null,null,null,null,null,null,null,null,null,null,null,null,null,null,null,null,null,null,null,null,null,null,null,null,null,null,null,null,null,null,null,null,null,null,null,null,null,null,null,null,null,null,null,null,null,null,null,null,null,null,null,null,null,null,null,null,null,null,null,null,null,null,null,null,null,null,null,null,null,null,null,null,null,null,null,null,null,null,null,null,null,null,null,null,null,null,null,"David Wells","Not fantasy-relevant"]
[null,null,null,null,null,null,null,null,null,null,null,null,null,null,null,null,null,null,null,null,null,null,null,null,null,null,null,null,null,null,null,null,null,null,null,null,null,null,null,null,null,null,null,null,null,null,null,null,null,null,null,null,null,null,null,null,null,null,null,null,null,null,null,null,null,null,null,null,null,null,null,null,null,null,null,null,null,null,null,null,null,null,null,null,null,null,null,null,null,null,null,null,null,null,null,null,null,null,null,null,null,null,null,null,null,null,null,null,null,null,null,null,null,null,null,null,null,null,null,null,null,null,null,"Sean McKeon","Not fantasy-relevant"]
[null,null,null,null,null,null,null,null,null,null,null,null,null,null,null,null,null,null,null,null,null,null,null,null,null,null,null,null,null,null,null,null,null,null,null,null,null,null,null,null,null,null,null,null,null,null,null,null,null,null,null,null,null,null,null,null,null,null,null,null,null,null,null,null,null,null,null,null,null,null,null,null,null,null,null,null,null,null,null,null,null,null,null,null,null,null,null,null,null,null,null,null,null,null,null,null,null,null,null,null,null,null,null,null,null,null,null,null,null,null,null,null,null,null,null,null,null,null,null,null,null,null,null,"Albert Okwuegbunam","Not fantasy-relevant"]
[null,null,null,null,null,null,null,null,null,null,null,null,null,null,null,null,null,null,null,null,null,null,null,null,null,null,null,null,null,null,null,null,null,null,null,null,null,null,null,null,null,null,null,null,null,null,null,null,null,null,null,null,null,null,null,null,null,null,null,null,null,null,null,null,null,null,null,null,null,null,null,null,null,null,null,null,null,null,null,null,null,null,null,null,null,null,null,null,null,null,null,null,null,null,null,null,null,null,null,null,null,null,null,null,null,null,null,null,null,null,null,null,null,null,null,null,null,null,null,null,null,null,null,"Rodney Williams","Not fantasy-relevant"]
[null,null,null,null,null,null,null,null,null,null,null,null,null,null,null,null,null,null,null,null,null,null,null,null,null,null,null,null,null,null,null,null,null,null,null,null,null,null,null,null,null,null,null,null,null,null,null,null,null,null,null,null,null,null,null,null,null,null,null,null,null,null,null,null,null,null,null,null,null,null,null,null,null,null,null,null,null,null,null,null,null,null,null,null,null,null,null,null,null,null,null,null,null,null,null,null,null,null,null,null,null,null,null,null,null,null,null,null,null,null,null,null,null,null,null,null,null,null,null,null,null,null,null,"Caleb Williams","*ROOKIE*","Williams might just be the best quarterback prospect to enter the NFL since Andrew Luck. He is a dynamic playmaker who can make all the throws from both inside the pocket as well as on the move, and can gain chunks with his legs.","The Bears have done everything they can to build up the supporting cast around him and give him the best possible chance to succeed, something so many other franchises have failed to do over the years. ","They continued that with the No. 9 pick by selecting Washington wide receiver Rome Odunze and adding him to an offense that already included DJ Moore, Keenan Allen, D’Andre Swift, Roschon Johnson, and Cole Kmet. ","They’ve even invested in the offensive line over the last couple offseasons. "]
[null,null,null,null,null,null,null,null,null,null,null,null,null,null,null,null,null,null,null,null,null,null,null,null,null,null,null,null,null,null,null,null,null,null,null,null,null,null,null,null,null,null,null,null,null,null,null,null,null,null,null,null,null,null,null,null,null,null,null,null,null,null,null,null,null,null,null,null,null,null,null,null,null,null,null,null,null,null,null,null,null,null,null,null,null,null,null,null,null,null,null,null,null,null,null,null,null,null,null,null,null,null,null,null,null,null,null,null,null,null,null,null,null,null,null,null,null,null,null,null,null,null,null,"Jayden Daniels","*ROOKIE*","Jayden Daniels quietly lands in a good spot. He has quality weapons around him in Terry McLaurin, Jahan Dotson, Austin Ekeler, and Brian Robinson. Sure, it’s no Chicago but it’s also not the wasteland of New England either.","Daniels has the arm to make all the throws and his legs give him the highest fantasy upside of any quarterback in the class. He has plenty of experience and should be ready to play right away.","He will utilize his legs a ton early in his career as he adapts to the NFL game. That means there’s a real chance he outscores even Caleb Williams in 2024."]
[null,null,null,null,null,null,null,null,null,null,null,null,null,null,null,null,null,null,null,null,null,null,null,null,null,null,null,null,null,null,null,null,null,null,null,null,null,null,null,null,null,null,null,null,null,null,null,null,null,null,null,null,null,null,null,null,null,null,null,null,null,null,null,null,null,null,null,null,null,null,null,null,null,null,null,null,null,null,null,null,null,null,null,null,null,null,null,null,null,null,null,null,null,null,null,null,null,null,null,null,null,null,null,null,null,null,null,null,null,null,null,null,null,null,null,null,null,null,null,null,null,null,null,"Drake Maye","*ROOKIE*","Drake Maye is in for a challenge. He lands with the Patriots who have one of the worst supporting casts in the NFL. They need to upgrade the offensive line, they need to add pass catchers, and they need to give Drake Maye time","Out of all the early quarterbacks, Maye would probably benefit the most from riding the bench for a bit before getting thrown into the fire. He can get coached up, work on improving some of his mechanics issues, and learn the system","If things go right for Maye and he develops into his physical traits, he has about as high a ceiling as anyone. He can get to the Josh Allen/Justin Herbert spectrum of quarterback play. ","He has the arm talent and he has the athleticism to be a difference maker with his legs as well."]
[null,null,null,null,null,null,null,null,null,null,null,null,null,null,null,null,null,null,null,null,null,null,null,null,null,null,null,null,null,null,null,null,null,null,null,null,null,null,null,null,null,null,null,null,null,null,null,null,null,null,null,null,null,null,null,null,null,null,null,null,null,null,null,null,null,null,null,null,null,null,null,null,null,null,null,null,null,null,null,null,null,null,null,null,null,null,null,null,null,null,null,null,null,null,null,null,null,null,null,null,null,null,null,null,null,null,null,null,null,null,null,null,null,null,null,null,null,null,null,null,null,null,null,"Marvin Harrison","*ROOKIE*","He fits the mold of a prototypical alpha X-wide receiver. He is going to be a big-bodied playmaker for quarterback Kyler Murray who will appreciate Harrison’s ability to contort his body to track and attack the football in traffic.","Harrison immediately slides in as the top passing catcher in Arizona and should command a high volume of targets as a rookie. ","He compares favorably to AJ Green and Justin Jefferson—both of which had incredible rookie seasons and it’s likely we see something similar from Harrison."]
[null,null,null,null,null,null,null,null,null,null,null,null,null,null,null,null,null,null,null,null,null,null,null,null,null,null,null,null,null,null,null,null,null,null,null,null,null,null,null,null,null,null,null,null,null,null,null,null,null,null,null,null,null,null,null,null,null,null,null,null,null,null,null,null,null,null,null,null,null,null,null,null,null,null,null,null,null,null,null,null,null,null,null,null,null,null,null,null,null,null,null,null,null,null,null,null,null,null,null,null,null,null,null,null,null,null,null,null,null,null,null,null,null,null,null,null,null,null,null,null,null,null,null,"Malik Nabers","*ROOKIE*","Nabers is entering a very fantasy-friendly situation. The Giants have one of the weakest receiver rooms in the NFL and tight end Darren Waller appears likely to retire. That leaves Nabers as the clear, uncontested top target for Daniel Jones","It’s still Daniel Jones and of course it would have been nice to see Nabers paired with a better quarterback, but the target volume is going to be very high. With Nabers’ skill set, he will do the most with his targets.","He is incredible after the catch, meaning he will always be gaining additional yardage and the team is surely going to feed him high-percentage manufactured touches like screens and jet sweeps as well. ","Nabers is in line for a 130 target rookie season and is likely going to be a top-20 scorer in fantasy football."]
[null,null,null,null,null,null,null,null,null,null,null,null,null,null,null,null,null,null,null,null,null,null,null,null,null,null,null,null,null,null,null,null,null,null,null,null,null,null,null,null,null,null,null,null,null,null,null,null,null,null,null,null,null,null,null,null,null,null,null,null,null,null,null,null,null,null,null,null,null,null,null,null,null,null,null,null,null,null,null,null,null,null,null,null,null,null,null,null,null,null,null,null,null,null,null,null,null,null,null,null,null,null,null,null,null,null,null,null,null,null,null,null,null,null,null,null,null,null,null,null,null,null,null,"Michael Penix","*ROOKIE*","Unless Cousins completely flames out in Atlanta or his rehab from last season’s achilles injury does not go as planned, Penix is unlikely to see the field until 2026 at the earliest. Even then, that’s only two years into Cousins’ contract.","At that point, Penix will be 26-years old. And if Cousins plays out the full four years, Penix will be pushing 30 by the time he gets his shot. ","Even if we’re looking at this situation wrong and the Falcons have a plan to start Penix earlier than expected, his fantasy football ceiling is still just as a QB2. It’s unlikely he will ever crack the top-12 quarterbacks on a per game basis.","We saw him play for six seasons in college. We know his game. We know he wants to get the ball out quick and he doesn’t run (despite the athleticism to do so)."]
[null,null,null,null,null,null,null,null,null,null,null,null,null,null,null,null,null,null,null,null,null,null,null,null,null,null,null,null,null,null,null,null,null,null,null,null,null,null,null,null,null,null,null,null,null,null,null,null,null,null,null,null,null,null,null,null,null,null,null,null,null,null,null,null,null,null,null,null,null,null,null,null,null,null,null,null,null,null,null,null,null,null,null,null,null,null,null,null,null,null,null,null,null,null,null,null,null,null,null,null,null,null,null,null,null,null,null,null,null,null,null,null,null,null,null,null,null,null,null,null,null,null,null,"Rome Odunze","*ROOKIE*","While the pick is fantastic for Williams’ outlook, there are certainly questions about Odunze’s early-career role considering he is walking into a wide receiver room that already has two WR1s in DJ Moore and Keenan Allen.","He will likely be the third wide receiver which will make it difficult for a true rookie season breakout. But Allen is a free agent after the 2024 season, so it should be wheels up for Odunze in 2025.","Of course, the risk is they re-sign Allen, reminiscent of the Tyler Lockett for Jaxon Smith-Njigba situation in Seattle. ","However, we believe Odunze is a better talent than JSN and will be better equipped to overcome his target competition in Chicago especially considering the top-10 draft capital."]
[null,null,null,null,null,null,null,null,null,null,null,null,null,null,null,null,null,null,null,null,null,null,null,null,null,null,null,null,null,null,null,null,null,null,null,null,null,null,null,null,null,null,null,null,null,null,null,null,null,null,null,null,null,null,null,null,null,null,null,null,null,null,null,null,null,null,null,null,null,null,null,null,null,null,null,null,null,null,null,null,null,null,null,null,null,null,null,null,null,null,null,null,null,null,null,null,null,null,null,null,null,null,null,null,null,null,null,null,null,null,null,null,null,null,null,null,null,null,null,null,null,null,null,"J.J. McCarthy","*ROOKIE*","McCarthy will, in theory, compete with Sam Darnold for the starting job to begin the 2024 season. However, it’s likely we see McCarthy start Week 1 given he was a top-10 pick and coming from a pro style offense at Michigan.","The learning curve won’t be quite as steep for him as some other rookie quarterbacks we’ve seen over the years, even if he wasn’t a high volume passer in college.","McCarthy is blessed with a quarterback-friendly offense and weapons that include Justin Jefferson, Jordan Addison, TJ Hockenson, and Aaron Jones. O’Connell wants to throw the ball at a high rate.","We might not see that as much in 2024 as they take it easy with the rookie quarterback, but if he passes all the tests in 2024, we’re going to see a significant rise in pass attempts in 2025 and beyond."]
[null,null,null,null,null,null,null,null,null,null,null,null,null,null,null,null,null,null,null,null,null,null,null,null,null,null,null,null,null,null,null,null,null,null,null,null,null,null,null,null,null,null,null,null,null,null,null,null,null,null,null,null,null,null,null,null,null,null,null,null,null,null,null,null,null,null,null,null,null,null,null,null,null,null,null,null,null,null,null,null,null,null,null,null,null,null,null,null,null,null,null,null,null,null,null,null,null,null,null,null,null,null,null,null,null,null,null,null,null,null,null,null,null,null,null,null,null,null,null,null,null,null,null,"Bo Nix","*ROOKIE*","He will run the offense as designed and play point guard from the pocket. He won’t necessarily be a difference maker or make plays off script, but he can do enough to run an efficient offense and get the ball into the hands of his playmakers.","That doesn’t sound too appealing for fantasy football purposes but if he can help propel productive seasons for Courtland Sutton, Marvin Mims, etc, we will be happy with that."]
[null,null,null,null,null,null,null,null,null,null,null,null,null,null,null,null,null,null,null,null,null,null,null,null,null,null,null,null,null,null,null,null,null,null,null,null,null,null,null,null,null,null,null,null,null,null,null,null,null,null,null,null,null,null,null,null,null,null,null,null,null,null,null,null,null,null,null,null,null,null,null,null,null,null,null,null,null,null,null,null,null,null,null,null,null,null,null,null,null,null,null,null,null,null,null,null,null,null,null,null,null,null,null,null,null,null,null,null,null,null,null,null,null,null,null,null,null,null,null,null,null,null,null,"Brock Bowers","*ROOKIE*","In the short-term he will be overshadowed by alpha receiver Davante Adams and will have to compete for the middle of the field looks with steady-eddy Jakobi Meyers.","He will also need to overcome subpar quarterback play, given the team is in line to roll out a combination of Gardner Minshew and Aiden O’Connell in 2024. ","Bowers is less quarterback dependent than a guy like Kyle Pitts, for example. That’s because Bowers thrives in the short area and the quick game. ","He also has the versatility to take carries as well. Bowers will catch a pass in the flat and turn up field and work his way for an 8-10 yard gain."]
[null,null,null,null,null,null,null,null,null,null,null,null,null,null,null,null,null,null,null,null,null,null,null,null,null,null,null,null,null,null,null,null,null,null,null,null,null,null,null,null,null,null,null,null,null,null,null,null,null,null,null,null,null,null,null,null,null,null,null,null,null,null,null,null,null,null,null,null,null,null,null,null,null,null,null,null,null,null,null,null,null,null,null,null,null,null,null,null,null,null,null,null,null,null,null,null,null,null,null,null,null,null,null,null,null,null,null,null,null,null,null,null,null,null,null,null,null,null,null,null,null,null,null,"Brian Thomas","*ROOKIE*","Brian Thomas Jr. got the draft capital and landed with a team that could use another pass-catcher. However, his skill set feels a bit redundant with free agent addition Gabe Davis. ","These are both big-bodied X-receivers who are vertical game and red zone specialists. Thomas is more athletic and his ceiling outcome is far better than Davis, but it’s going to be interesting to see what his role is versus Davis.","Trevor Lawrence has proven to be a quality distributor who can propel his pass catchers to productive seasons. There is target competition but Thomas has the skill set to develop into a premier playmaker on the outside.","He will also serve as a top red zone target for Lawrence. He won’t match the 17 touchdowns that he scored at LSU last season, but Thomas could have multiple 10+ touchdown seasons in his career if everything hits."]
[null,null,null,null,null,null,null,null,null,null,null,null,null,null,null,null,null,null,null,null,null,null,null,null,null,null,null,null,null,null,null,null,null,null,null,null,null,null,null,null,null,null,null,null,null,null,null,null,null,null,null,null,null,null,null,null,null,null,null,null,null,null,null,null,null,null,null,null,null,null,null,null,null,null,null,null,null,null,null,null,null,null,null,null,null,null,null,null,null,null,null,null,null,null,null,null,null,null,null,null,null,null,null,null,null,null,null,null,null,null,null,null,null,null,null,null,null,null,null,null,null,null,null,"Xavier Worthy","*ROOKIE*","This is a clear effort by the Chiefs to bring back some of what they had with Tyreek Hill and to thwart the difficult shell coverages that defenses have been throwing at them for the last two seasons.","He’s not Tyreek Hill despite the comparisons, but there are enough similarities between their play styles to think Worthy can give us 75% of the production we saw in the prime Mahomes to Hill years. ","Worthy may not be a consistent volume commander but he will absolutely have week-winning performances that can make a huge difference in fantasy football.","He will be used all over the field and will especially thrive on crossing routes in this offense. It’s realistic to picture him having the third-most productive rookie season out of this year’s class of wide receivers."]
[null,null,null,null,null,null,null,null,null,null,null,null,null,null,null,null,null,null,null,null,null,null,null,null,null,null,null,null,null,null,null,null,null,null,null,null,null,null,null,null,null,null,null,null,null,null,null,null,null,null,null,null,null,null,null,null,null,null,null,null,null,null,null,null,null,null,null,null,null,null,null,null,null,null,null,null,null,null,null,null,null,null,null,null,null,null,null,null,null,null,null,null,null,null,null,null,null,null,null,null,null,null,null,null,null,null,null,null,null,null,null,null,null,null,null,null,null,null,null,null,null,null,null,"Ricky Pearsall","*ROOKIE*","He will have versatile alignment, playing some slot and some Z. He very much feels like a Kyle Shanahan-type receiver. Not only does he have that versatility, but Pearsall is a crafty route-runner with a high football IQ and toughness.","He knows how to find space and get open and will be a reliable chain-mover with some playmaking ability. ","Target competition aside, Pearsall lands in a great situation with a creative playcaller who utilizes a bunch of pre-snap motion and will find ways to maximize Pearsall’s strengths. ","Looking ahead to 2024, we can project Pearsall for a target share somewhere between 10-15%, depending on what happens with the veteran wide receivers on the roster."]
[null,null,null,null,null,null,null,null,null,null,null,null,null,null,null,null,null,null,null,null,null,null,null,null,null,null,null,null,null,null,null,null,null,null,null,null,null,null,null,null,null,null,null,null,null,null,null,null,null,null,null,null,null,null,null,null,null,null,null,null,null,null,null,null,null,null,null,null,null,null,null,null,null,null,null,null,null,null,null,null,null,null,null,null,null,null,null,null,null,null,null,null,null,null,null,null,null,null,null,null,null,null,null,null,null,null,null,null,null,null,null,null,null,null,null,null,null,null,null,null,null,null,null,"Xavier Legette","*ROOKIE*","Maybe they wanted to secure that fifth-year option because, based on his college history, it might take five years before they get any sort of production out of him.","Either way, it feels like doubling down on last year’s mistake of drafting a similar archetype wide receiver with a similarly unproductive college resume in Jonathan Mingo.","The first round capital will steam Legette’s rookie draft ADP much higher than it should go which makes him an easy fade."]
[null,null,null,null,null,null,null,null,null,null,null,null,null,null,null,null,null,null,null,null,null,null,null,null,null,null,null,null,null,null,null,null,null,null,null,null,null,null,null,null,null,null,null,null,null,null,null,null,null,null,null,null,null,null,null,null,null,null,null,null,null,null,null,null,null,null,null,null,null,null,null,null,null,null,null,null,null,null,null,null,null,null,null,null,null,null,null,null,null,null,null,null,null,null,null,null,null,null,null,null,null,null,null,null,null,null,null,null,null,null,null,null,null,null,null,null,null,null,null,null,null,null,null,"Keon Coleman","*ROOKIE*","With Stefon Diggs and Gabe Davis off the roster, and just Curtis Samuel and Khalil Shakir left, the path to a productive rookie season has been paved for Coleman.","Not only does he have little competition for targets, but Coleman will also have the privilege of playing with one of the league’s best quarterbacks and in one of the most pass-heavy offenses.","Coleman steps in as the favorite to be second in line for targets in Buffalo behind tight end Dalton Kincaid. Coleman will likely spend most of his time at X which could be a problem if he doesn’t improve his separation ability. ","Still, his big frame and contested catch ability will at least help him find a role as the Gabe Davis replacement—a downfield and red zone playmaker for Allen. "]
[null,null,null,null,null,null,null,null,null,null,null,null,null,null,null,null,null,null,null,null,null,null,null,null,null,null,null,null,null,null,null,null,null,null,null,null,null,null,null,null,null,null,null,null,null,null,null,null,null,null,null,null,null,null,null,null,null,null,null,null,null,null,null,null,null,null,null,null,null,null,null,null,null,null,null,null,null,null,null,null,null,null,null,null,null,null,null,null,null,null,null,null,null,null,null,null,null,null,null,null,null,null,null,null,null,null,null,null,null,null,null,null,null,null,null,null,null,null,null,null,null,null,null,"Ladd McConkey","*ROOKIE*","With the wide open receiver room, McConkey could legitimately lead the team in targets as a rookie. His production profile was lacking and his ability to command volume in college was questionable, but his skill set should translate well","McConkey is a route running technician who creates quick separation. He’s certainly no Allen, but the areas in which they win are at least similar. He will likely begin as more of a slot guy, before expanding his role to the Z position","The passing volume in Los Angeles will likely be near the bottom of the league in 2024, but McConkey should be high on the totem pole and will benefit from the efficiency of a quality passer like Herbert.","We’ll likely see a lot of quick passes mixed in with crossing routes and zone beaters that will get McConkey open easy and give him an opportunity to create after the catch."]
[null,null,null,null,null,null,null,null,null,null,null,null,null,null,null,null,null,null,null,null,null,null,null,null,null,null,null,null,null,null,null,null,null,null,null,null,null,null,null,null,null,null,null,null,null,null,null,null,null,null,null,null,null,null,null,null,null,null,null,null,null,null,null,null,null,null,null,null,null,null,null,null,null,null,null,null,null,null,null,null,null,null,null,null,null,null,null,null,null,null,null,null,null,null,null,null,null,null,null,null,null,null,null,null,null,null,null,null,null,null,null,null,null,null,null,null,null,null,null,null,null,null,null,"Ja'Lynn Polk","*ROOKIE*","Ja’Lynn Polk has a chance to step in and be the Patriots WR1 from day one. He will have to compete with fellow rookie and fourth rounder Javon Baker as they join Bourne, Douglas, Osborn, and Smith-Schuster","Douglas will likely be the starting slot, while Polk, Bourne, and Baker will rotate in two-receiver sets. Polk will be a steady presence in the Patriots offense.","He can win all over the field with reliable hands and an impressive contested catch ability.","If he clicks with Drake Maye, it could be a fun rookie season and a solid connection for years to come"]
[null,null,null,null,null,null,null,null,null,null,null,null,null,null,null,null,null,null,null,null,null,null,null,null,null,null,null,null,null,null,null,null,null,null,null,null,null,null,null,null,null,null,null,null,null,null,null,null,null,null,null,null,null,null,null,null,null,null,null,null,null,null,null,null,null,null,null,null,null,null,null,null,null,null,null,null,null,null,null,null,null,null,null,null,null,null,null,null,null,null,null,null,null,null,null,null,null,null,null,null,null,null,null,null,null,null,null,null,null,null,null,null,null,null,null,null,null,null,null,null,null,null,null,"Jonathon Brooks","*ROOKIE*","It could be a slow start for Brooks if he’s not ready for training camp which, given his ACL injury came in November, is a real possibility. If he is forced to miss camp, there’s a real danger of a Kendre Miller-like rookie season for Brooks.","With no opportunity for the coaches to see him in offseason practices or training camp, or preseason games, we can’t expect they’re just going to turn the keys to the backfield over to the rookie when he’s ready to go","With that said, it’s clear the Panthers view Jonathon Brooks as their RB1 of the future. Whenever he gets the opportunity, he will be a three-down workhorse in an offense that will likely lean on the running game.","Remember, head coach Dave Canales was the offensive coordinator in Tampa Bay last season when Rachaad White received absolute bellcow usage so we know he’s not afraid to feed his all-purpose back."]
[null,null,null,null,null,null,null,null,null,null,null,null,null,null,null,null,null,null,null,null,null,null,null,null,null,null,null,null,null,null,null,null,null,null,null,null,null,null,null,null,null,null,null,null,null,null,null,null,null,null,null,null,null,null,null,null,null,null,null,null,null,null,null,null,null,null,null,null,null,null,null,null,null,null,null,null,null,null,null,null,null,null,null,null,null,null,null,null,null,null,null,null,null,null,null,null,null,null,null,null,null,null,null,null,null,null,null,null,null,null,null,null,null,null,null,null,null,null,null,null,null,null,null,"Adonai Mitchell","*ROOKIE*","While Anthony Richardson can do plenty of damage with his arm, too, his legs are going to take a bunch of pass attempts out of the Colts offense. Less pass attempts means fewer targets to go around.","And when he is passing, he will be looking to alpha wide receiver Michael Pittman. ","And who’s to say that Mitchell will even be the No. 2 target? He certainly has the skill set to get there, but Josh Downs is still in the picture and it would be no surprise if he out-targets Mitchell. ","Mitchell can have a good career but it’s hard to see the path to heavy target volume anytime in the next three years. He could max out at WR3 level fantasy production."]
[null,null,null,null,null,null,null,null,null,null,null,null,null,null,null,null,null,null,null,null,null,null,null,null,null,null,null,null,null,null,null,null,null,null,null,null,null,null,null,null,null,null,null,null,null,null,null,null,null,null,null,null,null,null,null,null,null,null,null,null,null,null,null,null,null,null,null,null,null,null,null,null,null,null,null,null,null,null,null,null,null,null,null,null,null,null,null,null,null,null,null,null,null,null,null,null,null,null,null,null,null,null,null,null,null,null,null,null,null,null,null,null,null,null,null,null,null,null,null,null,null,null,null,"Ben Sinnott","*ROOKIE*","Ben Sinnott adds a versatile weapon for rookie quarterback Jayden Daniels. Sinnott will learn behind veteran Zach Ertz with a chance to overtake him as soon as this season.","Once he’s comfortable in the offense, the Commanders can use Sinnott in-line, in the slot, and even line him up in the backfield."]
[null,null,null,null,null,null,null,null,null,null,null,null,null,null,null,null,null,null,null,null,null,null,null,null,null,null,null,null,null,null,null,null,null,null,null,null,null,null,null,null,null,null,null,null,null,null,null,null,null,null,null,null,null,null,null,null,null,null,null,null,null,null,null,null,null,null,null,null,null,null,null,null,null,null,null,null,null,null,null,null,null,null,null,null,null,null,null,null,null,null,null,null,null,null,null,null,null,null,null,null,null,null,null,null,null,null,null,null,null,null,null,null,null,null,null,null,null,null,null,null,null,null,null,"Malachi Corley","*ROOKIE*","Corley will compete with veteran Mike Williams to be Rodgers’ No. 2 wide receiver. Corley’s versatility and YAC ability make him a fun piece who can move around the offense and create advantageous matchups","He won’t be a volume commander early in his career, but there’s a chance Corley can find a role in the Jets offense as a situational playmaker and complimentary weapon.","It can also go the other way. The concern is Rodgers’ need for perfection. ","He may feel more comfortable with Allen Lazard on the field over a rookie from Western Kentucky who’s game is built on yards after the catch and not nuanced routes."]
[null,null,null,null,null,null,null,null,null,null,null,null,null,null,null,null,null,null,null,null,null,null,null,null,null,null,null,null,null,null,null,null,null,null,null,null,null,null,null,null,null,null,null,null,null,null,null,null,null,null,null,null,null,null,null,null,null,null,null,null,null,null,null,null,null,null,null,null,null,null,null,null,null,null,null,null,null,null,null,null,null,null,null,null,null,null,null,null,null,null,null,null,null,null,null,null,null,null,null,null,null,null,null,null,null,null,null,null,null,null,null,null,null,null,null,null,null,null,null,null,null,null,null,"Trey Benson","*ROOKIE*","Trey Benson may begin his career backing up James Conner, but Conner is 29-years old and has played more than 13 games in a season just once in his career.","Benson is absolutely going to get on the field as a rookie and will very likely start multiple games. That will give him enough of a chance to prove himself worthy of taking over for Conner full-time in 2025 when Conner becomes a free agent.","The Cardinals are shaping up to be one of the better offenses in the NFL with the additions of Marvin Harrison Jr and Benson to pair with Conner and Trey McBride as weapons for quarterback Kyler Murray. ","That will only enhance the ceiling outcome for Benson as we know good offenses are where RB1 seasons are born."]
[null,null,null,null,null,null,null,null,null,null,null,null,null,null,null,null,null,null,null,null,null,null,null,null,null,null,null,null,null,null,null,null,null,null,null,null,null,null,null,null,null,null,null,null,null,null,null,null,null,null,null,null,null,null,null,null,null,null,null,null,null,null,null,null,null,null,null,null,null,null,null,null,null,null,null,null,null,null,null,null,null,null,null,null,null,null,null,null,null,null,null,null,null,null,null,null,null,null,null,null,null,null,null,null,null,null,null,null,null,null,null,null,null,null,null,null,null,null,null,null,null,null,null,"Jermaine Burton","*ROOKIE*","With Tyler Boyd off the roster, Burton will compete with Andre Iosivas and Charlie Jones for No. 3 duties. ","He doesn’t fit the traditional slot role, though, so it could be hard for him to be much more than a situational field stretcher early in his career. With Higgins likely gone after 2024, the door will be open for Burton to become the team’s No. 2.","That would breathe a ton of life into Burton’s dynasty value and fantasy football outlook.","He brings a different skill set than Higgins, but Burton can develop into a quality outside weapon opposite Ja’Marr Chase."]
[null,null,null,null,null,null,null,null,null,null,null,null,null,null,null,null,null,null,null,null,null,null,null,null,null,null,null,null,null,null,null,null,null,null,null,null,null,null,null,null,null,null,null,null,null,null,null,null,null,null,null,null,null,null,null,null,null,null,null,null,null,null,null,null,null,null,null,null,null,null,null,null,null,null,null,null,null,null,null,null,null,null,null,null,null,null,null,null,null,null,null,null,null,null,null,null,null,null,null,null,null,null,null,null,null,null,null,null,null,null,null,null,null,null,null,null,null,null,null,null,null,null,null,"Blake Corum","*ROOKIE*","Corum will likely start as a complement to Williams, but between draft capital, pedigree, and skill, you don’t have to squint too hard to see a world where Corum winds up leading this backfield by the end of his rookie season.","Williams is coming off a quality 2024 season from a fantasy football perspective, but the Rams are not playing fantasy football.","If they think Corum does some things on an actual football field better than Williams, that would be enough to play their third round National Champion from Michigan more than fantasy gamers would like."]
[null,null,null,null,null,null,null,null,null,null,null,null,null,null,null,null,null,null,null,null,null,null,null,null,null,null,null,null,null,null,null,null,null,null,null,null,null,null,null,null,null,null,null,null,null,null,null,null,null,null,null,null,null,null,null,null,null,null,null,null,null,null,null,null,null,null,null,null,null,null,null,null,null,null,null,null,null,null,null,null,null,null,null,null,null,null,null,null,null,null,null,null,null,null,null,null,null,null,null,null,null,null,null,null,null,null,null,null,null,null,null,null,null,null,null,null,null,null,null,null,null,null,null,"Roman Wilson","*ROOKIE*","Roman Wilson lands with the Steelers where he can immediately step into the Diontae Johnson role.","He can do a lot of the things that Johnson did in Pittsburgh—get open quickly and easily, and dominate that 8-12 yard range. On top of that, Wilson has more speed and explosion than Johnson so his ceiling outcome is much higher. "]
[null,null,null,null,null,null,null,null,null,null,null,null,null,null,null,null,null,null,null,null,null,null,null,null,null,null,null,null,null,null,null,null,null,null,null,null,null,null,null,null,null,null,null,null,null,null,null,null,null,null,null,null,null,null,null,null,null,null,null,null,null,null,null,null,null,null,null,null,null,null,null,null,null,null,null,null,null,null,null,null,null,null,null,null,null,null,null,null,null,null,null,null,null,null,null,null,null,null,null,null,null,null,null,null,null,null,null,null,null,null,null,null,null,null,null,null,null,null,null,null,null,null,null,"MarShawn Lloyd","*ROOKIE*","MarShawn Lloyd got the Day 2 draft capital we were hoping for, but he lands in a backfield that added Josh Jacobs in free agency and brought back AJ Dillon.","Now, Dillon doesn’t present a major hurdle to get over, but Jacobs has been a bellcow back for several seasons and appears locked into a similar role in Green Bay. ","There is an out on the Jacobs contract after 2024, so if you’re drafting Lloyd in dynasty, you are doing it with the hopes that it’s a one-and-done deal with Jacobs and Lloyd can ascend to the top spot in 2025.","That would put him on the Rachaad White career path. Of course, there’s a real possibility that Jacobs tears it up in 2024 and the team brings him back for another run at it."]
[null,null,null,null,null,null,null,null,null,null,null,null,null,null,null,null,null,null,null,null,null,null,null,null,null,null,null,null,null,null,null,null,null,null,null,null,null,null,null,null,null,null,null,null,null,null,null,null,null,null,null,null,null,null,null,null,null,null,null,null,null,null,null,null,null,null,null,null,null,null,null,null,null,null,null,null,null,null,null,null,null,null,null,null,null,null,null,null,null,null,null,null,null,null,null,null,null,null,null,null,null,null,null,null,null,null,null,null,null,null,null,null,null,null,null,null,null,null,null,null,null,null,null,"Jalen McMillan","*ROOKIE*","Jalen McMillan lands with the Buccaneers where he will compete with 2023 sixth rounder Trey Palmer to be the team’s WR3. ","This is a low-upside play."]
[null,null,null,null,null,null,null,null,null,null,null,null,null,null,null,null,null,null,null,null,null,null,null,null,null,null,null,null,null,null,null,null,null,null,null,null,null,null,null,null,null,null,null,null,null,null,null,null,null,null,null,null,null,null,null,null,null,null,null,null,null,null,null,null,null,null,null,null,null,null,null,null,null,null,null,null,null,null,null,null,null,null,null,null,null,null,null,null,null,null,null,null,null,null,null,null,null,null,null,null,null,null,null,null,null,null,null,null,null,null,null,null,null,null,null,null,null,null,null,null,null,null,null,"Luke McCaffrey","*ROOKIE*","There is an opportunity to be had in the Washington wide receiver room with Curtis Samuel out and no one of consequence to replace him.","In steps Luke McCaffrey who will be added to the mix along with Olamide Zaccheaus, Dyami Brown, Jamison Crowder, and others vying to be the third option on the depth chart."]
[null,null,null,null,null,null,null,null,null,null,null,null,null,null,null,null,null,null,null,null,null,null,null,null,null,null,null,null,null,null,null,null,null,null,null,null,null,null,null,null,null,null,null,null,null,null,null,null,null,null,null,null,null,null,null,null,null,null,null,null,null,null,null,null,null,null,null,null,null,null,null,null,null,null,null,null,null,null,null,null,null,null,null,null,null,null,null,null,null,null,null,null,null,null,null,null,null,null,null,null,null,null,null,null,null,null,null,null,null,null,null,null,null,null,null,null,null,null,null,null,null,null,null,"Ja'Tavion Sanders","*ROOKIE*","The Panthers continue their search for quality receiving options for quarterback Bryce Young.","Ja’Tavion Sanders, while still in need of some development, can help the cause.","He was the fourth tight end off the board and is slipping down draft boards"]
[null,null,null,null,null,null,null,null,null,null,null,null,null,null,null,null,null,null,null,null,null,null,null,null,null,null,null,null,null,null,null,null,null,null,null,null,null,null,null,null,null,null,null,null,null,null,null,null,null,null,null,null,null,null,null,null,null,null,null,null,null,null,null,null,null,null,null,null,null,null,null,null,null,null,null,null,null,null,null,null,null,null,null,null,null,null,null,null,null,null,null,null,null,null,null,null,null,null,null,null,null,null,null,null,null,null,null,null,null,null,null,null,null,null,null,null,null,null,null,null,null,null,null,"Troy Franklin","*ROOKIE*","It didn’t take long to realize the NFL didn’t like Franklin nearly as much as the fantasy football community. The silver lining is, he will be paired with his college quarterback—Bo Nix—on a team in need of wide receiver help","With Jerry Jeudy traded to the Browns and Marvin Mims coming off a disappointing rookie season, Franklin has a chance to slide right in as the team’s No. 2 wide receiver opposite Courtland Sutton.","If that happens and he rekindles his connection with Nix, Franklin could be in for a productive rookie campaign.","Still, there are plenty of question marks around his profile and we cannot ignore the lack of draft capital no matter how you felt about him pre draft."]
[null,null,null,null,null,null,null,null,null,null,null,null,null,null,null,null,null,null,null,null,null,null,null,null,null,null,null,null,null,null,null,null,null,null,null,null,null,null,null,null,null,null,null,null,null,null,null,null,null,null,null,null,null,null,null,null,null,null,null,null,null,null,null,null,null,null,null,null,null,null,null,null,null,null,null,null,null,null,null,null,null,null,null,null,null,null,null,null,null,null,null,null,null,null,null,null,null,null,null,null,null,null,null,null,null,null,null,null,null,null,null,null,null,null,null,null,null,null,null,null,null,null,null,"Theo Johnson","*ROOKIE*","Theo Johnson landed in a spot that will give him an opportunity to compete for a starting position assuming Darren Waller retires.","In an offense in a transition phase, Johnson provides athleticism and playmaking upside."]
[null,null,null,null,null,null,null,null,null,null,null,null,null,null,null,null,null,null,null,null,null,null,null,null,null,null,null,null,null,null,null,null,null,null,null,null,null,null,null,null,null,null,null,null,null,null,null,null,null,null,null,null,null,null,null,null,null,null,null,null,null,null,null,null,null,null,null,null,null,null,null,null,null,null,null,null,null,null,null,null,null,null,null,null,null,null,null,null,null,null,null,null,null,null,null,null,null,null,null,null,null,null,null,null,null,null,null,null,null,null,null,null,null,null,null,null,null,null,null,null,null,null,null,"Javon Baker","*ROOKIE*","Despite being drafted two full rounds after Polk, Baker has a shot to be the more productive of the two. ","With just Hunter Henry, Demario Douglas, KJ Osborn, Kendrick Bourne, and Juju Smith-Schuster as the other pass-catching options in the offense, it’s not crazy to think Baker leads New England in receiving as a rookie.","Baker will slot in as the team’s X-receiver opposite Polk while Douglas mans the slot.","A big-armed quarterback who is not afraid to throw 50/50 balls like Drake Maye is a perfect fit for Baker’s play style. He will give the Patriots the first true outside vertical threat they have had in years."]
[null,null,null,null,null,null,null,null,null,null,null,null,null,null,null,null,null,null,null,null,null,null,null,null,null,null,null,null,null,null,null,null,null,null,null,null,null,null,null,null,null,null,null,null,null,null,null,null,null,null,null,null,null,null,null,null,null,null,null,null,null,null,null,null,null,null,null,null,null,null,null,null,null,null,null,null,null,null,null,null,null,null,null,null,null,null,null,null,null,null,null,null,null,null,null,null,null,null,null,null,null,null,null,null,null,null,null,null,null,null,null,null,null,null,null,null,null,null,null,null,null,null,null,"Devontez Walker","*ROOKIE*","He will serve as a situational deep threat in a low-volume passing offense","With Mark Andrews and Zay Flowers established as the top target earners, it’s hard to envision a path to any sort of consistent volume for Walker."]
[null,null,null,null,null,null,null,null,null,null,null,null,null,null,null,null,null,null,null,null,null,null,null,null,null,null,null,null,null,null,null,null,null,null,null,null,null,null,null,null,null,null,null,null,null,null,null,null,null,null,null,null,null,null,null,null,null,null,null,null,null,null,null,null,null,null,null,null,null,null,null,null,null,null,null,null,null,null,null,null,null,null,null,null,null,null,null,null,null,null,null,null,null,null,null,null,null,null,null,null,null,null,null,null,null,null,null,null,null,null,null,null,null,null,null,null,null,null,null,null,null,null,null,"Jaylen Wright","*ROOKIE*","In theory it’s a crowded backfield, but you don’t have to squint too hard to see a path to fantasy production","All that is standing in his way of a significant workload is a tiny Devon Achane, who suffered multiple injuries as a rookie, and a 32-year old Raheem Mostert who has had a laundry list of injuries throughout his career.","And there are few teams that know how to maximize speed and explosion better than Mike McDaniel and the Miami Dolphins. They will be able to accentuate his strengths and mask his weaknesses as well as any organization. "]
[null,null,null,null,null,null,null,null,null,null,null,null,null,null,null,null,null,null,null,null,null,null,null,null,null,null,null,null,null,null,null,null,null,null,null,null,null,null,null,null,null,null,null,null,null,null,null,null,null,null,null,null,null,null,null,null,null,null,null,null,null,null,null,null,null,null,null,null,null,null,null,null,null,null,null,null,null,null,null,null,null,null,null,null,null,null,null,null,null,null,null,null,null,null,null,null,null,null,null,null,null,null,null,null,null,null,null,null,null,null,null,null,null,null,null,null,null,null,null,null,null,null,null,"Cade Stover","*ROOKIE*","Cade Stover reunited with his former Ohio State quarterback CJ Stroud.","Their old connection may have to wait as the team re-signed starting tight end Dalton Schultz to a three-year extension this offseason."]
[null,null,null,null,null,null,null,null,null,null,null,null,null,null,null,null,null,null,null,null,null,null,null,null,null,null,null,null,null,null,null,null,null,null,null,null,null,null,null,null,null,null,null,null,null,null,null,null,null,null,null,null,null,null,null,null,null,null,null,null,null,null,null,null,null,null,null,null,null,null,null,null,null,null,null,null,null,null,null,null,null,null,null,null,null,null,null,null,null,null,null,null,null,null,null,null,null,null,null,null,null,null,null,null,null,null,null,null,null,null,null,null,null,null,null,null,null,null,null,null,null,null,null,"Bucky irving","*ROOKIE*","Bucky Irving was drafted in the fourth round to compete for the Chase Edmonds role.","He offers little fantasy football value outside of a Rachaad White injury.","Even then, he’s not offering much beyond a limited receiving role."]
[null,null,null,null,null,null,null,null,null,null,null,null,null,null,null,null,null,null,null,null,null,null,null,null,null,null,null,null,null,null,null,null,null,null,null,null,null,null,null,null,null,null,null,null,null,null,null,null,null,null,null,null,null,null,null,null,null,null,null,null,null,null,null,null,null,null,null,null,null,null,null,null,null,null,null,null,null,null,null,null,null,null,null,null,null,null,null,null,null,null,null,null,null,null,null,null,null,null,null,null,null,null,null,null,null,null,null,null,null,null,null,null,null,null,null,null,null,null,null,null,null,null,null,"Will Shipley","*ROOKIE*","Will Shipley will compete with Kenneth Gainwell for the rights to back up Saquon Barkley.","If he is able to beat out Gainwell, which is no guarantee, then Shipley would make for an intriguing handcuff in fantasy football.","He has the all-purpose skill set to be an every down back and he’s not coming off the field on passing downs if he’s ever thrust into an RB1 job.","The contingent upside is certainly juicy, but that’s about the most we can hope for from Shipley for the foreseeable future."]
[null,null,null,null,null,null,null,null,null,null,null,null,null,null,null,null,null,null,null,null,null,null,null,null,null,null,null,null,null,null,null,null,null,null,null,null,null,null,null,null,null,null,null,null,null,null,null,null,null,null,null,null,null,null,null,null,null,null,null,null,null,null,null,null,null,null,null,null,null,null,null,null,null,null,null,null,null,null,null,null,null,null,null,null,null,null,null,null,null,null,null,null,null,null,null,null,null,null,null,null,null,null,null,null,null,null,null,null,null,null,null,null,null,null,null,null,null,null,null,null,null,null,null,"Ray Davis","*ROOKIE*","Davis will fill a role the team has been trying to solve for a few seasons now. They brought in a number of big-bodied backs last year like Damien Harris, Latavius Murray, and Leonard Fournette. ","Murray had moderate success but Davis is 10 years younger and ready to take over. He will pair well with James Cook as the team’s RB2. ","Davis will also project as the team’s top running back at the goal line. Even with Josh Allen stealing some of those looks, the Bills offense is good enough to provide plenty of touchdown scoring opportunities for a guy like Davis. ","We could see some opportunities in the passing game too. James Cook is an overrated receiver and Davis caught 94 balls at Kentucky with a solid receiving skill set. There’s a chance he at least eats into Cook’s work on passing downs."]
[null,null,null,null,null,null,null,null,null,null,null,null,null,null,null,null,null,null,null,null,null,null,null,null,null,null,null,null,null,null,null,null,null,null,null,null,null,null,null,null,null,null,null,null,null,null,null,null,null,null,null,null,null,null,null,null,null,null,null,null,null,null,null,null,null,null,null,null,null,null,null,null,null,null,null,null,null,null,null,null,null,null,null,null,null,null,null,null,null,null,null,null,null,null,null,null,null,null,null,null,null,null,null,null,null,null,null,null,null,null,null,null,null,null,null,null,null,null,null,null,null,null,null,"Isaac Guerendo","*ROOKIE*","Isaac Guerendo is a fantastic fit in the Kyle Shanahan offense. His speed and explosiveness will pair well with the 49ers outside zone rushing scheme. ","Of course, Guerendo will begin his career behind Christian McCaffrey but he has a legitimate chance of overtaking Elijah Mitchell and Jordan Mason as the team’s No. 2 running back.","Guerendo is everything the Niners have been looking for at running back for years. He has the speed and explosion of a Raheem Mostert with the size and power that they tried to capture with the Trey Sermon pick.","Guerendo has game-breaking ability and it will be fun to see what happens when he gets his opportunity. At minimum, he can become a high-end handcuff to McCaffrey. "]
[null,null,null,null,null,null,null,null,null,null,null,null,null,null,null,null,null,null,null,null,null,null,null,null,null,null,null,null,null,null,null,null,null,null,null,null,null,null,null,null,null,null,null,null,null,null,null,null,null,null,null,null,null,null,null,null,null,null,null,null,null,null,null,null,null,null,null,null,null,null,null,null,null,null,null,null,null,null,null,null,null,null,null,null,null,null,null,null,null,null,null,null,null,null,null,null,null,null,null,null,null,null,null,null,null,null,null,null,null,null,null,null,null,null,null,null,null,null,null,null,null,null,null,"Jared Wiley","*ROOKIE*","Right when you thought maybe the Chiefs just drafted Travis Kelce’s successor, they ink Kelce to a two-year contract extension","Wiley offers intriguing long term upside, but until then he is probably going to be a roster clogger"]
[null,null,null,null,null,null,null,null,null,null,null,null,null,null,null,null,null,null,null,null,null,null,null,null,null,null,null,null,null,null,null,null,null,null,null,null,null,null,null,null,null,null,null,null,null,null,null,null,null,null,null,null,null,null,null,null,null,null,null,null,null,null,null,null,null,null,null,null,null,null,null,null,null,null,null,null,null,null,null,null,null,null,null,null,null,null,null,null,null,null,null,null,null,null,null,null,null,null,null,null,null,null,null,null,null,null,null,null,null,null,null,null,null,null,null,null,null,null,null,null,null,null,null,"Braelon Allen","*ROOKIE*","He landed in one of the worst situations of any rookie running back. Breece Hall is fully established as the Jets bellcow running back.","Allen comes in with sights on the RB2 job but he will still have to fend off fellow rookie Isaiah Davis and last year’s draft pick Israel Abanikanda. ","There’s little doubt he can do that, but that still means that best case scenario is Allen is in the Dalvin Cook role from last year. Allen will provide little value beyond backup duties and the occasional goal line or short yardage carry.","He is a full-blown handcuff in fantasy football"]
[null,null,null,null,null,null,null,null,null,null,null,null,null,null,null,null,null,null,null,null,null,null,null,null,null,null,null,null,null,null,null,null,null,null,null,null,null,null,null,null,null,null,null,null,null,null,null,null,null,null,null,null,null,null,null,null,null,null,null,null,null,null,null,null,null,null,null,null,null,null,null,null,null,null,null,null,null,null,null,null,null,null,null,null,null,null,null,null,null,null,null,null,null,null,null,null,null,null,null,null,null,null,null,null,null,null,null,null,null,null,null,null,null,null,null,null,null,null,null,null,null,null,null,"Jacob Cowing","*ROOKIE*"]
[null,null,null,null,null,null,null,null,null,null,null,null,null,null,null,null,null,null,null,null,null,null,null,null,null,null,null,null,null,null,null,null,null,null,null,null,null,null,null,null,null,null,null,null,null,null,null,null,null,null,null,null,null,null,null,null,null,null,null,null,null,null,null,null,null,null,null,null,null,null,null,null,null,null,null,null,null,null,null,null,null,null,null,null,null,null,null,null,null,null,null,null,null,null,null,null,null,null,null,null,null,null,null,null,null,null,null,null,null,null,null,null,null,null,null,null,null,null,null,null,null,null,null,"Anthony Gould","*ROOKIE*","He will be buried on the depth chart behind Michael Pittman Jr, Josh Downs, Mitchell, Alec Pierce, and perhaps others.","Gould feels like more of a special teams selection rather than a major offensive contributor"]
[null,null,null,null,null,null,null,null,null,null,null,null,null,null,null,null,null,null,null,null,null,null,null,null,null,null,null,null,null,null,null,null,null,null,null,null,null,null,null,null,null,null,null,null,null,null,null,null,null,null,null,null,null,null,null,null,null,null,null,null,null,null,null,null,null,null,null,null,null,null,null,null,null,null,null,null,null,null,null,null,null,null,null,null,null,null,null,null,null,null,null,null,null,null,null,null,null,null,null,null,null,null,null,null,null,null,null,null,null,null,null,null,null,null,null,null,null,null,null,null,null,null,null,"Audric Estime","*ROOKIE*"]
[null,null,null,null,null,null,null,null,null,null,null,null,null,null,null,null,null,null,null,null,null,null,null,null,null,null,null,null,null,null,null,null,null,null,null,null,null,null,null,null,null,null,null,null,null,null,null,null,null,null,null,null,null,null,null,null,null,null,null,null,null,null,null,null,null,null,null,null,null,null,null,null,null,null,null,null,null,null,null,null,null,null,null,null,null,null,null,null,null,null,null,null,null,null,null,null,null,null,null,null,null,null,null,null,null,null,null,null,null,null,null,null,null,null,null,null,null,null,null,null,null,null,null,"Spencer Rattler","*ROOKIE*"]
[null,null,null,null,null,null,null,null,null,null,null,null,null,null,null,null,null,null,null,null,null,null,null,null,null,null,null,null,null,null,null,null,null,null,null,null,null,null,null,null,null,null,null,null,null,null,null,null,null,null,null,null,null,null,null,null,null,null,null,null,null,null,null,null,null,null,null,null,null,null,null,null,null,null,null,null,null,null,null,null,null,null,null,null,null,null,null,null,null,null,null,null,null,null,null,null,null,null,null,null,null,null,null,null,null,null,null,null,null,null,null,null,null,null,null,null,null,null,null,null,null,null,null,"Ainias Smith","*ROOKIE*","Ainias Smith has a long road to fantasy relevance. However, the Eagles do have an opening for their WR3 job after the offseason departure of Quez Watkins.","Unless you consider DeVante Paker a lock for the job, the door is open for someone else to step up in that offense.","Either way, that’s not likely to be a very fantasy relevant role without an AJ Brown or Devonta Smith injury."]
[null,null,null,null,null,null,null,null,null,null,null,null,null,null,null,null,null,null,null,null,null,null,null,null,null,null,null,null,null,null,null,null,null,null,null,null,null,null,null,null,null,null,null,null,null,null,null,null,null,null,null,null,null,null,null,null,null,null,null,null,null,null,null,null,null,null,null,null,null,null,null,null,null,null,null,null,null,null,null,null,null,null,null,null,null,null,null,null,null,null,null,null,null,null,null,null,null,null,null,null,null,null,null,null,null,null,null,null,null,null,null,null,null,null,null,null,null,null,null,null,null,null,null,"Jamari Thrash","*ROOKIE*"]
[null,null,null,null,null,null,null,null,null,null,null,null,null,null,null,null,null,null,null,null,null,null,null,null,null,null,null,null,null,null,null,null,null,null,null,null,null,null,null,null,null,null,null,null,null,null,null,null,null,null,null,null,null,null,null,null,null,null,null,null,null,null,null,null,null,null,null,null,null,null,null,null,null,null,null,null,null,null,null,null,null,null,null,null,null,null,null,null,null,null,null,null,null,null,null,null,null,null,null,null,null,null,null,null,null,null,null,null,null,null,null,null,null,null,null,null,null,null,null,null,null,null,null,"Rasheen Ali","*ROOKIE*"]
[null,null,null,null,null,null,null,null,null,null,null,null,null,null,null,null,null,null,null,null,null,null,null,null,null,null,null,null,null,null,null,null,null,null,null,null,null,null,null,null,null,null,null,null,null,null,null,null,null,null,null,null,null,null,null,null,null,null,null,null,null,null,null,null,null,null,null,null,null,null,null,null,null,null,null,null,null,null,null,null,null,null,null,null,null,null,null,null,null,null,null,null,null,null,null,null,null,null,null,null,null,null,null,null,null,null,null,null,null,null,null,null,null,null,null,null,null,null,null,null,null,null,null,"Tyrone Tracy","*ROOKIE*","While Singletary did an adequate job in Houston last season, he is not exactly immune to some competition. ","The other running backs on the roster are Eric Gray, Gary Brightwell, Jashaun Corbin, and Deon Jackson. ","It’s not hard to see a world where Tracy winds up with a significant opportunity as a rookie.","As a converted wide receiver, Tracy can jump right into a pass-catching role out of the backfield with a chance to expand that role over the course of the season."]
[null,null,null,null,null,null,null,null,null,null,null,null,null,null,null,null,null,null,null,null,null,null,null,null,null,null,null,null,null,null,null,null,null,null,null,null,null,null,null,null,null,null,null,null,null,null,null,null,null,null,null,null,null,null,null,null,null,null,null,null,null,null,null,null,null,null,null,null,null,null,null,null,null,null,null,null,null,null,null,null,null,null,null,null,null,null,null,null,null,null,null,null,null,null,null,null,null,null,null,null,null,null,null,null,null,null,null,null,null,null,null,null,null,null,null,null,null,null,null,null,null,null,null,"Isaiah Davis","*ROOKIE*","Isaiah Davis was a Yards Per Fantasy favorite pre-draft sleeper.","That got squashed when he landed with the Jets, who not only roster one of the league’s best bellcow running backs, but also used a pick on a back (Braelon Allen) one round earlier.","It’s a long path to relevancy for Isaiah Davis but it’s not crazy to think he could beat out Allen and Israel Abanikanda for the RB2 role."]
[null,null,null,null,null,null,null,null,null,null,null,null,null,null,null,null,null,null,null,null,null,null,null,null,null,null,null,null,null,null,null,null,null,null,null,null,null,null,null,null,null,null,null,null,null,null,null,null,null,null,null,null,null,null,null,null,null,null,null,null,null,null,null,null,null,null,null,null,null,null,null,null,null,null,null,null,null,null,null,null,null,null,null,null,null,null,null,null,null,null,null,null,null,null,null,null,null,null,null,null,null,null,null,null,null,null,null,null,null,null,null,null,null,null,null,null,null,null,null,null,null,null,null,"Kimani Vidal","*ROOKIE*","Vidal is an all-purpose running back with the size and athletic traits to lead an NFL backfield. He runs hard on every carry. He was highly productive during his career at Troy and he doesn’t face major competition in the Chargers backfield.","He will likely begin down the depth chart but with only Gus Edwards, JK Dobbins, who is coming off multiple serious lower body injuries, and Isaiah Spiller in his way, it’s not hard to see Vidal ascending quickly. ","We know the Chargers want to run the ball a ton. That has been made clear with every move they have made this offseason. And that opens the door for multiple fantasy relevant running backs to come from this backfield. ","Vidal will do very well if he gets the chance to be one of the top dogs. It’s not crazy to think he could average 10+ touches per game as a rookie."]
[null,null,null,null,null,null,null,null,null,null,null,null,null,null,null,null,null,null,null,null,null,null,null,null,null,null,null,null,null,null,null,null,null,null,null,null,null,null,null,null,null,null,null,null,null,null,null,null,null,null,null,null,null,null,null,null,null,null,null,null,null,null,null,null,null,null,null,null,null,null,null,null,null,null,null,null,null,null,null,null,null,null,null,null,null,null,null,null,null,null,null,null,null,null,null,null,null,null,null,null,null,null,null,null,null,null,null,null,null,null,null,null,null,null,null,null,null,null,null,null,null,null,null,"Jha'Quan Jackson","*ROOKIE*","Jha’Quan Jackson has a long road to fantasy relevance.","His best bet is to latch on as a punt returner and gadget guy."]
[null,null,null,null,null,null,null,null,null,null,null,null,null,null,null,null,null,null,null,null,null,null,null,null,null,null,null,null,null,null,null,null,null,null,null,null,null,null,null,null,null,null,null,null,null,null,null,null,null,null,null,null,null,null,null,null,null,null,null,null,null,null,null,null,null,null,null,null,null,null,null,null,null,null,null,null,null,null,null,null,null,null,null,null,null,null,null,null,null,null,null,null,null,null,null,null,null,null,null,null,null,null,null,null,null,null,null,null,null,null,null,null,null,null,null,null,null,null,null,null,null,null,null,"Malik Washington","*ROOKIE*","The Dolphins are in great need for a third pass-catcher to emerge in that offense after Tyreek Hill and Jaylen Waddle.","And if anyone is going to be able to maximize Washington’s skill set, it is Mike McDaniel and the Dolphins.","Washington will compete with veteran Braxton Berrios and fellow rookie Tahj Washington for the starting slot role in Miami.","Washington might not have the highest ceiling, but he’s a fun prospect who landed on a fun team."]
[null,null,null,null,null,null,null,null,null,null,null,null,null,null,null,null,null,null,null,null,null,null,null,null,null,null,null,null,null,null,null,null,null,null,null,null,null,null,null,null,null,null,null,null,null,null,null,null,null,null,null,null,null,null,null,null,null,null,null,null,null,null,null,null,null,null,null,null,null,null,null,null,null,null,null,null,null,null,null,null,null,null,null,null,null,null,null,null,null,null,null,null,null,null,null,null,null,null,null,null,null,null,null,null,null,null,null,null,null,null,null,null,null,null,null,null,null,null,null,null,null,null,null,"Johnny Wilson","*ROOKIE*","In their post-draft comments, Howie Roseman and Nick Siriani insisted that Johnny Wilson will remain a wide receiver.","Siriani said “He can run the full route tree... all of his production came on outside routes... He is unusual.” ","Wilson remains a developmental asset. "]
[null,null,null,null,null,null,null,null,null,null,null,null,null,null,null,null,null,null,null,null,null,null,null,null,null,null,null,null,null,null,null,null,null,null,null,null,null,null,null,null,null,null,null,null,null,null,null,null,null,null,null,null,null,null,null,null,null,null,null,null,null,null,null,null,null,null,null,null,null,null,null,null,null,null,null,null,null,null,null,null,null,null,null,null,null,null,null,null,null,null,null,null,null,null,null,null,null,null,null,null,null,null,null,null,null,null,null,null,null,null,null,null,null,null,null,null,null,null,null,null,null,null,null,"Jase McClellan","*ROOKIE*","Jase McClellan is behind Bijan Robinson and Tyler Allgeier in Atlanta.","It’s possible we never hear from him again."]
[null,null,null,null,null,null,null,null,null,null,null,null,null,null,null,null,null,null,null,null,null,null,null,null,null,null,null,null,null,null,null,null,null,null,null,null,null,null,null,null,null,null,null,null,null,null,null,null,null,null,null,null,null,null,null,null,null,null,null,null,null,null,null,null,null,null,null,null,null,null,null,null,null,null,null,null,null,null,null,null,null,null,null,null,null,null,null,null,null,null,null,null,null,null,null,null,null,null,null,null,null,null,null,null,null,null,null,null,null,null,null,null,null,null,null,null,null,null,null,null,null,null,null,"Joe Milton","*ROOKIE*","Bazooka Joe landed with the Patriots where he will compete with veterans Jacoby Brissett and Bailey Zappe for the backup job behind No. 3 pick Drake Maye.","It’s likely we see Zappe moved at some point before the start of the season and the Pats keep Milton as the developmental QB3.","Milton is one of the most fun quarterback projects we’ve seen in recent years. ","It’s unlikely he ever develops to the point of starting games at the NFL level, but he’ll surely be fun to watch in preseason games and training camp clips."]
[null,null,null,null,null,null,null,null,null,null,null,null,null,null,null,null,null,null,null,null,null,null,null,null,null,null,null,null,null,null,null,null,null,null,null,null,null,null,null,null,null,null,null,null,null,null,null,null,null,null,null,null,null,null,null,null,null,null,null,null,null,null,null,null,null,null,null,null,null,null,null,null,null,null,null,null,null,null,null,null,null,null,null,null,null,null,null,null,null,null,null,null,null,null,null,null,null,null,null,null,null,null,null,null,null,null,null,null,null,null,null,null,null,null,null,null,null,null,null,null,null,null,null,"Dylan Laube","*ROOKIE*","He landed in a situation that will allow him to compete for an early role. Zamir White and Alexander Mattison top the Raiders running back depth chart currently. Neither back has done enough to think they are immune to being supplanted.","They’re also not known for their pass-catching chops. Both White and Mattison are between-the-tackles grinders who are best used as first and second down backs. That’s where the door opens for Laube. ","Only a 31-year old Ameer Abdullah stands in the way of passing downs work. Laube has a chance to impress coaches during training camp enough for them to cut Abdullah and turn the receiving work over to him. ","Considering Laube caught 117 passes and averaged 10 yards per reception over the last two seasons at New Hampshire, it’s not hard to see him beating out Abdullah. That means we could get an RB3/4 season from him as a rookie."]
[null,null,null,null,null,null,null,null,null,null,null,null,null,null,null,null,null,null,null,null,null,null,null,null,null,null,null,null,null,null,null,null,null,null,null,null,null,null,null,null,null,null,null,null,null,null,null,null,null,null,null,null,null,null,null,null,null,null,null,null,null,null,null,null,null,null,null,null,null,null,null,null,null,null,null,null,null,null,null,null,null,null,null,null,null,null,null,null,null,null,null,null,null,null,null,null,null,null,null,null,null,null,null,null,null,null,null,null,null,null,null,null,null,null,null,null,null,null,null,null,null,null,null,"Jordan Whittington","*ROOKIE*","Jordan Whittington is not worth consideration at this time"]
[null,null,null,null,null,null,null,null,null,null,null,null,null,null,null,null,null,null,null,null,null,null,null,null,null,null,null,null,null,null,null,null,null,null,null,null,null,null,null,null,null,null,null,null,null,null,null,null,null,null,null,null,null,null,null,null,null,null,null,null,null,null,null,null,null,null,null,null,null,null,null,null,null,null,null,null,null,null,null,null,null,null,null,null,null,null,null,null,null,null,null,null,null,null,null,null,null,null,null,null,null,null,null,null,null,null,null,null,null,null,null,null,null,null,null,null,null,null,null,null,null,null,null,"Ryan Flournoy","*ROOKIE*","Some like Ryan Flournoy as a sleeper because he flashed at the Senior Bowl. ","However, he is only relevant in the deepest of dynasty leagues at this time"]
[null,null,null,null,null,null,null,null,null,null,null,null,null,null,null,null,null,null,null,null,null,null,null,null,null,null,null,null,null,null,null,null,null,null,null,null,null,null,null,null,null,null,null,null,null,null,null,null,null,null,null,null,null,null,null,null,null,null,null,null,null,null,null,null,null,null,null,null,null,null,null,null,null,null,null,null,null,null,null,null,null,null,null,null,null,null,null,null,null,null,null,null,null,null,null,null,null,null,null,null,null,null,null,null,null,null,null,null,null,null,null,null,null,null,null,null,null,null,null,null,null,null,null,"Brenden Rice","*ROOKIE*","Brenden Rice fell much further down the board than many were expecting. If it weren’t for being Jerry Rice’s son, though, no one would have batted an eye.","Rice profiled as a day three selection. ","However, landing in Los Angeles does give Rice an opportunity to seize a role early on as the Chargers entered the draft as one of the most wide receiver-needy teams. "]
[null,null,null,null,null,null,null,null,null,null,null,null,null,null,null,null,null,null,null,null,null,null,null,null,null,null,null,null,null,null,null,null,null,null,null,null,null,null,null,null,null,null,null,null,null,null,null,null,null,null,null,null,null,null,null,null,null,null,null,null,null,null,null,null,null,null,null,null,null,null,null,null,null,null,null,null,null,null,null,null,null,null,null,null,null,null,null,null,null,null,null,null,null,null,null,null,null,null,null,null,null,null,null,null,null,null,null,null,null,null,null,null,null,null,null,null,null,null,null,null,null,null,null,"Jaheim Bell","*ROOKIE*","Jaheim Bell is another potential playmaker for rookie quarterback Drake Maye","He will spend the next couple seasons developing behind Hunter Henry. "]
[null,null,null,null,null,null,null,null,null,null,null,null,null,null,null,null,null,null,null,null,null,null,null,null,null,null,null,null,null,null,null,null,null,null,null,null,null,null,null,null,null,null,null,null,null,null,null,null,null,null,null,null,null,null,null,null,null,null,null,null,null,null,null,null,null,null,null,null,null,null,null,null,null,null,null,null,null,null,null,null,null,null,null,null,null,null,null,null,null,null,null,null,null,null,null,null,null,null,null,null,null,null,null,null,null,null,null,null,null,null,null,null,null,null,null,null,null,null,null,null,null,null,null,"Tahj Washington","*ROOKIE*","Tahj Washington will be fighting for a spot at the bottom of the Dolphins depth chart. "]